{"text_format":"1","workbook":"xlsx","n_sheets":3,"sheets":["input BCI","BCIg","BCIg 69-13"],"not_rendered":{"charts":2,"images":1,"macros":0,"external_links":1,"defined_names":125,"comments":0,"pivot_tables":0},"unopened":[{"sheet":"BCIg 69-13","index":2,"reason":"not_a_worksheet"}],"bounds":{"document_bytes":16777216,"sheet_cells":100000,"rows_first":2000,"rows_last":500,"rows_between":2000,"halvings":0,"cell_chars":16384,"cell_head_chars":4096},"cells_cut":0,"cells_raw":0,"read":"whole","date_system":"1900"}

{"sheet":"input BCI","index":0,"n_rows":2491,"n_cols":18,"rows_kept":2491,"cut":false,"hidden":false,"merged":[]}
[null,{"$f":"IF(CELL(\"COL\",B1:B1)>26,CHAR(64+INT(CELL(\"COL\",B1:B1)/26.1)),\"\")&CHAR(MOD(CELL(\"COL\",B1:B1)-1,26)+65)","v":"B"},null,null,null,null,null,null,null,null,"K",null,null,null,"O","P",null,"R"]
[null,null,null,null,null,null,null,null,null,null,null,null,null,null,null,"BCI",null,"BCIg"]
[null,null,null,null,null,null,null,null,null,null,null,null,null,null,"1967-01-06",100,null,"-"]
[null,null,null,null,null,null,null,null,null,null,null,null,null,null,"1967-01-13",100,null,"-"]
[null,null,null,null,null,null,null,null,null,null,null,null,null,null,"1967-01-20",100,null,"-"]
[null,null,null,null,null,null,null,null,null,null,null,null,null,null,"1967-01-27",100,null,"-"]
[null,null,null,null,null,null,null,null,null,null,null,null,null,null,"1967-02-03",100,null,"-"]
[null,null,null,null,null,null,null,null,null,null,null,null,null,null,"1967-02-10",{"$f":"'[1]Report-full'!B13","v":100},{"$f":"'[1]Report-full'!C13","v":100},{"$f":"'[1]Report-full'!D13","v":"-"}]
[null,null,null,null,null,null,null,null,null,null,null,null,null,null,"1967-02-17",{"$f":"'[1]Report-full'!B14","v":99.97},{"$f":"'[1]Report-full'!C14","v":99.54},{"$f":"'[1]Report-full'!D14","v":"-"}]
[null,null,null,null,null,null,null,null,null,null,null,null,null,null,"1967-02-24",{"$f":"'[1]Report-full'!B15","v":99.59},{"$f":"'[1]Report-full'!C15","v":93.07},{"$f":"'[1]Report-full'!D15","v":"-"}]
[null,null,null,null,null,null,null,null,null,null,null,null,null,null,"1967-03-03",{"$f":"'[1]Report-full'!B16","v":99.78},{"$f":"'[1]Report-full'!C16","v":96.34},{"$f":"'[1]Report-full'!D16","v":"-"}]
[null,null,null,null,null,null,null,null,null,null,null,null,null,null,"1967-03-10",{"$f":"'[1]Report-full'!B17","v":99.92},{"$f":"'[1]Report-full'!C17","v":98.7},{"$f":"'[1]Report-full'!D17","v":"-"}]
[null,null,null,null,null,null,null,null,null,null,null,null,null,null,"1967-03-17",{"$f":"'[1]Report-full'!B18","v":99.67},{"$f":"'[1]Report-full'!C18","v":94.54},{"$f":"'[1]Report-full'!D18","v":"-"}]
[null,null,null,null,null,null,null,null,null,null,null,null,null,null,"1967-03-24",{"$f":"'[1]Report-full'!B19","v":99.9},{"$f":"'[1]Report-full'!C19","v":98.39},{"$f":"'[1]Report-full'!D19","v":"-"}]
[null,null,null,null,null,null,null,null,null,null,null,null,null,null,"1967-03-31",{"$f":"'[1]Report-full'!B20","v":99.86},{"$f":"'[1]Report-full'!C20","v":97.6},{"$f":"'[1]Report-full'!D20","v":"-"}]
[null,null,null,null,null,null,null,null,null,null,null,null,null,null,"1967-04-07",{"$f":"'[1]Report-full'!B21","v":99.16},{"$f":"'[1]Report-full'!C21","v":85.81},{"$f":"'[1]Report-full'!D21","v":"-"}]
[null,null,null,null,null,null,null,null,null,null,null,null,null,null,"1967-04-14",{"$f":"'[1]Report-full'!B22","v":98.52},{"$f":"'[1]Report-full'!C22","v":75.069999999999993},{"$f":"'[1]Report-full'!D22","v":"-"}]
[null,null,null,null,null,null,null,null,null,null,null,null,null,null,"1967-04-21",{"$f":"'[1]Report-full'!B23","v":98.94},{"$f":"'[1]Report-full'!C23","v":82.18},{"$f":"'[1]Report-full'!D23","v":"-"}]
[null,null,null,null,null,null,null,null,null,null,null,null,null,null,"1967-04-28",{"$f":"'[1]Report-full'!B24","v":99.8},{"$f":"'[1]Report-full'!C24","v":96.59},{"$f":"'[1]Report-full'!D24","v":"-"}]
[null,null,null,null,null,null,null,null,null,null,null,null,null,null,"1967-05-05",{"$f":"'[1]Report-full'!B25","v":100.39},{"$f":"'[1]Report-full'!C25","v":100},{"$f":"'[1]Report-full'!D25","v":"-"}]
[null,null,null,null,null,null,null,null,null,null,null,null,null,null,"1967-05-12",{"$f":"'[1]Report-full'!B26","v":100.47},{"$f":"'[1]Report-full'!C26","v":100},{"$f":"'[1]Report-full'!D26","v":"-"}]
[null,null,null,null,null,null,null,null,null,null,null,null,null,null,"1967-05-19",{"$f":"'[1]Report-full'!B27","v":100.08},{"$f":"'[1]Report-full'!C27","v":93.36},{"$f":"'[1]Report-full'!D27","v":"-"}]
[null,null,null,null,null,null,null,null,null,null,null,null,null,null,"1967-05-26",{"$f":"'[1]Report-full'!B28","v":99.77},{"$f":"'[1]Report-full'!C28","v":88.27},{"$f":"'[1]Report-full'!D28","v":"-"}]
[null,null,null,null,null,null,null,null,null,null,null,null,null,null,"1967-06-02",{"$f":"'[1]Report-full'!B29","v":100.21},{"$f":"'[1]Report-full'!C29","v":95.6},{"$f":"'[1]Report-full'!D29","v":"-"}]
[null,null,null,null,null,null,null,null,null,null,null,null,null,null,"1967-06-09",{"$f":"'[1]Report-full'!B30","v":100.64},{"$f":"'[1]Report-full'!C30","v":100},{"$f":"'[1]Report-full'!D30","v":"-"}]
[null,null,null,null,null,null,null,null,null,null,null,null,null,null,"1967-06-16",{"$f":"'[1]Report-full'!B31","v":101.4},{"$f":"'[1]Report-full'!C31","v":100},{"$f":"'[1]Report-full'!D31","v":"-"}]
[null,null,null,null,null,null,null,null,null,null,null,null,null,null,"1967-06-23",{"$f":"'[1]Report-full'!B32","v":101.82},{"$f":"'[1]Report-full'!C32","v":100},{"$f":"'[1]Report-full'!D32","v":"-"}]
[null,null,null,null,null,null,null,null,null,null,null,null,null,null,"1967-06-30",{"$f":"'[1]Report-full'!B33","v":102.04},{"$f":"'[1]Report-full'!C33","v":100},{"$f":"'[1]Report-full'!D33","v":"-"}]
[null,null,null,null,null,null,null,null,null,null,null,null,null,null,"1967-07-07",{"$f":"'[1]Report-full'!B34","v":102.32},{"$f":"'[1]Report-full'!C34","v":100},{"$f":"'[1]Report-full'!D34","v":"-"}]
[null,null,null,null,null,null,null,null,null,null,null,null,null,null,"1967-07-14",{"$f":"'[1]Report-full'!B35","v":103.13},{"$f":"'[1]Report-full'!C35","v":100},{"$f":"'[1]Report-full'!D35","v":"-"}]
[null,null,null,null,null,null,null,null,null,null,null,null,null,null,"1967-07-21",{"$f":"'[1]Report-full'!B36","v":103.17},{"$f":"'[1]Report-full'!C36","v":100},{"$f":"'[1]Report-full'!D36","v":"-"}]
[null,null,null,null,null,null,null,null,null,null,null,null,null,null,"1967-07-28",{"$f":"'[1]Report-full'!B37","v":103.16},{"$f":"'[1]Report-full'!C37","v":99.82},{"$f":"'[1]Report-full'!D37","v":"-"}]
[null,null,null,null,null,null,null,null,null,null,null,null,null,null,"1967-08-04",{"$f":"'[1]Report-full'!B38","v":103.38},{"$f":"'[1]Report-full'!C38","v":100},{"$f":"'[1]Report-full'!D38","v":"-"}]
[null,null,null,null,null,null,null,null,null,null,null,null,null,null,"1967-08-11",{"$f":"'[1]Report-full'!B39","v":103.37},{"$f":"'[1]Report-full'!C39","v":99.85},{"$f":"'[1]Report-full'!D39","v":"-"}]
[null,null,null,null,null,null,null,null,null,null,null,null,null,null,"1967-08-18",{"$f":"'[1]Report-full'!B40","v":103.45},{"$f":"'[1]Report-full'!C40","v":100},{"$f":"'[1]Report-full'!D40","v":"-"}]
[null,null,null,null,null,null,null,null,null,null,null,null,null,null,"1967-08-25",{"$f":"'[1]Report-full'!B41","v":103.6},{"$f":"'[1]Report-full'!C41","v":100},{"$f":"'[1]Report-full'!D41","v":"-"}]
[null,null,null,null,null,null,null,null,null,null,null,null,null,null,"1967-09-01",{"$f":"'[1]Report-full'!B42","v":103.48},{"$f":"'[1]Report-full'!C42","v":97.99},{"$f":"'[1]Report-full'!D42","v":"-"}]
[null,null,null,null,null,null,null,null,null,null,null,null,null,null,"1967-09-08",{"$f":"'[1]Report-full'!B43","v":104.03},{"$f":"'[1]Report-full'!C43","v":100},{"$f":"'[1]Report-full'!D43","v":"-"}]
[null,null,null,null,null,null,null,null,null,null,null,null,null,null,"1967-09-15",{"$f":"'[1]Report-full'!B44","v":104.34},{"$f":"'[1]Report-full'!C44","v":100},{"$f":"'[1]Report-full'!D44","v":"-"}]
[null,null,null,null,null,null,null,null,null,null,null,null,null,null,"1967-09-22",{"$f":"'[1]Report-full'!B45","v":104.88},{"$f":"'[1]Report-full'!C45","v":100},{"$f":"'[1]Report-full'!D45","v":"-"}]
[null,null,null,null,null,null,null,null,null,null,null,null,null,null,"1967-09-29",{"$f":"'[1]Report-full'!B46","v":104.92},{"$f":"'[1]Report-full'!C46","v":100},{"$f":"'[1]Report-full'!D46","v":"-"}]
[null,null,null,null,null,null,null,null,null,null,null,null,null,null,"1967-10-06",{"$f":"'[1]Report-full'!B47","v":104.71},{"$f":"'[1]Report-full'!C47","v":96.66},{"$f":"'[1]Report-full'!D47","v":"-"}]
[null,null,null,null,null,null,null,null,null,null,null,null,null,null,"1967-10-13",{"$f":"'[1]Report-full'!B48","v":104.9},{"$f":"'[1]Report-full'!C48","v":99.68},{"$f":"'[1]Report-full'!D48","v":"-"}]
[null,null,null,null,null,null,null,null,null,null,null,null,null,null,"1967-10-20",{"$f":"'[1]Report-full'!B49","v":104.48},{"$f":"'[1]Report-full'!C49","v":93.03},{"$f":"'[1]Report-full'!D49","v":"-"}]
[null,null,null,null,null,null,null,null,null,null,null,null,null,null,"1967-10-27",{"$f":"'[1]Report-full'!B50","v":104.48},{"$f":"'[1]Report-full'!C50","v":93.08},{"$f":"'[1]Report-full'!D50","v":"-"}]
[null,null,null,null,null,null,null,null,null,null,null,null,null,null,"1967-11-03",{"$f":"'[1]Report-full'!B51","v":104.56},{"$f":"'[1]Report-full'!C51","v":94.3},{"$f":"'[1]Report-full'!D51","v":"-"}]
[null,null,null,null,null,null,null,null,null,null,null,null,null,null,"1967-11-10",{"$f":"'[1]Report-full'!B52","v":104.16},{"$f":"'[1]Report-full'!C52","v":87.94},{"$f":"'[1]Report-full'!D52","v":"-"}]
[null,null,null,null,null,null,null,null,null,null,null,null,null,null,"1967-11-17",{"$f":"'[1]Report-full'!B53","v":104.14},{"$f":"'[1]Report-full'!C53","v":87.56},{"$f":"'[1]Report-full'!D53","v":"-"}]
[null,null,null,null,null,null,null,null,null,null,null,null,null,null,"1967-11-24",{"$f":"'[1]Report-full'!B54","v":104.74},{"$f":"'[1]Report-full'!C54","v":97.27},{"$f":"'[1]Report-full'!D54","v":"-"}]
[null,null,null,null,null,null,null,null,null,null,null,null,null,null,"1967-12-01",{"$f":"'[1]Report-full'!B55","v":106.06},{"$f":"'[1]Report-full'!C55","v":100},{"$f":"'[1]Report-full'!D55","v":"-"}]
[null,null,null,null,null,null,null,null,null,null,null,null,null,null,"1967-12-08",{"$f":"'[1]Report-full'!B56","v":106.72},{"$f":"'[1]Report-full'!C56","v":100},{"$f":"'[1]Report-full'!D56","v":"-"}]
[null,null,null,null,null,null,null,null,null,null,null,null,null,null,"1967-12-15",{"$f":"'[1]Report-full'!B57","v":107.28},{"$f":"'[1]Report-full'!C57","v":100},{"$f":"'[1]Report-full'!D57","v":"-"}]
[null,null,null,null,null,null,null,null,null,null,null,null,null,null,"1967-12-22",{"$f":"'[1]Report-full'!B58","v":107.41},{"$f":"'[1]Report-full'!C58","v":100},{"$f":"'[1]Report-full'!D58","v":"-"}]
[null,null,null,null,null,null,null,null,null,null,null,null,null,null,"1967-12-29",{"$f":"'[1]Report-full'!B59","v":106.61},{"$f":"'[1]Report-full'!C59","v":87.43},{"$f":"'[1]Report-full'!D59","v":"-"}]
[null,null,null,null,null,null,null,null,null,null,null,null,null,null,"1968-01-05",{"$f":"'[1]Report-full'!B60","v":106.2},{"$f":"'[1]Report-full'!C60","v":81.16},{"$f":"'[1]Report-full'!D60","v":"-"}]
[null,null,null,null,null,null,null,null,null,null,null,null,null,null,"1968-01-12",{"$f":"'[1]Report-full'!B61","v":106.28},{"$f":"'[1]Report-full'!C61","v":82.26},{"$f":"'[1]Report-full'!D61","v":"-"}]
[null,null,null,null,null,null,null,null,null,null,null,null,null,null,"1968-01-19",{"$f":"'[1]Report-full'!B62","v":106.37},{"$f":"'[1]Report-full'!C62","v":83.68},{"$f":"'[1]Report-full'!D62","v":"-"}]
[null,{"$f":"INT(C58-($H$4/2*7))","v":"00:00:00"},null,null,null,null,null,null,null,null,null,null,null,null,"1968-01-26",{"$f":"'[1]Report-full'!B63","v":105.6},{"$f":"'[1]Report-full'!C63","v":71.75},{"$f":"'[1]Report-full'!D63","v":"-"}]
[null,"00:00:00",null,null,null,null,null,null,null,null,null,null,null,null,"1968-02-02",{"$f":"'[1]Report-full'!B64","v":105.03},{"$f":"'[1]Report-full'!C64","v":62.72},{"$f":"'[1]Report-full'!D64","v":12.26}]
[null,"00:00:00",null,null,null,null,null,null,null,null,null,null,null,null,"1968-02-09",{"$f":"'[1]Report-full'!B65","v":104.88},{"$f":"'[1]Report-full'!C65","v":60.51},{"$f":"'[1]Report-full'!D65","v":11.35}]
[null,"00:00:00",null,null,null,null,null,null,null,null,null,null,null,null,"1968-02-16",{"$f":"'[1]Report-full'!B66","v":104.16},{"$f":"'[1]Report-full'!C66","v":49.23},{"$f":"'[1]Report-full'!D66","v":10.06}]
[null,"00:00:00",null,null,null,null,null,null,null,null,null,null,null,null,"1968-02-23",{"$f":"'[1]Report-full'!B67","v":104.17},{"$f":"'[1]Report-full'!C67","v":49.3},{"$f":"'[1]Report-full'!D67","v":9.18}]
[null,"00:00:00",null,null,null,null,null,null,null,null,null,null,null,null,"1968-03-01",{"$f":"'[1]Report-full'!B68","v":104.33},{"$f":"'[1]Report-full'!C68","v":51.88},{"$f":"'[1]Report-full'!D68","v":8.67}]
[null,"00:00:00",null,null,null,null,null,null,null,null,null,null,null,null,"1968-03-08",{"$f":"'[1]Report-full'!B69","v":103.63},{"$f":"'[1]Report-full'!C69","v":40.909999999999997},{"$f":"'[1]Report-full'!D69","v":7.9}]
[null,"00:00:00",null,null,null,null,null,null,null,null,null,null,null,null,"1968-03-15",{"$f":"'[1]Report-full'!B70","v":104.13},{"$f":"'[1]Report-full'!C70","v":48.74},{"$f":"'[1]Report-full'!D70","v":7.72}]
[null,"00:00:00",null,null,null,null,null,null,null,null,null,null,null,null,"1968-03-22",{"$f":"'[1]Report-full'!B71","v":104.12},{"$f":"'[1]Report-full'!C71","v":48.5},{"$f":"'[1]Report-full'!D71","v":7.54}]
[null,"00:00:00",null,null,null,null,null,null,null,null,null,null,null,null,"1968-03-29",{"$f":"'[1]Report-full'!B72","v":104.69},{"$f":"'[1]Report-full'!C72","v":57.43},{"$f":"'[1]Report-full'!D72","v":7.55}]
[null,"00:00:00",null,null,null,null,null,null,null,null,null,null,null,null,"1968-04-05",{"$f":"'[1]Report-full'!B73","v":105.92},{"$f":"'[1]Report-full'!C73","v":76.66},{"$f":"'[1]Report-full'!D73","v":8.48}]
[null,"00:00:00",null,null,null,null,null,null,null,null,null,null,null,null,"1968-04-12",{"$f":"'[1]Report-full'!B74","v":107.21},{"$f":"'[1]Report-full'!C74","v":96.86},{"$f":"'[1]Report-full'!D74","v":9.7799999999999994}]
[null,"00:00:00",null,null,null,null,null,null,null,null,null,null,null,null,"1968-04-19",{"$f":"'[1]Report-full'!B75","v":108.49},{"$f":"'[1]Report-full'!C75","v":100},{"$f":"'[1]Report-full'!D75","v":11.66}]
[null,"00:00:00",null,null,null,null,null,null,null,null,null,null,null,null,"1968-04-26",{"$f":"'[1]Report-full'!B76","v":108.32},{"$f":"'[1]Report-full'!C76","v":97.27},{"$f":"'[1]Report-full'!D76","v":13.14}]
[null,"00:00:00",null,null,null,null,null,null,null,null,null,null,null,null,"1968-05-03",{"$f":"'[1]Report-full'!B77","v":108.7},{"$f":"'[1]Report-full'!C77","v":100},{"$f":"'[1]Report-full'!D77","v":14.18}]
[null,"00:00:00",null,null,null,null,null,null,null,null,null,null,null,null,"1968-05-10",{"$f":"'[1]Report-full'!B78","v":108.86},{"$f":"'[1]Report-full'!C78","v":100},{"$f":"'[1]Report-full'!D78","v":14.65}]
[null,"00:00:00",null,null,null,null,null,null,null,null,null,null,null,null,"1968-05-17",{"$f":"'[1]Report-full'!B79","v":108.75},{"$f":"'[1]Report-full'!C79","v":98.27},{"$f":"'[1]Report-full'!D79","v":14.43}]
[null,"00:00:00",null,null,null,null,null,null,null,null,null,null,null,null,"1968-05-24",{"$f":"'[1]Report-full'!B80","v":108.23},{"$f":"'[1]Report-full'!C80","v":90.28},{"$f":"'[1]Report-full'!D80","v":14.06}]
[null,"00:00:00",null,null,null,null,null,null,null,null,null,null,null,null,"1968-05-31",{"$f":"'[1]Report-full'!B81","v":108.88},{"$f":"'[1]Report-full'!C81","v":100},{"$f":"'[1]Report-full'!D81","v":13.82}]
[null,"00:00:00",null,null,null,null,null,null,null,null,null,null,null,null,"1968-06-07",{"$f":"'[1]Report-full'!B82","v":109.71},{"$f":"'[1]Report-full'!C82","v":100},{"$f":"'[1]Report-full'!D82","v":13.9}]
[null,"00:00:00",null,null,null,null,null,null,null,null,null,null,null,null,"1968-06-14",{"$f":"'[1]Report-full'!B83","v":110.58},{"$f":"'[1]Report-full'!C83","v":100},{"$f":"'[1]Report-full'!D83","v":14.45}]
[null,"00:00:00",null,null,null,null,null,null,null,null,null,null,null,null,"1968-06-21",{"$f":"'[1]Report-full'!B84","v":110.17},{"$f":"'[1]Report-full'!C84","v":93.9},{"$f":"'[1]Report-full'!D84","v":15.04}]
[null,"00:00:00",null,null,null,null,null,null,null,null,null,null,null,null,"1968-06-28",{"$f":"'[1]Report-full'!B85","v":109.54},{"$f":"'[1]Report-full'!C85","v":84.26},{"$f":"'[1]Report-full'!D85","v":15.02}]
[null,"00:00:00",null,null,null,null,null,null,null,null,null,null,null,null,"1968-07-05",{"$f":"'[1]Report-full'!B86","v":109.16},{"$f":"'[1]Report-full'!C86","v":78.47},{"$f":"'[1]Report-full'!D86","v":14.42}]
[null,"00:00:00",null,null,null,null,null,null,null,null,null,null,null,null,"1968-07-12",{"$f":"'[1]Report-full'!B87","v":109.74},{"$f":"'[1]Report-full'!C87","v":87.27},{"$f":"'[1]Report-full'!D87","v":13.71}]
[null,"00:00:00",null,null,null,null,null,null,null,null,null,null,null,null,"1968-07-19",{"$f":"'[1]Report-full'!B88","v":109.22},{"$f":"'[1]Report-full'!C88","v":79.36},{"$f":"'[1]Report-full'!D88","v":12.96}]
[null,"00:00:00",null,null,null,null,null,null,null,null,null,null,null,null,"1968-07-26",{"$f":"'[1]Report-full'!B89","v":108.58},{"$f":"'[1]Report-full'!C89","v":69.67},{"$f":"'[1]Report-full'!D89","v":12.25}]
[null,"00:00:00",null,null,null,null,null,null,null,null,null,null,null,null,"1968-08-02",{"$f":"'[1]Report-full'!B90","v":108.39},{"$f":"'[1]Report-full'!C90","v":66.77},{"$f":"'[1]Report-full'!D90","v":11.65}]
[null,"00:00:00",null,null,null,null,null,null,null,null,null,null,null,null,"1968-08-09",{"$f":"'[1]Report-full'!B91","v":108.38},{"$f":"'[1]Report-full'!C91","v":66.56},{"$f":"'[1]Report-full'!D91","v":10.78}]
[null,"00:00:00",null,null,null,null,null,null,null,null,null,null,null,null,"1968-08-16",{"$f":"'[1]Report-full'!B92","v":108.23},{"$f":"'[1]Report-full'!C92","v":64.34},{"$f":"'[1]Report-full'!D92","v":10.119999999999999}]
[null,"00:00:00",null,null,null,null,null,null,null,null,null,null,null,null,"1968-08-23",{"$f":"'[1]Report-full'!B93","v":108.11},{"$f":"'[1]Report-full'!C93","v":62.6},{"$f":"'[1]Report-full'!D93","v":9.7100000000000009}]
[null,"00:00:00",null,null,null,null,null,null,null,null,null,null,null,null,"1968-08-30",{"$f":"'[1]Report-full'!B94","v":108.43},{"$f":"'[1]Report-full'!C94","v":67.45},{"$f":"'[1]Report-full'!D94","v":9.5500000000000007}]
[null,"00:00:00",null,null,null,null,null,null,null,null,null,null,null,null,"1968-09-06",{"$f":"'[1]Report-full'!B95","v":108.85},{"$f":"'[1]Report-full'!C95","v":73.84},{"$f":"'[1]Report-full'!D95","v":9.6}]
[null,"00:00:00",null,null,null,null,null,null,null,null,null,null,null,null,"1968-09-13",{"$f":"'[1]Report-full'!B96","v":109.94},{"$f":"'[1]Report-full'!C96","v":90.34},{"$f":"'[1]Report-full'!D96","v":10.23}]
[null,"00:00:00",null,null,null,null,null,null,null,null,null,null,null,null,"1968-09-20",{"$f":"'[1]Report-full'!B97","v":110.33},{"$f":"'[1]Report-full'!C97","v":96.19},{"$f":"'[1]Report-full'!D97","v":11.09}]
[null,"00:00:00",null,null,null,null,null,null,null,null,null,null,null,null,"1968-09-27",{"$f":"'[1]Report-full'!B98","v":111.15},{"$f":"'[1]Report-full'!C98","v":100},{"$f":"'[1]Report-full'!D98","v":12.18}]
[null,"00:00:00",null,null,null,null,null,null,null,null,null,null,null,null,"1968-10-04",{"$f":"'[1]Report-full'!B99","v":111.55},{"$f":"'[1]Report-full'!C99","v":100},{"$f":"'[1]Report-full'!D99","v":13.24}]
[null,"00:00:00",null,null,null,null,null,null,null,null,null,null,null,null,"1968-10-11",{"$f":"'[1]Report-full'!B100","v":112.02},{"$f":"'[1]Report-full'!C100","v":100},{"$f":"'[1]Report-full'!D100","v":14}]
[null,"00:00:00",null,null,null,null,null,null,null,null,null,null,null,null,"1968-10-18",{"$f":"'[1]Report-full'!B101","v":111.92},{"$f":"'[1]Report-full'!C101","v":98.52},{"$f":"'[1]Report-full'!D101","v":14.52}]
[null,"00:00:00",null,null,null,null,null,null,null,null,null,null,null,null,"1968-10-25",{"$f":"'[1]Report-full'!B102","v":112.35},{"$f":"'[1]Report-full'!C102","v":100},{"$f":"'[1]Report-full'!D102","v":14.83}]
[null,"00:00:00",null,null,null,null,null,null,null,null,null,null,null,null,"1968-11-01",{"$f":"'[1]Report-full'!B103","v":112.36},{"$f":"'[1]Report-full'!C103","v":100},{"$f":"'[1]Report-full'!D103","v":14.93}]
[null,"00:00:00",null,null,null,null,null,null,null,null,null,null,null,null,"1968-11-08",{"$f":"'[1]Report-full'!B104","v":112.32},{"$f":"'[1]Report-full'!C104","v":99.36},{"$f":"'[1]Report-full'!D104","v":14.79}]
[null,"00:00:00",null,null,null,null,null,null,null,null,null,null,null,null,"1968-11-15",{"$f":"'[1]Report-full'!B105","v":112.79},{"$f":"'[1]Report-full'!C105","v":100},{"$f":"'[1]Report-full'!D105","v":14.9}]
[null,"00:00:00",null,null,null,null,null,null,null,null,null,null,null,null,"1968-11-22",{"$f":"'[1]Report-full'!B106","v":113.3},{"$f":"'[1]Report-full'!C106","v":100},{"$f":"'[1]Report-full'!D106","v":15.04}]
[null,"00:00:00",null,null,null,null,null,null,null,null,null,null,null,null,"1968-11-29",{"$f":"'[1]Report-full'!B107","v":113.26},{"$f":"'[1]Report-full'!C107","v":99.42},{"$f":"'[1]Report-full'!D107","v":15.16}]
[null,"00:00:00",null,null,null,null,null,null,null,null,null,null,null,null,"1968-12-06",{"$f":"'[1]Report-full'!B108","v":114.11},{"$f":"'[1]Report-full'!C108","v":100},{"$f":"'[1]Report-full'!D108","v":15.7}]
[null,"00:00:00",null,null,null,null,null,null,null,null,null,null,null,null,"1968-12-13",{"$f":"'[1]Report-full'!B109","v":114.05},{"$f":"'[1]Report-full'!C109","v":99.03},{"$f":"'[1]Report-full'!D109","v":15.99}]
[null,"00:00:00",null,null,null,null,null,null,null,null,null,null,null,null,"1968-12-20",{"$f":"'[1]Report-full'!B110","v":113.81},{"$f":"'[1]Report-full'!C110","v":95.55},{"$f":"'[1]Report-full'!D110","v":15.95}]
[null,"00:00:00",null,null,null,null,null,null,null,null,null,null,null,null,"1968-12-27",{"$f":"'[1]Report-full'!B111","v":113.25},{"$f":"'[1]Report-full'!C111","v":87.22},{"$f":"'[1]Report-full'!D111","v":15.67}]
[null,"00:00:00",null,null,null,null,null,null,null,null,null,null,null,null,"1969-01-03",{"$f":"'[1]Report-full'!B112","v":112.67},{"$f":"'[1]Report-full'!C112","v":78.760000000000005},{"$f":"'[1]Report-full'!D112","v":14.73}]
[null,"00:00:00",null,null,null,null,null,null,null,null,null,null,null,null,"1969-01-10",{"$f":"'[1]Report-full'!B113","v":111.55},{"$f":"'[1]Report-full'!C113","v":62.27},{"$f":"'[1]Report-full'!D113","v":13.32}]
[null,"00:00:00",null,null,null,null,null,null,null,null,null,null,null,null,"1969-01-17",{"$f":"'[1]Report-full'!B114","v":110.78},{"$f":"'[1]Report-full'!C114","v":50.97},{"$f":"'[1]Report-full'!D114","v":11.68}]
[null,"00:00:00",null,null,null,null,null,null,null,null,null,null,null,null,"1969-01-24",{"$f":"'[1]Report-full'!B115","v":110.97},{"$f":"'[1]Report-full'!C115","v":53.65},{"$f":"'[1]Report-full'!D115","v":10.42}]
[null,"00:00:00",null,null,null,null,null,null,null,null,null,null,null,null,"1969-01-31",{"$f":"'[1]Report-full'!B116","v":111.94},{"$f":"'[1]Report-full'!C116","v":67.94},{"$f":"'[1]Report-full'!D116","v":9.89}]
[null,"00:00:00",null,null,null,null,null,null,null,null,null,null,null,null,"1969-02-07",{"$f":"'[1]Report-full'!B117","v":112.45},{"$f":"'[1]Report-full'!C117","v":75.48},{"$f":"'[1]Report-full'!D117","v":10.11}]
[null,"00:00:00",null,null,null,null,null,null,null,null,null,null,null,null,"1969-02-14",{"$f":"'[1]Report-full'!B118","v":112.59},{"$f":"'[1]Report-full'!C118","v":77.55},{"$f":"'[1]Report-full'!D118","v":10.71}]
[null,"00:00:00",null,null,null,null,null,null,null,null,null,null,null,null,"1969-02-21",{"$f":"'[1]Report-full'!B119","v":112.48},{"$f":"'[1]Report-full'!C119","v":75.89},{"$f":"'[1]Report-full'!D119","v":11.15}]
[null,"00:00:00",null,null,null,null,null,null,null,null,null,null,null,null,"1969-02-28",{"$f":"'[1]Report-full'!B120","v":110.79},{"$f":"'[1]Report-full'!C120","v":51.1},{"$f":"'[1]Report-full'!D120","v":10.35}]
[null,"00:00:00",null,null,null,null,null,null,null,null,null,null,null,null,"1969-03-07",{"$f":"'[1]Report-full'!B121","v":110.46},{"$f":"'[1]Report-full'!C121","v":46.26},{"$f":"'[1]Report-full'!D121","v":9.17}]
[null,"00:00:00",null,null,null,null,null,null,null,null,null,null,null,null,"1969-03-14",{"$f":"'[1]Report-full'!B122","v":110.44},{"$f":"'[1]Report-full'!C122","v":45.97},{"$f":"'[1]Report-full'!D122","v":7.94}]
[null,"00:00:00",null,null,null,null,null,null,null,null,null,null,null,null,"1969-03-21",{"$f":"'[1]Report-full'!B123","v":110.25},{"$f":"'[1]Report-full'!C123","v":43.06},{"$f":"'[1]Report-full'!D123","v":6.69}]
[null,"00:00:00",null,null,null,null,null,null,null,null,null,null,null,null,"1969-03-28",{"$f":"'[1]Report-full'!B124","v":110.73},{"$f":"'[1]Report-full'!C124","v":50.12},{"$f":"'[1]Report-full'!D124","v":6.44}]
[null,"00:00:00",null,null,null,null,null,null,null,null,null,null,null,null,"1969-04-04",{"$f":"'[1]Report-full'!B125","v":111.74},{"$f":"'[1]Report-full'!C125","v":65.069999999999993},{"$f":"'[1]Report-full'!D125","v":6.79}]
[null,"00:00:00",null,null,null,null,null,null,null,null,null,null,null,null,"1969-04-11",{"$f":"'[1]Report-full'!B126","v":112.38},{"$f":"'[1]Report-full'!C126","v":74.47},{"$f":"'[1]Report-full'!D126","v":7.45}]
[null,{"$f":"INT(C122-($H$4/2*7))","v":"00:00:00"},null,null,null,null,null,null,null,null,null,null,null,null,"1969-04-18",{"$f":"'[1]Report-full'!B127","v":112.57},{"$f":"'[1]Report-full'!C127","v":77.260000000000005},{"$f":"'[1]Report-full'!D127","v":8.2899999999999991}]
[null,"00:00:00",null,null,null,null,null,null,null,null,null,null,null,null,"1969-04-25",{"$f":"'[1]Report-full'!B128","v":112.74},{"$f":"'[1]Report-full'!C128","v":79.72},{"$f":"'[1]Report-full'!D128","v":9.01}]
[null,"00:00:00",null,null,null,null,null,null,null,null,null,null,null,null,"1969-05-02",{"$f":"'[1]Report-full'!B129","v":113.07},{"$f":"'[1]Report-full'!C129","v":84.57},{"$f":"'[1]Report-full'!D129","v":9.43}]
[null,"00:00:00",null,null,null,null,null,null,null,null,null,null,null,null,"1969-05-09",{"$f":"'[1]Report-full'!B130","v":113.92},{"$f":"'[1]Report-full'!C130","v":97.13},{"$f":"'[1]Report-full'!D130","v":9.9600000000000009}]
[null,"00:00:00",null,null,null,null,null,null,null,null,null,null,null,null,"1969-05-16",{"$f":"'[1]Report-full'!B131","v":114.3},{"$f":"'[1]Report-full'!C131","v":100},{"$f":"'[1]Report-full'!D131","v":10.59}]
[null,"00:00:00",null,null,null,null,null,null,null,null,null,null,null,null,"1969-05-23",{"$f":"'[1]Report-full'!B132","v":114.07},{"$f":"'[1]Report-full'!C132","v":96.59},{"$f":"'[1]Report-full'!D132","v":11.01}]
[null,"00:00:00",null,null,null,null,null,null,null,null,null,null,null,null,"1969-05-30",{"$f":"'[1]Report-full'!B133","v":113.75},{"$f":"'[1]Report-full'!C133","v":91.89},{"$f":"'[1]Report-full'!D133","v":11.14}]
[null,"00:00:00",null,null,null,null,null,null,null,null,null,null,null,null,"1969-06-06",{"$f":"'[1]Report-full'!B134","v":113.39},{"$f":"'[1]Report-full'!C134","v":86.61},{"$f":"'[1]Report-full'!D134","v":10.71}]
[null,"00:00:00",null,null,null,null,null,null,null,null,null,null,null,null,"1969-06-13",{"$f":"'[1]Report-full'!B135","v":113.19},{"$f":"'[1]Report-full'!C135","v":83.77},{"$f":"'[1]Report-full'!D135","v":10.029999999999999}]
[null,"00:00:00",null,null,null,null,null,null,null,null,null,null,null,null,"1969-06-20",{"$f":"'[1]Report-full'!B136","v":112.42},{"$f":"'[1]Report-full'!C136","v":72.34},{"$f":"'[1]Report-full'!D136","v":9.15}]
[null,"00:00:00",null,null,null,null,null,null,null,null,null,null,null,null,"1969-06-27",{"$f":"'[1]Report-full'!B137","v":111.77},{"$f":"'[1]Report-full'!C137","v":62.79},{"$f":"'[1]Report-full'!D137","v":8.15}]
[null,"00:00:00",null,null,null,null,null,null,null,null,null,null,null,null,"1969-07-04",{"$f":"'[1]Report-full'!B138","v":111.82},{"$f":"'[1]Report-full'!C138","v":63.62},{"$f":"'[1]Report-full'!D138","v":7.36}]
[null,"00:00:00",null,null,null,null,null,null,null,null,null,null,null,null,"1969-07-11",{"$f":"'[1]Report-full'!B139","v":111.95},{"$f":"'[1]Report-full'!C139","v":65.42},{"$f":"'[1]Report-full'!D139","v":6.72}]
[null,"00:00:00",null,null,null,null,null,null,null,null,null,null,null,null,"1969-07-18",{"$f":"'[1]Report-full'!B140","v":110.3},{"$f":"'[1]Report-full'!C140","v":41.29},{"$f":"'[1]Report-full'!D140","v":5.72}]
[null,"00:00:00",null,null,null,null,null,null,null,null,null,null,null,null,"1969-07-25",{"$f":"'[1]Report-full'!B141","v":109.44},{"$f":"'[1]Report-full'!C141","v":28.55},{"$f":"'[1]Report-full'!D141","v":4.63}]
[null,"00:00:00",null,null,null,null,null,null,null,null,null,null,null,null,"1969-08-01",{"$f":"'[1]Report-full'!B142","v":108.49},{"$f":"'[1]Report-full'!C142","v":14.63},{"$f":"'[1]Report-full'!D142","v":3.12}]
[null,"00:00:00",null,null,null,null,null,null,null,null,null,null,null,null,"1969-08-08",{"$f":"'[1]Report-full'!B143","v":108.59},{"$f":"'[1]Report-full'!C143","v":16.03},{"$f":"'[1]Report-full'!D143","v":1.64}]
[null,"00:00:00",null,null,null,null,null,null,null,null,null,null,null,null,"1969-08-15",{"$f":"'[1]Report-full'!B144","v":108.34},{"$f":"'[1]Report-full'!C144","v":12.49},{"$f":"'[1]Report-full'!D144","v":0.78}]
[null,"00:00:00",null,null,null,null,null,null,null,null,null,null,null,null,"1969-08-22",{"$f":"'[1]Report-full'!B145","v":108.82},{"$f":"'[1]Report-full'!C145","v":19.510000000000002},{"$f":"'[1]Report-full'!D145","v":0.51}]
[null,"00:00:00",null,null,null,null,null,null,null,null,null,null,null,null,"1969-08-29",{"$f":"'[1]Report-full'!B146","v":108.97},{"$f":"'[1]Report-full'!C146","v":21.65},{"$f":"'[1]Report-full'!D146","v":0.7}]
[null,"00:00:00",null,null,null,null,null,null,null,null,null,null,null,null,"1969-09-05",{"$f":"'[1]Report-full'!B147","v":109.05},{"$f":"'[1]Report-full'!C147","v":22.89},{"$f":"'[1]Report-full'!D147","v":0.89}]
[null,"00:00:00",null,null,null,null,null,null,null,null,null,null,null,null,"1969-09-12",{"$f":"'[1]Report-full'!B148","v":108.58},{"$f":"'[1]Report-full'!C148","v":15.97},{"$f":"'[1]Report-full'!D148","v":0.98}]
[null,"00:00:00",null,null,null,null,null,null,null,null,null,null,null,null,"1969-09-19",{"$f":"'[1]Report-full'!B149","v":108.25},{"$f":"'[1]Report-full'!C149","v":11.17},{"$f":"'[1]Report-full'!D149","v":0.74}]
[null,"00:00:00",null,null,null,null,null,null,null,null,null,null,null,null,"1969-09-26",{"$f":"'[1]Report-full'!B150","v":108.18},{"$f":"'[1]Report-full'!C150","v":10.07},{"$f":"'[1]Report-full'!D150","v":0.42}]
[null,"00:00:00",null,null,null,null,null,null,null,null,null,null,null,null,"1969-10-03",{"$f":"'[1]Report-full'!B151","v":107.5},{"$f":"'[1]Report-full'!C151","v":0.1},{"$f":"'[1]Report-full'!D151","v":-0.19}]
[null,"00:00:00",null,null,null,null,null,null,null,null,null,null,null,null,"1969-10-10",{"$f":"'[1]Report-full'!B152","v":107.07},{"$f":"'[1]Report-full'!C152","v":-6.22},{"$f":"'[1]Report-full'!D152","v":-0.75}]
[null,"00:00:00",null,null,null,null,null,null,null,null,null,null,null,null,"1969-10-17",{"$f":"'[1]Report-full'!B153","v":107.07},{"$f":"'[1]Report-full'!C153","v":-6.29},{"$f":"'[1]Report-full'!D153","v":-1.1399999999999999}]
[null,"00:00:00",null,null,null,null,null,null,null,null,null,null,null,null,"1969-10-24",{"$f":"'[1]Report-full'!B154","v":107.52},{"$f":"'[1]Report-full'!C154","v":0.37},{"$f":"'[1]Report-full'!D154","v":-1.29}]
[null,"00:00:00",null,null,null,null,null,null,null,null,null,null,null,null,"1969-10-31",{"$f":"'[1]Report-full'!B155","v":107.16},{"$f":"'[1]Report-full'!C155","v":-4.93},{"$f":"'[1]Report-full'!D155","v":-1.29}]
[null,"00:00:00",null,null,null,null,null,null,null,null,null,null,null,null,"1969-11-07",{"$f":"'[1]Report-full'!B156","v":106.51},{"$f":"'[1]Report-full'!C156","v":-14.41},{"$f":"'[1]Report-full'!D156","v":-1.37}]
[null,"00:00:00",null,null,null,null,null,null,null,null,null,null,null,null,"1969-11-14",{"$f":"'[1]Report-full'!B157","v":106.39},{"$f":"'[1]Report-full'!C157","v":-16.29},{"$f":"'[1]Report-full'!D157","v":-1.5}]
[null,"00:00:00",null,null,null,null,null,null,null,null,null,null,null,null,"1969-11-21",{"$f":"'[1]Report-full'!B158","v":105.81},{"$f":"'[1]Report-full'!C158","v":-24.72},{"$f":"'[1]Report-full'!D158","v":-2.0499999999999998}]
[null,"00:00:00",null,null,null,null,null,null,null,null,null,null,null,null,"1969-11-28",{"$f":"'[1]Report-full'!B159","v":104.8},{"$f":"'[1]Report-full'!C159","v":-39.68},{"$f":"'[1]Report-full'!D159","v":-2.85}]
[null,"00:00:00",null,null,null,null,null,null,null,null,null,null,null,null,"1969-12-05",{"$f":"'[1]Report-full'!B160","v":104.62},{"$f":"'[1]Report-full'!C160","v":-42.33},{"$f":"'[1]Report-full'!D160","v":-3.44}]
[null,"00:00:00",null,null,null,null,null,null,null,null,null,null,null,null,"1969-12-12",{"$f":"'[1]Report-full'!B161","v":103.55},{"$f":"'[1]Report-full'!C161","v":-58.01},{"$f":"'[1]Report-full'!D161","v":-4.3899999999999997}]
[null,"00:00:00",null,null,null,null,null,null,null,null,null,null,null,null,"1969-12-19",{"$f":"'[1]Report-full'!B162","v":102.81},{"$f":"'[1]Report-full'!C162","v":-68.87},{"$f":"'[1]Report-full'!D162","v":-5.37}]
[null,"00:00:00",null,null,null,null,null,null,null,null,null,null,null,null,"1969-12-26",{"$f":"'[1]Report-full'!B163","v":102.64},{"$f":"'[1]Report-full'!C163","v":-71.400000000000006},{"$f":"'[1]Report-full'!D163","v":-5.98}]
[null,"00:00:00",null,null,null,null,null,null,null,null,null,null,null,null,"1970-01-02",{"$f":"'[1]Report-full'!B164","v":103.05},{"$f":"'[1]Report-full'!C164","v":-65.3},{"$f":"'[1]Report-full'!D164","v":-6.32}]
[null,"00:00:00",null,null,null,null,null,null,null,null,null,null,null,null,"1970-01-09",{"$f":"'[1]Report-full'!B165","v":103.07},{"$f":"'[1]Report-full'!C165","v":-65.02},{"$f":"'[1]Report-full'!D165","v":-6.2}]
[null,"00:00:00",null,null,null,null,null,null,null,null,null,null,null,null,"1970-01-16",{"$f":"'[1]Report-full'!B166","v":102.49},{"$f":"'[1]Report-full'!C166","v":-73.52},{"$f":"'[1]Report-full'!D166","v":-6.03}]
[null,"00:00:00",null,null,null,null,null,null,null,null,null,null,null,null,"1970-01-23",{"$f":"'[1]Report-full'!B167","v":101.64},{"$f":"'[1]Report-full'!C167","v":-86.1},{"$f":"'[1]Report-full'!D167","v":-6.18}]
[null,"00:00:00",null,null,null,null,null,null,null,null,null,null,null,null,"1970-01-30",{"$f":"'[1]Report-full'!B168","v":100.83},{"$f":"'[1]Report-full'!C168","v":-97.99},{"$f":"'[1]Report-full'!D168","v":-6.84}]
[null,"00:00:00",null,null,null,null,null,null,null,null,null,null,null,null,"1970-02-06",{"$f":"'[1]Report-full'!B169","v":99.85},{"$f":"'[1]Report-full'!C169","v":-112.42},{"$f":"'[1]Report-full'!D169","v":-7.91}]
[null,"00:00:00",null,null,null,null,null,null,null,null,null,null,null,null,"1970-02-13",{"$f":"'[1]Report-full'!B170","v":99.77},{"$f":"'[1]Report-full'!C170","v":-113.58},{"$f":"'[1]Report-full'!D170","v":-8.74}]
[null,"00:00:00",null,null,null,null,null,null,null,null,null,null,null,null,"1970-02-20",{"$f":"'[1]Report-full'!B171","v":99.65},{"$f":"'[1]Report-full'!C171","v":-115.3},{"$f":"'[1]Report-full'!D171","v":-9.23}]
[null,"00:00:00",null,null,null,null,null,null,null,null,null,null,null,null,"1970-02-27",{"$f":"'[1]Report-full'!B172","v":99.28},{"$f":"'[1]Report-full'!C172","v":-120.82},{"$f":"'[1]Report-full'!D172","v":-9.51}]
[null,"00:00:00",null,null,null,null,null,null,null,null,null,null,null,null,"1970-03-06",{"$f":"'[1]Report-full'!B173","v":99.51},{"$f":"'[1]Report-full'!C173","v":-117.34},{"$f":"'[1]Report-full'!D173","v":-9.2799999999999994}]
[null,"00:00:00",null,null,null,null,null,null,null,null,null,null,null,null,"1970-03-13",{"$f":"'[1]Report-full'!B174","v":99.17},{"$f":"'[1]Report-full'!C174","v":-122.31},{"$f":"'[1]Report-full'!D174","v":-9.18}]
[null,"00:00:00",null,null,null,null,null,null,null,null,null,null,null,null,"1970-03-20",{"$f":"'[1]Report-full'!B175","v":98.52},{"$f":"'[1]Report-full'!C175","v":-131.93},{"$f":"'[1]Report-full'!D175","v":-9.31}]
[null,"00:00:00",null,null,null,null,null,null,null,null,null,null,null,null,"1970-03-27",{"$f":"'[1]Report-full'!B176","v":98.3},{"$f":"'[1]Report-full'!C176","v":-135.13999999999999},{"$f":"'[1]Report-full'!D176","v":-9.3800000000000008}]
[null,"00:00:00",null,null,null,null,null,null,null,null,null,null,null,null,"1970-04-03",{"$f":"'[1]Report-full'!B177","v":97.15},{"$f":"'[1]Report-full'!C177","v":-152.06},{"$f":"'[1]Report-full'!D177","v":-10.029999999999999}]
[null,"00:00:00",null,null,null,null,null,null,null,null,null,null,null,null,"1970-04-10",{"$f":"'[1]Report-full'!B178","v":95.71},{"$f":"'[1]Report-full'!C178","v":-173.24},{"$f":"'[1]Report-full'!D178","v":-11.11}]
[null,"00:00:00",null,null,null,null,null,null,null,null,null,null,null,null,"1970-04-17",{"$f":"'[1]Report-full'!B179","v":94.34},{"$f":"'[1]Report-full'!C179","v":-193.38},{"$f":"'[1]Report-full'!D179","v":-12.45}]
[null,"00:00:00",null,null,null,null,null,null,null,null,null,null,null,null,"1970-04-24",{"$f":"'[1]Report-full'!B180","v":93.08},{"$f":"'[1]Report-full'!C180","v":-211.83},{"$f":"'[1]Report-full'!D180","v":-14.16}]
[null,"00:00:00",null,null,null,null,null,null,null,null,null,null,null,null,"1970-05-01",{"$f":"'[1]Report-full'!B181","v":91.66},{"$f":"'[1]Report-full'!C181","v":-232.72},{"$f":"'[1]Report-full'!D181","v":-15.93}]
[null,"00:00:00",null,null,null,null,null,null,null,null,null,null,null,null,"1970-05-08",{"$f":"'[1]Report-full'!B182","v":90.24},{"$f":"'[1]Report-full'!C182","v":-253.65},{"$f":"'[1]Report-full'!D182","v":-17.64}]
[null,"00:00:00",null,null,null,null,null,null,null,null,null,null,null,null,"1970-05-15",{"$f":"'[1]Report-full'!B183","v":88.87},{"$f":"'[1]Report-full'!C183","v":-273.70999999999998},{"$f":"'[1]Report-full'!D183","v":-19.29}]
[null,"00:00:00",null,null,null,null,null,null,null,null,null,null,null,null,"1970-05-22",{"$f":"'[1]Report-full'!B184","v":87.41},{"$f":"'[1]Report-full'!C184","v":-295.25},{"$f":"'[1]Report-full'!D184","v":-20.97}]
[null,"00:00:00",null,null,null,null,null,null,null,null,null,null,null,null,"1970-05-29",{"$f":"'[1]Report-full'!B185","v":86.66},{"$f":"'[1]Report-full'!C185","v":-306.33},{"$f":"'[1]Report-full'!D185","v":-22.34}]
[null,"00:00:00",null,null,null,null,null,null,null,null,null,null,null,null,"1970-06-05",{"$f":"'[1]Report-full'!B186","v":88.38},{"$f":"'[1]Report-full'!C186","v":-281.01},{"$f":"'[1]Report-full'!D186","v":-22.41}]
[null,"00:00:00",null,null,null,null,null,null,null,null,null,null,null,null,"1970-06-12",{"$f":"'[1]Report-full'!B187","v":88.55},{"$f":"'[1]Report-full'!C187","v":-278.41000000000003},{"$f":"'[1]Report-full'!D187","v":-21.86}]
[null,"00:00:00",null,null,null,null,null,null,null,null,null,null,null,null,"1970-06-19",{"$f":"'[1]Report-full'!B188","v":88.28},{"$f":"'[1]Report-full'!C188","v":-282.39},{"$f":"'[1]Report-full'!D188","v":-20.82}]
[null,"00:00:00",null,null,null,null,null,null,null,null,null,null,null,null,"1970-06-26",{"$f":"'[1]Report-full'!B189","v":88.58},{"$f":"'[1]Report-full'!C189","v":-278.05},{"$f":"'[1]Report-full'!D189","v":-19.350000000000001}]
[null,"00:00:00",null,null,null,null,null,null,null,null,null,null,null,null,"1970-07-03",{"$f":"'[1]Report-full'!B190","v":87.86},{"$f":"'[1]Report-full'!C190","v":-288.55},{"$f":"'[1]Report-full'!D190","v":-18.89}]
[null,{"$f":"INT(C186-($H$4/2*7))","v":"00:00:00"},null,null,null,null,null,null,null,null,null,null,null,null,"1970-07-10",{"$f":"'[1]Report-full'!B191","v":87.49},{"$f":"'[1]Report-full'!C191","v":-294.04000000000002},{"$f":"'[1]Report-full'!D191","v":-18.670000000000002}]
[null,"00:00:00",null,null,null,null,null,null,null,null,null,null,null,null,"1970-07-17",{"$f":"'[1]Report-full'!B192","v":88.15},{"$f":"'[1]Report-full'!C192","v":-284.41000000000003},{"$f":"'[1]Report-full'!D192","v":-18.05}]
[null,"00:00:00",null,null,null,null,null,null,null,null,null,null,null,null,"1970-07-24",{"$f":"'[1]Report-full'!B193","v":88.89},{"$f":"'[1]Report-full'!C193","v":-273.52999999999997},{"$f":"'[1]Report-full'!D193","v":-17.25}]
[null,"00:00:00",null,null,null,null,null,null,null,null,null,null,null,null,"1970-07-31",{"$f":"'[1]Report-full'!B194","v":89.24},{"$f":"'[1]Report-full'!C194","v":-268.39999999999998},{"$f":"'[1]Report-full'!D194","v":-16}]
[null,"00:00:00",null,null,null,null,null,null,null,null,null,null,null,null,"1970-08-07",{"$f":"'[1]Report-full'!B195","v":88.98},{"$f":"'[1]Report-full'!C195","v":-272.18},{"$f":"'[1]Report-full'!D195","v":-14.72}]
[null,"00:00:00",null,null,null,null,null,null,null,null,null,null,null,null,"1970-08-14",{"$f":"'[1]Report-full'!B196","v":88.65},{"$f":"'[1]Report-full'!C196","v":-277.05},{"$f":"'[1]Report-full'!D196","v":-13.88}]
[null,"00:00:00",null,null,null,null,null,null,null,null,null,null,null,null,"1970-08-21",{"$f":"'[1]Report-full'!B197","v":88.47},{"$f":"'[1]Report-full'!C197","v":-279.7},{"$f":"'[1]Report-full'!D197","v":-13.46}]
[null,"00:00:00",null,null,null,null,null,null,null,null,null,null,null,null,"1970-08-28",{"$f":"'[1]Report-full'!B198","v":89.42},{"$f":"'[1]Report-full'!C198","v":-265.63},{"$f":"'[1]Report-full'!D198","v":-12.77}]
[null,"00:00:00",null,null,null,null,null,null,null,null,null,null,null,null,"1970-09-04",{"$f":"'[1]Report-full'!B199","v":89.55},{"$f":"'[1]Report-full'!C199","v":-263.81},{"$f":"'[1]Report-full'!D199","v":-11.9}]
[null,"00:00:00",null,null,null,null,null,null,null,null,null,null,null,null,"1970-09-11",{"$f":"'[1]Report-full'!B200","v":89.55},{"$f":"'[1]Report-full'!C200","v":-263.83},{"$f":"'[1]Report-full'!D200","v":-10.86}]
[null,"00:00:00",null,null,null,null,null,null,null,null,null,null,null,null,"1970-09-18",{"$f":"'[1]Report-full'!B201","v":89.23},{"$f":"'[1]Report-full'!C201","v":-268.52},{"$f":"'[1]Report-full'!D201","v":-9.8800000000000008}]
[null,"00:00:00",null,null,null,null,null,null,null,null,null,null,null,null,"1970-09-25",{"$f":"'[1]Report-full'!B202","v":88.81},{"$f":"'[1]Report-full'!C202","v":-274.60000000000002},{"$f":"'[1]Report-full'!D202","v":-9.5299999999999994}]
[null,"00:00:00",null,null,null,null,null,null,null,null,null,null,null,null,"1970-10-02",{"$f":"'[1]Report-full'!B203","v":89.21},{"$f":"'[1]Report-full'!C203","v":-268.73},{"$f":"'[1]Report-full'!D203","v":-9.06}]
[null,"00:00:00",null,null,null,null,null,null,null,null,null,null,null,null,"1970-10-09",{"$f":"'[1]Report-full'!B204","v":89.59},{"$f":"'[1]Report-full'!C204","v":-263.22000000000003},{"$f":"'[1]Report-full'!D204","v":-8.41}]
[null,"00:00:00",null,null,null,null,null,null,null,null,null,null,null,null,"1970-10-16",{"$f":"'[1]Report-full'!B205","v":88.89},{"$f":"'[1]Report-full'!C205","v":-273.52},{"$f":"'[1]Report-full'!D205","v":-7.94}]
[null,"00:00:00",null,null,null,null,null,null,null,null,null,null,null,null,"1970-10-23",{"$f":"'[1]Report-full'!B206","v":88.23},{"$f":"'[1]Report-full'!C206","v":-283.13},{"$f":"'[1]Report-full'!D206","v":-7.6}]
[null,"00:00:00",null,null,null,null,null,null,null,null,null,null,null,null,"1970-10-30",{"$f":"'[1]Report-full'!B207","v":88.42},{"$f":"'[1]Report-full'!C207","v":-280.33999999999997},{"$f":"'[1]Report-full'!D207","v":-7.35}]
[null,"00:00:00",null,null,null,null,null,null,null,null,null,null,null,null,"1970-11-06",{"$f":"'[1]Report-full'!B208","v":88.48},{"$f":"'[1]Report-full'!C208","v":-279.44},{"$f":"'[1]Report-full'!D208","v":-7.25}]
[null,"00:00:00",null,null,null,null,null,null,null,null,null,null,null,null,"1970-11-13",{"$f":"'[1]Report-full'!B209","v":88.59},{"$f":"'[1]Report-full'!C209","v":-277.91000000000003},{"$f":"'[1]Report-full'!D209","v":-6.75}]
[null,"00:00:00",null,null,null,null,null,null,null,null,null,null,null,null,"1970-11-20",{"$f":"'[1]Report-full'!B210","v":88.06},{"$f":"'[1]Report-full'!C210","v":-285.67},{"$f":"'[1]Report-full'!D210","v":-6.19}]
[null,"00:00:00",null,null,null,null,null,null,null,null,null,null,null,null,"1970-11-27",{"$f":"'[1]Report-full'!B211","v":87.7},{"$f":"'[1]Report-full'!C211","v":-290.97000000000003},{"$f":"'[1]Report-full'!D211","v":-5.91}]
[null,"00:00:00",null,null,null,null,null,null,null,null,null,null,null,null,"1970-12-04",{"$f":"'[1]Report-full'!B212","v":88.36},{"$f":"'[1]Report-full'!C212","v":100},{"$f":"'[1]Report-full'!D212","v":-5.34}]
[null,"00:00:00",null,null,null,null,null,null,null,null,null,null,null,null,"1970-12-11",{"$f":"'[1]Report-full'!B213","v":88.93},{"$f":"'[1]Report-full'!C213","v":100},{"$f":"'[1]Report-full'!D213","v":-4.55}]
[null,"00:00:00",null,null,null,null,null,null,null,null,null,null,null,null,"1970-12-18",{"$f":"'[1]Report-full'!B214","v":89.1},{"$f":"'[1]Report-full'!C214","v":100},{"$f":"'[1]Report-full'!D214","v":-3.43}]
[null,"00:00:00",null,null,null,null,null,null,null,null,null,null,null,null,"1970-12-25",{"$f":"'[1]Report-full'!B215","v":89.53},{"$f":"'[1]Report-full'!C215","v":100},{"$f":"'[1]Report-full'!D215","v":-1.94}]
[null,"00:00:00",null,null,null,null,null,null,null,null,null,null,null,null,"1971-01-01",{"$f":"'[1]Report-full'!B216","v":90.11},{"$f":"'[1]Report-full'!C216","v":100},{"$f":"'[1]Report-full'!D216","v":-0.5}]
[null,"00:00:00",null,null,null,null,null,null,null,null,null,null,null,null,"1971-01-08",{"$f":"'[1]Report-full'!B217","v":90.79},{"$f":"'[1]Report-full'!C217","v":100},{"$f":"'[1]Report-full'!D217","v":0.99}]
[null,"00:00:00",null,null,null,null,null,null,null,null,null,null,null,null,"1971-01-15",{"$f":"'[1]Report-full'!B218","v":91.59},{"$f":"'[1]Report-full'!C218","v":100},{"$f":"'[1]Report-full'!D218","v":2.79}]
[null,"00:00:00",null,null,null,null,null,null,null,null,null,null,null,null,"1971-01-22",{"$f":"'[1]Report-full'!B219","v":92.08},{"$f":"'[1]Report-full'!C219","v":100},{"$f":"'[1]Report-full'!D219","v":4.63}]
[null,"00:00:00",null,null,null,null,null,null,null,null,null,null,null,null,"1971-01-29",{"$f":"'[1]Report-full'!B220","v":93.07},{"$f":"'[1]Report-full'!C220","v":100},{"$f":"'[1]Report-full'!D220","v":6.68}]
[null,"00:00:00",null,null,null,null,null,null,null,null,null,null,null,null,"1971-02-05",{"$f":"'[1]Report-full'!B221","v":93.76},{"$f":"'[1]Report-full'!C221","v":100},{"$f":"'[1]Report-full'!D221","v":8.7100000000000009}]
[null,"00:00:00",null,null,null,null,null,null,null,null,null,null,null,null,"1971-02-12",{"$f":"'[1]Report-full'!B222","v":94.31},{"$f":"'[1]Report-full'!C222","v":100},{"$f":"'[1]Report-full'!D222","v":10.56}]
[null,"00:00:00",null,null,null,null,null,null,null,null,null,null,null,null,"1971-02-19",{"$f":"'[1]Report-full'!B223","v":94.57},{"$f":"'[1]Report-full'!C223","v":100},{"$f":"'[1]Report-full'!D223","v":12.26}]
[null,"00:00:00",null,null,null,null,null,null,null,null,null,null,null,null,"1971-02-26",{"$f":"'[1]Report-full'!B224","v":94.57},{"$f":"'[1]Report-full'!C224","v":99.99},{"$f":"'[1]Report-full'!D224","v":13.36}]
[null,"00:00:00",null,null,null,null,null,null,null,null,null,null,null,null,"1971-03-05",{"$f":"'[1]Report-full'!B225","v":94.61},{"$f":"'[1]Report-full'!C225","v":100},{"$f":"'[1]Report-full'!D225","v":14.08}]
[null,"00:00:00",null,null,null,null,null,null,null,null,null,null,null,null,"1971-03-12",{"$f":"'[1]Report-full'!B226","v":95.27},{"$f":"'[1]Report-full'!C226","v":100},{"$f":"'[1]Report-full'!D226","v":14.85}]
[null,"00:00:00",null,null,null,null,null,null,null,null,null,null,null,null,"1971-03-19",{"$f":"'[1]Report-full'!B227","v":95.47},{"$f":"'[1]Report-full'!C227","v":100},{"$f":"'[1]Report-full'!D227","v":15.56}]
[null,"00:00:00",null,null,null,null,null,null,null,null,null,null,null,null,"1971-03-26",{"$f":"'[1]Report-full'!B228","v":95.49},{"$f":"'[1]Report-full'!C228","v":100},{"$f":"'[1]Report-full'!D228","v":16.27}]
[null,"00:00:00",null,null,null,null,null,null,null,null,null,null,null,null,"1971-04-02",{"$f":"'[1]Report-full'!B229","v":95.13},{"$f":"'[1]Report-full'!C229","v":93.58},{"$f":"'[1]Report-full'!D229","v":16.739999999999998}]
[null,"00:00:00",null,null,null,null,null,null,null,null,null,null,null,null,"1971-04-09",{"$f":"'[1]Report-full'!B230","v":95.12},{"$f":"'[1]Report-full'!C230","v":93.43},{"$f":"'[1]Report-full'!D230","v":16.79}]
[null,"00:00:00",null,null,null,null,null,null,null,null,null,null,null,null,"1971-04-16",{"$f":"'[1]Report-full'!B231","v":95.49},{"$f":"'[1]Report-full'!C231","v":99.85},{"$f":"'[1]Report-full'!D231","v":16.899999999999999}]
[null,"00:00:00",null,null,null,null,null,null,null,null,null,null,null,null,"1971-04-23",{"$f":"'[1]Report-full'!B232","v":95.6},{"$f":"'[1]Report-full'!C232","v":100},{"$f":"'[1]Report-full'!D232","v":17.010000000000002}]
[null,"00:00:00",null,null,null,null,null,null,null,null,null,null,null,null,"1971-04-30",{"$f":"'[1]Report-full'!B233","v":96.41},{"$f":"'[1]Report-full'!C233","v":100},{"$f":"'[1]Report-full'!D233","v":17.73}]
[null,"00:00:00",null,null,null,null,null,null,null,null,null,null,null,null,"1971-05-07",{"$f":"'[1]Report-full'!B234","v":96.96},{"$f":"'[1]Report-full'!C234","v":100},{"$f":"'[1]Report-full'!D234","v":18.7}]
[null,"00:00:00",null,null,null,null,null,null,null,null,null,null,null,null,"1971-05-14",{"$f":"'[1]Report-full'!B235","v":96.99},{"$f":"'[1]Report-full'!C235","v":100},{"$f":"'[1]Report-full'!D235","v":19.38}]
[null,"00:00:00",null,null,null,null,null,null,null,null,null,null,null,null,"1971-05-21",{"$f":"'[1]Report-full'!B236","v":96.73},{"$f":"'[1]Report-full'!C236","v":95.51},{"$f":"'[1]Report-full'!D236","v":19.77}]
[null,"00:00:00",null,null,null,null,null,null,null,null,null,null,null,null,"1971-05-28",{"$f":"'[1]Report-full'!B237","v":96.55},{"$f":"'[1]Report-full'!C237","v":92.33},{"$f":"'[1]Report-full'!D237","v":19.510000000000002}]
[null,"00:00:00",null,null,null,null,null,null,null,null,null,null,null,null,"1971-06-04",{"$f":"'[1]Report-full'!B238","v":96.57},{"$f":"'[1]Report-full'!C238","v":92.81},{"$f":"'[1]Report-full'!D238","v":18.88}]
[null,"00:00:00",null,null,null,null,null,null,null,null,null,null,null,null,"1971-06-11",{"$f":"'[1]Report-full'!B239","v":96.91},{"$f":"'[1]Report-full'!C239","v":98.55},{"$f":"'[1]Report-full'!D239","v":18.420000000000002}]
[null,"00:00:00",null,null,null,null,null,null,null,null,null,null,null,null,"1971-06-18",{"$f":"'[1]Report-full'!B240","v":96.83},{"$f":"'[1]Report-full'!C240","v":97.21},{"$f":"'[1]Report-full'!D240","v":18.059999999999999}]
[null,"00:00:00",null,null,null,null,null,null,null,null,null,null,null,null,"1971-06-25",{"$f":"'[1]Report-full'!B241","v":96.36},{"$f":"'[1]Report-full'!C241","v":89.08},{"$f":"'[1]Report-full'!D241","v":17.55}]
[null,"00:00:00",null,null,null,null,null,null,null,null,null,null,null,null,"1971-07-02",{"$f":"'[1]Report-full'!B242","v":96.16},{"$f":"'[1]Report-full'!C242","v":85.7},{"$f":"'[1]Report-full'!D242","v":16.940000000000001}]
[null,"00:00:00",null,null,null,null,null,null,null,null,null,null,null,null,"1971-07-09",{"$f":"'[1]Report-full'!B243","v":96.42},{"$f":"'[1]Report-full'!C243","v":90.1},{"$f":"'[1]Report-full'!D243","v":16.29}]
[null,"00:00:00",null,null,null,null,null,null,null,null,null,null,null,null,"1971-07-16",{"$f":"'[1]Report-full'!B244","v":96.74},{"$f":"'[1]Report-full'!C244","v":95.6},{"$f":"'[1]Report-full'!D244","v":15.86}]
[null,"00:00:00",null,null,null,null,null,null,null,null,null,null,null,null,"1971-07-23",{"$f":"'[1]Report-full'!B245","v":96.56},{"$f":"'[1]Report-full'!C245","v":92.6},{"$f":"'[1]Report-full'!D245","v":15.6}]
[null,"00:00:00",null,null,null,null,null,null,null,null,null,null,null,null,"1971-07-30",{"$f":"'[1]Report-full'!B246","v":97.07},{"$f":"'[1]Report-full'!C246","v":100},{"$f":"'[1]Report-full'!D246","v":15.73}]
[null,"00:00:00",null,null,null,null,null,null,null,null,null,null,null,null,"1971-08-06",{"$f":"'[1]Report-full'!B247","v":96.51},{"$f":"'[1]Report-full'!C247","v":90.31},{"$f":"'[1]Report-full'!D247","v":15.41}]
[null,"00:00:00",null,null,null,null,null,null,null,null,null,null,null,null,"1971-08-13",{"$f":"'[1]Report-full'!B248","v":96.2},{"$f":"'[1]Report-full'!C248","v":84.81},{"$f":"'[1]Report-full'!D248","v":14.76}]
[null,"00:00:00",null,null,null,null,null,null,null,null,null,null,null,null,"1971-08-20",{"$f":"'[1]Report-full'!B249","v":96.96},{"$f":"'[1]Report-full'!C249","v":97.97},{"$f":"'[1]Report-full'!D249","v":14.64}]
[null,"00:00:00",null,null,null,null,null,null,null,null,null,null,null,null,"1971-08-27",{"$f":"'[1]Report-full'!B250","v":97.73},{"$f":"'[1]Report-full'!C250","v":100},{"$f":"'[1]Report-full'!D250","v":14.65}]
[null,"00:00:00",null,null,null,null,null,null,null,null,null,null,null,null,"1971-09-03",{"$f":"'[1]Report-full'!B251","v":98.15},{"$f":"'[1]Report-full'!C251","v":100},{"$f":"'[1]Report-full'!D251","v":15.2}]
[null,"00:00:00",null,null,null,null,null,null,null,null,null,null,null,null,"1971-09-10",{"$f":"'[1]Report-full'!B252","v":98.56},{"$f":"'[1]Report-full'!C252","v":100},{"$f":"'[1]Report-full'!D252","v":16.13}]
[null,"00:00:00",null,null,null,null,null,null,null,null,null,null,null,null,"1971-09-17",{"$f":"'[1]Report-full'!B253","v":98.35},{"$f":"'[1]Report-full'!C253","v":96.52},{"$f":"'[1]Report-full'!D253","v":16.52}]
[null,"00:00:00",null,null,null,null,null,null,null,null,null,null,null,null,"1971-09-24",{"$f":"'[1]Report-full'!B254","v":98.04},{"$f":"'[1]Report-full'!C254","v":91.15},{"$f":"'[1]Report-full'!D254","v":16.3}]
[null,{"$f":"INT(C250-($H$4/2*7))","v":"00:00:00"},null,null,null,null,null,null,null,null,null,null,null,null,"1971-10-01",{"$f":"'[1]Report-full'!B255","v":97.31},{"$f":"'[1]Report-full'!C255","v":78.73},{"$f":"'[1]Report-full'!D255","v":15.44}]
[null,"00:00:00",null,null,null,null,null,null,null,null,null,null,null,null,"1971-10-08",{"$f":"'[1]Report-full'!B256","v":97.36},{"$f":"'[1]Report-full'!C256","v":79.650000000000006},{"$f":"'[1]Report-full'!D256","v":14.4}]
[null,"00:00:00",null,null,null,null,null,null,null,null,null,null,null,null,"1971-10-15",{"$f":"'[1]Report-full'!B257","v":97.56},{"$f":"'[1]Report-full'!C257","v":83.06},{"$f":"'[1]Report-full'!D257","v":13.6}]
[null,"00:00:00",null,null,null,null,null,null,null,null,null,null,null,null,"1971-10-22",{"$f":"'[1]Report-full'!B258","v":96.94},{"$f":"'[1]Report-full'!C258","v":72.45},{"$f":"'[1]Report-full'!D258","v":12.65}]
[null,"00:00:00",null,null,null,null,null,null,null,null,null,null,null,null,"1971-10-29",{"$f":"'[1]Report-full'!B259","v":96.59},{"$f":"'[1]Report-full'!C259","v":66.42},{"$f":"'[1]Report-full'!D259","v":11.91}]
[null,"00:00:00",null,null,null,null,null,null,null,null,null,null,null,null,"1971-11-05",{"$f":"'[1]Report-full'!B260","v":96.43},{"$f":"'[1]Report-full'!C260","v":63.71},{"$f":"'[1]Report-full'!D260","v":11.06}]
[null,"00:00:00",null,null,null,null,null,null,null,null,null,null,null,null,"1971-11-12",{"$f":"'[1]Report-full'!B261","v":96.49},{"$f":"'[1]Report-full'!C261","v":64.72},{"$f":"'[1]Report-full'!D261","v":10.14}]
[null,"00:00:00",null,null,null,null,null,null,null,null,null,null,null,null,"1971-11-19",{"$f":"'[1]Report-full'!B262","v":95.95},{"$f":"'[1]Report-full'!C262","v":55.61},{"$f":"'[1]Report-full'!D262","v":9.2799999999999994}]
[null,"00:00:00",null,null,null,null,null,null,null,null,null,null,null,null,"1971-11-26",{"$f":"'[1]Report-full'!B263","v":96.32},{"$f":"'[1]Report-full'!C263","v":61.85},{"$f":"'[1]Report-full'!D263","v":8.81}]
[null,"00:00:00",null,null,null,null,null,null,null,null,null,null,null,null,"1971-12-03",{"$f":"'[1]Report-full'!B264","v":97.19},{"$f":"'[1]Report-full'!C264","v":76.72},{"$f":"'[1]Report-full'!D264","v":8.8800000000000008}]
[null,"00:00:00",null,null,null,null,null,null,null,null,null,null,null,null,"1971-12-10",{"$f":"'[1]Report-full'!B265","v":98.54},{"$f":"'[1]Report-full'!C265","v":99.77},{"$f":"'[1]Report-full'!D265","v":9.61}]
[null,"00:00:00",null,null,null,null,null,null,null,null,null,null,null,null,"1971-12-17",{"$f":"'[1]Report-full'!B266","v":99.11},{"$f":"'[1]Report-full'!C266","v":100},{"$f":"'[1]Report-full'!D266","v":10.91}]
[null,"00:00:00",null,null,null,null,null,null,null,null,null,null,null,null,"1971-12-24",{"$f":"'[1]Report-full'!B267","v":100.16},{"$f":"'[1]Report-full'!C267","v":100},{"$f":"'[1]Report-full'!D267","v":12.55}]
[null,"00:00:00",null,null,null,null,null,null,null,null,null,null,null,null,"1971-12-31",{"$f":"'[1]Report-full'!B268","v":101.12},{"$f":"'[1]Report-full'!C268","v":100},{"$f":"'[1]Report-full'!D268","v":14.23}]
[null,"00:00:00",null,null,null,null,null,null,null,null,null,null,null,null,"1972-01-07",{"$f":"'[1]Report-full'!B269","v":102.2},{"$f":"'[1]Report-full'!C269","v":100},{"$f":"'[1]Report-full'!D269","v":15.73}]
[null,"00:00:00",null,null,null,null,null,null,null,null,null,null,null,null,"1972-01-14",{"$f":"'[1]Report-full'!B270","v":103.73},{"$f":"'[1]Report-full'!C270","v":100},{"$f":"'[1]Report-full'!D270","v":17.75}]
[null,"00:00:00",null,null,null,null,null,null,null,null,null,null,null,null,"1972-01-21",{"$f":"'[1]Report-full'!B271","v":104.47},{"$f":"'[1]Report-full'!C271","v":100},{"$f":"'[1]Report-full'!D271","v":19.579999999999998}]
[null,"00:00:00",null,null,null,null,null,null,null,null,null,null,null,null,"1972-01-28",{"$f":"'[1]Report-full'!B272","v":104.81},{"$f":"'[1]Report-full'!C272","v":100},{"$f":"'[1]Report-full'!D272","v":21.05}]
[null,"00:00:00",null,null,null,null,null,null,null,null,null,null,null,null,"1972-02-04",{"$f":"'[1]Report-full'!B273","v":105.37},{"$f":"'[1]Report-full'!C273","v":100},{"$f":"'[1]Report-full'!D273","v":22.24}]
[null,"00:00:00",null,null,null,null,null,null,null,null,null,null,null,null,"1972-02-11",{"$f":"'[1]Report-full'!B274","v":105.84},{"$f":"'[1]Report-full'!C274","v":100},{"$f":"'[1]Report-full'!D274","v":22.85}]
[null,"00:00:00",null,null,null,null,null,null,null,null,null,null,null,null,"1972-02-18",{"$f":"'[1]Report-full'!B275","v":105.96},{"$f":"'[1]Report-full'!C275","v":100},{"$f":"'[1]Report-full'!D275","v":23.13}]
[null,"00:00:00",null,null,null,null,null,null,null,null,null,null,null,null,"1972-02-25",{"$f":"'[1]Report-full'!B276","v":105.92},{"$f":"'[1]Report-full'!C276","v":99.41},{"$f":"'[1]Report-full'!D276","v":23.21}]
[null,"00:00:00",null,null,null,null,null,null,null,null,null,null,null,null,"1972-03-03",{"$f":"'[1]Report-full'!B277","v":106.58},{"$f":"'[1]Report-full'!C277","v":100},{"$f":"'[1]Report-full'!D277","v":23.35}]
[null,"00:00:00",null,null,null,null,null,null,null,null,null,null,null,null,"1972-03-10",{"$f":"'[1]Report-full'!B278","v":107.29},{"$f":"'[1]Report-full'!C278","v":100},{"$f":"'[1]Report-full'!D278","v":23.61}]
[null,"00:00:00",null,null,null,null,null,null,null,null,null,null,null,null,"1972-03-17",{"$f":"'[1]Report-full'!B279","v":107.48},{"$f":"'[1]Report-full'!C279","v":100},{"$f":"'[1]Report-full'!D279","v":23.9}]
[null,"00:00:00",null,null,null,null,null,null,null,null,null,null,null,null,"1972-03-24",{"$f":"'[1]Report-full'!B280","v":107.43},{"$f":"'[1]Report-full'!C280","v":99.26},{"$f":"'[1]Report-full'!D280","v":24.18}]
[null,"00:00:00",null,null,null,null,null,null,null,null,null,null,null,null,"1972-03-31",{"$f":"'[1]Report-full'!B281","v":107.63},{"$f":"'[1]Report-full'!C281","v":100},{"$f":"'[1]Report-full'!D281","v":24.21}]
[null,"00:00:00",null,null,null,null,null,null,null,null,null,null,null,null,"1972-04-07",{"$f":"'[1]Report-full'!B282","v":108.09},{"$f":"'[1]Report-full'!C282","v":100},{"$f":"'[1]Report-full'!D282","v":24.09}]
[null,"00:00:00",null,null,null,null,null,null,null,null,null,null,null,null,"1972-04-14",{"$f":"'[1]Report-full'!B283","v":108.64},{"$f":"'[1]Report-full'!C283","v":100},{"$f":"'[1]Report-full'!D283","v":24.16}]
[null,"00:00:00",null,null,null,null,null,null,null,null,null,null,null,null,"1972-04-21",{"$f":"'[1]Report-full'!B284","v":108.77},{"$f":"'[1]Report-full'!C284","v":100},{"$f":"'[1]Report-full'!D284","v":24.31}]
[null,"00:00:00",null,null,null,null,null,null,null,null,null,null,null,null,"1972-04-28",{"$f":"'[1]Report-full'!B285","v":108.26},{"$f":"'[1]Report-full'!C285","v":92.18},{"$f":"'[1]Report-full'!D285","v":24.07}]
[null,"00:00:00",null,null,null,null,null,null,null,null,null,null,null,null,"1972-05-05",{"$f":"'[1]Report-full'!B286","v":108.04},{"$f":"'[1]Report-full'!C286","v":88.84},{"$f":"'[1]Report-full'!D286","v":23.47}]
[null,"00:00:00",null,null,null,null,null,null,null,null,null,null,null,null,"1972-05-12",{"$f":"'[1]Report-full'!B287","v":107.87},{"$f":"'[1]Report-full'!C287","v":86.19},{"$f":"'[1]Report-full'!D287","v":22.52}]
[null,"00:00:00",null,null,null,null,null,null,null,null,null,null,null,null,"1972-05-19",{"$f":"'[1]Report-full'!B288","v":107.88},{"$f":"'[1]Report-full'!C288","v":86.27},{"$f":"'[1]Report-full'!D288","v":21.54}]
[null,"00:00:00",null,null,null,null,null,null,null,null,null,null,null,null,"1972-05-26",{"$f":"'[1]Report-full'!B289","v":108.59},{"$f":"'[1]Report-full'!C289","v":97.29},{"$f":"'[1]Report-full'!D289","v":21.22}]
[null,"00:00:00",null,null,null,null,null,null,null,null,null,null,null,null,"1972-06-02",{"$f":"'[1]Report-full'!B290","v":109.62},{"$f":"'[1]Report-full'!C290","v":100},{"$f":"'[1]Report-full'!D290","v":21.56}]
[null,"00:00:00",null,null,null,null,null,null,null,null,null,null,null,null,"1972-06-09",{"$f":"'[1]Report-full'!B291","v":109.84},{"$f":"'[1]Report-full'!C291","v":100},{"$f":"'[1]Report-full'!D291","v":22.08}]
[null,"00:00:00",null,null,null,null,null,null,null,null,null,null,null,null,"1972-06-16",{"$f":"'[1]Report-full'!B292","v":109.89},{"$f":"'[1]Report-full'!C292","v":100},{"$f":"'[1]Report-full'!D292","v":22.6}]
[null,"00:00:00",null,null,null,null,null,null,null,null,null,null,null,null,"1972-06-23",{"$f":"'[1]Report-full'!B293","v":110.23},{"$f":"'[1]Report-full'!C293","v":100},{"$f":"'[1]Report-full'!D293","v":22.9}]
[null,"00:00:00",null,null,null,null,null,null,null,null,null,null,null,null,"1972-06-30",{"$f":"'[1]Report-full'!B294","v":110.51},{"$f":"'[1]Report-full'!C294","v":100},{"$f":"'[1]Report-full'!D294","v":22.78}]
[null,"00:00:00",null,null,null,null,null,null,null,null,null,null,null,null,"1972-07-07",{"$f":"'[1]Report-full'!B295","v":110.54},{"$f":"'[1]Report-full'!C295","v":100},{"$f":"'[1]Report-full'!D295","v":22.56}]
[null,"00:00:00",null,null,null,null,null,null,null,null,null,null,null,null,"1972-07-14",{"$f":"'[1]Report-full'!B296","v":110.51},{"$f":"'[1]Report-full'!C296","v":99.47},{"$f":"'[1]Report-full'!D296","v":22.29}]
[null,"00:00:00",null,null,null,null,null,null,null,null,null,null,null,null,"1972-07-21",{"$f":"'[1]Report-full'!B297","v":109.75},{"$f":"'[1]Report-full'!C297","v":87.99},{"$f":"'[1]Report-full'!D297","v":21.44}]
[null,"00:00:00",null,null,null,null,null,null,null,null,null,null,null,null,"1972-07-28",{"$f":"'[1]Report-full'!B298","v":110.41},{"$f":"'[1]Report-full'!C298","v":98.04},{"$f":"'[1]Report-full'!D298","v":20.81}]
[null,"00:00:00",null,null,null,null,null,null,null,null,null,null,null,null,"1972-08-04",{"$f":"'[1]Report-full'!B299","v":110.83},{"$f":"'[1]Report-full'!C299","v":100},{"$f":"'[1]Report-full'!D299","v":20.38}]
[null,"00:00:00",null,null,null,null,null,null,null,null,null,null,null,null,"1972-08-11",{"$f":"'[1]Report-full'!B300","v":111.72},{"$f":"'[1]Report-full'!C300","v":100},{"$f":"'[1]Report-full'!D300","v":20.420000000000002}]
[null,"00:00:00",null,null,null,null,null,null,null,null,null,null,null,null,"1972-08-18",{"$f":"'[1]Report-full'!B301","v":112.72},{"$f":"'[1]Report-full'!C301","v":100},{"$f":"'[1]Report-full'!D301","v":21.34}]
[null,"00:00:00",null,null,null,null,null,null,null,null,null,null,null,null,"1972-08-25",{"$f":"'[1]Report-full'!B302","v":113.41},{"$f":"'[1]Report-full'!C302","v":100},{"$f":"'[1]Report-full'!D302","v":22.24}]
[null,"00:00:00",null,null,null,null,null,null,null,null,null,null,null,null,"1972-09-01",{"$f":"'[1]Report-full'!B303","v":113.59},{"$f":"'[1]Report-full'!C303","v":100},{"$f":"'[1]Report-full'!D303","v":23}]
[null,"00:00:00",null,null,null,null,null,null,null,null,null,null,null,null,"1972-09-08",{"$f":"'[1]Report-full'!B304","v":113.96},{"$f":"'[1]Report-full'!C304","v":100},{"$f":"'[1]Report-full'!D304","v":23.47}]
[null,"00:00:00",null,null,null,null,null,null,null,null,null,null,null,null,"1972-09-15",{"$f":"'[1]Report-full'!B305","v":113.6},{"$f":"'[1]Report-full'!C305","v":94.82},{"$f":"'[1]Report-full'!D305","v":23.26}]
[null,"00:00:00",null,null,null,null,null,null,null,null,null,null,null,null,"1972-09-22",{"$f":"'[1]Report-full'!B306","v":113.66},{"$f":"'[1]Report-full'!C306","v":95.68},{"$f":"'[1]Report-full'!D306","v":22.74}]
[null,"00:00:00",null,null,null,null,null,null,null,null,null,null,null,null,"1972-09-29",{"$f":"'[1]Report-full'!B307","v":114.9},{"$f":"'[1]Report-full'!C307","v":100},{"$f":"'[1]Report-full'!D307","v":22.75}]
[null,"00:00:00",null,null,null,null,null,null,null,null,null,null,null,null,"1972-10-06",{"$f":"'[1]Report-full'!B308","v":116.1},{"$f":"'[1]Report-full'!C308","v":100},{"$f":"'[1]Report-full'!D308","v":23.16}]
[null,"00:00:00",null,null,null,null,null,null,null,null,null,null,null,null,"1972-10-13",{"$f":"'[1]Report-full'!B309","v":116.69},{"$f":"'[1]Report-full'!C309","v":100},{"$f":"'[1]Report-full'!D309","v":24}]
[null,"00:00:00",null,null,null,null,null,null,null,null,null,null,null,null,"1972-10-20",{"$f":"'[1]Report-full'!B310","v":116.57},{"$f":"'[1]Report-full'!C310","v":98.37},{"$f":"'[1]Report-full'!D310","v":24.72}]
[null,"00:00:00",null,null,null,null,null,null,null,null,null,null,null,null,"1972-10-27",{"$f":"'[1]Report-full'!B311","v":117.38},{"$f":"'[1]Report-full'!C311","v":100},{"$f":"'[1]Report-full'!D311","v":25.17}]
[null,"00:00:00",null,null,null,null,null,null,null,null,null,null,null,null,"1972-11-03",{"$f":"'[1]Report-full'!B312","v":118.18},{"$f":"'[1]Report-full'!C312","v":100},{"$f":"'[1]Report-full'!D312","v":25.39}]
[null,"00:00:00",null,null,null,null,null,null,null,null,null,null,null,null,"1972-11-10",{"$f":"'[1]Report-full'!B313","v":119.13},{"$f":"'[1]Report-full'!C313","v":100},{"$f":"'[1]Report-full'!D313","v":25.75}]
[null,"00:00:00",null,null,null,null,null,null,null,null,null,null,null,null,"1972-11-17",{"$f":"'[1]Report-full'!B314","v":119.66},{"$f":"'[1]Report-full'!C314","v":100},{"$f":"'[1]Report-full'!D314","v":26.4}]
[null,"00:00:00",null,null,null,null,null,null,null,null,null,null,null,null,"1972-11-24",{"$f":"'[1]Report-full'!B315","v":120.16},{"$f":"'[1]Report-full'!C315","v":100},{"$f":"'[1]Report-full'!D315","v":26.84}]
[null,"00:00:00",null,null,null,null,null,null,null,null,null,null,null,null,"1972-12-01",{"$f":"'[1]Report-full'!B316","v":121.48},{"$f":"'[1]Report-full'!C316","v":100},{"$f":"'[1]Report-full'!D316","v":27.51}]
[null,"00:00:00",null,null,null,null,null,null,null,null,null,null,null,null,"1972-12-08",{"$f":"'[1]Report-full'!B317","v":122.14},{"$f":"'[1]Report-full'!C317","v":100},{"$f":"'[1]Report-full'!D317","v":28.01}]
[null,"00:00:00",null,null,null,null,null,null,null,null,null,null,null,null,"1972-12-15",{"$f":"'[1]Report-full'!B318","v":123.45},{"$f":"'[1]Report-full'!C318","v":100},{"$f":"'[1]Report-full'!D318","v":28.88}]
[null,{"$f":"INT(C314-($H$4/2*7))","v":"00:00:00"},null,null,null,null,null,null,null,null,null,null,null,null,"1972-12-22",{"$f":"'[1]Report-full'!B319","v":123.59},{"$f":"'[1]Report-full'!C319","v":100},{"$f":"'[1]Report-full'!D319","v":29.56}]
[null,"00:00:00",null,null,null,null,null,null,null,null,null,null,null,null,"1972-12-29",{"$f":"'[1]Report-full'!B320","v":122.17},{"$f":"'[1]Report-full'!C320","v":80.8},{"$f":"'[1]Report-full'!D320","v":28.89}]
[null,"00:00:00",null,null,null,null,null,null,null,null,null,null,null,null,"1973-01-05",{"$f":"'[1]Report-full'!B321","v":122.53},{"$f":"'[1]Report-full'!C321","v":85.6},{"$f":"'[1]Report-full'!D321","v":28.12}]
[null,"00:00:00",null,null,null,null,null,null,null,null,null,null,null,null,"1973-01-12",{"$f":"'[1]Report-full'!B322","v":123.19},{"$f":"'[1]Report-full'!C322","v":94.6},{"$f":"'[1]Report-full'!D322","v":27.07}]
[null,"00:00:00",null,null,null,null,null,null,null,null,null,null,null,null,"1973-01-19",{"$f":"'[1]Report-full'!B323","v":123.57},{"$f":"'[1]Report-full'!C323","v":99.74},{"$f":"'[1]Report-full'!D323","v":26.2}]
[null,"00:00:00",null,null,null,null,null,null,null,null,null,null,null,null,"1973-01-26",{"$f":"'[1]Report-full'!B324","v":123.71},{"$f":"'[1]Report-full'!C324","v":100},{"$f":"'[1]Report-full'!D324","v":26.13}]
[null,"00:00:00",null,null,null,null,null,null,null,null,null,null,null,null,"1973-02-02",{"$f":"'[1]Report-full'!B325","v":123.88},{"$f":"'[1]Report-full'!C325","v":100},{"$f":"'[1]Report-full'!D325","v":26}]
[null,"00:00:00",null,null,null,null,null,null,null,null,null,null,null,null,"1973-02-09",{"$f":"'[1]Report-full'!B326","v":123.98},{"$f":"'[1]Report-full'!C326","v":100},{"$f":"'[1]Report-full'!D326","v":25.61}]
[null,"00:00:00",null,null,null,null,null,null,null,null,null,null,null,null,"1973-02-16",{"$f":"'[1]Report-full'!B327","v":124.49},{"$f":"'[1]Report-full'!C327","v":100},{"$f":"'[1]Report-full'!D327","v":25.31}]
[null,"00:00:00",null,null,null,null,null,null,null,null,null,null,null,null,"1973-02-23",{"$f":"'[1]Report-full'!B328","v":124.64},{"$f":"'[1]Report-full'!C328","v":100},{"$f":"'[1]Report-full'!D328","v":25.01}]
[null,"00:00:00",null,null,null,null,null,null,null,null,null,null,null,null,"1973-03-02",{"$f":"'[1]Report-full'!B329","v":124.25},{"$f":"'[1]Report-full'!C329","v":94.69},{"$f":"'[1]Report-full'!D329","v":24.45}]
[null,"00:00:00",null,null,null,null,null,null,null,null,null,null,null,null,"1973-03-09",{"$f":"'[1]Report-full'!B330","v":124.38},{"$f":"'[1]Report-full'!C330","v":96.53},{"$f":"'[1]Report-full'!D330","v":23.93}]
[null,"00:00:00",null,null,null,null,null,null,null,null,null,null,null,null,"1973-03-16",{"$f":"'[1]Report-full'!B331","v":125.02},{"$f":"'[1]Report-full'!C331","v":100},{"$f":"'[1]Report-full'!D331","v":23.47}]
[null,"00:00:00",null,null,null,null,null,null,null,null,null,null,null,null,"1973-03-23",{"$f":"'[1]Report-full'!B332","v":124.69},{"$f":"'[1]Report-full'!C332","v":95.51},{"$f":"'[1]Report-full'!D332","v":22.81}]
[null,"00:00:00",null,null,null,null,null,null,null,null,null,null,null,null,"1973-03-30",{"$f":"'[1]Report-full'!B333","v":123.56},{"$f":"'[1]Report-full'!C333","v":80.36},{"$f":"'[1]Report-full'!D333","v":21.83}]
[null,"00:00:00",null,null,null,null,null,null,null,null,null,null,null,null,"1973-04-06",{"$f":"'[1]Report-full'!B334","v":123.38},{"$f":"'[1]Report-full'!C334","v":77.989999999999995},{"$f":"'[1]Report-full'!D334","v":20.74}]
[null,"00:00:00",null,null,null,null,null,null,null,null,null,null,null,null,"1973-04-13",{"$f":"'[1]Report-full'!B335","v":123.56},{"$f":"'[1]Report-full'!C335","v":80.459999999999994},{"$f":"'[1]Report-full'!D335","v":19.47}]
[null,"00:00:00",null,null,null,null,null,null,null,null,null,null,null,null,"1973-04-20",{"$f":"'[1]Report-full'!B336","v":123.8},{"$f":"'[1]Report-full'!C336","v":83.55},{"$f":"'[1]Report-full'!D336","v":18.489999999999998}]
[null,"00:00:00",null,null,null,null,null,null,null,null,null,null,null,null,"1973-04-27",{"$f":"'[1]Report-full'!B337","v":123.66},{"$f":"'[1]Report-full'!C337","v":81.77},{"$f":"'[1]Report-full'!D337","v":17.98}]
[null,"00:00:00",null,null,null,null,null,null,null,null,null,null,null,null,"1973-05-04",{"$f":"'[1]Report-full'!B338","v":122.53},{"$f":"'[1]Report-full'!C338","v":66.59},{"$f":"'[1]Report-full'!D338","v":17.059999999999999}]
[null,"00:00:00",null,null,null,null,null,null,null,null,null,null,null,null,"1973-05-11",{"$f":"'[1]Report-full'!B339","v":123.31},{"$f":"'[1]Report-full'!C339","v":77.03},{"$f":"'[1]Report-full'!D339","v":16.41}]
[null,"00:00:00",null,null,null,null,null,null,null,null,null,null,null,null,"1973-05-18",{"$f":"'[1]Report-full'!B340","v":122.47},{"$f":"'[1]Report-full'!C340","v":65.680000000000007},{"$f":"'[1]Report-full'!D340","v":15.3}]
[null,"00:00:00",null,null,null,null,null,null,null,null,null,null,null,null,"1973-05-25",{"$f":"'[1]Report-full'!B341","v":121.47},{"$f":"'[1]Report-full'!C341","v":52.37},{"$f":"'[1]Report-full'!D341","v":13.83}]
[null,"00:00:00",null,null,null,null,null,null,null,null,null,null,null,null,"1973-06-01",{"$f":"'[1]Report-full'!B342","v":121.7},{"$f":"'[1]Report-full'!C342","v":55.36},{"$f":"'[1]Report-full'!D342","v":12.97}]
[null,"00:00:00",null,null,null,null,null,null,null,null,null,null,null,null,"1973-06-08",{"$f":"'[1]Report-full'!B343","v":120.45},{"$f":"'[1]Report-full'!C343","v":38.549999999999997},{"$f":"'[1]Report-full'!D343","v":11.29}]
[null,"00:00:00",null,null,null,null,null,null,null,null,null,null,null,null,"1973-06-15",{"$f":"'[1]Report-full'!B344","v":121},{"$f":"'[1]Report-full'!C344","v":45.97},{"$f":"'[1]Report-full'!D344","v":10.25}]
[null,"00:00:00",null,null,null,null,null,null,null,null,null,null,null,null,"1973-06-22",{"$f":"'[1]Report-full'!B345","v":120.25},{"$f":"'[1]Report-full'!C345","v":35.950000000000003},{"$f":"'[1]Report-full'!D345","v":9.35}]
[null,"00:00:00",null,null,null,null,null,null,null,null,null,null,null,null,"1973-06-29",{"$f":"'[1]Report-full'!B346","v":119.6},{"$f":"'[1]Report-full'!C346","v":27.14},{"$f":"'[1]Report-full'!D346","v":8.11}]
[null,"00:00:00",null,null,null,null,null,null,null,null,null,null,null,null,"1973-07-06",{"$f":"'[1]Report-full'!B347","v":119.42},{"$f":"'[1]Report-full'!C347","v":24.81},{"$f":"'[1]Report-full'!D347","v":7.36}]
[null,"00:00:00",null,null,null,null,null,null,null,null,null,null,null,null,"1973-07-13",{"$f":"'[1]Report-full'!B348","v":119.36},{"$f":"'[1]Report-full'!C348","v":23.99},{"$f":"'[1]Report-full'!D348","v":6.37}]
[null,"00:00:00",null,null,null,null,null,null,null,null,null,null,null,null,"1973-07-20",{"$f":"'[1]Report-full'!B349","v":119.69},{"$f":"'[1]Report-full'!C349","v":28.32},{"$f":"'[1]Report-full'!D349","v":5.85}]
[null,"00:00:00",null,null,null,null,null,null,null,null,null,null,null,null,"1973-07-27",{"$f":"'[1]Report-full'!B350","v":120.17},{"$f":"'[1]Report-full'!C350","v":34.82},{"$f":"'[1]Report-full'!D350","v":5.79}]
[null,"00:00:00",null,null,null,null,null,null,null,null,null,null,null,null,"1973-08-03",{"$f":"'[1]Report-full'!B351","v":120.43},{"$f":"'[1]Report-full'!C351","v":38.299999999999997},{"$f":"'[1]Report-full'!D351","v":5.91}]
[null,"00:00:00",null,null,null,null,null,null,null,null,null,null,null,null,"1973-08-10",{"$f":"'[1]Report-full'!B352","v":119.73},{"$f":"'[1]Report-full'!C352","v":28.89},{"$f":"'[1]Report-full'!D352","v":5.76}]
[null,"00:00:00",null,null,null,null,null,null,null,null,null,null,null,null,"1973-08-17",{"$f":"'[1]Report-full'!B353","v":118.65},{"$f":"'[1]Report-full'!C353","v":14.44},{"$f":"'[1]Report-full'!D353","v":5.05}]
[null,"00:00:00",null,null,null,null,null,null,null,null,null,null,null,null,"1973-08-24",{"$f":"'[1]Report-full'!B354","v":117.3},{"$f":"'[1]Report-full'!C354","v":-3.72},{"$f":"'[1]Report-full'!D354","v":3.63}]
[null,"00:00:00",null,null,null,null,null,null,null,null,null,null,null,null,"1973-08-31",{"$f":"'[1]Report-full'!B355","v":116.81},{"$f":"'[1]Report-full'!C355","v":-10.35},{"$f":"'[1]Report-full'!D355","v":1.97}]
[null,"00:00:00",null,null,null,null,null,null,null,null,null,null,null,null,"1973-09-07",{"$f":"'[1]Report-full'!B356","v":116.79},{"$f":"'[1]Report-full'!C356","v":-10.65},{"$f":"'[1]Report-full'!D356","v":0.65}]
[null,"00:00:00",null,null,null,null,null,null,null,null,null,null,null,null,"1973-09-14",{"$f":"'[1]Report-full'!B357","v":116.5},{"$f":"'[1]Report-full'!C357","v":-14.51},{"$f":"'[1]Report-full'!D357","v":-0.32}]
[null,"00:00:00",null,null,null,null,null,null,null,null,null,null,null,null,"1973-09-21",{"$f":"'[1]Report-full'!B358","v":116.31},{"$f":"'[1]Report-full'!C358","v":-16.98},{"$f":"'[1]Report-full'!D358","v":-0.8}]
[null,"00:00:00",null,null,null,null,null,null,null,null,null,null,null,null,"1973-09-28",{"$f":"'[1]Report-full'!B359","v":116.78},{"$f":"'[1]Report-full'!C359","v":-10.66},{"$f":"'[1]Report-full'!D359","v":-0.89}]
[null,"00:00:00",null,null,null,null,null,null,null,null,null,null,null,null,"1973-10-05",{"$f":"'[1]Report-full'!B360","v":116.91},{"$f":"'[1]Report-full'!C360","v":-8.93},{"$f":"'[1]Report-full'!D360","v":-0.92}]
[null,"00:00:00",null,null,null,null,null,null,null,null,null,null,null,null,"1973-10-12",{"$f":"'[1]Report-full'!B361","v":117.07},{"$f":"'[1]Report-full'!C361","v":-6.81},{"$f":"'[1]Report-full'!D361","v":-0.75}]
[null,"00:00:00",null,null,null,null,null,null,null,null,null,null,null,null,"1973-10-19",{"$f":"'[1]Report-full'!B362","v":117.24},{"$f":"'[1]Report-full'!C362","v":-4.58},{"$f":"'[1]Report-full'!D362","v":-0.43}]
[null,"00:00:00",null,null,null,null,null,null,null,null,null,null,null,null,"1973-10-26",{"$f":"'[1]Report-full'!B363","v":116.83},{"$f":"'[1]Report-full'!C363","v":-10},{"$f":"'[1]Report-full'!D363","v":-0.44}]
[null,"00:00:00",null,null,null,null,null,null,null,null,null,null,null,null,"1973-11-02",{"$f":"'[1]Report-full'!B364","v":116.81},{"$f":"'[1]Report-full'!C364","v":-10.28},{"$f":"'[1]Report-full'!D364","v":-0.49}]
[null,"00:00:00",null,null,null,null,null,null,null,null,null,null,null,null,"1973-11-09",{"$f":"'[1]Report-full'!B365","v":115.67},{"$f":"'[1]Report-full'!C365","v":-25.65},{"$f":"'[1]Report-full'!D365","v":-1.03}]
[null,"00:00:00",null,null,null,null,null,null,null,null,null,null,null,null,"1973-11-16",{"$f":"'[1]Report-full'!B366","v":115.08},{"$f":"'[1]Report-full'!C366","v":-33.56},{"$f":"'[1]Report-full'!D366","v":-1.84}]
[null,"00:00:00",null,null,null,null,null,null,null,null,null,null,null,null,"1973-11-23",{"$f":"'[1]Report-full'!B367","v":113.74},{"$f":"'[1]Report-full'!C367","v":-51.6},{"$f":"'[1]Report-full'!D367","v":-2.97}]
[null,"00:00:00",null,null,null,null,null,null,null,null,null,null,null,null,"1973-11-30",{"$f":"'[1]Report-full'!B368","v":112.65},{"$f":"'[1]Report-full'!C368","v":-66.28},{"$f":"'[1]Report-full'!D368","v":-4.47}]
[null,"00:00:00",null,null,null,null,null,null,null,null,null,null,null,null,"1973-12-07",{"$f":"'[1]Report-full'!B369","v":111.14},{"$f":"'[1]Report-full'!C369","v":-86.57},{"$f":"'[1]Report-full'!D369","v":-6.04}]
[null,"00:00:00",null,null,null,null,null,null,null,null,null,null,null,null,"1973-12-14",{"$f":"'[1]Report-full'!B370","v":111.65},{"$f":"'[1]Report-full'!C370","v":-79.72},{"$f":"'[1]Report-full'!D370","v":-7.14}]
[null,"00:00:00",null,null,null,null,null,null,null,null,null,null,null,null,"1973-12-21",{"$f":"'[1]Report-full'!B371","v":111.02},{"$f":"'[1]Report-full'!C371","v":-88.17},{"$f":"'[1]Report-full'!D371","v":-7.91}]
[null,"00:00:00",null,null,null,null,null,null,null,null,null,null,null,null,"1973-12-28",{"$f":"'[1]Report-full'!B372","v":110.27},{"$f":"'[1]Report-full'!C372","v":-98.18},{"$f":"'[1]Report-full'!D372","v":-8.51}]
[null,"00:00:00",null,null,null,null,null,null,null,null,null,null,null,null,"1974-01-04",{"$f":"'[1]Report-full'!B373","v":110.41},{"$f":"'[1]Report-full'!C373","v":-96.35},{"$f":"'[1]Report-full'!D373","v":-8.4700000000000006}]
[null,"00:00:00",null,null,null,null,null,null,null,null,null,null,null,null,"1974-01-11",{"$f":"'[1]Report-full'!B374","v":110.2},{"$f":"'[1]Report-full'!C374","v":-99.08},{"$f":"'[1]Report-full'!D374","v":-8.69}]
[null,"00:00:00",null,null,null,null,null,null,null,null,null,null,null,null,"1974-01-18",{"$f":"'[1]Report-full'!B375","v":108.24},{"$f":"'[1]Report-full'!C375","v":-125.55},{"$f":"'[1]Report-full'!D375","v":-9.41}]
[null,"00:00:00",null,null,null,null,null,null,null,null,null,null,null,null,"1974-01-25",{"$f":"'[1]Report-full'!B376","v":108.15},{"$f":"'[1]Report-full'!C376","v":-126.65},{"$f":"'[1]Report-full'!D376","v":-9.86}]
[null,"00:00:00",null,null,null,null,null,null,null,null,null,null,null,null,"1974-02-01",{"$f":"'[1]Report-full'!B377","v":107.22},{"$f":"'[1]Report-full'!C377","v":-139.13999999999999},{"$f":"'[1]Report-full'!D377","v":-10.69}]
[null,"00:00:00",null,null,null,null,null,null,null,null,null,null,null,null,"1974-02-08",{"$f":"'[1]Report-full'!B378","v":106.36},{"$f":"'[1]Report-full'!C378","v":-150.75},{"$f":"'[1]Report-full'!D378","v":-11.74}]
[null,"00:00:00",null,null,null,null,null,null,null,null,null,null,null,null,"1974-02-15",{"$f":"'[1]Report-full'!B379","v":105.34},{"$f":"'[1]Report-full'!C379","v":-164.41},{"$f":"'[1]Report-full'!D379","v":-12.4}]
[null,"00:00:00",null,null,null,null,null,null,null,null,null,null,null,null,"1974-02-22",{"$f":"'[1]Report-full'!B380","v":104.96},{"$f":"'[1]Report-full'!C380","v":-169.54},{"$f":"'[1]Report-full'!D380","v":-13.15}]
[null,"00:00:00",null,null,null,null,null,null,null,null,null,null,null,null,"1974-03-01",{"$f":"'[1]Report-full'!B381","v":105.25},{"$f":"'[1]Report-full'!C381","v":-165.69},{"$f":"'[1]Report-full'!D381","v":-13.42}]
[null,"00:00:00",null,null,null,null,null,null,null,null,null,null,null,null,"1974-03-08",{"$f":"'[1]Report-full'!B382","v":105.38},{"$f":"'[1]Report-full'!C382","v":-163.91},{"$f":"'[1]Report-full'!D382","v":-13.3}]
[null,{"$f":"INT(C378-($H$4/2*7))","v":"00:00:00"},null,null,null,null,null,null,null,null,null,null,null,null,"1974-03-15",{"$f":"'[1]Report-full'!B383","v":105.85},{"$f":"'[1]Report-full'!C383","v":-157.58000000000001},{"$f":"'[1]Report-full'!D383","v":-12.6}]
[null,"00:00:00",null,null,null,null,null,null,null,null,null,null,null,null,"1974-03-22",{"$f":"'[1]Report-full'!B384","v":105.59},{"$f":"'[1]Report-full'!C384","v":-161.13},{"$f":"'[1]Report-full'!D384","v":-11.86}]
[null,"00:00:00",null,null,null,null,null,null,null,null,null,null,null,null,"1974-03-29",{"$f":"'[1]Report-full'!B385","v":105.14},{"$f":"'[1]Report-full'!C385","v":-167.2},{"$f":"'[1]Report-full'!D385","v":-11.39}]
[null,"00:00:00",null,null,null,null,null,null,null,null,null,null,null,null,"1974-04-05",{"$f":"'[1]Report-full'!B386","v":104.06},{"$f":"'[1]Report-full'!C386","v":-181.67},{"$f":"'[1]Report-full'!D386","v":-11.39}]
[null,"00:00:00",null,null,null,null,null,null,null,null,null,null,null,null,"1974-04-12",{"$f":"'[1]Report-full'!B387","v":103.64},{"$f":"'[1]Report-full'!C387","v":-187.37},{"$f":"'[1]Report-full'!D387","v":-11.74}]
[null,"00:00:00",null,null,null,null,null,null,null,null,null,null,null,null,"1974-04-19",{"$f":"'[1]Report-full'!B388","v":103.5},{"$f":"'[1]Report-full'!C388","v":-189.15},{"$f":"'[1]Report-full'!D388","v":-12.03}]
[null,"00:00:00",null,null,null,null,null,null,null,null,null,null,null,null,"1974-04-26",{"$f":"'[1]Report-full'!B389","v":103.69},{"$f":"'[1]Report-full'!C389","v":-186.68},{"$f":"'[1]Report-full'!D389","v":-12.06}]
[null,"00:00:00",null,null,null,null,null,null,null,null,null,null,null,null,"1974-05-03",{"$f":"'[1]Report-full'!B390","v":103.09},{"$f":"'[1]Report-full'!C390","v":-194.72},{"$f":"'[1]Report-full'!D390","v":-11.9}]
[null,"00:00:00",null,null,null,null,null,null,null,null,null,null,null,null,"1974-05-10",{"$f":"'[1]Report-full'!B391","v":103.51},{"$f":"'[1]Report-full'!C391","v":-188.99},{"$f":"'[1]Report-full'!D391","v":-11.41}]
[null,"00:00:00",null,null,null,null,null,null,null,null,null,null,null,null,"1974-05-17",{"$f":"'[1]Report-full'!B392","v":103.48},{"$f":"'[1]Report-full'!C392","v":-189.52},{"$f":"'[1]Report-full'!D392","v":-10.87}]
[null,"00:00:00",null,null,null,null,null,null,null,null,null,null,null,null,"1974-05-24",{"$f":"'[1]Report-full'!B393","v":102.69},{"$f":"'[1]Report-full'!C393","v":-200.04},{"$f":"'[1]Report-full'!D393","v":-10.72}]
[null,"00:00:00",null,null,null,null,null,null,null,null,null,null,null,null,"1974-05-31",{"$f":"'[1]Report-full'!B394","v":102.2},{"$f":"'[1]Report-full'!C394","v":-206.6},{"$f":"'[1]Report-full'!D394","v":-10.54}]
[null,"00:00:00",null,null,null,null,null,null,null,null,null,null,null,null,"1974-06-07",{"$f":"'[1]Report-full'!B395","v":102.18},{"$f":"'[1]Report-full'!C395","v":-206.96},{"$f":"'[1]Report-full'!D395","v":-10.53}]
[null,"00:00:00",null,null,null,null,null,null,null,null,null,null,null,null,"1974-06-14",{"$f":"'[1]Report-full'!B396","v":102.9},{"$f":"'[1]Report-full'!C396","v":-197.26},{"$f":"'[1]Report-full'!D396","v":-10.23}]
[null,"00:00:00",null,null,null,null,null,null,null,null,null,null,null,null,"1974-06-21",{"$f":"'[1]Report-full'!B397","v":102.36},{"$f":"'[1]Report-full'!C397","v":-204.5},{"$f":"'[1]Report-full'!D397","v":-9.84}]
[null,"00:00:00",null,null,null,null,null,null,null,null,null,null,null,null,"1974-06-28",{"$f":"'[1]Report-full'!B398","v":101.82},{"$f":"'[1]Report-full'!C398","v":-211.83},{"$f":"'[1]Report-full'!D398","v":-9.4700000000000006}]
[null,"00:00:00",null,null,null,null,null,null,null,null,null,null,null,null,"1974-07-05",{"$f":"'[1]Report-full'!B399","v":101.25},{"$f":"'[1]Report-full'!C399","v":-219.43},{"$f":"'[1]Report-full'!D399","v":-9.33}]
[null,"00:00:00",null,null,null,null,null,null,null,null,null,null,null,null,"1974-07-12",{"$f":"'[1]Report-full'!B400","v":100.3},{"$f":"'[1]Report-full'!C400","v":-232.19},{"$f":"'[1]Report-full'!D400","v":-9.8699999999999992}]
[null,"00:00:00",null,null,null,null,null,null,null,null,null,null,null,null,"1974-07-19",{"$f":"'[1]Report-full'!B401","v":99.91},{"$f":"'[1]Report-full'!C401","v":-237.42},{"$f":"'[1]Report-full'!D401","v":-10.35}]
[null,"00:00:00",null,null,null,null,null,null,null,null,null,null,null,null,"1974-07-26",{"$f":"'[1]Report-full'!B402","v":100.29},{"$f":"'[1]Report-full'!C402","v":-232.34},{"$f":"'[1]Report-full'!D402","v":-10.43}]
[null,"00:00:00",null,null,null,null,null,null,null,null,null,null,null,null,"1974-08-02",{"$f":"'[1]Report-full'!B403","v":98.98},{"$f":"'[1]Report-full'!C403","v":-249.87},{"$f":"'[1]Report-full'!D403","v":-10.81}]
[null,"00:00:00",null,null,null,null,null,null,null,null,null,null,null,null,"1974-08-09",{"$f":"'[1]Report-full'!B404","v":98.15},{"$f":"'[1]Report-full'!C404","v":-261.13},{"$f":"'[1]Report-full'!D404","v":-11.12}]
[null,"00:00:00",null,null,null,null,null,null,null,null,null,null,null,null,"1974-08-16",{"$f":"'[1]Report-full'!B405","v":97.44},{"$f":"'[1]Report-full'!C405","v":-270.69},{"$f":"'[1]Report-full'!D405","v":-11.54}]
[null,"00:00:00",null,null,null,null,null,null,null,null,null,null,null,null,"1974-08-23",{"$f":"'[1]Report-full'!B406","v":95.59},{"$f":"'[1]Report-full'!C406","v":-295.47000000000003},{"$f":"'[1]Report-full'!D406","v":-12.86}]
[null,"00:00:00",null,null,null,null,null,null,null,null,null,null,null,null,"1974-08-30",{"$f":"'[1]Report-full'!B407","v":93.96},{"$f":"'[1]Report-full'!C407","v":-317.39},{"$f":"'[1]Report-full'!D407","v":-14.31}]
[null,"00:00:00",null,null,null,null,null,null,null,null,null,null,null,null,"1974-09-06",{"$f":"'[1]Report-full'!B408","v":93.24},{"$f":"'[1]Report-full'!C408","v":-327.12},{"$f":"'[1]Report-full'!D408","v":-15.69}]
[null,"00:00:00",null,null,null,null,null,null,null,null,null,null,null,null,"1974-09-13",{"$f":"'[1]Report-full'!B409","v":92.52},{"$f":"'[1]Report-full'!C409","v":-336.71},{"$f":"'[1]Report-full'!D409","v":-17.059999999999999}]
[null,"00:00:00",null,null,null,null,null,null,null,null,null,null,null,null,"1974-09-20",{"$f":"'[1]Report-full'!B410","v":90.86},{"$f":"'[1]Report-full'!C410","v":-359.05},{"$f":"'[1]Report-full'!D410","v":-18.34}]
[null,"00:00:00",null,null,null,null,null,null,null,null,null,null,null,null,"1974-09-27",{"$f":"'[1]Report-full'!B411","v":90.75},{"$f":"'[1]Report-full'!C411","v":-360.56},{"$f":"'[1]Report-full'!D411","v":-18.989999999999998}]
[null,"00:00:00",null,null,null,null,null,null,null,null,null,null,null,null,"1974-10-04",{"$f":"'[1]Report-full'!B412","v":88.78},{"$f":"'[1]Report-full'!C412","v":-386.97},{"$f":"'[1]Report-full'!D412","v":-20.12}]
[null,"00:00:00",null,null,null,null,null,null,null,null,null,null,null,null,"1974-10-11",{"$f":"'[1]Report-full'!B413","v":88.19},{"$f":"'[1]Report-full'!C413","v":-394.87},{"$f":"'[1]Report-full'!D413","v":-21.17}]
[null,"00:00:00",null,null,null,null,null,null,null,null,null,null,null,null,"1974-10-18",{"$f":"'[1]Report-full'!B414","v":89.86},{"$f":"'[1]Report-full'!C414","v":-372.46},{"$f":"'[1]Report-full'!D414","v":-20.85}]
[null,"00:00:00",null,null,null,null,null,null,null,null,null,null,null,null,"1974-10-25",{"$f":"'[1]Report-full'!B415","v":89.97},{"$f":"'[1]Report-full'!C415","v":-370.98},{"$f":"'[1]Report-full'!D415","v":-20.440000000000001}]
[null,"00:00:00",null,null,null,null,null,null,null,null,null,null,null,null,"1974-11-01",{"$f":"'[1]Report-full'!B416","v":89.01},{"$f":"'[1]Report-full'!C416","v":-383.92},{"$f":"'[1]Report-full'!D416","v":-19.600000000000001}]
[null,"00:00:00",null,null,null,null,null,null,null,null,null,null,null,null,"1974-11-08",{"$f":"'[1]Report-full'!B417","v":89.37},{"$f":"'[1]Report-full'!C417","v":-379.11},{"$f":"'[1]Report-full'!D417","v":-18.36}]
[null,"00:00:00",null,null,null,null,null,null,null,null,null,null,null,null,"1974-11-15",{"$f":"'[1]Report-full'!B418","v":88.86},{"$f":"'[1]Report-full'!C418","v":-385.99},{"$f":"'[1]Report-full'!D418","v":-18.02}]
[null,"00:00:00",null,null,null,null,null,null,null,null,null,null,null,null,"1974-11-22",{"$f":"'[1]Report-full'!B419","v":86.88},{"$f":"'[1]Report-full'!C419","v":-412.49},{"$f":"'[1]Report-full'!D419","v":-18.57}]
[null,"00:00:00",null,null,null,null,null,null,null,null,null,null,null,null,"1974-11-29",{"$f":"'[1]Report-full'!B420","v":84.86},{"$f":"'[1]Report-full'!C420","v":-439.75},{"$f":"'[1]Report-full'!D420","v":-19.559999999999999}]
[null,"00:00:00",null,null,null,null,null,null,null,null,null,null,null,null,"1974-12-06",{"$f":"'[1]Report-full'!B421","v":84.19},{"$f":"'[1]Report-full'!C421","v":-448.74},{"$f":"'[1]Report-full'!D421","v":-20.98}]
[null,"00:00:00",null,null,null,null,null,null,null,null,null,null,null,null,"1974-12-13",{"$f":"'[1]Report-full'!B422","v":81.83},{"$f":"'[1]Report-full'!C422","v":-480.48},{"$f":"'[1]Report-full'!D422","v":-23.16}]
[null,"00:00:00",null,null,null,null,null,null,null,null,null,null,null,null,"1974-12-20",{"$f":"'[1]Report-full'!B423","v":80.94},{"$f":"'[1]Report-full'!C423","v":-492.4},{"$f":"'[1]Report-full'!D423","v":-24.87}]
[null,"00:00:00",null,null,null,null,null,null,null,null,null,null,null,null,"1974-12-27",{"$f":"'[1]Report-full'!B424","v":79.86},{"$f":"'[1]Report-full'!C424","v":-506.88},{"$f":"'[1]Report-full'!D424","v":-26.17}]
[null,"00:00:00",null,null,null,null,null,null,null,null,null,null,null,null,"1975-01-03",{"$f":"'[1]Report-full'!B425","v":79.599999999999994},{"$f":"'[1]Report-full'!C425","v":-510.37},{"$f":"'[1]Report-full'!D425","v":-27.28}]
[null,"00:00:00",null,null,null,null,null,null,null,null,null,null,null,null,"1975-01-10",{"$f":"'[1]Report-full'!B426","v":79.64},{"$f":"'[1]Report-full'!C426","v":-509.8},{"$f":"'[1]Report-full'!D426","v":-27.4}]
[null,"00:00:00",null,null,null,null,null,null,null,null,null,null,null,null,"1975-01-17",{"$f":"'[1]Report-full'!B427","v":79.260000000000005},{"$f":"'[1]Report-full'!C427","v":-514.99},{"$f":"'[1]Report-full'!D427","v":-27.31}]
[null,"00:00:00",null,null,null,null,null,null,null,null,null,null,null,null,"1975-01-24",{"$f":"'[1]Report-full'!B428","v":78.680000000000007},{"$f":"'[1]Report-full'!C428","v":-522.67999999999995},{"$f":"'[1]Report-full'!D428","v":-27.01}]
[null,"00:00:00",null,null,null,null,null,null,null,null,null,null,null,null,"1975-01-31",{"$f":"'[1]Report-full'!B429","v":78.72},{"$f":"'[1]Report-full'!C429","v":-522.14},{"$f":"'[1]Report-full'!D429","v":-26.59}]
[null,"00:00:00",null,null,null,null,null,null,null,null,null,null,null,null,"1975-02-07",{"$f":"'[1]Report-full'!B430","v":78.92},{"$f":"'[1]Report-full'!C430","v":-519.57000000000005},{"$f":"'[1]Report-full'!D430","v":-26.12}]
[null,"00:00:00",null,null,null,null,null,null,null,null,null,null,null,null,"1975-02-14",{"$f":"'[1]Report-full'!B431","v":78.739999999999995},{"$f":"'[1]Report-full'!C431","v":-522},{"$f":"'[1]Report-full'!D431","v":-25.58}]
[null,"00:00:00",null,null,null,null,null,null,null,null,null,null,null,null,"1975-02-21",{"$f":"'[1]Report-full'!B432","v":78.77},{"$f":"'[1]Report-full'!C432","v":-521.52},{"$f":"'[1]Report-full'!D432","v":-24.77}]
[null,"00:00:00",null,null,null,null,null,null,null,null,null,null,null,null,"1975-02-28",{"$f":"'[1]Report-full'!B433","v":78.430000000000007},{"$f":"'[1]Report-full'!C433","v":-526.12},{"$f":"'[1]Report-full'!D433","v":-24.15}]
[null,"00:00:00",null,null,null,null,null,null,null,null,null,null,null,null,"1975-03-07",{"$f":"'[1]Report-full'!B434","v":78.239999999999995},{"$f":"'[1]Report-full'!C434","v":-528.71},{"$f":"'[1]Report-full'!D434","v":-23.7}]
[null,"00:00:00",null,null,null,null,null,null,null,null,null,null,null,null,"1975-03-14",{"$f":"'[1]Report-full'!B435","v":78.11},{"$f":"'[1]Report-full'!C435","v":-530.44000000000005},{"$f":"'[1]Report-full'!D435","v":-23.22}]
[null,"00:00:00",null,null,null,null,null,null,null,null,null,null,null,null,"1975-03-21",{"$f":"'[1]Report-full'!B436","v":77.72},{"$f":"'[1]Report-full'!C436","v":-535.59},{"$f":"'[1]Report-full'!D436","v":-22.91}]
[null,"00:00:00",null,null,null,null,null,null,null,null,null,null,null,null,"1975-03-28",{"$f":"'[1]Report-full'!B437","v":76.92},{"$f":"'[1]Report-full'!C437","v":-546.39},{"$f":"'[1]Report-full'!D437","v":-22.79}]
[null,"00:00:00",null,null,null,null,null,null,null,null,null,null,null,null,"1975-04-04",{"$f":"'[1]Report-full'!B438","v":76.760000000000005},{"$f":"'[1]Report-full'!C438","v":100},{"$f":"'[1]Report-full'!D438","v":-22.65}]
[null,"00:00:00",null,null,null,null,null,null,null,null,null,null,null,null,"1975-04-11",{"$f":"'[1]Report-full'!B439","v":75.88},{"$f":"'[1]Report-full'!C439","v":80.900000000000006},{"$f":"'[1]Report-full'!D439","v":-22.84}]
[null,"00:00:00",null,null,null,null,null,null,null,null,null,null,null,null,"1975-04-18",{"$f":"'[1]Report-full'!B440","v":76.260000000000005},{"$f":"'[1]Report-full'!C440","v":89},{"$f":"'[1]Report-full'!D440","v":-22.69}]
[null,"00:00:00",null,null,null,null,null,null,null,null,null,null,null,null,"1975-04-25",{"$f":"'[1]Report-full'!B441","v":76.39},{"$f":"'[1]Report-full'!C441","v":91.94},{"$f":"'[1]Report-full'!D441","v":-22.11}]
[null,"00:00:00",null,null,null,null,null,null,null,null,null,null,null,null,"1975-05-02",{"$f":"'[1]Report-full'!B442","v":76.569999999999993},{"$f":"'[1]Report-full'!C442","v":95.81},{"$f":"'[1]Report-full'!D442","v":-21.37}]
[null,"00:00:00",null,null,null,null,null,null,null,null,null,null,null,null,"1975-05-09",{"$f":"'[1]Report-full'!B443","v":77.209999999999994},{"$f":"'[1]Report-full'!C443","v":100},{"$f":"'[1]Report-full'!D443","v":-19.899999999999999}]
[null,"00:00:00",null,null,null,null,null,null,null,null,null,null,null,null,"1975-05-16",{"$f":"'[1]Report-full'!B444","v":77.47},{"$f":"'[1]Report-full'!C444","v":100},{"$f":"'[1]Report-full'!D444","v":-18.47}]
[null,"00:00:00",null,null,null,null,null,null,null,null,null,null,null,null,"1975-05-23",{"$f":"'[1]Report-full'!B445","v":77.33},{"$f":"'[1]Report-full'!C445","v":97.02},{"$f":"'[1]Report-full'!D445","v":-17.149999999999999}]
[null,"00:00:00",null,null,null,null,null,null,null,null,null,null,null,null,"1975-05-30",{"$f":"'[1]Report-full'!B446","v":77.83},{"$f":"'[1]Report-full'!C446","v":100},{"$f":"'[1]Report-full'!D446","v":-15.66}]
[null,{"$f":"INT(C442-($H$4/2*7))","v":"00:00:00"},null,null,null,null,null,null,null,null,null,null,null,null,"1975-06-06",{"$f":"'[1]Report-full'!B447","v":78.73},{"$f":"'[1]Report-full'!C447","v":100},{"$f":"'[1]Report-full'!D447","v":-14.03}]
[null,"00:00:00",null,null,null,null,null,null,null,null,null,null,null,null,"1975-06-13",{"$f":"'[1]Report-full'!B448","v":78.73},{"$f":"'[1]Report-full'!C448","v":99.88},{"$f":"'[1]Report-full'!D448","v":-12.52}]
[null,"00:00:00",null,null,null,null,null,null,null,null,null,null,null,null,"1975-06-20",{"$f":"'[1]Report-full'!B449","v":78.88},{"$f":"'[1]Report-full'!C449","v":100},{"$f":"'[1]Report-full'!D449","v":-10.85}]
[null,"00:00:00",null,null,null,null,null,null,null,null,null,null,null,null,"1975-06-27",{"$f":"'[1]Report-full'!B450","v":79.77},{"$f":"'[1]Report-full'!C450","v":100},{"$f":"'[1]Report-full'!D450","v":-8.9600000000000009}]
[null,"00:00:00",null,null,null,null,null,null,null,null,null,null,null,null,"1975-07-04",{"$f":"'[1]Report-full'!B451","v":80.53},{"$f":"'[1]Report-full'!C451","v":100},{"$f":"'[1]Report-full'!D451","v":-7.12}]
[null,"00:00:00",null,null,null,null,null,null,null,null,null,null,null,null,"1975-07-11",{"$f":"'[1]Report-full'!B452","v":81.28},{"$f":"'[1]Report-full'!C452","v":100},{"$f":"'[1]Report-full'!D452","v":-4.8499999999999996}]
[null,"00:00:00",null,null,null,null,null,null,null,null,null,null,null,null,"1975-07-18",{"$f":"'[1]Report-full'!B453","v":81.58},{"$f":"'[1]Report-full'!C453","v":100},{"$f":"'[1]Report-full'!D453","v":-2.5099999999999998}]
[null,"00:00:00",null,null,null,null,null,null,null,null,null,null,null,null,"1975-07-25",{"$f":"'[1]Report-full'!B454","v":81.489999999999995},{"$f":"'[1]Report-full'!C454","v":98.21},{"$f":"'[1]Report-full'!D454","v":-0.71}]
[null,"00:00:00",null,null,null,null,null,null,null,null,null,null,null,null,"1975-08-01",{"$f":"'[1]Report-full'!B455","v":80.489999999999995},{"$f":"'[1]Report-full'!C455","v":77.52},{"$f":"'[1]Report-full'!D455","v":7.0000000000000007E-2}]
[null,"00:00:00",null,null,null,null,null,null,null,null,null,null,null,null,"1975-08-08",{"$f":"'[1]Report-full'!B456","v":80.17},{"$f":"'[1]Report-full'!C456","v":71},{"$f":"'[1]Report-full'!D456","v":0.23}]
[null,"00:00:00",null,null,null,null,null,null,null,null,null,null,null,null,"1975-08-15",{"$f":"'[1]Report-full'!B457","v":80.19},{"$f":"'[1]Report-full'!C457","v":71.38},{"$f":"'[1]Report-full'!D457","v":0.23}]
[null,"00:00:00",null,null,null,null,null,null,null,null,null,null,null,null,"1975-08-22",{"$f":"'[1]Report-full'!B458","v":80.010000000000005},{"$f":"'[1]Report-full'!C458","v":67.56},{"$f":"'[1]Report-full'!D458","v":0.15}]
[null,"00:00:00",null,null,null,null,null,null,null,null,null,null,null,null,"1975-08-29",{"$f":"'[1]Report-full'!B459","v":80.099999999999994},{"$f":"'[1]Report-full'!C459","v":69.53},{"$f":"'[1]Report-full'!D459","v":0.67}]
[null,"00:00:00",null,null,null,null,null,null,null,null,null,null,null,null,"1975-09-05",{"$f":"'[1]Report-full'!B460","v":80.739999999999995},{"$f":"'[1]Report-full'!C460","v":82.68},{"$f":"'[1]Report-full'!D460","v":1.71}]
[null,"00:00:00",null,null,null,null,null,null,null,null,null,null,null,null,"1975-09-12",{"$f":"'[1]Report-full'!B461","v":80.989999999999995},{"$f":"'[1]Report-full'!C461","v":87.76},{"$f":"'[1]Report-full'!D461","v":2.83}]
[null,"00:00:00",null,null,null,null,null,null,null,null,null,null,null,null,"1975-09-19",{"$f":"'[1]Report-full'!B462","v":80.37},{"$f":"'[1]Report-full'!C462","v":75},{"$f":"'[1]Report-full'!D462","v":3.65}]
[null,"00:00:00",null,null,null,null,null,null,null,null,null,null,null,null,"1975-09-26",{"$f":"'[1]Report-full'!B463","v":80.959999999999994},{"$f":"'[1]Report-full'!C463","v":87.15},{"$f":"'[1]Report-full'!D463","v":4.71}]
[null,"00:00:00",null,null,null,null,null,null,null,null,null,null,null,null,"1975-10-03",{"$f":"'[1]Report-full'!B464","v":80.959999999999994},{"$f":"'[1]Report-full'!C464","v":87.17},{"$f":"'[1]Report-full'!D464","v":5.35}]
[null,"00:00:00",null,null,null,null,null,null,null,null,null,null,null,null,"1975-10-10",{"$f":"'[1]Report-full'!B465","v":81.44},{"$f":"'[1]Report-full'!C465","v":97.02},{"$f":"'[1]Report-full'!D465","v":6.08}]
[null,"00:00:00",null,null,null,null,null,null,null,null,null,null,null,null,"1975-10-17",{"$f":"'[1]Report-full'!B466","v":82.08},{"$f":"'[1]Report-full'!C466","v":100},{"$f":"'[1]Report-full'!D466","v":7.53}]
[null,"00:00:00",null,null,null,null,null,null,null,null,null,null,null,null,"1975-10-24",{"$f":"'[1]Report-full'!B467","v":82.82},{"$f":"'[1]Report-full'!C467","v":100},{"$f":"'[1]Report-full'!D467","v":9.06}]
[null,"00:00:00",null,null,null,null,null,null,null,null,null,null,null,null,"1975-10-31",{"$f":"'[1]Report-full'!B468","v":82.97},{"$f":"'[1]Report-full'!C468","v":100},{"$f":"'[1]Report-full'!D468","v":10.67}]
[null,"00:00:00",null,null,null,null,null,null,null,null,null,null,null,null,"1975-11-07",{"$f":"'[1]Report-full'!B469","v":82.86},{"$f":"'[1]Report-full'!C469","v":97.83},{"$f":"'[1]Report-full'!D469","v":11.91}]
[null,"00:00:00",null,null,null,null,null,null,null,null,null,null,null,null,"1975-11-14",{"$f":"'[1]Report-full'!B470","v":83.39},{"$f":"'[1]Report-full'!C470","v":100},{"$f":"'[1]Report-full'!D470","v":13.08}]
[null,"00:00:00",null,null,null,null,null,null,null,null,null,null,null,null,"1975-11-21",{"$f":"'[1]Report-full'!B471","v":83.96},{"$f":"'[1]Report-full'!C471","v":100},{"$f":"'[1]Report-full'!D471","v":14.12}]
[null,"00:00:00",null,null,null,null,null,null,null,null,null,null,null,null,"1975-11-28",{"$f":"'[1]Report-full'!B472","v":84.55},{"$f":"'[1]Report-full'!C472","v":100},{"$f":"'[1]Report-full'!D472","v":15.4}]
[null,"00:00:00",null,null,null,null,null,null,null,null,null,null,null,null,"1975-12-05",{"$f":"'[1]Report-full'!B473","v":85.4},{"$f":"'[1]Report-full'!C473","v":100},{"$f":"'[1]Report-full'!D473","v":17.23}]
[null,"00:00:00",null,null,null,null,null,null,null,null,null,null,null,null,"1975-12-12",{"$f":"'[1]Report-full'!B474","v":85.33},{"$f":"'[1]Report-full'!C474","v":98.71},{"$f":"'[1]Report-full'!D474","v":18.59}]
[null,"00:00:00",null,null,null,null,null,null,null,null,null,null,null,null,"1975-12-19",{"$f":"'[1]Report-full'!B475","v":85.94},{"$f":"'[1]Report-full'!C475","v":100},{"$f":"'[1]Report-full'!D475","v":19.87}]
[null,"00:00:00",null,null,null,null,null,null,null,null,null,null,null,null,"1975-12-26",{"$f":"'[1]Report-full'!B476","v":86.51},{"$f":"'[1]Report-full'!C476","v":100},{"$f":"'[1]Report-full'!D476","v":21.03}]
[null,"00:00:00",null,null,null,null,null,null,null,null,null,null,null,null,"1976-01-02",{"$f":"'[1]Report-full'!B477","v":87.83},{"$f":"'[1]Report-full'!C477","v":100},{"$f":"'[1]Report-full'!D477","v":22.41}]
[null,"00:00:00",null,null,null,null,null,null,null,null,null,null,null,null,"1976-01-09",{"$f":"'[1]Report-full'!B478","v":89.25},{"$f":"'[1]Report-full'!C478","v":100},{"$f":"'[1]Report-full'!D478","v":24.69}]
[null,"00:00:00",null,null,null,null,null,null,null,null,null,null,null,null,"1976-01-16",{"$f":"'[1]Report-full'!B479","v":90.1},{"$f":"'[1]Report-full'!C479","v":100},{"$f":"'[1]Report-full'!D479","v":27.06}]
[null,"00:00:00",null,null,null,null,null,null,null,null,null,null,null,null,"1976-01-23",{"$f":"'[1]Report-full'!B480","v":91.09},{"$f":"'[1]Report-full'!C480","v":100},{"$f":"'[1]Report-full'!D480","v":29.64}]
[null,"00:00:00",null,null,null,null,null,null,null,null,null,null,null,null,"1976-01-30",{"$f":"'[1]Report-full'!B481","v":91.69},{"$f":"'[1]Report-full'!C481","v":100},{"$f":"'[1]Report-full'!D481","v":31.65}]
[null,"00:00:00",null,null,null,null,null,null,null,null,null,null,null,null,"1976-02-06",{"$f":"'[1]Report-full'!B482","v":92.55},{"$f":"'[1]Report-full'!C482","v":100},{"$f":"'[1]Report-full'!D482","v":33.22}]
[null,"00:00:00",null,null,null,null,null,null,null,null,null,null,null,null,"1976-02-13",{"$f":"'[1]Report-full'!B483","v":93.06},{"$f":"'[1]Report-full'!C483","v":100},{"$f":"'[1]Report-full'!D483","v":34.51}]
[null,"00:00:00",null,null,null,null,null,null,null,null,null,null,null,null,"1976-02-20",{"$f":"'[1]Report-full'!B484","v":93.22},{"$f":"'[1]Report-full'!C484","v":100},{"$f":"'[1]Report-full'!D484","v":35.17}]
[null,"00:00:00",null,null,null,null,null,null,null,null,null,null,null,null,"1976-02-27",{"$f":"'[1]Report-full'!B485","v":93.35},{"$f":"'[1]Report-full'!C485","v":100},{"$f":"'[1]Report-full'!D485","v":35.47}]
[null,"00:00:00",null,null,null,null,null,null,null,null,null,null,null,null,"1976-03-05",{"$f":"'[1]Report-full'!B486","v":92.83},{"$f":"'[1]Report-full'!C486","v":90.61},{"$f":"'[1]Report-full'!D486","v":34.799999999999997}]
[null,"00:00:00",null,null,null,null,null,null,null,null,null,null,null,null,"1976-03-12",{"$f":"'[1]Report-full'!B487","v":92.92},{"$f":"'[1]Report-full'!C487","v":92.22},{"$f":"'[1]Report-full'!D487","v":33.85}]
[null,"00:00:00",null,null,null,null,null,null,null,null,null,null,null,null,"1976-03-19",{"$f":"'[1]Report-full'!B488","v":93.05},{"$f":"'[1]Report-full'!C488","v":94.55},{"$f":"'[1]Report-full'!D488","v":32.869999999999997}]
[null,"00:00:00",null,null,null,null,null,null,null,null,null,null,null,null,"1976-03-26",{"$f":"'[1]Report-full'!B489","v":93.22},{"$f":"'[1]Report-full'!C489","v":97.59},{"$f":"'[1]Report-full'!D489","v":31.92}]
[null,"00:00:00",null,null,null,null,null,null,null,null,null,null,null,null,"1976-04-02",{"$f":"'[1]Report-full'!B490","v":93.68},{"$f":"'[1]Report-full'!C490","v":100},{"$f":"'[1]Report-full'!D490","v":31.61}]
[null,"00:00:00",null,null,null,null,null,null,null,null,null,null,null,null,"1976-04-09",{"$f":"'[1]Report-full'!B491","v":94.06},{"$f":"'[1]Report-full'!C491","v":100},{"$f":"'[1]Report-full'!D491","v":31.46}]
[null,"00:00:00",null,null,null,null,null,null,null,null,null,null,null,null,"1976-04-16",{"$f":"'[1]Report-full'!B492","v":93.7},{"$f":"'[1]Report-full'!C492","v":93.49},{"$f":"'[1]Report-full'!D492","v":30.95}]
[null,"00:00:00",null,null,null,null,null,null,null,null,null,null,null,null,"1976-04-23",{"$f":"'[1]Report-full'!B493","v":94.02},{"$f":"'[1]Report-full'!C493","v":99.24},{"$f":"'[1]Report-full'!D493","v":30.51}]
[null,"00:00:00",null,null,null,null,null,null,null,null,null,null,null,null,"1976-04-30",{"$f":"'[1]Report-full'!B494","v":93.73},{"$f":"'[1]Report-full'!C494","v":94.08},{"$f":"'[1]Report-full'!D494","v":29.56}]
[null,"00:00:00",null,null,null,null,null,null,null,null,null,null,null,null,"1976-05-07",{"$f":"'[1]Report-full'!B495","v":93.27},{"$f":"'[1]Report-full'!C495","v":85.81},{"$f":"'[1]Report-full'!D495","v":28.08}]
[null,"00:00:00",null,null,null,null,null,null,null,null,null,null,null,null,"1976-05-14",{"$f":"'[1]Report-full'!B496","v":93.27},{"$f":"'[1]Report-full'!C496","v":85.83},{"$f":"'[1]Report-full'!D496","v":26.89}]
[null,"00:00:00",null,null,null,null,null,null,null,null,null,null,null,null,"1976-05-21",{"$f":"'[1]Report-full'!B497","v":92.98},{"$f":"'[1]Report-full'!C497","v":80.69},{"$f":"'[1]Report-full'!D497","v":25.35}]
[null,"00:00:00",null,null,null,null,null,null,null,null,null,null,null,null,"1976-05-28",{"$f":"'[1]Report-full'!B498","v":92.93},{"$f":"'[1]Report-full'!C498","v":79.78},{"$f":"'[1]Report-full'!D498","v":24}]
[null,"00:00:00",null,null,null,null,null,null,null,null,null,null,null,null,"1976-06-04",{"$f":"'[1]Report-full'!B499","v":92.9},{"$f":"'[1]Report-full'!C499","v":79.31},{"$f":"'[1]Report-full'!D499","v":22.96}]
[null,"00:00:00",null,null,null,null,null,null,null,null,null,null,null,null,"1976-06-11",{"$f":"'[1]Report-full'!B500","v":92.93},{"$f":"'[1]Report-full'!C500","v":79.86},{"$f":"'[1]Report-full'!D500","v":21.98}]
[null,"00:00:00",null,null,null,null,null,null,null,null,null,null,null,null,"1976-06-18",{"$f":"'[1]Report-full'!B501","v":93.29},{"$f":"'[1]Report-full'!C501","v":86.22},{"$f":"'[1]Report-full'!D501","v":21.42}]
[null,"00:00:00",null,null,null,null,null,null,null,null,null,null,null,null,"1976-06-25",{"$f":"'[1]Report-full'!B502","v":93.9},{"$f":"'[1]Report-full'!C502","v":97.08},{"$f":"'[1]Report-full'!D502","v":21.28}]
[null,"00:00:00",null,null,null,null,null,null,null,null,null,null,null,null,"1976-07-02",{"$f":"'[1]Report-full'!B503","v":93.53},{"$f":"'[1]Report-full'!C503","v":90.43},{"$f":"'[1]Report-full'!D503","v":20.95}]
[null,"00:00:00",null,null,null,null,null,null,null,null,null,null,null,null,"1976-07-09",{"$f":"'[1]Report-full'!B504","v":93.21},{"$f":"'[1]Report-full'!C504","v":84.84},{"$f":"'[1]Report-full'!D504","v":20.420000000000002}]
[null,"00:00:00",null,null,null,null,null,null,null,null,null,null,null,null,"1976-07-16",{"$f":"'[1]Report-full'!B505","v":93.63},{"$f":"'[1]Report-full'!C505","v":92.32},{"$f":"'[1]Report-full'!D505","v":19.97}]
[null,"00:00:00",null,null,null,null,null,null,null,null,null,null,null,null,"1976-07-23",{"$f":"'[1]Report-full'!B506","v":93.39},{"$f":"'[1]Report-full'!C506","v":87.97},{"$f":"'[1]Report-full'!D506","v":19.04}]
[null,"00:00:00",null,null,null,null,null,null,null,null,null,null,null,null,"1976-07-30",{"$f":"'[1]Report-full'!B507","v":93.51},{"$f":"'[1]Report-full'!C507","v":90.04},{"$f":"'[1]Report-full'!D507","v":18.440000000000001}]
[null,"00:00:00",null,null,null,null,null,null,null,null,null,null,null,null,"1976-08-06",{"$f":"'[1]Report-full'!B508","v":93.61},{"$f":"'[1]Report-full'!C508","v":91.88},{"$f":"'[1]Report-full'!D508","v":18.079999999999998}]
[null,"00:00:00",null,null,null,null,null,null,null,null,null,null,null,null,"1976-08-13",{"$f":"'[1]Report-full'!B509","v":93.9},{"$f":"'[1]Report-full'!C509","v":97.17},{"$f":"'[1]Report-full'!D509","v":17.64}]
[null,"00:00:00",null,null,null,null,null,null,null,null,null,null,null,null,"1976-08-20",{"$f":"'[1]Report-full'!B510","v":94.11},{"$f":"'[1]Report-full'!C510","v":100},{"$f":"'[1]Report-full'!D510","v":17.45}]
[null,{"$f":"INT(C506-($H$4/2*7))","v":"00:00:00"},null,null,null,null,null,null,null,null,null,null,null,null,"1976-08-27",{"$f":"'[1]Report-full'!B511","v":94.56},{"$f":"'[1]Report-full'!C511","v":100},{"$f":"'[1]Report-full'!D511","v":17.420000000000002}]
[null,"00:00:00",null,null,null,null,null,null,null,null,null,null,null,null,"1976-09-03",{"$f":"'[1]Report-full'!B512","v":95.09},{"$f":"'[1]Report-full'!C512","v":100},{"$f":"'[1]Report-full'!D512","v":17.62}]
[null,"00:00:00",null,null,null,null,null,null,null,null,null,null,null,null,"1976-09-10",{"$f":"'[1]Report-full'!B513","v":95.56},{"$f":"'[1]Report-full'!C513","v":100},{"$f":"'[1]Report-full'!D513","v":17.91}]
[null,"00:00:00",null,null,null,null,null,null,null,null,null,null,null,null,"1976-09-17",{"$f":"'[1]Report-full'!B514","v":95.95},{"$f":"'[1]Report-full'!C514","v":100},{"$f":"'[1]Report-full'!D514","v":18.29}]
[null,"00:00:00",null,null,null,null,null,null,null,null,null,null,null,null,"1976-09-24",{"$f":"'[1]Report-full'!B515","v":96.26},{"$f":"'[1]Report-full'!C515","v":100},{"$f":"'[1]Report-full'!D515","v":18.579999999999998}]
[null,"00:00:00",null,null,null,null,null,null,null,null,null,null,null,null,"1976-10-01",{"$f":"'[1]Report-full'!B516","v":95.97},{"$f":"'[1]Report-full'!C516","v":94.9},{"$f":"'[1]Report-full'!D516","v":18.39}]
[null,"00:00:00",null,null,null,null,null,null,null,null,null,null,null,null,"1976-10-08",{"$f":"'[1]Report-full'!B517","v":95.26},{"$f":"'[1]Report-full'!C517","v":82.53},{"$f":"'[1]Report-full'!D517","v":17.510000000000002}]
[null,"00:00:00",null,null,null,null,null,null,null,null,null,null,null,null,"1976-10-15",{"$f":"'[1]Report-full'!B518","v":94.84},{"$f":"'[1]Report-full'!C518","v":75.11},{"$f":"'[1]Report-full'!D518","v":16.2}]
[null,"00:00:00",null,null,null,null,null,null,null,null,null,null,null,null,"1976-10-22",{"$f":"'[1]Report-full'!B519","v":94.56},{"$f":"'[1]Report-full'!C519","v":70.28},{"$f":"'[1]Report-full'!D519","v":14.59}]
[null,"00:00:00",null,null,null,null,null,null,null,null,null,null,null,null,"1976-10-29",{"$f":"'[1]Report-full'!B520","v":95},{"$f":"'[1]Report-full'!C520","v":77.92},{"$f":"'[1]Report-full'!D520","v":13.45}]
[null,"00:00:00",null,null,null,null,null,null,null,null,null,null,null,null,"1976-11-05",{"$f":"'[1]Report-full'!B521","v":95.66},{"$f":"'[1]Report-full'!C521","v":89.37},{"$f":"'[1]Report-full'!D521","v":13.12}]
[null,"00:00:00",null,null,null,null,null,null,null,null,null,null,null,null,"1976-11-12",{"$f":"'[1]Report-full'!B522","v":95.37},{"$f":"'[1]Report-full'!C522","v":84.3},{"$f":"'[1]Report-full'!D522","v":12.86}]
[null,"00:00:00",null,null,null,null,null,null,null,null,null,null,null,null,"1976-11-19",{"$f":"'[1]Report-full'!B523","v":95.36},{"$f":"'[1]Report-full'!C523","v":84.23},{"$f":"'[1]Report-full'!D523","v":12.77}]
[null,"00:00:00",null,null,null,null,null,null,null,null,null,null,null,null,"1976-11-26",{"$f":"'[1]Report-full'!B524","v":96.19},{"$f":"'[1]Report-full'!C524","v":98.65},{"$f":"'[1]Report-full'!D524","v":12.9}]
[null,"00:00:00",null,null,null,null,null,null,null,null,null,null,null,null,"1976-12-03",{"$f":"'[1]Report-full'!B525","v":96.53},{"$f":"'[1]Report-full'!C525","v":100},{"$f":"'[1]Report-full'!D525","v":12.86}]
[null,"00:00:00",null,null,null,null,null,null,null,null,null,null,null,null,"1976-12-10",{"$f":"'[1]Report-full'!B526","v":97.11},{"$f":"'[1]Report-full'!C526","v":100},{"$f":"'[1]Report-full'!D526","v":13.31}]
[null,"00:00:00",null,null,null,null,null,null,null,null,null,null,null,null,"1976-12-17",{"$f":"'[1]Report-full'!B527","v":97.79},{"$f":"'[1]Report-full'!C527","v":100},{"$f":"'[1]Report-full'!D527","v":14.13}]
[null,"00:00:00",null,null,null,null,null,null,null,null,null,null,null,null,"1976-12-24",{"$f":"'[1]Report-full'!B528","v":97.96},{"$f":"'[1]Report-full'!C528","v":100},{"$f":"'[1]Report-full'!D528","v":14.59}]
[null,"00:00:00",null,null,null,null,null,null,null,null,null,null,null,null,"1976-12-31",{"$f":"'[1]Report-full'!B529","v":99.02},{"$f":"'[1]Report-full'!C529","v":100},{"$f":"'[1]Report-full'!D529","v":15.45}]
[null,"00:00:00",null,null,null,null,null,null,null,null,null,null,null,null,"1977-01-07",{"$f":"'[1]Report-full'!B530","v":99.9},{"$f":"'[1]Report-full'!C530","v":100},{"$f":"'[1]Report-full'!D530","v":16.46}]
[null,"00:00:00",null,null,null,null,null,null,null,null,null,null,null,null,"1977-01-14",{"$f":"'[1]Report-full'!B531","v":100.04},{"$f":"'[1]Report-full'!C531","v":100},{"$f":"'[1]Report-full'!D531","v":17.2}]
[null,"00:00:00",null,null,null,null,null,null,null,null,null,null,null,null,"1977-01-21",{"$f":"'[1]Report-full'!B532","v":100.34},{"$f":"'[1]Report-full'!C532","v":100},{"$f":"'[1]Report-full'!D532","v":18.03}]
[null,"00:00:00",null,null,null,null,null,null,null,null,null,null,null,null,"1977-01-28",{"$f":"'[1]Report-full'!B533","v":100.36},{"$f":"'[1]Report-full'!C533","v":100},{"$f":"'[1]Report-full'!D533","v":18.309999999999999}]
[null,"00:00:00",null,null,null,null,null,null,null,null,null,null,null,null,"1977-02-04",{"$f":"'[1]Report-full'!B534","v":100.31},{"$f":"'[1]Report-full'!C534","v":99.27},{"$f":"'[1]Report-full'!D534","v":18.100000000000001}]
[null,"00:00:00",null,null,null,null,null,null,null,null,null,null,null,null,"1977-02-11",{"$f":"'[1]Report-full'!B535","v":100.23},{"$f":"'[1]Report-full'!C535","v":97.85},{"$f":"'[1]Report-full'!D535","v":17.809999999999999}]
[null,"00:00:00",null,null,null,null,null,null,null,null,null,null,null,null,"1977-02-18",{"$f":"'[1]Report-full'!B536","v":99.79},{"$f":"'[1]Report-full'!C536","v":90.47},{"$f":"'[1]Report-full'!D536","v":17.14}]
[null,"00:00:00",null,null,null,null,null,null,null,null,null,null,null,null,"1977-02-25",{"$f":"'[1]Report-full'!B537","v":99.78},{"$f":"'[1]Report-full'!C537","v":90.36},{"$f":"'[1]Report-full'!D537","v":16.5}]
[null,"00:00:00",null,null,null,null,null,null,null,null,null,null,null,null,"1977-03-04",{"$f":"'[1]Report-full'!B538","v":100.52},{"$f":"'[1]Report-full'!C538","v":100},{"$f":"'[1]Report-full'!D538","v":16.3}]
[null,"00:00:00",null,null,null,null,null,null,null,null,null,null,null,null,"1977-03-11",{"$f":"'[1]Report-full'!B539","v":101.21},{"$f":"'[1]Report-full'!C539","v":100},{"$f":"'[1]Report-full'!D539","v":16.53}]
[null,"00:00:00",null,null,null,null,null,null,null,null,null,null,null,null,"1977-03-18",{"$f":"'[1]Report-full'!B540","v":101.97},{"$f":"'[1]Report-full'!C540","v":100},{"$f":"'[1]Report-full'!D540","v":17.39}]
[null,"00:00:00",null,null,null,null,null,null,null,null,null,null,null,null,"1977-03-25",{"$f":"'[1]Report-full'!B541","v":102.25},{"$f":"'[1]Report-full'!C541","v":100},{"$f":"'[1]Report-full'!D541","v":18.38}]
[null,"00:00:00",null,null,null,null,null,null,null,null,null,null,null,null,"1977-04-01",{"$f":"'[1]Report-full'!B542","v":102.04},{"$f":"'[1]Report-full'!C542","v":96.57},{"$f":"'[1]Report-full'!D542","v":18.829999999999998}]
[null,"00:00:00",null,null,null,null,null,null,null,null,null,null,null,null,"1977-04-08",{"$f":"'[1]Report-full'!B543","v":102.04},{"$f":"'[1]Report-full'!C543","v":96.64},{"$f":"'[1]Report-full'!D543","v":18.899999999999999}]
[null,"00:00:00",null,null,null,null,null,null,null,null,null,null,null,null,"1977-04-15",{"$f":"'[1]Report-full'!B544","v":102.62},{"$f":"'[1]Report-full'!C544","v":100},{"$f":"'[1]Report-full'!D544","v":18.87}]
[null,"00:00:00",null,null,null,null,null,null,null,null,null,null,null,null,"1977-04-22",{"$f":"'[1]Report-full'!B545","v":102.92},{"$f":"'[1]Report-full'!C545","v":100},{"$f":"'[1]Report-full'!D545","v":18.86}]
[null,"00:00:00",null,null,null,null,null,null,null,null,null,null,null,null,"1977-04-29",{"$f":"'[1]Report-full'!B546","v":102.92},{"$f":"'[1]Report-full'!C546","v":99.94},{"$f":"'[1]Report-full'!D546","v":18.96}]
[null,"00:00:00",null,null,null,null,null,null,null,null,null,null,null,null,"1977-05-06",{"$f":"'[1]Report-full'!B547","v":103.5},{"$f":"'[1]Report-full'!C547","v":100},{"$f":"'[1]Report-full'!D547","v":19.36}]
[null,"00:00:00",null,null,null,null,null,null,null,null,null,null,null,null,"1977-05-13",{"$f":"'[1]Report-full'!B548","v":104.08},{"$f":"'[1]Report-full'!C548","v":100},{"$f":"'[1]Report-full'!D548","v":19.73}]
[null,"00:00:00",null,null,null,null,null,null,null,null,null,null,null,null,"1977-05-20",{"$f":"'[1]Report-full'!B549","v":104.47},{"$f":"'[1]Report-full'!C549","v":100},{"$f":"'[1]Report-full'!D549","v":20.13}]
[null,"00:00:00",null,null,null,null,null,null,null,null,null,null,null,null,"1977-05-27",{"$f":"'[1]Report-full'!B550","v":103.91},{"$f":"'[1]Report-full'!C550","v":91.01},{"$f":"'[1]Report-full'!D550","v":20.2}]
[null,"00:00:00",null,null,null,null,null,null,null,null,null,null,null,null,"1977-06-03",{"$f":"'[1]Report-full'!B551","v":103.18},{"$f":"'[1]Report-full'!C551","v":79.239999999999995},{"$f":"'[1]Report-full'!D551","v":19.55}]
[null,"00:00:00",null,null,null,null,null,null,null,null,null,null,null,null,"1977-06-10",{"$f":"'[1]Report-full'!B552","v":103.48},{"$f":"'[1]Report-full'!C552","v":84.08},{"$f":"'[1]Report-full'!D552","v":18.760000000000002}]
[null,"00:00:00",null,null,null,null,null,null,null,null,null,null,null,null,"1977-06-17",{"$f":"'[1]Report-full'!B553","v":103.78},{"$f":"'[1]Report-full'!C553","v":88.86},{"$f":"'[1]Report-full'!D553","v":17.920000000000002}]
[null,"00:00:00",null,null,null,null,null,null,null,null,null,null,null,null,"1977-06-24",{"$f":"'[1]Report-full'!B554","v":104.36},{"$f":"'[1]Report-full'!C554","v":98.26},{"$f":"'[1]Report-full'!D554","v":17.7}]
[null,"00:00:00",null,null,null,null,null,null,null,null,null,null,null,null,"1977-07-01",{"$f":"'[1]Report-full'!B555","v":104.53},{"$f":"'[1]Report-full'!C555","v":100},{"$f":"'[1]Report-full'!D555","v":17.97}]
[null,"00:00:00",null,null,null,null,null,null,null,null,null,null,null,null,"1977-07-08",{"$f":"'[1]Report-full'!B556","v":104.47},{"$f":"'[1]Report-full'!C556","v":99.11},{"$f":"'[1]Report-full'!D556","v":18.03}]
[null,"00:00:00",null,null,null,null,null,null,null,null,null,null,null,null,"1977-07-15",{"$f":"'[1]Report-full'!B557","v":104.72},{"$f":"'[1]Report-full'!C557","v":100},{"$f":"'[1]Report-full'!D557","v":18.059999999999999}]
[null,"00:00:00",null,null,null,null,null,null,null,null,null,null,null,null,"1977-07-22",{"$f":"'[1]Report-full'!B558","v":105.27},{"$f":"'[1]Report-full'!C558","v":100},{"$f":"'[1]Report-full'!D558","v":18.07}]
[null,"00:00:00",null,null,null,null,null,null,null,null,null,null,null,null,"1977-07-29",{"$f":"'[1]Report-full'!B559","v":105.38},{"$f":"'[1]Report-full'!C559","v":100},{"$f":"'[1]Report-full'!D559","v":18.03}]
[null,"00:00:00",null,null,null,null,null,null,null,null,null,null,null,null,"1977-08-05",{"$f":"'[1]Report-full'!B560","v":105.02},{"$f":"'[1]Report-full'!C560","v":94.39},{"$f":"'[1]Report-full'!D560","v":17.829999999999998}]
[null,"00:00:00",null,null,null,null,null,null,null,null,null,null,null,null,"1977-08-12",{"$f":"'[1]Report-full'!B561","v":105.01},{"$f":"'[1]Report-full'!C561","v":94.19},{"$f":"'[1]Report-full'!D561","v":17.489999999999998}]
[null,"00:00:00",null,null,null,null,null,null,null,null,null,null,null,null,"1977-08-19",{"$f":"'[1]Report-full'!B562","v":104.91},{"$f":"'[1]Report-full'!C562","v":92.56},{"$f":"'[1]Report-full'!D562","v":16.82}]
[null,"00:00:00",null,null,null,null,null,null,null,null,null,null,null,null,"1977-08-26",{"$f":"'[1]Report-full'!B563","v":104.55},{"$f":"'[1]Report-full'!C563","v":86.9},{"$f":"'[1]Report-full'!D563","v":15.92}]
[null,"00:00:00",null,null,null,null,null,null,null,null,null,null,null,null,"1977-09-02",{"$f":"'[1]Report-full'!B564","v":104.14},{"$f":"'[1]Report-full'!C564","v":80.260000000000005},{"$f":"'[1]Report-full'!D564","v":15.02}]
[null,"00:00:00",null,null,null,null,null,null,null,null,null,null,null,null,"1977-09-09",{"$f":"'[1]Report-full'!B565","v":104.41},{"$f":"'[1]Report-full'!C565","v":84.58},{"$f":"'[1]Report-full'!D565","v":14.29}]
[null,"00:00:00",null,null,null,null,null,null,null,null,null,null,null,null,"1977-09-16",{"$f":"'[1]Report-full'!B566","v":104.34},{"$f":"'[1]Report-full'!C566","v":83.53},{"$f":"'[1]Report-full'!D566","v":13.62}]
[null,"00:00:00",null,null,null,null,null,null,null,null,null,null,null,null,"1977-09-23",{"$f":"'[1]Report-full'!B567","v":104.14},{"$f":"'[1]Report-full'!C567","v":80.3},{"$f":"'[1]Report-full'!D567","v":13.04}]
[null,"00:00:00",null,null,null,null,null,null,null,null,null,null,null,null,"1977-09-30",{"$f":"'[1]Report-full'!B568","v":104.44},{"$f":"'[1]Report-full'!C568","v":85.14},{"$f":"'[1]Report-full'!D568","v":12.85}]
[null,"00:00:00",null,null,null,null,null,null,null,null,null,null,null,null,"1977-10-07",{"$f":"'[1]Report-full'!B569","v":105.08},{"$f":"'[1]Report-full'!C569","v":95.21},{"$f":"'[1]Report-full'!D569","v":12.85}]
[null,"00:00:00",null,null,null,null,null,null,null,null,null,null,null,null,"1977-10-14",{"$f":"'[1]Report-full'!B570","v":105.3},{"$f":"'[1]Report-full'!C570","v":98.72},{"$f":"'[1]Report-full'!D570","v":12.99}]
[null,"00:00:00",null,null,null,null,null,null,null,null,null,null,null,null,"1977-10-21",{"$f":"'[1]Report-full'!B571","v":104.98},{"$f":"'[1]Report-full'!C571","v":93.72},{"$f":"'[1]Report-full'!D571","v":13.04}]
[null,"00:00:00",null,null,null,null,null,null,null,null,null,null,null,null,"1977-10-28",{"$f":"'[1]Report-full'!B572","v":104.98},{"$f":"'[1]Report-full'!C572","v":93.76},{"$f":"'[1]Report-full'!D572","v":12.92}]
[null,"00:00:00",null,null,null,null,null,null,null,null,null,null,null,null,"1977-11-04",{"$f":"'[1]Report-full'!B573","v":105.21},{"$f":"'[1]Report-full'!C573","v":97.43},{"$f":"'[1]Report-full'!D573","v":12.59}]
[null,"00:00:00",null,null,null,null,null,null,null,null,null,null,null,null,"1977-11-11",{"$f":"'[1]Report-full'!B574","v":105.38},{"$f":"'[1]Report-full'!C574","v":100},{"$f":"'[1]Report-full'!D574","v":12.23}]
[null,{"$f":"INT(C570-($H$4/2*7))","v":"00:00:00"},null,null,null,null,null,null,null,null,null,null,null,null,"1977-11-18",{"$f":"'[1]Report-full'!B575","v":106.61},{"$f":"'[1]Report-full'!C575","v":100},{"$f":"'[1]Report-full'!D575","v":12.64}]
[null,"00:00:00",null,null,null,null,null,null,null,null,null,null,null,null,"1977-11-25",{"$f":"'[1]Report-full'!B576","v":106.63},{"$f":"'[1]Report-full'!C576","v":100},{"$f":"'[1]Report-full'!D576","v":13.06}]
[null,"00:00:00",null,null,null,null,null,null,null,null,null,null,null,null,"1977-12-02",{"$f":"'[1]Report-full'!B577","v":106.91},{"$f":"'[1]Report-full'!C577","v":100},{"$f":"'[1]Report-full'!D577","v":13.49}]
[null,"00:00:00",null,null,null,null,null,null,null,null,null,null,null,null,"1977-12-09",{"$f":"'[1]Report-full'!B578","v":106.09},{"$f":"'[1]Report-full'!C578","v":87.16},{"$f":"'[1]Report-full'!D578","v":13.43}]
[null,"00:00:00",null,null,null,null,null,null,null,null,null,null,null,null,"1977-12-16",{"$f":"'[1]Report-full'!B579","v":106.5},{"$f":"'[1]Report-full'!C579","v":93.6},{"$f":"'[1]Report-full'!D579","v":12.97}]
[null,"00:00:00",null,null,null,null,null,null,null,null,null,null,null,null,"1977-12-23",{"$f":"'[1]Report-full'!B580","v":106.5},{"$f":"'[1]Report-full'!C580","v":93.52},{"$f":"'[1]Report-full'!D580","v":12.53}]
[null,"00:00:00",null,null,null,null,null,null,null,null,null,null,null,null,"1977-12-30",{"$f":"'[1]Report-full'!B581","v":106.95},{"$f":"'[1]Report-full'!C581","v":100},{"$f":"'[1]Report-full'!D581","v":12.19}]
[null,"00:00:00",null,null,null,null,null,null,null,null,null,null,null,null,"1978-01-06",{"$f":"'[1]Report-full'!B582","v":107.39},{"$f":"'[1]Report-full'!C582","v":100},{"$f":"'[1]Report-full'!D582","v":12.49}]
[null,"00:00:00",null,null,null,null,null,null,null,null,null,null,null,null,"1978-01-13",{"$f":"'[1]Report-full'!B583","v":106.85},{"$f":"'[1]Report-full'!C583","v":91.62},{"$f":"'[1]Report-full'!D583","v":12.35}]
[null,"00:00:00",null,null,null,null,null,null,null,null,null,null,null,null,"1978-01-20",{"$f":"'[1]Report-full'!B584","v":106.67},{"$f":"'[1]Report-full'!C584","v":88.8},{"$f":"'[1]Report-full'!D584","v":12.14}]
[null,"00:00:00",null,null,null,null,null,null,null,null,null,null,null,null,"1978-01-27",{"$f":"'[1]Report-full'!B585","v":106.88},{"$f":"'[1]Report-full'!C585","v":92.05},{"$f":"'[1]Report-full'!D585","v":11.83}]
[null,"00:00:00",null,null,null,null,null,null,null,null,null,null,null,null,"1978-02-03",{"$f":"'[1]Report-full'!B586","v":106.39},{"$f":"'[1]Report-full'!C586","v":84.34},{"$f":"'[1]Report-full'!D586","v":11.08}]
[null,"00:00:00",null,null,null,null,null,null,null,null,null,null,null,null,"1978-02-10",{"$f":"'[1]Report-full'!B587","v":106.24},{"$f":"'[1]Report-full'!C587","v":82.01},{"$f":"'[1]Report-full'!D587","v":10.54}]
[null,"00:00:00",null,null,null,null,null,null,null,null,null,null,null,null,"1978-02-17",{"$f":"'[1]Report-full'!B588","v":106.46},{"$f":"'[1]Report-full'!C588","v":85.43},{"$f":"'[1]Report-full'!D588","v":10.199999999999999}]
[null,"00:00:00",null,null,null,null,null,null,null,null,null,null,null,null,"1978-02-24",{"$f":"'[1]Report-full'!B589","v":105.18},{"$f":"'[1]Report-full'!C589","v":65.400000000000006},{"$f":"'[1]Report-full'!D589","v":9.15}]
[null,"00:00:00",null,null,null,null,null,null,null,null,null,null,null,null,"1978-03-03",{"$f":"'[1]Report-full'!B590","v":104.82},{"$f":"'[1]Report-full'!C590","v":59.75},{"$f":"'[1]Report-full'!D590","v":8.18}]
[null,"00:00:00",null,null,null,null,null,null,null,null,null,null,null,null,"1978-03-10",{"$f":"'[1]Report-full'!B591","v":104.49},{"$f":"'[1]Report-full'!C591","v":54.72},{"$f":"'[1]Report-full'!D591","v":7.15}]
[null,"00:00:00",null,null,null,null,null,null,null,null,null,null,null,null,"1978-03-17",{"$f":"'[1]Report-full'!B592","v":105.04},{"$f":"'[1]Report-full'!C592","v":63.24},{"$f":"'[1]Report-full'!D592","v":6.31}]
[null,"00:00:00",null,null,null,null,null,null,null,null,null,null,null,null,"1978-03-24",{"$f":"'[1]Report-full'!B593","v":105.44},{"$f":"'[1]Report-full'!C593","v":69.540000000000006},{"$f":"'[1]Report-full'!D593","v":6.28}]
[null,"00:00:00",null,null,null,null,null,null,null,null,null,null,null,null,"1978-03-31",{"$f":"'[1]Report-full'!B594","v":105.37},{"$f":"'[1]Report-full'!C594","v":68.349999999999994},{"$f":"'[1]Report-full'!D594","v":6.42}]
[null,"00:00:00",null,null,null,null,null,null,null,null,null,null,null,null,"1978-04-07",{"$f":"'[1]Report-full'!B595","v":105.27},{"$f":"'[1]Report-full'!C595","v":66.87},{"$f":"'[1]Report-full'!D595","v":6.66}]
[null,"00:00:00",null,null,null,null,null,null,null,null,null,null,null,null,"1978-04-14",{"$f":"'[1]Report-full'!B596","v":105.84},{"$f":"'[1]Report-full'!C596","v":75.739999999999995},{"$f":"'[1]Report-full'!D596","v":6.92}]
[null,"00:00:00",null,null,null,null,null,null,null,null,null,null,null,null,"1978-04-21",{"$f":"'[1]Report-full'!B597","v":107.07},{"$f":"'[1]Report-full'!C597","v":95.08},{"$f":"'[1]Report-full'!D597","v":7.57}]
[null,"00:00:00",null,null,null,null,null,null,null,null,null,null,null,null,"1978-04-28",{"$f":"'[1]Report-full'!B598","v":108.62},{"$f":"'[1]Report-full'!C598","v":100},{"$f":"'[1]Report-full'!D598","v":8.98}]
[null,"00:00:00",null,null,null,null,null,null,null,null,null,null,null,null,"1978-05-05",{"$f":"'[1]Report-full'!B599","v":109.7},{"$f":"'[1]Report-full'!C599","v":100},{"$f":"'[1]Report-full'!D599","v":10.94}]
[null,"00:00:00",null,null,null,null,null,null,null,null,null,null,null,null,"1978-05-12",{"$f":"'[1]Report-full'!B600","v":110.33},{"$f":"'[1]Report-full'!C600","v":100},{"$f":"'[1]Report-full'!D600","v":12.91}]
[null,"00:00:00",null,null,null,null,null,null,null,null,null,null,null,null,"1978-05-19",{"$f":"'[1]Report-full'!B601","v":111.51},{"$f":"'[1]Report-full'!C601","v":100},{"$f":"'[1]Report-full'!D601","v":14.83}]
[null,"00:00:00",null,null,null,null,null,null,null,null,null,null,null,null,"1978-05-26",{"$f":"'[1]Report-full'!B602","v":111.82},{"$f":"'[1]Report-full'!C602","v":100},{"$f":"'[1]Report-full'!D602","v":16.14}]
[null,"00:00:00",null,null,null,null,null,null,null,null,null,null,null,null,"1978-06-02",{"$f":"'[1]Report-full'!B603","v":112.05},{"$f":"'[1]Report-full'!C603","v":100},{"$f":"'[1]Report-full'!D603","v":17.02}]
[null,"00:00:00",null,null,null,null,null,null,null,null,null,null,null,null,"1978-06-09",{"$f":"'[1]Report-full'!B604","v":113.29},{"$f":"'[1]Report-full'!C604","v":100},{"$f":"'[1]Report-full'!D604","v":18.170000000000002}]
[null,"00:00:00",null,null,null,null,null,null,null,null,null,null,null,null,"1978-06-16",{"$f":"'[1]Report-full'!B605","v":113.76},{"$f":"'[1]Report-full'!C605","v":100},{"$f":"'[1]Report-full'!D605","v":18.940000000000001}]
[null,"00:00:00",null,null,null,null,null,null,null,null,null,null,null,null,"1978-06-23",{"$f":"'[1]Report-full'!B606","v":113.43},{"$f":"'[1]Report-full'!C606","v":95.14},{"$f":"'[1]Report-full'!D606","v":19.36}]
[null,"00:00:00",null,null,null,null,null,null,null,null,null,null,null,null,"1978-06-30",{"$f":"'[1]Report-full'!B607","v":112.87},{"$f":"'[1]Report-full'!C607","v":86.87},{"$f":"'[1]Report-full'!D607","v":19.39}]
[null,"00:00:00",null,null,null,null,null,null,null,null,null,null,null,null,"1978-07-07",{"$f":"'[1]Report-full'!B608","v":112.58},{"$f":"'[1]Report-full'!C608","v":82.52},{"$f":"'[1]Report-full'!D608","v":18.670000000000002}]
[null,"00:00:00",null,null,null,null,null,null,null,null,null,null,null,null,"1978-07-14",{"$f":"'[1]Report-full'!B609","v":112.79},{"$f":"'[1]Report-full'!C609","v":85.67},{"$f":"'[1]Report-full'!D609","v":17.84}]
[null,"00:00:00",null,null,null,null,null,null,null,null,null,null,null,null,"1978-07-21",{"$f":"'[1]Report-full'!B610","v":112.89},{"$f":"'[1]Report-full'!C610","v":87.19},{"$f":"'[1]Report-full'!D610","v":17.25}]
[null,"00:00:00",null,null,null,null,null,null,null,null,null,null,null,null,"1978-07-28",{"$f":"'[1]Report-full'!B611","v":113.02},{"$f":"'[1]Report-full'!C611","v":89.08},{"$f":"'[1]Report-full'!D611","v":17}]
[null,"00:00:00",null,null,null,null,null,null,null,null,null,null,null,null,"1978-08-04",{"$f":"'[1]Report-full'!B612","v":113.67},{"$f":"'[1]Report-full'!C612","v":98.67},{"$f":"'[1]Report-full'!D612","v":17.22}]
[null,"00:00:00",null,null,null,null,null,null,null,null,null,null,null,null,"1978-08-11",{"$f":"'[1]Report-full'!B613","v":114.48},{"$f":"'[1]Report-full'!C613","v":100},{"$f":"'[1]Report-full'!D613","v":17.73}]
[null,"00:00:00",null,null,null,null,null,null,null,null,null,null,null,null,"1978-08-18",{"$f":"'[1]Report-full'!B614","v":114.27},{"$f":"'[1]Report-full'!C614","v":96.83},{"$f":"'[1]Report-full'!D614","v":18.059999999999999}]
[null,"00:00:00",null,null,null,null,null,null,null,null,null,null,null,null,"1978-08-25",{"$f":"'[1]Report-full'!B615","v":114.08},{"$f":"'[1]Report-full'!C615","v":94.13},{"$f":"'[1]Report-full'!D615","v":18.23}]
[null,"00:00:00",null,null,null,null,null,null,null,null,null,null,null,null,"1978-09-01",{"$f":"'[1]Report-full'!B616","v":113.51},{"$f":"'[1]Report-full'!C616","v":85.77},{"$f":"'[1]Report-full'!D616","v":17.79}]
[null,"00:00:00",null,null,null,null,null,null,null,null,null,null,null,null,"1978-09-08",{"$f":"'[1]Report-full'!B617","v":113.36},{"$f":"'[1]Report-full'!C617","v":83.6},{"$f":"'[1]Report-full'!D617","v":16.88}]
[null,"00:00:00",null,null,null,null,null,null,null,null,null,null,null,null,"1978-09-15",{"$f":"'[1]Report-full'!B618","v":114.16},{"$f":"'[1]Report-full'!C618","v":95.35},{"$f":"'[1]Report-full'!D618","v":16.48}]
[null,"00:00:00",null,null,null,null,null,null,null,null,null,null,null,null,"1978-09-22",{"$f":"'[1]Report-full'!B619","v":113.82},{"$f":"'[1]Report-full'!C619","v":90.27},{"$f":"'[1]Report-full'!D619","v":15.99}]
[null,"00:00:00",null,null,null,null,null,null,null,null,null,null,null,null,"1978-09-29",{"$f":"'[1]Report-full'!B620","v":113.33},{"$f":"'[1]Report-full'!C620","v":83.16},{"$f":"'[1]Report-full'!D620","v":15.54}]
[null,"00:00:00",null,null,null,null,null,null,null,null,null,null,null,null,"1978-10-06",{"$f":"'[1]Report-full'!B621","v":113.49},{"$f":"'[1]Report-full'!C621","v":85.47},{"$f":"'[1]Report-full'!D621","v":15.25}]
[null,"00:00:00",null,null,null,null,null,null,null,null,null,null,null,null,"1978-10-13",{"$f":"'[1]Report-full'!B622","v":114.15},{"$f":"'[1]Report-full'!C622","v":95.15},{"$f":"'[1]Report-full'!D622","v":14.89}]
[null,"00:00:00",null,null,null,null,null,null,null,null,null,null,null,null,"1978-10-20",{"$f":"'[1]Report-full'!B623","v":113.89},{"$f":"'[1]Report-full'!C623","v":91.33},{"$f":"'[1]Report-full'!D623","v":14.59}]
[null,"00:00:00",null,null,null,null,null,null,null,null,null,null,null,null,"1978-10-27",{"$f":"'[1]Report-full'!B624","v":112.76},{"$f":"'[1]Report-full'!C624","v":74.72},{"$f":"'[1]Report-full'!D624","v":13.99}]
[null,"00:00:00",null,null,null,null,null,null,null,null,null,null,null,null,"1978-11-03",{"$f":"'[1]Report-full'!B625","v":112.29},{"$f":"'[1]Report-full'!C625","v":67.819999999999993},{"$f":"'[1]Report-full'!D625","v":13.12}]
[null,"00:00:00",null,null,null,null,null,null,null,null,null,null,null,null,"1978-11-10",{"$f":"'[1]Report-full'!B626","v":112.43},{"$f":"'[1]Report-full'!C626","v":69.91},{"$f":"'[1]Report-full'!D626","v":12.02}]
[null,"00:00:00",null,null,null,null,null,null,null,null,null,null,null,null,"1978-11-17",{"$f":"'[1]Report-full'!B627","v":112.29},{"$f":"'[1]Report-full'!C627","v":67.83},{"$f":"'[1]Report-full'!D627","v":11.01}]
[null,"00:00:00",null,null,null,null,null,null,null,null,null,null,null,null,"1978-11-24",{"$f":"'[1]Report-full'!B628","v":112.65},{"$f":"'[1]Report-full'!C628","v":73.13},{"$f":"'[1]Report-full'!D628","v":10.71}]
[null,"00:00:00",null,null,null,null,null,null,null,null,null,null,null,null,"1978-12-01",{"$f":"'[1]Report-full'!B629","v":113.44},{"$f":"'[1]Report-full'!C629","v":84.66},{"$f":"'[1]Report-full'!D629","v":11}]
[null,"00:00:00",null,null,null,null,null,null,null,null,null,null,null,null,"1978-12-08",{"$f":"'[1]Report-full'!B630","v":112.94},{"$f":"'[1]Report-full'!C630","v":77.44},{"$f":"'[1]Report-full'!D630","v":11.01}]
[null,"00:00:00",null,null,null,null,null,null,null,null,null,null,null,null,"1978-12-15",{"$f":"'[1]Report-full'!B631","v":113.41},{"$f":"'[1]Report-full'!C631","v":84.29},{"$f":"'[1]Report-full'!D631","v":11.3}]
[null,"00:00:00",null,null,null,null,null,null,null,null,null,null,null,null,"1978-12-22",{"$f":"'[1]Report-full'!B632","v":112.78},{"$f":"'[1]Report-full'!C632","v":74.98},{"$f":"'[1]Report-full'!D632","v":11.12}]
[null,"00:00:00",null,null,null,null,null,null,null,null,null,null,null,null,"1978-12-29",{"$f":"'[1]Report-full'!B633","v":112.42},{"$f":"'[1]Report-full'!C633","v":69.77},{"$f":"'[1]Report-full'!D633","v":10.42}]
[null,"00:00:00",null,null,null,null,null,null,null,null,null,null,null,null,"1979-01-05",{"$f":"'[1]Report-full'!B634","v":112.37},{"$f":"'[1]Report-full'!C634","v":69.03},{"$f":"'[1]Report-full'!D634","v":9.93}]
[null,"00:00:00",null,null,null,null,null,null,null,null,null,null,null,null,"1979-01-12",{"$f":"'[1]Report-full'!B635","v":112.9},{"$f":"'[1]Report-full'!C635","v":76.739999999999995},{"$f":"'[1]Report-full'!D635","v":9.49}]
[null,"00:00:00",null,null,null,null,null,null,null,null,null,null,null,null,"1979-01-19",{"$f":"'[1]Report-full'!B636","v":112.62},{"$f":"'[1]Report-full'!C636","v":72.64},{"$f":"'[1]Report-full'!D636","v":9.2200000000000006}]
[null,"00:00:00",null,null,null,null,null,null,null,null,null,null,null,null,"1979-01-26",{"$f":"'[1]Report-full'!B637","v":112.38},{"$f":"'[1]Report-full'!C637","v":69.22},{"$f":"'[1]Report-full'!D637","v":9}]
[null,"00:00:00",null,null,null,null,null,null,null,null,null,null,null,null,"1979-02-02",{"$f":"'[1]Report-full'!B638","v":112.26},{"$f":"'[1]Report-full'!C638","v":67.37},{"$f":"'[1]Report-full'!D638","v":8.75}]
[null,{"$f":"INT(C634-($H$4/2*7))","v":"00:00:00"},null,null,null,null,null,null,null,null,null,null,null,null,"1979-02-09",{"$f":"'[1]Report-full'!B639","v":111.47},{"$f":"'[1]Report-full'!C639","v":55.86},{"$f":"'[1]Report-full'!D639","v":7.92}]
[null,"00:00:00",null,null,null,null,null,null,null,null,null,null,null,null,"1979-02-16",{"$f":"'[1]Report-full'!B640","v":111.12},{"$f":"'[1]Report-full'!C640","v":50.72},{"$f":"'[1]Report-full'!D640","v":7.06}]
[null,"00:00:00",null,null,null,null,null,null,null,null,null,null,null,null,"1979-02-23",{"$f":"'[1]Report-full'!B641","v":111.1},{"$f":"'[1]Report-full'!C641","v":50.39},{"$f":"'[1]Report-full'!D641","v":6.31}]
[null,"00:00:00",null,null,null,null,null,null,null,null,null,null,null,null,"1979-03-02",{"$f":"'[1]Report-full'!B642","v":110.12},{"$f":"'[1]Report-full'!C642","v":36.06},{"$f":"'[1]Report-full'!D642","v":5.19}]
[null,"00:00:00",null,null,null,null,null,null,null,null,null,null,null,null,"1979-03-09",{"$f":"'[1]Report-full'!B643","v":109.44},{"$f":"'[1]Report-full'!C643","v":26.05},{"$f":"'[1]Report-full'!D643","v":4.12}]
[null,"00:00:00",null,null,null,null,null,null,null,null,null,null,null,null,"1979-03-16",{"$f":"'[1]Report-full'!B644","v":109.62},{"$f":"'[1]Report-full'!C644","v":28.64},{"$f":"'[1]Report-full'!D644","v":3.3}]
[null,"00:00:00",null,null,null,null,null,null,null,null,null,null,null,null,"1979-03-23",{"$f":"'[1]Report-full'!B645","v":109.87},{"$f":"'[1]Report-full'!C645","v":32.33},{"$f":"'[1]Report-full'!D645","v":2.59}]
[null,"00:00:00",null,null,null,null,null,null,null,null,null,null,null,null,"1979-03-30",{"$f":"'[1]Report-full'!B646","v":109.78},{"$f":"'[1]Report-full'!C646","v":31.06},{"$f":"'[1]Report-full'!D646","v":2.29}]
[null,"00:00:00",null,null,null,null,null,null,null,null,null,null,null,null,"1979-04-06",{"$f":"'[1]Report-full'!B647","v":109.66},{"$f":"'[1]Report-full'!C647","v":29.26},{"$f":"'[1]Report-full'!D647","v":2.23}]
[null,"00:00:00",null,null,null,null,null,null,null,null,null,null,null,null,"1979-04-13",{"$f":"'[1]Report-full'!B648","v":110.04},{"$f":"'[1]Report-full'!C648","v":34.86},{"$f":"'[1]Report-full'!D648","v":2.27}]
[null,"00:00:00",null,null,null,null,null,null,null,null,null,null,null,null,"1979-04-20",{"$f":"'[1]Report-full'!B649","v":109.53},{"$f":"'[1]Report-full'!C649","v":27.4},{"$f":"'[1]Report-full'!D649","v":1.99}]
[null,"00:00:00",null,null,null,null,null,null,null,null,null,null,null,null,"1979-04-27",{"$f":"'[1]Report-full'!B650","v":109.83},{"$f":"'[1]Report-full'!C650","v":31.67},{"$f":"'[1]Report-full'!D650","v":1.88}]
[null,"00:00:00",null,null,null,null,null,null,null,null,null,null,null,null,"1979-05-04",{"$f":"'[1]Report-full'!B651","v":110.31},{"$f":"'[1]Report-full'!C651","v":38.83},{"$f":"'[1]Report-full'!D651","v":2.06}]
[null,"00:00:00",null,null,null,null,null,null,null,null,null,null,null,null,"1979-05-11",{"$f":"'[1]Report-full'!B652","v":110.36},{"$f":"'[1]Report-full'!C652","v":39.54},{"$f":"'[1]Report-full'!D652","v":2.13}]
[null,"00:00:00",null,null,null,null,null,null,null,null,null,null,null,null,"1979-05-18",{"$f":"'[1]Report-full'!B653","v":110.42},{"$f":"'[1]Report-full'!C653","v":40.36},{"$f":"'[1]Report-full'!D653","v":2.4700000000000002}]
[null,"00:00:00",null,null,null,null,null,null,null,null,null,null,null,null,"1979-05-25",{"$f":"'[1]Report-full'!B654","v":111.22},{"$f":"'[1]Report-full'!C654","v":52.11},{"$f":"'[1]Report-full'!D654","v":3.06}]
[null,"00:00:00",null,null,null,null,null,null,null,null,null,null,null,null,"1979-06-01",{"$f":"'[1]Report-full'!B655","v":111.14},{"$f":"'[1]Report-full'!C655","v":50.92},{"$f":"'[1]Report-full'!D655","v":3.43}]
[null,"00:00:00",null,null,null,null,null,null,null,null,null,null,null,null,"1979-06-08",{"$f":"'[1]Report-full'!B656","v":110.97},{"$f":"'[1]Report-full'!C656","v":48.41},{"$f":"'[1]Report-full'!D656","v":3.71}]
[null,"00:00:00",null,null,null,null,null,null,null,null,null,null,null,null,"1979-06-15",{"$f":"'[1]Report-full'!B657","v":111.46},{"$f":"'[1]Report-full'!C657","v":55.67},{"$f":"'[1]Report-full'!D657","v":4.2}]
[null,"00:00:00",null,null,null,null,null,null,null,null,null,null,null,null,"1979-06-22",{"$f":"'[1]Report-full'!B658","v":111.67},{"$f":"'[1]Report-full'!C658","v":58.67},{"$f":"'[1]Report-full'!D658","v":4.45}]
[null,"00:00:00",null,null,null,null,null,null,null,null,null,null,null,null,"1979-06-29",{"$f":"'[1]Report-full'!B659","v":111.63},{"$f":"'[1]Report-full'!C659","v":58.14},{"$f":"'[1]Report-full'!D659","v":4.72}]
[null,"00:00:00",null,null,null,null,null,null,null,null,null,null,null,null,"1979-07-06",{"$f":"'[1]Report-full'!B660","v":111.34},{"$f":"'[1]Report-full'!C660","v":53.92},{"$f":"'[1]Report-full'!D660","v":4.95}]
[null,"00:00:00",null,null,null,null,null,null,null,null,null,null,null,null,"1979-07-13",{"$f":"'[1]Report-full'!B661","v":111.52},{"$f":"'[1]Report-full'!C661","v":56.58},{"$f":"'[1]Report-full'!D661","v":5.03}]
[null,"00:00:00",null,null,null,null,null,null,null,null,null,null,null,null,"1979-07-20",{"$f":"'[1]Report-full'!B662","v":110.59},{"$f":"'[1]Report-full'!C662","v":42.94},{"$f":"'[1]Report-full'!D662","v":4.6100000000000003}]
[null,"00:00:00",null,null,null,null,null,null,null,null,null,null,null,null,"1979-07-27",{"$f":"'[1]Report-full'!B663","v":109.89},{"$f":"'[1]Report-full'!C663","v":32.659999999999997},{"$f":"'[1]Report-full'!D663","v":3.9}]
[null,"00:00:00",null,null,null,null,null,null,null,null,null,null,null,null,"1979-08-03",{"$f":"'[1]Report-full'!B664","v":109.97},{"$f":"'[1]Report-full'!C664","v":33.76},{"$f":"'[1]Report-full'!D664","v":3.38}]
[null,"00:00:00",null,null,null,null,null,null,null,null,null,null,null,null,"1979-08-10",{"$f":"'[1]Report-full'!B665","v":109.9},{"$f":"'[1]Report-full'!C665","v":32.78},{"$f":"'[1]Report-full'!D665","v":2.76}]
[null,"00:00:00",null,null,null,null,null,null,null,null,null,null,null,null,"1979-08-17",{"$f":"'[1]Report-full'!B666","v":109.93},{"$f":"'[1]Report-full'!C666","v":33.17},{"$f":"'[1]Report-full'!D666","v":2.59}]
[null,"00:00:00",null,null,null,null,null,null,null,null,null,null,null,null,"1979-08-24",{"$f":"'[1]Report-full'!B667","v":109.8},{"$f":"'[1]Report-full'!C667","v":31.26},{"$f":"'[1]Report-full'!D667","v":2.67}]
[null,"00:00:00",null,null,null,null,null,null,null,null,null,null,null,null,"1979-08-31",{"$f":"'[1]Report-full'!B668","v":109.65},{"$f":"'[1]Report-full'!C668","v":29.17},{"$f":"'[1]Report-full'!D668","v":2.68}]
[null,"00:00:00",null,null,null,null,null,null,null,null,null,null,null,null,"1979-09-07",{"$f":"'[1]Report-full'!B669","v":109.38},{"$f":"'[1]Report-full'!C669","v":25.08},{"$f":"'[1]Report-full'!D669","v":2.59}]
[null,"00:00:00",null,null,null,null,null,null,null,null,null,null,null,null,"1979-09-14",{"$f":"'[1]Report-full'!B670","v":109.18},{"$f":"'[1]Report-full'!C670","v":22.19},{"$f":"'[1]Report-full'!D670","v":2.4}]
[null,"00:00:00",null,null,null,null,null,null,null,null,null,null,null,null,"1979-09-21",{"$f":"'[1]Report-full'!B671","v":109.34},{"$f":"'[1]Report-full'!C671","v":24.51},{"$f":"'[1]Report-full'!D671","v":2.34}]
[null,"00:00:00",null,null,null,null,null,null,null,null,null,null,null,null,"1979-09-28",{"$f":"'[1]Report-full'!B672","v":109.79},{"$f":"'[1]Report-full'!C672","v":31.21},{"$f":"'[1]Report-full'!D672","v":2.54}]
[null,"00:00:00",null,null,null,null,null,null,null,null,null,null,null,null,"1979-10-05",{"$f":"'[1]Report-full'!B673","v":109.82},{"$f":"'[1]Report-full'!C673","v":31.52},{"$f":"'[1]Report-full'!D673","v":2.87}]
[null,"00:00:00",null,null,null,null,null,null,null,null,null,null,null,null,"1979-10-12",{"$f":"'[1]Report-full'!B674","v":109.55},{"$f":"'[1]Report-full'!C674","v":27.68},{"$f":"'[1]Report-full'!D674","v":3.17}]
[null,"00:00:00",null,null,null,null,null,null,null,null,null,null,null,null,"1979-10-19",{"$f":"'[1]Report-full'!B675","v":108.3},{"$f":"'[1]Report-full'!C675","v":9.27},{"$f":"'[1]Report-full'!D675","v":2.85}]
[null,"00:00:00",null,null,null,null,null,null,null,null,null,null,null,null,"1979-10-26",{"$f":"'[1]Report-full'!B676","v":106.86},{"$f":"'[1]Report-full'!C676","v":-11.84},{"$f":"'[1]Report-full'!D676","v":1.72}]
[null,"00:00:00",null,null,null,null,null,null,null,null,null,null,null,null,"1979-11-02",{"$f":"'[1]Report-full'!B677","v":106.53},{"$f":"'[1]Report-full'!C677","v":-16.760000000000002},{"$f":"'[1]Report-full'!D677","v":0.47}]
[null,"00:00:00",null,null,null,null,null,null,null,null,null,null,null,null,"1979-11-09",{"$f":"'[1]Report-full'!B678","v":106.26},{"$f":"'[1]Report-full'!C678","v":-20.72},{"$f":"'[1]Report-full'!D678","v":-0.77}]
[null,"00:00:00",null,null,null,null,null,null,null,null,null,null,null,null,"1979-11-16",{"$f":"'[1]Report-full'!B679","v":105.94},{"$f":"'[1]Report-full'!C679","v":-25.31},{"$f":"'[1]Report-full'!D679","v":-1.59}]
[null,"00:00:00",null,null,null,null,null,null,null,null,null,null,null,null,"1979-11-23",{"$f":"'[1]Report-full'!B680","v":106.17},{"$f":"'[1]Report-full'!C680","v":-22.02},{"$f":"'[1]Report-full'!D680","v":-1.7}]
[null,"00:00:00",null,null,null,null,null,null,null,null,null,null,null,null,"1979-11-30",{"$f":"'[1]Report-full'!B681","v":105.41},{"$f":"'[1]Report-full'!C681","v":-33.15},{"$f":"'[1]Report-full'!D681","v":-1.98}]
[null,"00:00:00",null,null,null,null,null,null,null,null,null,null,null,null,"1979-12-07",{"$f":"'[1]Report-full'!B682","v":104.96},{"$f":"'[1]Report-full'!C682","v":-39.74},{"$f":"'[1]Report-full'!D682","v":-2.3199999999999998}]
[null,"00:00:00",null,null,null,null,null,null,null,null,null,null,null,null,"1979-12-14",{"$f":"'[1]Report-full'!B683","v":104.55},{"$f":"'[1]Report-full'!C683","v":-45.71},{"$f":"'[1]Report-full'!D683","v":-2.69}]
[null,"00:00:00",null,null,null,null,null,null,null,null,null,null,null,null,"1979-12-21",{"$f":"'[1]Report-full'!B684","v":104.38},{"$f":"'[1]Report-full'!C684","v":-48.22},{"$f":"'[1]Report-full'!D684","v":-3.2}]
[null,"00:00:00",null,null,null,null,null,null,null,null,null,null,null,null,"1979-12-28",{"$f":"'[1]Report-full'!B685","v":103.13},{"$f":"'[1]Report-full'!C685","v":-66.59},{"$f":"'[1]Report-full'!D685","v":-3.91}]
[null,"00:00:00",null,null,null,null,null,null,null,null,null,null,null,null,"1980-01-04",{"$f":"'[1]Report-full'!B686","v":102.48},{"$f":"'[1]Report-full'!C686","v":-76.099999999999994},{"$f":"'[1]Report-full'!D686","v":-4.6900000000000004}]
[null,"00:00:00",null,null,null,null,null,null,null,null,null,null,null,null,"1980-01-11",{"$f":"'[1]Report-full'!B687","v":101.84},{"$f":"'[1]Report-full'!C687","v":-85.58},{"$f":"'[1]Report-full'!D687","v":-5.56}]
[null,"00:00:00",null,null,null,null,null,null,null,null,null,null,null,null,"1980-01-18",{"$f":"'[1]Report-full'!B688","v":102},{"$f":"'[1]Report-full'!C688","v":-83.24},{"$f":"'[1]Report-full'!D688","v":-6.27}]
[null,"00:00:00",null,null,null,null,null,null,null,null,null,null,null,null,"1980-01-25",{"$f":"'[1]Report-full'!B689","v":101.85},{"$f":"'[1]Report-full'!C689","v":-85.35},{"$f":"'[1]Report-full'!D689","v":-6.5}]
[null,"00:00:00",null,null,null,null,null,null,null,null,null,null,null,null,"1980-02-01",{"$f":"'[1]Report-full'!B690","v":101.58},{"$f":"'[1]Report-full'!C690","v":-89.33},{"$f":"'[1]Report-full'!D690","v":-6.56}]
[null,"00:00:00",null,null,null,null,null,null,null,null,null,null,null,null,"1980-02-08",{"$f":"'[1]Report-full'!B691","v":101.06},{"$f":"'[1]Report-full'!C691","v":-97.04},{"$f":"'[1]Report-full'!D691","v":-6.57}]
[null,"00:00:00",null,null,null,null,null,null,null,null,null,null,null,null,"1980-02-15",{"$f":"'[1]Report-full'!B692","v":101.01},{"$f":"'[1]Report-full'!C692","v":-97.67},{"$f":"'[1]Report-full'!D692","v":-6.66}]
[null,"00:00:00",null,null,null,null,null,null,null,null,null,null,null,null,"1980-02-22",{"$f":"'[1]Report-full'!B693","v":100.31},{"$f":"'[1]Report-full'!C693","v":-108.01},{"$f":"'[1]Report-full'!D693","v":-7}]
[null,"00:00:00",null,null,null,null,null,null,null,null,null,null,null,null,"1980-02-29",{"$f":"'[1]Report-full'!B694","v":99.77},{"$f":"'[1]Report-full'!C694","v":-115.97},{"$f":"'[1]Report-full'!D694","v":-7.45}]
[null,"00:00:00",null,null,null,null,null,null,null,null,null,null,null,null,"1980-03-07",{"$f":"'[1]Report-full'!B695","v":99.27},{"$f":"'[1]Report-full'!C695","v":-123.18},{"$f":"'[1]Report-full'!D695","v":-7.89}]
[null,"00:00:00",null,null,null,null,null,null,null,null,null,null,null,null,"1980-03-14",{"$f":"'[1]Report-full'!B696","v":98.08},{"$f":"'[1]Report-full'!C696","v":-140.65},{"$f":"'[1]Report-full'!D696","v":-8.81}]
[null,"00:00:00",null,null,null,null,null,null,null,null,null,null,null,null,"1980-03-21",{"$f":"'[1]Report-full'!B697","v":97.04},{"$f":"'[1]Report-full'!C697","v":-155.94999999999999},{"$f":"'[1]Report-full'!D697","v":-9.86}]
[null,"00:00:00",null,null,null,null,null,null,null,null,null,null,null,null,"1980-03-28",{"$f":"'[1]Report-full'!B698","v":95.5},{"$f":"'[1]Report-full'!C698","v":-178.57},{"$f":"'[1]Report-full'!D698","v":-11.32}]
[null,"00:00:00",null,null,null,null,null,null,null,null,null,null,null,null,"1980-04-04",{"$f":"'[1]Report-full'!B699","v":94.8},{"$f":"'[1]Report-full'!C699","v":-188.82},{"$f":"'[1]Report-full'!D699","v":-12.82}]
[null,"00:00:00",null,null,null,null,null,null,null,null,null,null,null,null,"1980-04-11",{"$f":"'[1]Report-full'!B700","v":94.64},{"$f":"'[1]Report-full'!C700","v":-191.24},{"$f":"'[1]Report-full'!D700","v":-13.86}]
[null,"00:00:00",null,null,null,null,null,null,null,null,null,null,null,null,"1980-04-18",{"$f":"'[1]Report-full'!B701","v":94.11},{"$f":"'[1]Report-full'!C701","v":-198.97},{"$f":"'[1]Report-full'!D701","v":-14.66}]
[null,"00:00:00",null,null,null,null,null,null,null,null,null,null,null,null,"1980-04-25",{"$f":"'[1]Report-full'!B702","v":93.1},{"$f":"'[1]Report-full'!C702","v":-213.79},{"$f":"'[1]Report-full'!D702","v":-15.23}]
[null,{"$f":"INT(C698-($H$4/2*7))","v":"00:00:00"},null,null,null,null,null,null,null,null,null,null,null,null,"1980-05-02",{"$f":"'[1]Report-full'!B703","v":92.25},{"$f":"'[1]Report-full'!C703","v":-226.29},{"$f":"'[1]Report-full'!D703","v":-15.84}]
[null,"00:00:00",null,null,null,null,null,null,null,null,null,null,null,null,"1980-05-09",{"$f":"'[1]Report-full'!B704","v":91.41},{"$f":"'[1]Report-full'!C704","v":-238.62},{"$f":"'[1]Report-full'!D704","v":-16.71}]
[null,"00:00:00",null,null,null,null,null,null,null,null,null,null,null,null,"1980-05-16",{"$f":"'[1]Report-full'!B705","v":90.23},{"$f":"'[1]Report-full'!C705","v":-255.9},{"$f":"'[1]Report-full'!D705","v":-17.82}]
[null,"00:00:00",null,null,null,null,null,null,null,null,null,null,null,null,"1980-05-23",{"$f":"'[1]Report-full'!B706","v":89.69},{"$f":"'[1]Report-full'!C706","v":-263.77999999999997},{"$f":"'[1]Report-full'!D706","v":-18.7}]
[null,"00:00:00",null,null,null,null,null,null,null,null,null,null,null,null,"1980-05-30",{"$f":"'[1]Report-full'!B707","v":88.26},{"$f":"'[1]Report-full'!C707","v":-284.89},{"$f":"'[1]Report-full'!D707","v":-19.79}]
[null,"00:00:00",null,null,null,null,null,null,null,null,null,null,null,null,"1980-06-06",{"$f":"'[1]Report-full'!B708","v":86.7},{"$f":"'[1]Report-full'!C708","v":-307.76},{"$f":"'[1]Report-full'!D708","v":-21.14}]
[null,"00:00:00",null,null,null,null,null,null,null,null,null,null,null,null,"1980-06-13",{"$f":"'[1]Report-full'!B709","v":86.1},{"$f":"'[1]Report-full'!C709","v":-316.58999999999997},{"$f":"'[1]Report-full'!D709","v":-22.22}]
[null,"00:00:00",null,null,null,null,null,null,null,null,null,null,null,null,"1980-06-20",{"$f":"'[1]Report-full'!B710","v":85.7},{"$f":"'[1]Report-full'!C710","v":-322.33},{"$f":"'[1]Report-full'!D710","v":-23.21}]
[null,"00:00:00",null,null,null,null,null,null,null,null,null,null,null,null,"1980-06-27",{"$f":"'[1]Report-full'!B711","v":86.3},{"$f":"'[1]Report-full'!C711","v":-313.61},{"$f":"'[1]Report-full'!D711","v":-23.36}]
[null,"00:00:00",null,null,null,null,null,null,null,null,null,null,null,null,"1980-07-04",{"$f":"'[1]Report-full'!B712","v":86.53},{"$f":"'[1]Report-full'!C712","v":-310.26},{"$f":"'[1]Report-full'!D712","v":-22.77}]
[null,"00:00:00",null,null,null,null,null,null,null,null,null,null,null,null,"1980-07-11",{"$f":"'[1]Report-full'!B713","v":86.78},{"$f":"'[1]Report-full'!C713","v":-306.52},{"$f":"'[1]Report-full'!D713","v":-21.82}]
[null,"00:00:00",null,null,null,null,null,null,null,null,null,null,null,null,"1980-07-18",{"$f":"'[1]Report-full'!B714","v":87.14},{"$f":"'[1]Report-full'!C714","v":-301.26},{"$f":"'[1]Report-full'!D714","v":-20.54}]
[null,"00:00:00",null,null,null,null,null,null,null,null,null,null,null,null,"1980-07-25",{"$f":"'[1]Report-full'!B715","v":87.74},{"$f":"'[1]Report-full'!C715","v":-292.49},{"$f":"'[1]Report-full'!D715","v":-19.260000000000002}]
[null,"00:00:00",null,null,null,null,null,null,null,null,null,null,null,null,"1980-08-01",{"$f":"'[1]Report-full'!B716","v":88.46},{"$f":"'[1]Report-full'!C716","v":100},{"$f":"'[1]Report-full'!D716","v":-17.77}]
[null,"00:00:00",null,null,null,null,null,null,null,null,null,null,null,null,"1980-08-08",{"$f":"'[1]Report-full'!B717","v":88.81},{"$f":"'[1]Report-full'!C717","v":100},{"$f":"'[1]Report-full'!D717","v":-16.23}]
[null,"00:00:00",null,null,null,null,null,null,null,null,null,null,null,null,"1980-08-15",{"$f":"'[1]Report-full'!B718","v":89.52},{"$f":"'[1]Report-full'!C718","v":100},{"$f":"'[1]Report-full'!D718","v":-14.54}]
[null,"00:00:00",null,null,null,null,null,null,null,null,null,null,null,null,"1980-08-22",{"$f":"'[1]Report-full'!B719","v":89.58},{"$f":"'[1]Report-full'!C719","v":100},{"$f":"'[1]Report-full'!D719","v":-13.07}]
[null,"00:00:00",null,null,null,null,null,null,null,null,null,null,null,null,"1980-08-29",{"$f":"'[1]Report-full'!B720","v":90.57},{"$f":"'[1]Report-full'!C720","v":100},{"$f":"'[1]Report-full'!D720","v":-11.48}]
[null,"00:00:00",null,null,null,null,null,null,null,null,null,null,null,null,"1980-09-05",{"$f":"'[1]Report-full'!B721","v":90.92},{"$f":"'[1]Report-full'!C721","v":100},{"$f":"'[1]Report-full'!D721","v":-9.8800000000000008}]
[null,"00:00:00",null,null,null,null,null,null,null,null,null,null,null,null,"1980-09-12",{"$f":"'[1]Report-full'!B722","v":91.34},{"$f":"'[1]Report-full'!C722","v":100},{"$f":"'[1]Report-full'!D722","v":-8.4}]
[null,"00:00:00",null,null,null,null,null,null,null,null,null,null,null,null,"1980-09-19",{"$f":"'[1]Report-full'!B723","v":92.09},{"$f":"'[1]Report-full'!C723","v":100},{"$f":"'[1]Report-full'!D723","v":-6.6}]
[null,"00:00:00",null,null,null,null,null,null,null,null,null,null,null,null,"1980-09-26",{"$f":"'[1]Report-full'!B724","v":92.9},{"$f":"'[1]Report-full'!C724","v":100},{"$f":"'[1]Report-full'!D724","v":-4.87}]
[null,"00:00:00",null,null,null,null,null,null,null,null,null,null,null,null,"1980-10-03",{"$f":"'[1]Report-full'!B725","v":92.54},{"$f":"'[1]Report-full'!C725","v":93.48},{"$f":"'[1]Report-full'!D725","v":-3.48}]
[null,"00:00:00",null,null,null,null,null,null,null,null,null,null,null,null,"1980-10-10",{"$f":"'[1]Report-full'!B726","v":93.28},{"$f":"'[1]Report-full'!C726","v":100},{"$f":"'[1]Report-full'!D726","v":-1.92}]
[null,"00:00:00",null,null,null,null,null,null,null,null,null,null,null,null,"1980-10-17",{"$f":"'[1]Report-full'!B727","v":93.61},{"$f":"'[1]Report-full'!C727","v":100},{"$f":"'[1]Report-full'!D727","v":-0.56000000000000005}]
[null,"00:00:00",null,null,null,null,null,null,null,null,null,null,null,null,"1980-10-24",{"$f":"'[1]Report-full'!B728","v":94},{"$f":"'[1]Report-full'!C728","v":100},{"$f":"'[1]Report-full'!D728","v":0.57999999999999996}]
[null,"00:00:00",null,null,null,null,null,null,null,null,null,null,null,null,"1980-10-31",{"$f":"'[1]Report-full'!B729","v":93.39},{"$f":"'[1]Report-full'!C729","v":89.12},{"$f":"'[1]Report-full'!D729","v":1.58}]
[null,"00:00:00",null,null,null,null,null,null,null,null,null,null,null,null,"1980-11-07",{"$f":"'[1]Report-full'!B730","v":93.02},{"$f":"'[1]Report-full'!C730","v":82.46},{"$f":"'[1]Report-full'!D730","v":1.98}]
[null,"00:00:00",null,null,null,null,null,null,null,null,null,null,null,null,"1980-11-14",{"$f":"'[1]Report-full'!B731","v":93.57},{"$f":"'[1]Report-full'!C731","v":92.22},{"$f":"'[1]Report-full'!D731","v":2.4700000000000002}]
[null,"00:00:00",null,null,null,null,null,null,null,null,null,null,null,null,"1980-11-21",{"$f":"'[1]Report-full'!B732","v":94.76},{"$f":"'[1]Report-full'!C732","v":100},{"$f":"'[1]Report-full'!D732","v":3.36}]
[null,"00:00:00",null,null,null,null,null,null,null,null,null,null,null,null,"1980-11-28",{"$f":"'[1]Report-full'!B733","v":95.12},{"$f":"'[1]Report-full'!C733","v":100},{"$f":"'[1]Report-full'!D733","v":4.7300000000000004}]
[null,"00:00:00",null,null,null,null,null,null,null,null,null,null,null,null,"1980-12-05",{"$f":"'[1]Report-full'!B734","v":94.72},{"$f":"'[1]Report-full'!C734","v":92.94},{"$f":"'[1]Report-full'!D734","v":6.08}]
[null,"00:00:00",null,null,null,null,null,null,null,null,null,null,null,null,"1980-12-12",{"$f":"'[1]Report-full'!B735","v":94},{"$f":"'[1]Report-full'!C735","v":80.16},{"$f":"'[1]Report-full'!D735","v":6.75}]
[null,"00:00:00",null,null,null,null,null,null,null,null,null,null,null,null,"1980-12-19",{"$f":"'[1]Report-full'!B736","v":93.5},{"$f":"'[1]Report-full'!C736","v":71.31},{"$f":"'[1]Report-full'!D736","v":6.51}]
[null,"00:00:00",null,null,null,null,null,null,null,null,null,null,null,null,"1980-12-26",{"$f":"'[1]Report-full'!B737","v":94.24},{"$f":"'[1]Report-full'!C737","v":84.48},{"$f":"'[1]Report-full'!D737","v":6.48}]
[null,"00:00:00",null,null,null,null,null,null,null,null,null,null,null,null,"1981-01-02",{"$f":"'[1]Report-full'!B738","v":94.66},{"$f":"'[1]Report-full'!C738","v":91.88},{"$f":"'[1]Report-full'!D738","v":6.85}]
[null,"00:00:00",null,null,null,null,null,null,null,null,null,null,null,null,"1981-01-09",{"$f":"'[1]Report-full'!B739","v":94.64},{"$f":"'[1]Report-full'!C739","v":91.59},{"$f":"'[1]Report-full'!D739","v":7.59}]
[null,"00:00:00",null,null,null,null,null,null,null,null,null,null,null,null,"1981-01-16",{"$f":"'[1]Report-full'!B740","v":94},{"$f":"'[1]Report-full'!C740","v":80.23},{"$f":"'[1]Report-full'!D740","v":8.2100000000000009}]
[null,"00:00:00",null,null,null,null,null,null,null,null,null,null,null,null,"1981-01-23",{"$f":"'[1]Report-full'!B741","v":93.88},{"$f":"'[1]Report-full'!C741","v":78.06},{"$f":"'[1]Report-full'!D741","v":8.35}]
[null,"00:00:00",null,null,null,null,null,null,null,null,null,null,null,null,"1981-01-30",{"$f":"'[1]Report-full'!B742","v":93.16},{"$f":"'[1]Report-full'!C742","v":65.38},{"$f":"'[1]Report-full'!D742","v":7.87}]
[null,"00:00:00",null,null,null,null,null,null,null,null,null,null,null,null,"1981-02-06",{"$f":"'[1]Report-full'!B743","v":92.72},{"$f":"'[1]Report-full'!C743","v":57.63},{"$f":"'[1]Report-full'!D743","v":7.17}]
[null,"00:00:00",null,null,null,null,null,null,null,null,null,null,null,null,"1981-02-13",{"$f":"'[1]Report-full'!B744","v":92.68},{"$f":"'[1]Report-full'!C744","v":56.93},{"$f":"'[1]Report-full'!D744","v":6.81}]
[null,"00:00:00",null,null,null,null,null,null,null,null,null,null,null,null,"1981-02-20",{"$f":"'[1]Report-full'!B745","v":92.33},{"$f":"'[1]Report-full'!C745","v":50.69},{"$f":"'[1]Report-full'!D745","v":6.32}]
[null,"00:00:00",null,null,null,null,null,null,null,null,null,null,null,null,"1981-02-27",{"$f":"'[1]Report-full'!B746","v":91.44},{"$f":"'[1]Report-full'!C746","v":35},{"$f":"'[1]Report-full'!D746","v":5.75}]
[null,"00:00:00",null,null,null,null,null,null,null,null,null,null,null,null,"1981-03-06",{"$f":"'[1]Report-full'!B747","v":91.54},{"$f":"'[1]Report-full'!C747","v":36.75},{"$f":"'[1]Report-full'!D747","v":5.46}]
[null,"00:00:00",null,null,null,null,null,null,null,null,null,null,null,null,"1981-03-13",{"$f":"'[1]Report-full'!B748","v":91.6},{"$f":"'[1]Report-full'!C748","v":37.840000000000003},{"$f":"'[1]Report-full'!D748","v":5.21}]
[null,"00:00:00",null,null,null,null,null,null,null,null,null,null,null,null,"1981-03-20",{"$f":"'[1]Report-full'!B749","v":92.01},{"$f":"'[1]Report-full'!C749","v":45},{"$f":"'[1]Report-full'!D749","v":5.35}]
[null,"00:00:00",null,null,null,null,null,null,null,null,null,null,null,null,"1981-03-27",{"$f":"'[1]Report-full'!B750","v":92.2},{"$f":"'[1]Report-full'!C750","v":48.35},{"$f":"'[1]Report-full'!D750","v":6.04}]
[null,"00:00:00",null,null,null,null,null,null,null,null,null,null,null,null,"1981-04-03",{"$f":"'[1]Report-full'!B751","v":92.17},{"$f":"'[1]Report-full'!C751","v":47.85},{"$f":"'[1]Report-full'!D751","v":6.61}]
[null,"00:00:00",null,null,null,null,null,null,null,null,null,null,null,null,"1981-04-10",{"$f":"'[1]Report-full'!B752","v":92.01},{"$f":"'[1]Report-full'!C752","v":44.99},{"$f":"'[1]Report-full'!D752","v":7.01}]
[null,"00:00:00",null,null,null,null,null,null,null,null,null,null,null,null,"1981-04-17",{"$f":"'[1]Report-full'!B753","v":91.74},{"$f":"'[1]Report-full'!C753","v":40.33},{"$f":"'[1]Report-full'!D753","v":7}]
[null,"00:00:00",null,null,null,null,null,null,null,null,null,null,null,null,"1981-04-24",{"$f":"'[1]Report-full'!B754","v":91.98},{"$f":"'[1]Report-full'!C754","v":44.56},{"$f":"'[1]Report-full'!D754","v":7}]
[null,"00:00:00",null,null,null,null,null,null,null,null,null,null,null,null,"1981-05-01",{"$f":"'[1]Report-full'!B755","v":91.71},{"$f":"'[1]Report-full'!C755","v":39.72},{"$f":"'[1]Report-full'!D755","v":6.85}]
[null,"00:00:00",null,null,null,null,null,null,null,null,null,null,null,null,"1981-05-08",{"$f":"'[1]Report-full'!B756","v":90.91},{"$f":"'[1]Report-full'!C756","v":25.56},{"$f":"'[1]Report-full'!D756","v":6.32}]
[null,"00:00:00",null,null,null,null,null,null,null,null,null,null,null,null,"1981-05-15",{"$f":"'[1]Report-full'!B757","v":90.31},{"$f":"'[1]Report-full'!C757","v":15.13},{"$f":"'[1]Report-full'!D757","v":5.6}]
[null,"00:00:00",null,null,null,null,null,null,null,null,null,null,null,null,"1981-05-22",{"$f":"'[1]Report-full'!B758","v":90.32},{"$f":"'[1]Report-full'!C758","v":15.28},{"$f":"'[1]Report-full'!D758","v":4.74}]
[null,"00:00:00",null,null,null,null,null,null,null,null,null,null,null,null,"1981-05-29",{"$f":"'[1]Report-full'!B759","v":89.87},{"$f":"'[1]Report-full'!C759","v":7.19},{"$f":"'[1]Report-full'!D759","v":3.76}]
[null,"00:00:00",null,null,null,null,null,null,null,null,null,null,null,null,"1981-06-05",{"$f":"'[1]Report-full'!B760","v":89.45},{"$f":"'[1]Report-full'!C760","v":-0.2},{"$f":"'[1]Report-full'!D760","v":2.97}]
[null,"00:00:00",null,null,null,null,null,null,null,null,null,null,null,null,"1981-06-12",{"$f":"'[1]Report-full'!B761","v":88.79},{"$f":"'[1]Report-full'!C761","v":-11.76},{"$f":"'[1]Report-full'!D761","v":2.12}]
[null,"00:00:00",null,null,null,null,null,null,null,null,null,null,null,null,"1981-06-19",{"$f":"'[1]Report-full'!B762","v":88.87},{"$f":"'[1]Report-full'!C762","v":-10.47},{"$f":"'[1]Report-full'!D762","v":1.28}]
[null,"00:00:00",null,null,null,null,null,null,null,null,null,null,null,null,"1981-06-26",{"$f":"'[1]Report-full'!B763","v":88.54},{"$f":"'[1]Report-full'!C763","v":-16.25},{"$f":"'[1]Report-full'!D763","v":0.48}]
[null,"00:00:00",null,null,null,null,null,null,null,null,null,null,null,null,"1981-07-03",{"$f":"'[1]Report-full'!B764","v":88.15},{"$f":"'[1]Report-full'!C764","v":-23.06},{"$f":"'[1]Report-full'!D764","v":-0.28999999999999998}]
[null,"00:00:00",null,null,null,null,null,null,null,null,null,null,null,null,"1981-07-10",{"$f":"'[1]Report-full'!B765","v":87.16},{"$f":"'[1]Report-full'!C765","v":-40.61},{"$f":"'[1]Report-full'!D765","v":-1.23}]
[null,"00:00:00",null,null,null,null,null,null,null,null,null,null,null,null,"1981-07-17",{"$f":"'[1]Report-full'!B766","v":87.32},{"$f":"'[1]Report-full'!C766","v":-37.82},{"$f":"'[1]Report-full'!D766","v":-2.1}]
[null,{"$f":"INT(C762-($H$4/2*7))","v":"00:00:00"},null,null,null,null,null,null,null,null,null,null,null,null,"1981-07-24",{"$f":"'[1]Report-full'!B767","v":87.29},{"$f":"'[1]Report-full'!C767","v":-38.229999999999997},{"$f":"'[1]Report-full'!D767","v":-2.78}]
[null,"00:00:00",null,null,null,null,null,null,null,null,null,null,null,null,"1981-07-31",{"$f":"'[1]Report-full'!B768","v":86.35},{"$f":"'[1]Report-full'!C768","v":-54.87},{"$f":"'[1]Report-full'!D768","v":-3.71}]
[null,"00:00:00",null,null,null,null,null,null,null,null,null,null,null,null,"1981-08-07",{"$f":"'[1]Report-full'!B769","v":86.07},{"$f":"'[1]Report-full'!C769","v":-59.82},{"$f":"'[1]Report-full'!D769","v":-4.25}]
[null,"00:00:00",null,null,null,null,null,null,null,null,null,null,null,null,"1981-08-14",{"$f":"'[1]Report-full'!B770","v":86.07},{"$f":"'[1]Report-full'!C770","v":-59.91},{"$f":"'[1]Report-full'!D770","v":-4.84}]
[null,"00:00:00",null,null,null,null,null,null,null,null,null,null,null,null,"1981-08-21",{"$f":"'[1]Report-full'!B771","v":85.2},{"$f":"'[1]Report-full'!C771","v":-75.22},{"$f":"'[1]Report-full'!D771","v":-5.81}]
[null,"00:00:00",null,null,null,null,null,null,null,null,null,null,null,null,"1981-08-28",{"$f":"'[1]Report-full'!B772","v":84.29},{"$f":"'[1]Report-full'!C772","v":-91.34},{"$f":"'[1]Report-full'!D772","v":-6.74}]
[null,"00:00:00",null,null,null,null,null,null,null,null,null,null,null,null,"1981-09-04",{"$f":"'[1]Report-full'!B773","v":83.49},{"$f":"'[1]Report-full'!C773","v":-105.45},{"$f":"'[1]Report-full'!D773","v":-7.88}]
[null,"00:00:00",null,null,null,null,null,null,null,null,null,null,null,null,"1981-09-11",{"$f":"'[1]Report-full'!B774","v":82.69},{"$f":"'[1]Report-full'!C774","v":-119.5},{"$f":"'[1]Report-full'!D774","v":-9.36}]
[null,"00:00:00",null,null,null,null,null,null,null,null,null,null,null,null,"1981-09-18",{"$f":"'[1]Report-full'!B775","v":82.71},{"$f":"'[1]Report-full'!C775","v":-119.12},{"$f":"'[1]Report-full'!D775","v":-10.36}]
[null,"00:00:00",null,null,null,null,null,null,null,null,null,null,null,null,"1981-09-25",{"$f":"'[1]Report-full'!B776","v":81.650000000000006},{"$f":"'[1]Report-full'!C776","v":-138},{"$f":"'[1]Report-full'!D776","v":-11.38}]
[null,"00:00:00",null,null,null,null,null,null,null,null,null,null,null,null,"1981-10-02",{"$f":"'[1]Report-full'!B777","v":80.510000000000005},{"$f":"'[1]Report-full'!C777","v":-158.02000000000001},{"$f":"'[1]Report-full'!D777","v":-12.53}]
[null,"00:00:00",null,null,null,null,null,null,null,null,null,null,null,null,"1981-10-09",{"$f":"'[1]Report-full'!B778","v":80.400000000000006},{"$f":"'[1]Report-full'!C778","v":-160.08000000000001},{"$f":"'[1]Report-full'!D778","v":-13.3}]
[null,"00:00:00",null,null,null,null,null,null,null,null,null,null,null,null,"1981-10-16",{"$f":"'[1]Report-full'!B779","v":80.239999999999995},{"$f":"'[1]Report-full'!C779","v":-162.9},{"$f":"'[1]Report-full'!D779","v":-14.12}]
[null,"00:00:00",null,null,null,null,null,null,null,null,null,null,null,null,"1981-10-23",{"$f":"'[1]Report-full'!B780","v":79.69},{"$f":"'[1]Report-full'!C780","v":-172.57},{"$f":"'[1]Report-full'!D780","v":-14.66}]
[null,"00:00:00",null,null,null,null,null,null,null,null,null,null,null,null,"1981-10-30",{"$f":"'[1]Report-full'!B781","v":78.819999999999993},{"$f":"'[1]Report-full'!C781","v":-187.9},{"$f":"'[1]Report-full'!D781","v":-15.05}]
[null,"00:00:00",null,null,null,null,null,null,null,null,null,null,null,null,"1981-11-06",{"$f":"'[1]Report-full'!B782","v":78.66},{"$f":"'[1]Report-full'!C782","v":-190.75},{"$f":"'[1]Report-full'!D782","v":-15.43}]
[null,"00:00:00",null,null,null,null,null,null,null,null,null,null,null,null,"1981-11-13",{"$f":"'[1]Report-full'!B783","v":78.25},{"$f":"'[1]Report-full'!C783","v":-198.01},{"$f":"'[1]Report-full'!D783","v":-15.93}]
[null,"00:00:00",null,null,null,null,null,null,null,null,null,null,null,null,"1981-11-20",{"$f":"'[1]Report-full'!B784","v":77.45},{"$f":"'[1]Report-full'!C784","v":-212.1},{"$f":"'[1]Report-full'!D784","v":-16.54}]
[null,"00:00:00",null,null,null,null,null,null,null,null,null,null,null,null,"1981-11-27",{"$f":"'[1]Report-full'!B785","v":77.34},{"$f":"'[1]Report-full'!C785","v":-214.02},{"$f":"'[1]Report-full'!D785","v":-16.75}]
[null,"00:00:00",null,null,null,null,null,null,null,null,null,null,null,null,"1981-12-04",{"$f":"'[1]Report-full'!B786","v":77.290000000000006},{"$f":"'[1]Report-full'!C786","v":-214.99},{"$f":"'[1]Report-full'!D786","v":-16.89}]
[null,"00:00:00",null,null,null,null,null,null,null,null,null,null,null,null,"1981-12-11",{"$f":"'[1]Report-full'!B787","v":77.17},{"$f":"'[1]Report-full'!C787","v":-216.98},{"$f":"'[1]Report-full'!D787","v":-16.850000000000001}]
[null,"00:00:00",null,null,null,null,null,null,null,null,null,null,null,null,"1981-12-18",{"$f":"'[1]Report-full'!B788","v":76.44},{"$f":"'[1]Report-full'!C788","v":-229.98},{"$f":"'[1]Report-full'!D788","v":-16.78}]
[null,"00:00:00",null,null,null,null,null,null,null,null,null,null,null,null,"1981-12-25",{"$f":"'[1]Report-full'!B789","v":76.36},{"$f":"'[1]Report-full'!C789","v":-231.44},{"$f":"'[1]Report-full'!D789","v":-16.690000000000001}]
[null,"00:00:00",null,null,null,null,null,null,null,null,null,null,null,null,"1982-01-01",{"$f":"'[1]Report-full'!B790","v":75.98},{"$f":"'[1]Report-full'!C790","v":-238.13},{"$f":"'[1]Report-full'!D790","v":-16.760000000000002}]
[null,"00:00:00",null,null,null,null,null,null,null,null,null,null,null,null,"1982-01-08",{"$f":"'[1]Report-full'!B791","v":75.5},{"$f":"'[1]Report-full'!C791","v":-246.63},{"$f":"'[1]Report-full'!D791","v":-17}]
[null,"00:00:00",null,null,null,null,null,null,null,null,null,null,null,null,"1982-01-15",{"$f":"'[1]Report-full'!B792","v":74.900000000000006},{"$f":"'[1]Report-full'!C792","v":-257.19},{"$f":"'[1]Report-full'!D792","v":-17.16}]
[null,"00:00:00",null,null,null,null,null,null,null,null,null,null,null,null,"1982-01-22",{"$f":"'[1]Report-full'!B793","v":74.930000000000007},{"$f":"'[1]Report-full'!C793","v":-256.64},{"$f":"'[1]Report-full'!D793","v":-17.25}]
[null,"00:00:00",null,null,null,null,null,null,null,null,null,null,null,null,"1982-01-29",{"$f":"'[1]Report-full'!B794","v":75.08},{"$f":"'[1]Report-full'!C794","v":-253.91},{"$f":"'[1]Report-full'!D794","v":-17.05}]
[null,"00:00:00",null,null,null,null,null,null,null,null,null,null,null,null,"1982-02-05",{"$f":"'[1]Report-full'!B795","v":75.650000000000006},{"$f":"'[1]Report-full'!C795","v":-243.96},{"$f":"'[1]Report-full'!D795","v":-16.34}]
[null,"00:00:00",null,null,null,null,null,null,null,null,null,null,null,null,"1982-02-12",{"$f":"'[1]Report-full'!B796","v":75.41},{"$f":"'[1]Report-full'!C796","v":-248.17},{"$f":"'[1]Report-full'!D796","v":-15.44}]
[null,"00:00:00",null,null,null,null,null,null,null,null,null,null,null,null,"1982-02-19",{"$f":"'[1]Report-full'!B797","v":75},{"$f":"'[1]Report-full'!C797","v":-255.46},{"$f":"'[1]Report-full'!D797","v":-14.78}]
[null,"00:00:00",null,null,null,null,null,null,null,null,null,null,null,null,"1982-02-26",{"$f":"'[1]Report-full'!B798","v":74},{"$f":"'[1]Report-full'!C798","v":-273.08},{"$f":"'[1]Report-full'!D798","v":-14.73}]
[null,"00:00:00",null,null,null,null,null,null,null,null,null,null,null,null,"1982-03-05",{"$f":"'[1]Report-full'!B799","v":73.260000000000005},{"$f":"'[1]Report-full'!C799","v":-286.08},{"$f":"'[1]Report-full'!D799","v":-15.35}]
[null,"00:00:00",null,null,null,null,null,null,null,null,null,null,null,null,"1982-03-12",{"$f":"'[1]Report-full'!B800","v":72.290000000000006},{"$f":"'[1]Report-full'!C800","v":-303.3},{"$f":"'[1]Report-full'!D800","v":-16.350000000000001}]
[null,"00:00:00",null,null,null,null,null,null,null,null,null,null,null,null,"1982-03-19",{"$f":"'[1]Report-full'!B801","v":71.81},{"$f":"'[1]Report-full'!C801","v":-311.64999999999998},{"$f":"'[1]Report-full'!D801","v":-17.37}]
[null,"00:00:00",null,null,null,null,null,null,null,null,null,null,null,null,"1982-03-26",{"$f":"'[1]Report-full'!B802","v":71.98},{"$f":"'[1]Report-full'!C802","v":-308.77},{"$f":"'[1]Report-full'!D802","v":-17.760000000000002}]
[null,"00:00:00",null,null,null,null,null,null,null,null,null,null,null,null,"1982-04-02",{"$f":"'[1]Report-full'!B803","v":71.52},{"$f":"'[1]Report-full'!C803","v":-316.85000000000002},{"$f":"'[1]Report-full'!D803","v":-17.989999999999998}]
[null,"00:00:00",null,null,null,null,null,null,null,null,null,null,null,null,"1982-04-09",{"$f":"'[1]Report-full'!B804","v":71.430000000000007},{"$f":"'[1]Report-full'!C804","v":-318.35000000000002},{"$f":"'[1]Report-full'!D804","v":-17.73}]
[null,"00:00:00",null,null,null,null,null,null,null,null,null,null,null,null,"1982-04-16",{"$f":"'[1]Report-full'!B805","v":71.33},{"$f":"'[1]Report-full'!C805","v":-320.17},{"$f":"'[1]Report-full'!D805","v":-17.260000000000002}]
[null,"00:00:00",null,null,null,null,null,null,null,null,null,null,null,null,"1982-04-23",{"$f":"'[1]Report-full'!B806","v":70.900000000000006},{"$f":"'[1]Report-full'!C806","v":-327.71},{"$f":"'[1]Report-full'!D806","v":-17.100000000000001}]
[null,"00:00:00",null,null,null,null,null,null,null,null,null,null,null,null,"1982-04-30",{"$f":"'[1]Report-full'!B807","v":70.709999999999994},{"$f":"'[1]Report-full'!C807","v":-331.07},{"$f":"'[1]Report-full'!D807","v":-16.79}]
[null,"00:00:00",null,null,null,null,null,null,null,null,null,null,null,null,"1982-05-07",{"$f":"'[1]Report-full'!B808","v":70.41},{"$f":"'[1]Report-full'!C808","v":-336.48},{"$f":"'[1]Report-full'!D808","v":-16.59}]
[null,"00:00:00",null,null,null,null,null,null,null,null,null,null,null,null,"1982-05-14",{"$f":"'[1]Report-full'!B809","v":70.41},{"$f":"'[1]Report-full'!C809","v":-336.44},{"$f":"'[1]Report-full'!D809","v":-16.329999999999998}]
[null,"00:00:00",null,null,null,null,null,null,null,null,null,null,null,null,"1982-05-21",{"$f":"'[1]Report-full'!B810","v":69.94},{"$f":"'[1]Report-full'!C810","v":-344.77},{"$f":"'[1]Report-full'!D810","v":-16.100000000000001}]
[null,"00:00:00",null,null,null,null,null,null,null,null,null,null,null,null,"1982-05-28",{"$f":"'[1]Report-full'!B811","v":69.09},{"$f":"'[1]Report-full'!C811","v":-359.83},{"$f":"'[1]Report-full'!D811","v":-16.23}]
[null,"00:00:00",null,null,null,null,null,null,null,null,null,null,null,null,"1982-06-04",{"$f":"'[1]Report-full'!B812","v":68.14},{"$f":"'[1]Report-full'!C812","v":-376.55},{"$f":"'[1]Report-full'!D812","v":-16.72}]
[null,"00:00:00",null,null,null,null,null,null,null,null,null,null,null,null,"1982-06-11",{"$f":"'[1]Report-full'!B813","v":67.77},{"$f":"'[1]Report-full'!C813","v":-383.16},{"$f":"'[1]Report-full'!D813","v":-17.41}]
[null,"00:00:00",null,null,null,null,null,null,null,null,null,null,null,null,"1982-06-18",{"$f":"'[1]Report-full'!B814","v":67.34},{"$f":"'[1]Report-full'!C814","v":-390.62},{"$f":"'[1]Report-full'!D814","v":-18.059999999999999}]
[null,"00:00:00",null,null,null,null,null,null,null,null,null,null,null,null,"1982-06-25",{"$f":"'[1]Report-full'!B815","v":66.819999999999993},{"$f":"'[1]Report-full'!C815","v":-399.93},{"$f":"'[1]Report-full'!D815","v":-18.53}]
[null,"00:00:00",null,null,null,null,null,null,null,null,null,null,null,null,"1982-07-02",{"$f":"'[1]Report-full'!B816","v":67.28},{"$f":"'[1]Report-full'!C816","v":-391.8},{"$f":"'[1]Report-full'!D816","v":-18.22}]
[null,"00:00:00",null,null,null,null,null,null,null,null,null,null,null,null,"1982-07-09",{"$f":"'[1]Report-full'!B817","v":67.209999999999994},{"$f":"'[1]Report-full'!C817","v":-393.04},{"$f":"'[1]Report-full'!D817","v":-17.739999999999998}]
[null,"00:00:00",null,null,null,null,null,null,null,null,null,null,null,null,"1982-07-16",{"$f":"'[1]Report-full'!B818","v":67.239999999999995},{"$f":"'[1]Report-full'!C818","v":-392.37},{"$f":"'[1]Report-full'!D818","v":-17.010000000000002}]
[null,"00:00:00",null,null,null,null,null,null,null,null,null,null,null,null,"1982-07-23",{"$f":"'[1]Report-full'!B819","v":67.66},{"$f":"'[1]Report-full'!C819","v":-385.09},{"$f":"'[1]Report-full'!D819","v":-15.74}]
[null,"00:00:00",null,null,null,null,null,null,null,null,null,null,null,null,"1982-07-30",{"$f":"'[1]Report-full'!B820","v":67.180000000000007},{"$f":"'[1]Report-full'!C820","v":-393.42},{"$f":"'[1]Report-full'!D820","v":-15.01}]
[null,"00:00:00",null,null,null,null,null,null,null,null,null,null,null,null,"1982-08-06",{"$f":"'[1]Report-full'!B821","v":66.61},{"$f":"'[1]Report-full'!C821","v":-403.49},{"$f":"'[1]Report-full'!D821","v":-14.57}]
[null,"00:00:00",null,null,null,null,null,null,null,null,null,null,null,null,"1982-08-13",{"$f":"'[1]Report-full'!B822","v":66.02},{"$f":"'[1]Report-full'!C822","v":-413.95},{"$f":"'[1]Report-full'!D822","v":-14.5}]
[null,"00:00:00",null,null,null,null,null,null,null,null,null,null,null,null,"1982-08-20",{"$f":"'[1]Report-full'!B823","v":66},{"$f":"'[1]Report-full'!C823","v":-414.39},{"$f":"'[1]Report-full'!D823","v":-14.69}]
[null,"00:00:00",null,null,null,null,null,null,null,null,null,null,null,null,"1982-08-27",{"$f":"'[1]Report-full'!B824","v":67.03},{"$f":"'[1]Report-full'!C824","v":-396.23},{"$f":"'[1]Report-full'!D824","v":-14}]
[null,"00:00:00",null,null,null,null,null,null,null,null,null,null,null,null,"1982-09-03",{"$f":"'[1]Report-full'!B825","v":67.459999999999994},{"$f":"'[1]Report-full'!C825","v":-388.64},{"$f":"'[1]Report-full'!D825","v":-12.72}]
[null,"00:00:00",null,null,null,null,null,null,null,null,null,null,null,null,"1982-09-10",{"$f":"'[1]Report-full'!B826","v":67.78},{"$f":"'[1]Report-full'!C826","v":-382.86},{"$f":"'[1]Report-full'!D826","v":-10.9}]
[null,"00:00:00",null,null,null,null,null,null,null,null,null,null,null,null,"1982-09-17",{"$f":"'[1]Report-full'!B827","v":67.75},{"$f":"'[1]Report-full'!C827","v":-383.4},{"$f":"'[1]Report-full'!D827","v":-9.1}]
[null,"00:00:00",null,null,null,null,null,null,null,null,null,null,null,null,"1982-09-24",{"$f":"'[1]Report-full'!B828","v":67.650000000000006},{"$f":"'[1]Report-full'!C828","v":-385.12},{"$f":"'[1]Report-full'!D828","v":-8.01}]
[null,"00:00:00",null,null,null,null,null,null,null,null,null,null,null,null,"1982-10-01",{"$f":"'[1]Report-full'!B829","v":67.75},{"$f":"'[1]Report-full'!C829","v":-383.41},{"$f":"'[1]Report-full'!D829","v":-7.16}]
[null,"00:00:00",null,null,null,null,null,null,null,null,null,null,null,null,"1982-10-08",{"$f":"'[1]Report-full'!B830","v":67.61},{"$f":"'[1]Report-full'!C830","v":-385.83},{"$f":"'[1]Report-full'!D830","v":-6.62}]
[null,{"$f":"INT(C826-($H$4/2*7))","v":"00:00:00"},null,null,null,null,null,null,null,null,null,null,null,null,"1982-10-15",{"$f":"'[1]Report-full'!B831","v":68.650000000000006},{"$f":"'[1]Report-full'!C831","v":-367.61},{"$f":"'[1]Report-full'!D831","v":-5.43}]
[null,"00:00:00",null,null,null,null,null,null,null,null,null,null,null,null,"1982-10-22",{"$f":"'[1]Report-full'!B832","v":68.900000000000006},{"$f":"'[1]Report-full'!C832","v":-363.06},{"$f":"'[1]Report-full'!D832","v":-4.03}]
[null,"00:00:00",null,null,null,null,null,null,null,null,null,null,null,null,"1982-10-29",{"$f":"'[1]Report-full'!B833","v":69.75},{"$f":"'[1]Report-full'!C833","v":-348.13},{"$f":"'[1]Report-full'!D833","v":-2.16}]
[null,"00:00:00",null,null,null,null,null,null,null,null,null,null,null,null,"1982-11-05",{"$f":"'[1]Report-full'!B834","v":70.09},{"$f":"'[1]Report-full'!C834","v":-342.11},{"$f":"'[1]Report-full'!D834","v":0.02}]
[null,"00:00:00",null,null,null,null,null,null,null,null,null,null,null,null,"1982-11-12",{"$f":"'[1]Report-full'!B835","v":70.88},{"$f":"'[1]Report-full'!C835","v":-328.15},{"$f":"'[1]Report-full'!D835","v":2.02}]
[null,"00:00:00",null,null,null,null,null,null,null,null,null,null,null,null,"1982-11-19",{"$f":"'[1]Report-full'!B836","v":70.489999999999995},{"$f":"'[1]Report-full'!C836","v":-335.09},{"$f":"'[1]Report-full'!D836","v":3.55}]
[null,"00:00:00",null,null,null,null,null,null,null,null,null,null,null,null,"1982-11-26",{"$f":"'[1]Report-full'!B837","v":70.33},{"$f":"'[1]Report-full'!C837","v":-337.84},{"$f":"'[1]Report-full'!D837","v":4.3600000000000003}]
[null,"00:00:00",null,null,null,null,null,null,null,null,null,null,null,null,"1982-12-03",{"$f":"'[1]Report-full'!B838","v":70.239999999999995},{"$f":"'[1]Report-full'!C838","v":100},{"$f":"'[1]Report-full'!D838","v":4.8600000000000003}]
[null,"00:00:00",null,null,null,null,null,null,null,null,null,null,null,null,"1982-12-10",{"$f":"'[1]Report-full'!B839","v":71.08},{"$f":"'[1]Report-full'!C839","v":100},{"$f":"'[1]Report-full'!D839","v":5.37}]
[null,"00:00:00",null,null,null,null,null,null,null,null,null,null,null,null,"1982-12-17",{"$f":"'[1]Report-full'!B840","v":70.92},{"$f":"'[1]Report-full'!C840","v":96.19},{"$f":"'[1]Report-full'!D840","v":6.03}]
[null,"00:00:00",null,null,null,null,null,null,null,null,null,null,null,null,"1982-12-24",{"$f":"'[1]Report-full'!B841","v":71.09},{"$f":"'[1]Report-full'!C841","v":100},{"$f":"'[1]Report-full'!D841","v":6.9}]
[null,"00:00:00",null,null,null,null,null,null,null,null,null,null,null,null,"1982-12-31",{"$f":"'[1]Report-full'!B842","v":72.209999999999994},{"$f":"'[1]Report-full'!C842","v":100},{"$f":"'[1]Report-full'!D842","v":8.61}]
[null,"00:00:00",null,null,null,null,null,null,null,null,null,null,null,null,"1983-01-07",{"$f":"'[1]Report-full'!B843","v":72.63},{"$f":"'[1]Report-full'!C843","v":100},{"$f":"'[1]Report-full'!D843","v":9.99}]
[null,"00:00:00",null,null,null,null,null,null,null,null,null,null,null,null,"1983-01-14",{"$f":"'[1]Report-full'!B844","v":74.14},{"$f":"'[1]Report-full'!C844","v":100},{"$f":"'[1]Report-full'!D844","v":12.55}]
[null,"00:00:00",null,null,null,null,null,null,null,null,null,null,null,null,"1983-01-21",{"$f":"'[1]Report-full'!B845","v":74.97},{"$f":"'[1]Report-full'!C845","v":100},{"$f":"'[1]Report-full'!D845","v":15.55}]
[null,"00:00:00",null,null,null,null,null,null,null,null,null,null,null,null,"1983-01-28",{"$f":"'[1]Report-full'!B846","v":74.680000000000007},{"$f":"'[1]Report-full'!C846","v":93.5},{"$f":"'[1]Report-full'!D846","v":17.47}]
[null,"00:00:00",null,null,null,null,null,null,null,null,null,null,null,null,"1983-02-04",{"$f":"'[1]Report-full'!B847","v":75.010000000000005},{"$f":"'[1]Report-full'!C847","v":100},{"$f":"'[1]Report-full'!D847","v":19.3}]
[null,"00:00:00",null,null,null,null,null,null,null,null,null,null,null,null,"1983-02-11",{"$f":"'[1]Report-full'!B848","v":75.28},{"$f":"'[1]Report-full'!C848","v":100},{"$f":"'[1]Report-full'!D848","v":20.18}]
[null,"00:00:00",null,null,null,null,null,null,null,null,null,null,null,null,"1983-02-18",{"$f":"'[1]Report-full'!B849","v":75.62},{"$f":"'[1]Report-full'!C849","v":100},{"$f":"'[1]Report-full'!D849","v":20.69}]
[null,"00:00:00",null,null,null,null,null,null,null,null,null,null,null,null,"1983-02-25",{"$f":"'[1]Report-full'!B850","v":75.599999999999994},{"$f":"'[1]Report-full'!C850","v":99.65},{"$f":"'[1]Report-full'!D850","v":21.38}]
[null,"00:00:00",null,null,null,null,null,null,null,null,null,null,null,null,"1983-03-04",{"$f":"'[1]Report-full'!B851","v":76.55},{"$f":"'[1]Report-full'!C851","v":100},{"$f":"'[1]Report-full'!D851","v":22.52}]
[null,"00:00:00",null,null,null,null,null,null,null,null,null,null,null,null,"1983-03-11",{"$f":"'[1]Report-full'!B852","v":77.11},{"$f":"'[1]Report-full'!C852","v":100},{"$f":"'[1]Report-full'!D852","v":23.82}]
[null,"00:00:00",null,null,null,null,null,null,null,null,null,null,null,null,"1983-03-18",{"$f":"'[1]Report-full'!B853","v":77.22},{"$f":"'[1]Report-full'!C853","v":100},{"$f":"'[1]Report-full'!D853","v":24.87}]
[null,"00:00:00",null,null,null,null,null,null,null,null,null,null,null,null,"1983-03-25",{"$f":"'[1]Report-full'!B854","v":77.349999999999994},{"$f":"'[1]Report-full'!C854","v":100},{"$f":"'[1]Report-full'!D854","v":25.95}]
[null,"00:00:00",null,null,null,null,null,null,null,null,null,null,null,null,"1983-04-01",{"$f":"'[1]Report-full'!B855","v":77.48},{"$f":"'[1]Report-full'!C855","v":100},{"$f":"'[1]Report-full'!D855","v":26.36}]
[null,"00:00:00",null,null,null,null,null,null,null,null,null,null,null,null,"1983-04-08",{"$f":"'[1]Report-full'!B856","v":77.47},{"$f":"'[1]Report-full'!C856","v":99.65},{"$f":"'[1]Report-full'!D856","v":26.28}]
[null,"00:00:00",null,null,null,null,null,null,null,null,null,null,null,null,"1983-04-15",{"$f":"'[1]Report-full'!B857","v":77.66},{"$f":"'[1]Report-full'!C857","v":100},{"$f":"'[1]Report-full'!D857","v":26.25}]
[null,"00:00:00",null,null,null,null,null,null,null,null,null,null,null,null,"1983-04-22",{"$f":"'[1]Report-full'!B858","v":78.010000000000005},{"$f":"'[1]Report-full'!C858","v":100},{"$f":"'[1]Report-full'!D858","v":26.38}]
[null,"00:00:00",null,null,null,null,null,null,null,null,null,null,null,null,"1983-04-29",{"$f":"'[1]Report-full'!B859","v":78.64},{"$f":"'[1]Report-full'!C859","v":100},{"$f":"'[1]Report-full'!D859","v":26.85}]
[null,"00:00:00",null,null,null,null,null,null,null,null,null,null,null,null,"1983-05-06",{"$f":"'[1]Report-full'!B860","v":79.12},{"$f":"'[1]Report-full'!C860","v":100},{"$f":"'[1]Report-full'!D860","v":27.67}]
[null,"00:00:00",null,null,null,null,null,null,null,null,null,null,null,null,"1983-05-13",{"$f":"'[1]Report-full'!B861","v":79.69},{"$f":"'[1]Report-full'!C861","v":100},{"$f":"'[1]Report-full'!D861","v":28.73}]
[null,"00:00:00",null,null,null,null,null,null,null,null,null,null,null,null,"1983-05-20",{"$f":"'[1]Report-full'!B862","v":79.739999999999995},{"$f":"'[1]Report-full'!C862","v":100},{"$f":"'[1]Report-full'!D862","v":29.51}]
[null,"00:00:00",null,null,null,null,null,null,null,null,null,null,null,null,"1983-05-27",{"$f":"'[1]Report-full'!B863","v":80.430000000000007},{"$f":"'[1]Report-full'!C863","v":100},{"$f":"'[1]Report-full'!D863","v":30.29}]
[null,"00:00:00",null,null,null,null,null,null,null,null,null,null,null,null,"1983-06-03",{"$f":"'[1]Report-full'!B864","v":80.62},{"$f":"'[1]Report-full'!C864","v":100},{"$f":"'[1]Report-full'!D864","v":30.79}]
[null,"00:00:00",null,null,null,null,null,null,null,null,null,null,null,null,"1983-06-10",{"$f":"'[1]Report-full'!B865","v":81.39},{"$f":"'[1]Report-full'!C865","v":100},{"$f":"'[1]Report-full'!D865","v":31.38}]
[null,"00:00:00",null,null,null,null,null,null,null,null,null,null,null,null,"1983-06-17",{"$f":"'[1]Report-full'!B866","v":81.650000000000006},{"$f":"'[1]Report-full'!C866","v":100},{"$f":"'[1]Report-full'!D866","v":32.06}]
[null,"00:00:00",null,null,null,null,null,null,null,null,null,null,null,null,"1983-06-24",{"$f":"'[1]Report-full'!B867","v":82.54},{"$f":"'[1]Report-full'!C867","v":100},{"$f":"'[1]Report-full'!D867","v":32.81}]
[null,"00:00:00",null,null,null,null,null,null,null,null,null,null,null,null,"1983-07-01",{"$f":"'[1]Report-full'!B868","v":82.92},{"$f":"'[1]Report-full'!C868","v":100},{"$f":"'[1]Report-full'!D868","v":33.64}]
[null,"00:00:00",null,null,null,null,null,null,null,null,null,null,null,null,"1983-07-08",{"$f":"'[1]Report-full'!B869","v":83.38},{"$f":"'[1]Report-full'!C869","v":100},{"$f":"'[1]Report-full'!D869","v":34.17}]
[null,"00:00:00",null,null,null,null,null,null,null,null,null,null,null,null,"1983-07-15",{"$f":"'[1]Report-full'!B870","v":83.97},{"$f":"'[1]Report-full'!C870","v":100},{"$f":"'[1]Report-full'!D870","v":34.9}]
[null,"00:00:00",null,null,null,null,null,null,null,null,null,null,null,null,"1983-07-22",{"$f":"'[1]Report-full'!B871","v":84.25},{"$f":"'[1]Report-full'!C871","v":100},{"$f":"'[1]Report-full'!D871","v":35.130000000000003}]
[null,"00:00:00",null,null,null,null,null,null,null,null,null,null,null,null,"1983-07-29",{"$f":"'[1]Report-full'!B872","v":84.94},{"$f":"'[1]Report-full'!C872","v":100},{"$f":"'[1]Report-full'!D872","v":35.58}]
[null,"00:00:00",null,null,null,null,null,null,null,null,null,null,null,null,"1983-08-05",{"$f":"'[1]Report-full'!B873","v":84.68},{"$f":"'[1]Report-full'!C873","v":94.97},{"$f":"'[1]Report-full'!D873","v":35.450000000000003}]
[null,"00:00:00",null,null,null,null,null,null,null,null,null,null,null,null,"1983-08-12",{"$f":"'[1]Report-full'!B874","v":84.83},{"$f":"'[1]Report-full'!C874","v":97.95},{"$f":"'[1]Report-full'!D874","v":34.96}]
[null,"00:00:00",null,null,null,null,null,null,null,null,null,null,null,null,"1983-08-19",{"$f":"'[1]Report-full'!B875","v":85.3},{"$f":"'[1]Report-full'!C875","v":100},{"$f":"'[1]Report-full'!D875","v":34.590000000000003}]
[null,"00:00:00",null,null,null,null,null,null,null,null,null,null,null,null,"1983-08-26",{"$f":"'[1]Report-full'!B876","v":85.17},{"$f":"'[1]Report-full'!C876","v":97.4},{"$f":"'[1]Report-full'!D876","v":33.57}]
[null,"00:00:00",null,null,null,null,null,null,null,null,null,null,null,null,"1983-09-02",{"$f":"'[1]Report-full'!B877","v":84.9},{"$f":"'[1]Report-full'!C877","v":92},{"$f":"'[1]Report-full'!D877","v":32.54}]
[null,"00:00:00",null,null,null,null,null,null,null,null,null,null,null,null,"1983-09-09",{"$f":"'[1]Report-full'!B878","v":85.19},{"$f":"'[1]Report-full'!C878","v":97.78},{"$f":"'[1]Report-full'!D878","v":31.64}]
[null,"00:00:00",null,null,null,null,null,null,null,null,null,null,null,null,"1983-09-16",{"$f":"'[1]Report-full'!B879","v":85.24},{"$f":"'[1]Report-full'!C879","v":98.77},{"$f":"'[1]Report-full'!D879","v":30.47}]
[null,"00:00:00",null,null,null,null,null,null,null,null,null,null,null,null,"1983-09-23",{"$f":"'[1]Report-full'!B880","v":85.5},{"$f":"'[1]Report-full'!C880","v":100},{"$f":"'[1]Report-full'!D880","v":29.63}]
[null,"00:00:00",null,null,null,null,null,null,null,null,null,null,null,null,"1983-09-30",{"$f":"'[1]Report-full'!B881","v":85.68},{"$f":"'[1]Report-full'!C881","v":100},{"$f":"'[1]Report-full'!D881","v":29.12}]
[null,"00:00:00",null,null,null,null,null,null,null,null,null,null,null,null,"1983-10-07",{"$f":"'[1]Report-full'!B882","v":85.45},{"$f":"'[1]Report-full'!C882","v":95.43},{"$f":"'[1]Report-full'!D882","v":28.23}]
[null,"00:00:00",null,null,null,null,null,null,null,null,null,null,null,null,"1983-10-14",{"$f":"'[1]Report-full'!B883","v":86.39},{"$f":"'[1]Report-full'!C883","v":100},{"$f":"'[1]Report-full'!D883","v":27.98}]
[null,"00:00:00",null,null,null,null,null,null,null,null,null,null,null,null,"1983-10-21",{"$f":"'[1]Report-full'!B884","v":86.49},{"$f":"'[1]Report-full'!C884","v":100},{"$f":"'[1]Report-full'!D884","v":27.61}]
[null,"00:00:00",null,null,null,null,null,null,null,null,null,null,null,null,"1983-10-28",{"$f":"'[1]Report-full'!B885","v":86.75},{"$f":"'[1]Report-full'!C885","v":100},{"$f":"'[1]Report-full'!D885","v":27.31}]
[null,"00:00:00",null,null,null,null,null,null,null,null,null,null,null,null,"1983-11-04",{"$f":"'[1]Report-full'!B886","v":86.89},{"$f":"'[1]Report-full'!C886","v":100},{"$f":"'[1]Report-full'!D886","v":27.27}]
[null,"00:00:00",null,null,null,null,null,null,null,null,null,null,null,null,"1983-11-11",{"$f":"'[1]Report-full'!B887","v":87.14},{"$f":"'[1]Report-full'!C887","v":100},{"$f":"'[1]Report-full'!D887","v":26.78}]
[null,"00:00:00",null,null,null,null,null,null,null,null,null,null,null,null,"1983-11-18",{"$f":"'[1]Report-full'!B888","v":88.05},{"$f":"'[1]Report-full'!C888","v":100},{"$f":"'[1]Report-full'!D888","v":26.87}]
[null,"00:00:00",null,null,null,null,null,null,null,null,null,null,null,null,"1983-11-25",{"$f":"'[1]Report-full'!B889","v":88.29},{"$f":"'[1]Report-full'!C889","v":100},{"$f":"'[1]Report-full'!D889","v":26.95}]
[null,"00:00:00",null,null,null,null,null,null,null,null,null,null,null,null,"1983-12-02",{"$f":"'[1]Report-full'!B890","v":88.33},{"$f":"'[1]Report-full'!C890","v":100},{"$f":"'[1]Report-full'!D890","v":26.94}]
[null,"00:00:00",null,null,null,null,null,null,null,null,null,null,null,null,"1983-12-09",{"$f":"'[1]Report-full'!B891","v":88.71},{"$f":"'[1]Report-full'!C891","v":100},{"$f":"'[1]Report-full'!D891","v":27}]
[null,"00:00:00",null,null,null,null,null,null,null,null,null,null,null,null,"1983-12-16",{"$f":"'[1]Report-full'!B892","v":88.96},{"$f":"'[1]Report-full'!C892","v":100},{"$f":"'[1]Report-full'!D892","v":26.6}]
[null,"00:00:00",null,null,null,null,null,null,null,null,null,null,null,null,"1983-12-23",{"$f":"'[1]Report-full'!B893","v":89.11},{"$f":"'[1]Report-full'!C893","v":100},{"$f":"'[1]Report-full'!D893","v":26.14}]
[null,"00:00:00",null,null,null,null,null,null,null,null,null,null,null,null,"1983-12-30",{"$f":"'[1]Report-full'!B894","v":89.2},{"$f":"'[1]Report-full'!C894","v":100},{"$f":"'[1]Report-full'!D894","v":25.71}]
[null,{"$f":"INT(C890-($H$4/2*7))","v":"00:00:00"},null,null,null,null,null,null,null,null,null,null,null,null,"1984-01-06",{"$f":"'[1]Report-full'!B895","v":89.61},{"$f":"'[1]Report-full'!C895","v":100},{"$f":"'[1]Report-full'!D895","v":25.32}]
[null,"00:00:00",null,null,null,null,null,null,null,null,null,null,null,null,"1984-01-13",{"$f":"'[1]Report-full'!B896","v":90.55},{"$f":"'[1]Report-full'!C896","v":100},{"$f":"'[1]Report-full'!D896","v":25.4}]
[null,"00:00:00",null,null,null,null,null,null,null,null,null,null,null,null,"1984-01-20",{"$f":"'[1]Report-full'!B897","v":90.96},{"$f":"'[1]Report-full'!C897","v":100},{"$f":"'[1]Report-full'!D897","v":25.67}]
[null,"00:00:00",null,null,null,null,null,null,null,null,null,null,null,null,"1984-01-27",{"$f":"'[1]Report-full'!B898","v":92.18},{"$f":"'[1]Report-full'!C898","v":100},{"$f":"'[1]Report-full'!D898","v":26.7}]
[null,"00:00:00",null,null,null,null,null,null,null,null,null,null,null,null,"1984-02-03",{"$f":"'[1]Report-full'!B899","v":92.64},{"$f":"'[1]Report-full'!C899","v":100},{"$f":"'[1]Report-full'!D899","v":27.75}]
[null,"00:00:00",null,null,null,null,null,null,null,null,null,null,null,null,"1984-02-10",{"$f":"'[1]Report-full'!B900","v":92.59},{"$f":"'[1]Report-full'!C900","v":99.15},{"$f":"'[1]Report-full'!D900","v":28.14}]
[null,"00:00:00",null,null,null,null,null,null,null,null,null,null,null,null,"1984-02-17",{"$f":"'[1]Report-full'!B901","v":92.46},{"$f":"'[1]Report-full'!C901","v":96.75},{"$f":"'[1]Report-full'!D901","v":28.16}]
[null,"00:00:00",null,null,null,null,null,null,null,null,null,null,null,null,"1984-02-24",{"$f":"'[1]Report-full'!B902","v":92.83},{"$f":"'[1]Report-full'!C902","v":100},{"$f":"'[1]Report-full'!D902","v":27.63}]
[null,"00:00:00",null,null,null,null,null,null,null,null,null,null,null,null,"1984-03-02",{"$f":"'[1]Report-full'!B903","v":92.77},{"$f":"'[1]Report-full'!C903","v":98.94},{"$f":"'[1]Report-full'!D903","v":26.78}]
[null,"00:00:00",null,null,null,null,null,null,null,null,null,null,null,null,"1984-03-09",{"$f":"'[1]Report-full'!B904","v":92.42},{"$f":"'[1]Report-full'!C904","v":92.59},{"$f":"'[1]Report-full'!D904","v":25.76}]
[null,"00:00:00",null,null,null,null,null,null,null,null,null,null,null,null,"1984-03-16",{"$f":"'[1]Report-full'!B905","v":92.31},{"$f":"'[1]Report-full'!C905","v":90.48},{"$f":"'[1]Report-full'!D905","v":24.79}]
[null,"00:00:00",null,null,null,null,null,null,null,null,null,null,null,null,"1984-03-23",{"$f":"'[1]Report-full'!B906","v":92.62},{"$f":"'[1]Report-full'!C906","v":96.17},{"$f":"'[1]Report-full'!D906","v":23.82}]
[null,"00:00:00",null,null,null,null,null,null,null,null,null,null,null,null,"1984-03-30",{"$f":"'[1]Report-full'!B907","v":92.62},{"$f":"'[1]Report-full'!C907","v":96.25},{"$f":"'[1]Report-full'!D907","v":22.93}]
[null,"00:00:00",null,null,null,null,null,null,null,null,null,null,null,null,"1984-04-06",{"$f":"'[1]Report-full'!B908","v":92.81},{"$f":"'[1]Report-full'!C908","v":99.64},{"$f":"'[1]Report-full'!D908","v":22.38}]
[null,"00:00:00",null,null,null,null,null,null,null,null,null,null,null,null,"1984-04-13",{"$f":"'[1]Report-full'!B909","v":92.58},{"$f":"'[1]Report-full'!C909","v":95.41},{"$f":"'[1]Report-full'!D909","v":21.78}]
[null,"00:00:00",null,null,null,null,null,null,null,null,null,null,null,null,"1984-04-20",{"$f":"'[1]Report-full'!B910","v":92.86},{"$f":"'[1]Report-full'!C910","v":100},{"$f":"'[1]Report-full'!D910","v":21.16}]
[null,"00:00:00",null,null,null,null,null,null,null,null,null,null,null,null,"1984-04-27",{"$f":"'[1]Report-full'!B911","v":92.77},{"$f":"'[1]Report-full'!C911","v":98.33},{"$f":"'[1]Report-full'!D911","v":20.49}]
[null,"00:00:00",null,null,null,null,null,null,null,null,null,null,null,null,"1984-05-04",{"$f":"'[1]Report-full'!B912","v":92.86},{"$f":"'[1]Report-full'!C912","v":99.89},{"$f":"'[1]Report-full'!D912","v":19.78}]
[null,"00:00:00",null,null,null,null,null,null,null,null,null,null,null,null,"1984-05-11",{"$f":"'[1]Report-full'!B913","v":92.75},{"$f":"'[1]Report-full'!C913","v":98.05},{"$f":"'[1]Report-full'!D913","v":19.18}]
[null,"00:00:00",null,null,null,null,null,null,null,null,null,null,null,null,"1984-05-18",{"$f":"'[1]Report-full'!B914","v":92.51},{"$f":"'[1]Report-full'!C914","v":93.7},{"$f":"'[1]Report-full'!D914","v":18.29}]
[null,"00:00:00",null,null,null,null,null,null,null,null,null,null,null,null,"1984-05-25",{"$f":"'[1]Report-full'!B915","v":92.21},{"$f":"'[1]Report-full'!C915","v":88.17},{"$f":"'[1]Report-full'!D915","v":17.309999999999999}]
[null,"00:00:00",null,null,null,null,null,null,null,null,null,null,null,null,"1984-06-01",{"$f":"'[1]Report-full'!B916","v":91.82},{"$f":"'[1]Report-full'!C916","v":81.12},{"$f":"'[1]Report-full'!D916","v":16.09}]
[null,"00:00:00",null,null,null,null,null,null,null,null,null,null,null,null,"1984-06-08",{"$f":"'[1]Report-full'!B917","v":92.47},{"$f":"'[1]Report-full'!C917","v":92.91},{"$f":"'[1]Report-full'!D917","v":15.35}]
[null,"00:00:00",null,null,null,null,null,null,null,null,null,null,null,null,"1984-06-15",{"$f":"'[1]Report-full'!B918","v":92.57},{"$f":"'[1]Report-full'!C918","v":94.65},{"$f":"'[1]Report-full'!D918","v":14.83}]
[null,"00:00:00",null,null,null,null,null,null,null,null,null,null,null,null,"1984-06-22",{"$f":"'[1]Report-full'!B919","v":92.3},{"$f":"'[1]Report-full'!C919","v":89.92},{"$f":"'[1]Report-full'!D919","v":14.37}]
[null,"00:00:00",null,null,null,null,null,null,null,null,null,null,null,null,"1984-06-29",{"$f":"'[1]Report-full'!B920","v":92.5},{"$f":"'[1]Report-full'!C920","v":93.4},{"$f":"'[1]Report-full'!D920","v":14.26}]
[null,"00:00:00",null,null,null,null,null,null,null,null,null,null,null,null,"1984-07-06",{"$f":"'[1]Report-full'!B921","v":92.58},{"$f":"'[1]Report-full'!C921","v":94.99},{"$f":"'[1]Report-full'!D921","v":13.86}]
[null,"00:00:00",null,null,null,null,null,null,null,null,null,null,null,null,"1984-07-13",{"$f":"'[1]Report-full'!B922","v":92.66},{"$f":"'[1]Report-full'!C922","v":96.39},{"$f":"'[1]Report-full'!D922","v":13.46}]
[null,"00:00:00",null,null,null,null,null,null,null,null,null,null,null,null,"1984-07-20",{"$f":"'[1]Report-full'!B923","v":92.38},{"$f":"'[1]Report-full'!C923","v":91.22},{"$f":"'[1]Report-full'!D923","v":13.08}]
[null,"00:00:00",null,null,null,null,null,null,null,null,null,null,null,null,"1984-07-27",{"$f":"'[1]Report-full'!B924","v":92.28},{"$f":"'[1]Report-full'!C924","v":89.49},{"$f":"'[1]Report-full'!D924","v":12.56}]
[null,"00:00:00",null,null,null,null,null,null,null,null,null,null,null,null,"1984-08-03",{"$f":"'[1]Report-full'!B925","v":92.78},{"$f":"'[1]Report-full'!C925","v":98.47},{"$f":"'[1]Report-full'!D925","v":12.29}]
[null,"00:00:00",null,null,null,null,null,null,null,null,null,null,null,null,"1984-08-10",{"$f":"'[1]Report-full'!B926","v":94.05},{"$f":"'[1]Report-full'!C926","v":100},{"$f":"'[1]Report-full'!D926","v":12.71}]
[null,"00:00:00",null,null,null,null,null,null,null,null,null,null,null,null,"1984-08-17",{"$f":"'[1]Report-full'!B927","v":94.66},{"$f":"'[1]Report-full'!C927","v":100},{"$f":"'[1]Report-full'!D927","v":13.63}]
[null,"00:00:00",null,null,null,null,null,null,null,null,null,null,null,null,"1984-08-24",{"$f":"'[1]Report-full'!B928","v":94.56},{"$f":"'[1]Report-full'!C928","v":98.27},{"$f":"'[1]Report-full'!D928","v":14.54}]
[null,"00:00:00",null,null,null,null,null,null,null,null,null,null,null,null,"1984-08-31",{"$f":"'[1]Report-full'!B929","v":94.4},{"$f":"'[1]Report-full'!C929","v":95.33},{"$f":"'[1]Report-full'!D929","v":15.05}]
[null,"00:00:00",null,null,null,null,null,null,null,null,null,null,null,null,"1984-09-07",{"$f":"'[1]Report-full'!B930","v":94.09},{"$f":"'[1]Report-full'!C930","v":89.94},{"$f":"'[1]Report-full'!D930","v":14.65}]
[null,"00:00:00",null,null,null,null,null,null,null,null,null,null,null,null,"1984-09-14",{"$f":"'[1]Report-full'!B931","v":93.87},{"$f":"'[1]Report-full'!C931","v":86.03},{"$f":"'[1]Report-full'!D931","v":13.79}]
[null,"00:00:00",null,null,null,null,null,null,null,null,null,null,null,null,"1984-09-21",{"$f":"'[1]Report-full'!B932","v":94.07},{"$f":"'[1]Report-full'!C932","v":89.53},{"$f":"'[1]Report-full'!D932","v":13.1}]
[null,"00:00:00",null,null,null,null,null,null,null,null,null,null,null,null,"1984-09-28",{"$f":"'[1]Report-full'!B933","v":93.41},{"$f":"'[1]Report-full'!C933","v":77.73},{"$f":"'[1]Report-full'!D933","v":12.16}]
[null,"00:00:00",null,null,null,null,null,null,null,null,null,null,null,null,"1984-10-05",{"$f":"'[1]Report-full'!B934","v":92.98},{"$f":"'[1]Report-full'!C934","v":70.17},{"$f":"'[1]Report-full'!D934","v":11.17}]
[null,"00:00:00",null,null,null,null,null,null,null,null,null,null,null,null,"1984-10-12",{"$f":"'[1]Report-full'!B935","v":92.37},{"$f":"'[1]Report-full'!C935","v":59.31},{"$f":"'[1]Report-full'!D935","v":9.99}]
[null,"00:00:00",null,null,null,null,null,null,null,null,null,null,null,null,"1984-10-19",{"$f":"'[1]Report-full'!B936","v":92.47},{"$f":"'[1]Report-full'!C936","v":61.08},{"$f":"'[1]Report-full'!D936","v":8.8000000000000007}]
[null,"00:00:00",null,null,null,null,null,null,null,null,null,null,null,null,"1984-10-26",{"$f":"'[1]Report-full'!B937","v":92.42},{"$f":"'[1]Report-full'!C937","v":60.2},{"$f":"'[1]Report-full'!D937","v":7.98}]
[null,"00:00:00",null,null,null,null,null,null,null,null,null,null,null,null,"1984-11-02",{"$f":"'[1]Report-full'!B938","v":92.93},{"$f":"'[1]Report-full'!C938","v":69.22},{"$f":"'[1]Report-full'!D938","v":7.69}]
[null,"00:00:00",null,null,null,null,null,null,null,null,null,null,null,null,"1984-11-09",{"$f":"'[1]Report-full'!B939","v":93.51},{"$f":"'[1]Report-full'!C939","v":79.64},{"$f":"'[1]Report-full'!D939","v":8.06}]
[null,"00:00:00",null,null,null,null,null,null,null,null,null,null,null,null,"1984-11-16",{"$f":"'[1]Report-full'!B940","v":93.53},{"$f":"'[1]Report-full'!C940","v":79.88},{"$f":"'[1]Report-full'!D940","v":8.3800000000000008}]
[null,"00:00:00",null,null,null,null,null,null,null,null,null,null,null,null,"1984-11-23",{"$f":"'[1]Report-full'!B941","v":93.42},{"$f":"'[1]Report-full'!C941","v":77.97},{"$f":"'[1]Report-full'!D941","v":8.67}]
[null,"00:00:00",null,null,null,null,null,null,null,null,null,null,null,null,"1984-11-30",{"$f":"'[1]Report-full'!B942","v":93.51},{"$f":"'[1]Report-full'!C942","v":79.5},{"$f":"'[1]Report-full'!D942","v":8.74}]
[null,"00:00:00",null,null,null,null,null,null,null,null,null,null,null,null,"1984-12-07",{"$f":"'[1]Report-full'!B943","v":93.55},{"$f":"'[1]Report-full'!C943","v":80.2},{"$f":"'[1]Report-full'!D943","v":8.52}]
[null,"00:00:00",null,null,null,null,null,null,null,null,null,null,null,null,"1984-12-14",{"$f":"'[1]Report-full'!B944","v":93.92},{"$f":"'[1]Report-full'!C944","v":86.86},{"$f":"'[1]Report-full'!D944","v":8.52}]
[null,"00:00:00",null,null,null,null,null,null,null,null,null,null,null,null,"1984-12-21",{"$f":"'[1]Report-full'!B945","v":94.14},{"$f":"'[1]Report-full'!C945","v":90.7},{"$f":"'[1]Report-full'!D945","v":8.69}]
[null,"00:00:00",null,null,null,null,null,null,null,null,null,null,null,null,"1984-12-28",{"$f":"'[1]Report-full'!B946","v":93.7},{"$f":"'[1]Report-full'!C946","v":82.86},{"$f":"'[1]Report-full'!D946","v":8.59}]
[null,"00:00:00",null,null,null,null,null,null,null,null,null,null,null,null,"1985-01-04",{"$f":"'[1]Report-full'!B947","v":93.75},{"$f":"'[1]Report-full'!C947","v":83.82},{"$f":"'[1]Report-full'!D947","v":8.49}]
[null,"00:00:00",null,null,null,null,null,null,null,null,null,null,null,null,"1985-01-11",{"$f":"'[1]Report-full'!B948","v":93.34},{"$f":"'[1]Report-full'!C948","v":76.510000000000005},{"$f":"'[1]Report-full'!D948","v":7.99}]
[null,"00:00:00",null,null,null,null,null,null,null,null,null,null,null,null,"1985-01-18",{"$f":"'[1]Report-full'!B949","v":93.59},{"$f":"'[1]Report-full'!C949","v":80.989999999999995},{"$f":"'[1]Report-full'!D949","v":7.53}]
[null,"00:00:00",null,null,null,null,null,null,null,null,null,null,null,null,"1985-01-25",{"$f":"'[1]Report-full'!B950","v":94.15},{"$f":"'[1]Report-full'!C950","v":90.87},{"$f":"'[1]Report-full'!D950","v":7.62}]
[null,"00:00:00",null,null,null,null,null,null,null,null,null,null,null,null,"1985-02-01",{"$f":"'[1]Report-full'!B951","v":95.01},{"$f":"'[1]Report-full'!C951","v":100},{"$f":"'[1]Report-full'!D951","v":8.17}]
[null,"00:00:00",null,null,null,null,null,null,null,null,null,null,null,null,"1985-02-08",{"$f":"'[1]Report-full'!B952","v":94.9},{"$f":"'[1]Report-full'!C952","v":97.95},{"$f":"'[1]Report-full'!D952","v":8.9}]
[null,"00:00:00",null,null,null,null,null,null,null,null,null,null,null,null,"1985-02-15",{"$f":"'[1]Report-full'!B953","v":94.87},{"$f":"'[1]Report-full'!C953","v":97.46},{"$f":"'[1]Report-full'!D953","v":9.49}]
[null,"00:00:00",null,null,null,null,null,null,null,null,null,null,null,null,"1985-02-22",{"$f":"'[1]Report-full'!B954","v":94.86},{"$f":"'[1]Report-full'!C954","v":97.27},{"$f":"'[1]Report-full'!D954","v":9.7799999999999994}]
[null,"00:00:00",null,null,null,null,null,null,null,null,null,null,null,null,"1985-03-01",{"$f":"'[1]Report-full'!B955","v":95.02},{"$f":"'[1]Report-full'!C955","v":100},{"$f":"'[1]Report-full'!D955","v":9.68}]
[null,"00:00:00",null,null,null,null,null,null,null,null,null,null,null,null,"1985-03-08",{"$f":"'[1]Report-full'!B956","v":95.25},{"$f":"'[1]Report-full'!C956","v":100},{"$f":"'[1]Report-full'!D956","v":9.7799999999999994}]
[null,"00:00:00",null,null,null,null,null,null,null,null,null,null,null,null,"1985-03-15",{"$f":"'[1]Report-full'!B957","v":95.33},{"$f":"'[1]Report-full'!C957","v":100},{"$f":"'[1]Report-full'!D957","v":9.93}]
[null,"00:00:00",null,null,null,null,null,null,null,null,null,null,null,null,"1985-03-22",{"$f":"'[1]Report-full'!B958","v":95.3},{"$f":"'[1]Report-full'!C958","v":99.31},{"$f":"'[1]Report-full'!D958","v":10.06}]
[null,{"$f":"INT(C954-($H$4/2*7))","v":"00:00:00"},null,null,null,null,null,null,null,null,null,null,null,null,"1985-03-29",{"$f":"'[1]Report-full'!B959","v":95.74},{"$f":"'[1]Report-full'!C959","v":100},{"$f":"'[1]Report-full'!D959","v":10.33}]
[null,"00:00:00",null,null,null,null,null,null,null,null,null,null,null,null,"1985-04-05",{"$f":"'[1]Report-full'!B960","v":96.19},{"$f":"'[1]Report-full'!C960","v":100},{"$f":"'[1]Report-full'!D960","v":10.72}]
[null,"00:00:00",null,null,null,null,null,null,null,null,null,null,null,null,"1985-04-12",{"$f":"'[1]Report-full'!B961","v":96.45},{"$f":"'[1]Report-full'!C961","v":100},{"$f":"'[1]Report-full'!D961","v":11.19}]
[null,"00:00:00",null,null,null,null,null,null,null,null,null,null,null,null,"1985-04-19",{"$f":"'[1]Report-full'!B962","v":96.7},{"$f":"'[1]Report-full'!C962","v":100},{"$f":"'[1]Report-full'!D962","v":11.8}]
[null,"00:00:00",null,null,null,null,null,null,null,null,null,null,null,null,"1985-04-26",{"$f":"'[1]Report-full'!B963","v":96.58},{"$f":"'[1]Report-full'!C963","v":97.89},{"$f":"'[1]Report-full'!D963","v":12.1}]
[null,"00:00:00",null,null,null,null,null,null,null,null,null,null,null,null,"1985-05-03",{"$f":"'[1]Report-full'!B964","v":96.5},{"$f":"'[1]Report-full'!C964","v":96.56},{"$f":"'[1]Report-full'!D964","v":12.11}]
[null,"00:00:00",null,null,null,null,null,null,null,null,null,null,null,null,"1985-05-10",{"$f":"'[1]Report-full'!B965","v":96.54},{"$f":"'[1]Report-full'!C965","v":97.32},{"$f":"'[1]Report-full'!D965","v":11.99}]
[null,"00:00:00",null,null,null,null,null,null,null,null,null,null,null,null,"1985-05-17",{"$f":"'[1]Report-full'!B966","v":96.92},{"$f":"'[1]Report-full'!C966","v":100},{"$f":"'[1]Report-full'!D966","v":11.95}]
[null,"00:00:00",null,null,null,null,null,null,null,null,null,null,null,null,"1985-05-24",{"$f":"'[1]Report-full'!B967","v":97.46},{"$f":"'[1]Report-full'!C967","v":100},{"$f":"'[1]Report-full'!D967","v":12.26}]
[null,"00:00:00",null,null,null,null,null,null,null,null,null,null,null,null,"1985-05-31",{"$f":"'[1]Report-full'!B968","v":97.24},{"$f":"'[1]Report-full'!C968","v":96.21},{"$f":"'[1]Report-full'!D968","v":12.48}]
[null,"00:00:00",null,null,null,null,null,null,null,null,null,null,null,null,"1985-06-07",{"$f":"'[1]Report-full'!B969","v":97.23},{"$f":"'[1]Report-full'!C969","v":96.07},{"$f":"'[1]Report-full'!D969","v":12.65}]
[null,"00:00:00",null,null,null,null,null,null,null,null,null,null,null,null,"1985-06-14",{"$f":"'[1]Report-full'!B970","v":97.03},{"$f":"'[1]Report-full'!C970","v":92.57},{"$f":"'[1]Report-full'!D970","v":12.5}]
[null,"00:00:00",null,null,null,null,null,null,null,null,null,null,null,null,"1985-06-21",{"$f":"'[1]Report-full'!B971","v":96.74},{"$f":"'[1]Report-full'!C971","v":87.47},{"$f":"'[1]Report-full'!D971","v":11.9}]
[null,"00:00:00",null,null,null,null,null,null,null,null,null,null,null,null,"1985-06-28",{"$f":"'[1]Report-full'!B972","v":97.55},{"$f":"'[1]Report-full'!C972","v":100},{"$f":"'[1]Report-full'!D972","v":11.86}]
[null,"00:00:00",null,null,null,null,null,null,null,null,null,null,null,null,"1985-07-05",{"$f":"'[1]Report-full'!B973","v":98.18},{"$f":"'[1]Report-full'!C973","v":100},{"$f":"'[1]Report-full'!D973","v":12.17}]
[null,"00:00:00",null,null,null,null,null,null,null,null,null,null,null,null,"1985-07-12",{"$f":"'[1]Report-full'!B974","v":98.66},{"$f":"'[1]Report-full'!C974","v":100},{"$f":"'[1]Report-full'!D974","v":12.83}]
[null,"00:00:00",null,null,null,null,null,null,null,null,null,null,null,null,"1985-07-19",{"$f":"'[1]Report-full'!B975","v":98.64},{"$f":"'[1]Report-full'!C975","v":99.67},{"$f":"'[1]Report-full'!D975","v":13.63}]
[null,"00:00:00",null,null,null,null,null,null,null,null,null,null,null,null,"1985-07-26",{"$f":"'[1]Report-full'!B976","v":98.92},{"$f":"'[1]Report-full'!C976","v":100},{"$f":"'[1]Report-full'!D976","v":14.12}]
[null,"00:00:00",null,null,null,null,null,null,null,null,null,null,null,null,"1985-08-02",{"$f":"'[1]Report-full'!B977","v":99.15},{"$f":"'[1]Report-full'!C977","v":100},{"$f":"'[1]Report-full'!D977","v":14.38}]
[null,"00:00:00",null,null,null,null,null,null,null,null,null,null,null,null,"1985-08-09",{"$f":"'[1]Report-full'!B978","v":99.32},{"$f":"'[1]Report-full'!C978","v":100},{"$f":"'[1]Report-full'!D978","v":14.46}]
[null,"00:00:00",null,null,null,null,null,null,null,null,null,null,null,null,"1985-08-16",{"$f":"'[1]Report-full'!B979","v":99.27},{"$f":"'[1]Report-full'!C979","v":99.29},{"$f":"'[1]Report-full'!D979","v":14.54}]
[null,"00:00:00",null,null,null,null,null,null,null,null,null,null,null,null,"1985-08-23",{"$f":"'[1]Report-full'!B980","v":99.09},{"$f":"'[1]Report-full'!C980","v":96.14},{"$f":"'[1]Report-full'!D980","v":14.38}]
[null,"00:00:00",null,null,null,null,null,null,null,null,null,null,null,null,"1985-08-30",{"$f":"'[1]Report-full'!B981","v":99.33},{"$f":"'[1]Report-full'!C981","v":100},{"$f":"'[1]Report-full'!D981","v":14.25}]
[null,"00:00:00",null,null,null,null,null,null,null,null,null,null,null,null,"1985-09-06",{"$f":"'[1]Report-full'!B982","v":99.58},{"$f":"'[1]Report-full'!C982","v":100},{"$f":"'[1]Report-full'!D982","v":14.19}]
[null,"00:00:00",null,null,null,null,null,null,null,null,null,null,null,null,"1985-09-13",{"$f":"'[1]Report-full'!B983","v":99.5},{"$f":"'[1]Report-full'!C983","v":98.64},{"$f":"'[1]Report-full'!D983","v":14.1}]
[null,"00:00:00",null,null,null,null,null,null,null,null,null,null,null,null,"1985-09-20",{"$f":"'[1]Report-full'!B984","v":99.01},{"$f":"'[1]Report-full'!C984","v":90.33},{"$f":"'[1]Report-full'!D984","v":13.84}]
[null,"00:00:00",null,null,null,null,null,null,null,null,null,null,null,null,"1985-09-27",{"$f":"'[1]Report-full'!B985","v":98.72},{"$f":"'[1]Report-full'!C985","v":85.42},{"$f":"'[1]Report-full'!D985","v":13.29}]
[null,"00:00:00",null,null,null,null,null,null,null,null,null,null,null,null,"1985-10-04",{"$f":"'[1]Report-full'!B986","v":98.92},{"$f":"'[1]Report-full'!C986","v":88.73},{"$f":"'[1]Report-full'!D986","v":12.72}]
[null,"00:00:00",null,null,null,null,null,null,null,null,null,null,null,null,"1985-10-11",{"$f":"'[1]Report-full'!B987","v":98.58},{"$f":"'[1]Report-full'!C987","v":83.05},{"$f":"'[1]Report-full'!D987","v":12}]
[null,"00:00:00",null,null,null,null,null,null,null,null,null,null,null,null,"1985-10-18",{"$f":"'[1]Report-full'!B988","v":98.55},{"$f":"'[1]Report-full'!C988","v":82.55},{"$f":"'[1]Report-full'!D988","v":11.52}]
[null,"00:00:00",null,null,null,null,null,null,null,null,null,null,null,null,"1985-10-25",{"$f":"'[1]Report-full'!B989","v":99.03},{"$f":"'[1]Report-full'!C989","v":90.62},{"$f":"'[1]Report-full'!D989","v":11.44}]
[null,"00:00:00",null,null,null,null,null,null,null,null,null,null,null,null,"1985-11-01",{"$f":"'[1]Report-full'!B990","v":98.56},{"$f":"'[1]Report-full'!C990","v":82.72},{"$f":"'[1]Report-full'!D990","v":11}]
[null,"00:00:00",null,null,null,null,null,null,null,null,null,null,null,null,"1985-11-08",{"$f":"'[1]Report-full'!B991","v":98.48},{"$f":"'[1]Report-full'!C991","v":81.400000000000006},{"$f":"'[1]Report-full'!D991","v":10.7}]
[null,"00:00:00",null,null,null,null,null,null,null,null,null,null,null,null,"1985-11-15",{"$f":"'[1]Report-full'!B992","v":98.71},{"$f":"'[1]Report-full'!C992","v":85.29},{"$f":"'[1]Report-full'!D992","v":10.54}]
[null,"00:00:00",null,null,null,null,null,null,null,null,null,null,null,null,"1985-11-22",{"$f":"'[1]Report-full'!B993","v":99.17},{"$f":"'[1]Report-full'!C993","v":93.08},{"$f":"'[1]Report-full'!D993","v":10.39}]
[null,"00:00:00",null,null,null,null,null,null,null,null,null,null,null,null,"1985-11-29",{"$f":"'[1]Report-full'!B994","v":99.39},{"$f":"'[1]Report-full'!C994","v":96.7},{"$f":"'[1]Report-full'!D994","v":10.6}]
[null,"00:00:00",null,null,null,null,null,null,null,null,null,null,null,null,"1985-12-06",{"$f":"'[1]Report-full'!B995","v":99.57},{"$f":"'[1]Report-full'!C995","v":99.77},{"$f":"'[1]Report-full'!D995","v":10.94}]
[null,"00:00:00",null,null,null,null,null,null,null,null,null,null,null,null,"1985-12-13",{"$f":"'[1]Report-full'!B996","v":99.67},{"$f":"'[1]Report-full'!C996","v":100},{"$f":"'[1]Report-full'!D996","v":11.21}]
[null,"00:00:00",null,null,null,null,null,null,null,null,null,null,null,null,"1985-12-20",{"$f":"'[1]Report-full'!B997","v":99.67},{"$f":"'[1]Report-full'!C997","v":100},{"$f":"'[1]Report-full'!D997","v":11.22}]
[null,"00:00:00",null,null,null,null,null,null,null,null,null,null,null,null,"1985-12-27",{"$f":"'[1]Report-full'!B998","v":100.26},{"$f":"'[1]Report-full'!C998","v":100},{"$f":"'[1]Report-full'!D998","v":11.44}]
[null,"00:00:00",null,null,null,null,null,null,null,null,null,null,null,null,"1986-01-03",{"$f":"'[1]Report-full'!B999","v":101.32},{"$f":"'[1]Report-full'!C999","v":100},{"$f":"'[1]Report-full'!D999","v":12.1}]
[null,"00:00:00",null,null,null,null,null,null,null,null,null,null,null,null,"1986-01-10",{"$f":"'[1]Report-full'!B1000","v":101.65},{"$f":"'[1]Report-full'!C1000","v":100},{"$f":"'[1]Report-full'!D1000","v":12.86}]
[null,"00:00:00",null,null,null,null,null,null,null,null,null,null,null,null,"1986-01-17",{"$f":"'[1]Report-full'!B1001","v":101.04},{"$f":"'[1]Report-full'!C1001","v":90.02},{"$f":"'[1]Report-full'!D1001","v":13.29}]
[null,"00:00:00",null,null,null,null,null,null,null,null,null,null,null,null,"1986-01-24",{"$f":"'[1]Report-full'!B1002","v":101.16},{"$f":"'[1]Report-full'!C1002","v":91.95},{"$f":"'[1]Report-full'!D1002","v":13.45}]
[null,"00:00:00",null,null,null,null,null,null,null,null,null,null,null,null,"1986-01-31",{"$f":"'[1]Report-full'!B1003","v":101.63},{"$f":"'[1]Report-full'!C1003","v":99.73},{"$f":"'[1]Report-full'!D1003","v":13.29}]
[null,"00:00:00",null,null,null,null,null,null,null,null,null,null,null,null,"1986-02-07",{"$f":"'[1]Report-full'!B1004","v":102.01},{"$f":"'[1]Report-full'!C1004","v":100},{"$f":"'[1]Report-full'!D1004","v":13.18}]
[null,"00:00:00",null,null,null,null,null,null,null,null,null,null,null,null,"1986-02-14",{"$f":"'[1]Report-full'!B1005","v":102.51},{"$f":"'[1]Report-full'!C1005","v":100},{"$f":"'[1]Report-full'!D1005","v":13.65}]
[null,"00:00:00",null,null,null,null,null,null,null,null,null,null,null,null,"1986-02-21",{"$f":"'[1]Report-full'!B1006","v":102.95},{"$f":"'[1]Report-full'!C1006","v":100},{"$f":"'[1]Report-full'!D1006","v":14.28}]
[null,"00:00:00",null,null,null,null,null,null,null,null,null,null,null,null,"1986-02-28",{"$f":"'[1]Report-full'!B1007","v":103.35},{"$f":"'[1]Report-full'!C1007","v":100},{"$f":"'[1]Report-full'!D1007","v":14.87}]
[null,"00:00:00",null,null,null,null,null,null,null,null,null,null,null,null,"1986-03-07",{"$f":"'[1]Report-full'!B1008","v":103.27},{"$f":"'[1]Report-full'!C1008","v":98.72},{"$f":"'[1]Report-full'!D1008","v":15.2}]
[null,"00:00:00",null,null,null,null,null,null,null,null,null,null,null,null,"1986-03-14",{"$f":"'[1]Report-full'!B1009","v":103.67},{"$f":"'[1]Report-full'!C1009","v":100},{"$f":"'[1]Report-full'!D1009","v":15.47}]
[null,"00:00:00",null,null,null,null,null,null,null,null,null,null,null,null,"1986-03-21",{"$f":"'[1]Report-full'!B1010","v":104.2},{"$f":"'[1]Report-full'!C1010","v":100},{"$f":"'[1]Report-full'!D1010","v":15.77}]
[null,"00:00:00",null,null,null,null,null,null,null,null,null,null,null,null,"1986-03-28",{"$f":"'[1]Report-full'!B1011","v":104.29},{"$f":"'[1]Report-full'!C1011","v":100},{"$f":"'[1]Report-full'!D1011","v":15.91}]
[null,"00:00:00",null,null,null,null,null,null,null,null,null,null,null,null,"1986-04-04",{"$f":"'[1]Report-full'!B1012","v":104.26},{"$f":"'[1]Report-full'!C1012","v":99.49},{"$f":"'[1]Report-full'!D1012","v":16.07}]
[null,"00:00:00",null,null,null,null,null,null,null,null,null,null,null,null,"1986-04-11",{"$f":"'[1]Report-full'!B1013","v":103.54},{"$f":"'[1]Report-full'!C1013","v":87.99},{"$f":"'[1]Report-full'!D1013","v":15.65}]
[null,"00:00:00",null,null,null,null,null,null,null,null,null,null,null,null,"1986-04-18",{"$f":"'[1]Report-full'!B1014","v":103.88},{"$f":"'[1]Report-full'!C1014","v":93.4},{"$f":"'[1]Report-full'!D1014","v":15.15}]
[null,"00:00:00",null,null,null,null,null,null,null,null,null,null,null,null,"1986-04-25",{"$f":"'[1]Report-full'!B1015","v":104.49},{"$f":"'[1]Report-full'!C1015","v":100},{"$f":"'[1]Report-full'!D1015","v":14.93}]
[null,"00:00:00",null,null,null,null,null,null,null,null,null,null,null,null,"1986-05-02",{"$f":"'[1]Report-full'!B1016","v":105.27},{"$f":"'[1]Report-full'!C1016","v":100},{"$f":"'[1]Report-full'!D1016","v":15.14}]
[null,"00:00:00",null,null,null,null,null,null,null,null,null,null,null,null,"1986-05-09",{"$f":"'[1]Report-full'!B1017","v":105.3},{"$f":"'[1]Report-full'!C1017","v":100},{"$f":"'[1]Report-full'!D1017","v":15.72}]
[null,"00:00:00",null,null,null,null,null,null,null,null,null,null,null,null,"1986-05-16",{"$f":"'[1]Report-full'!B1018","v":105.47},{"$f":"'[1]Report-full'!C1018","v":100},{"$f":"'[1]Report-full'!D1018","v":16.2}]
[null,"00:00:00",null,null,null,null,null,null,null,null,null,null,null,null,"1986-05-23",{"$f":"'[1]Report-full'!B1019","v":105.3},{"$f":"'[1]Report-full'!C1019","v":97.27},{"$f":"'[1]Report-full'!D1019","v":16.260000000000002}]
[null,"00:00:00",null,null,null,null,null,null,null,null,null,null,null,null,"1986-05-30",{"$f":"'[1]Report-full'!B1020","v":105.92},{"$f":"'[1]Report-full'!C1020","v":100},{"$f":"'[1]Report-full'!D1020","v":16.25}]
[null,"00:00:00",null,null,null,null,null,null,null,null,null,null,null,null,"1986-06-06",{"$f":"'[1]Report-full'!B1021","v":106.35},{"$f":"'[1]Report-full'!C1021","v":100},{"$f":"'[1]Report-full'!D1021","v":16.43}]
[null,"00:00:00",null,null,null,null,null,null,null,null,null,null,null,null,"1986-06-13",{"$f":"'[1]Report-full'!B1022","v":105.84},{"$f":"'[1]Report-full'!C1022","v":91.94},{"$f":"'[1]Report-full'!D1022","v":16.27}]
[null,{"$f":"INT(C1018-($H$4/2*7))","v":"00:00:00"},null,null,null,null,null,null,null,null,null,null,null,null,"1986-06-20",{"$f":"'[1]Report-full'!B1023","v":106.11},{"$f":"'[1]Report-full'!C1023","v":96.21},{"$f":"'[1]Report-full'!D1023","v":16.32}]
[null,"00:00:00",null,null,null,null,null,null,null,null,null,null,null,null,"1986-06-27",{"$f":"'[1]Report-full'!B1024","v":105.94},{"$f":"'[1]Report-full'!C1024","v":93.5},{"$f":"'[1]Report-full'!D1024","v":15.96}]
[null,"00:00:00",null,null,null,null,null,null,null,null,null,null,null,null,"1986-07-04",{"$f":"'[1]Report-full'!B1025","v":106.09},{"$f":"'[1]Report-full'!C1025","v":95.91},{"$f":"'[1]Report-full'!D1025","v":15.46}]
[null,"00:00:00",null,null,null,null,null,null,null,null,null,null,null,null,"1986-07-11",{"$f":"'[1]Report-full'!B1026","v":105.73},{"$f":"'[1]Report-full'!C1026","v":90.2},{"$f":"'[1]Report-full'!D1026","v":15.06}]
[null,"00:00:00",null,null,null,null,null,null,null,null,null,null,null,null,"1986-07-18",{"$f":"'[1]Report-full'!B1027","v":104.69},{"$f":"'[1]Report-full'!C1027","v":73.760000000000005},{"$f":"'[1]Report-full'!D1027","v":14.01}]
[null,"00:00:00",null,null,null,null,null,null,null,null,null,null,null,null,"1986-07-25",{"$f":"'[1]Report-full'!B1028","v":104.85},{"$f":"'[1]Report-full'!C1028","v":76.33},{"$f":"'[1]Report-full'!D1028","v":13.17}]
[null,"00:00:00",null,null,null,null,null,null,null,null,null,null,null,null,"1986-08-01",{"$f":"'[1]Report-full'!B1029","v":104.45},{"$f":"'[1]Report-full'!C1029","v":69.97},{"$f":"'[1]Report-full'!D1029","v":12.09}]
[null,"00:00:00",null,null,null,null,null,null,null,null,null,null,null,null,"1986-08-08",{"$f":"'[1]Report-full'!B1030","v":104.01},{"$f":"'[1]Report-full'!C1030","v":63.04},{"$f":"'[1]Report-full'!D1030","v":11}]
[null,"00:00:00",null,null,null,null,null,null,null,null,null,null,null,null,"1986-08-15",{"$f":"'[1]Report-full'!B1031","v":104.46},{"$f":"'[1]Report-full'!C1031","v":70.14},{"$f":"'[1]Report-full'!D1031","v":10.67}]
[null,"00:00:00",null,null,null,null,null,null,null,null,null,null,null,null,"1986-08-22",{"$f":"'[1]Report-full'!B1032","v":104.59},{"$f":"'[1]Report-full'!C1032","v":72.2},{"$f":"'[1]Report-full'!D1032","v":10.34}]
[null,"00:00:00",null,null,null,null,null,null,null,null,null,null,null,null,"1986-08-29",{"$f":"'[1]Report-full'!B1033","v":104.72},{"$f":"'[1]Report-full'!C1033","v":74.260000000000005},{"$f":"'[1]Report-full'!D1033","v":10.28}]
[null,"00:00:00",null,null,null,null,null,null,null,null,null,null,null,null,"1986-09-05",{"$f":"'[1]Report-full'!B1034","v":104.56},{"$f":"'[1]Report-full'!C1034","v":71.67},{"$f":"'[1]Report-full'!D1034","v":10.34}]
[null,"00:00:00",null,null,null,null,null,null,null,null,null,null,null,null,"1986-09-12",{"$f":"'[1]Report-full'!B1035","v":104.41},{"$f":"'[1]Report-full'!C1035","v":69.319999999999993},{"$f":"'[1]Report-full'!D1035","v":10.119999999999999}]
[null,"00:00:00",null,null,null,null,null,null,null,null,null,null,null,null,"1986-09-19",{"$f":"'[1]Report-full'!B1036","v":102.94},{"$f":"'[1]Report-full'!C1036","v":46.13},{"$f":"'[1]Report-full'!D1036","v":9.1199999999999992}]
[null,"00:00:00",null,null,null,null,null,null,null,null,null,null,null,null,"1986-09-26",{"$f":"'[1]Report-full'!B1037","v":102.56},{"$f":"'[1]Report-full'!C1037","v":40.14},{"$f":"'[1]Report-full'!D1037","v":7.89}]
[null,"00:00:00",null,null,null,null,null,null,null,null,null,null,null,null,"1986-10-03",{"$f":"'[1]Report-full'!B1038","v":101.93},{"$f":"'[1]Report-full'!C1038","v":30.12},{"$f":"'[1]Report-full'!D1038","v":6.46}]
[null,"00:00:00",null,null,null,null,null,null,null,null,null,null,null,null,"1986-10-10",{"$f":"'[1]Report-full'!B1039","v":102.01},{"$f":"'[1]Report-full'!C1039","v":31.51},{"$f":"'[1]Report-full'!D1039","v":5.18}]
[null,"00:00:00",null,null,null,null,null,null,null,null,null,null,null,null,"1986-10-17",{"$f":"'[1]Report-full'!B1040","v":101.72},{"$f":"'[1]Report-full'!C1040","v":26.88},{"$f":"'[1]Report-full'!D1040","v":4.47}]
[null,"00:00:00",null,null,null,null,null,null,null,null,null,null,null,null,"1986-10-24",{"$f":"'[1]Report-full'!B1041","v":102.07},{"$f":"'[1]Report-full'!C1041","v":32.450000000000003},{"$f":"'[1]Report-full'!D1041","v":4.12}]
[null,"00:00:00",null,null,null,null,null,null,null,null,null,null,null,null,"1986-10-31",{"$f":"'[1]Report-full'!B1042","v":103.49},{"$f":"'[1]Report-full'!C1042","v":54.8},{"$f":"'[1]Report-full'!D1042","v":4.74}]
[null,"00:00:00",null,null,null,null,null,null,null,null,null,null,null,null,"1986-11-07",{"$f":"'[1]Report-full'!B1043","v":104.77},{"$f":"'[1]Report-full'!C1043","v":75.010000000000005},{"$f":"'[1]Report-full'!D1043","v":5.92}]
[null,"00:00:00",null,null,null,null,null,null,null,null,null,null,null,null,"1986-11-14",{"$f":"'[1]Report-full'!B1044","v":105.67},{"$f":"'[1]Report-full'!C1044","v":89.22},{"$f":"'[1]Report-full'!D1044","v":7.64}]
[null,"00:00:00",null,null,null,null,null,null,null,null,null,null,null,null,"1986-11-21",{"$f":"'[1]Report-full'!B1045","v":105.8},{"$f":"'[1]Report-full'!C1045","v":91.38},{"$f":"'[1]Report-full'!D1045","v":9.24}]
[null,"00:00:00",null,null,null,null,null,null,null,null,null,null,null,null,"1986-11-28",{"$f":"'[1]Report-full'!B1046","v":105.66},{"$f":"'[1]Report-full'!C1046","v":89.15},{"$f":"'[1]Report-full'!D1046","v":10.050000000000001}]
[null,"00:00:00",null,null,null,null,null,null,null,null,null,null,null,null,"1986-12-05",{"$f":"'[1]Report-full'!B1047","v":106.17},{"$f":"'[1]Report-full'!C1047","v":97.15},{"$f":"'[1]Report-full'!D1047","v":10.48}]
[null,"00:00:00",null,null,null,null,null,null,null,null,null,null,null,null,"1986-12-12",{"$f":"'[1]Report-full'!B1048","v":105.68},{"$f":"'[1]Report-full'!C1048","v":89.38},{"$f":"'[1]Report-full'!D1048","v":10.24}]
[null,"00:00:00",null,null,null,null,null,null,null,null,null,null,null,null,"1986-12-19",{"$f":"'[1]Report-full'!B1049","v":105.39},{"$f":"'[1]Report-full'!C1049","v":84.84},{"$f":"'[1]Report-full'!D1049","v":9.7899999999999991}]
[null,"00:00:00",null,null,null,null,null,null,null,null,null,null,null,null,"1986-12-26",{"$f":"'[1]Report-full'!B1050","v":105.48},{"$f":"'[1]Report-full'!C1050","v":86.29},{"$f":"'[1]Report-full'!D1050","v":9.48}]
[null,"00:00:00",null,null,null,null,null,null,null,null,null,null,null,null,"1987-01-02",{"$f":"'[1]Report-full'!B1051","v":105.96},{"$f":"'[1]Report-full'!C1051","v":93.92},{"$f":"'[1]Report-full'!D1051","v":9.16}]
[null,"00:00:00",null,null,null,null,null,null,null,null,null,null,null,null,"1987-01-09",{"$f":"'[1]Report-full'!B1052","v":106.5},{"$f":"'[1]Report-full'!C1052","v":100},{"$f":"'[1]Report-full'!D1052","v":9.35}]
[null,"00:00:00",null,null,null,null,null,null,null,null,null,null,null,null,"1987-01-16",{"$f":"'[1]Report-full'!B1053","v":107.3},{"$f":"'[1]Report-full'!C1053","v":100},{"$f":"'[1]Report-full'!D1053","v":10.08}]
[null,"00:00:00",null,null,null,null,null,null,null,null,null,null,null,null,"1987-01-23",{"$f":"'[1]Report-full'!B1054","v":108.37},{"$f":"'[1]Report-full'!C1054","v":100},{"$f":"'[1]Report-full'!D1054","v":11.27}]
[null,"00:00:00",null,null,null,null,null,null,null,null,null,null,null,null,"1987-01-30",{"$f":"'[1]Report-full'!B1055","v":110.07},{"$f":"'[1]Report-full'!C1055","v":100},{"$f":"'[1]Report-full'!D1055","v":13.03}]
[null,"00:00:00",null,null,null,null,null,null,null,null,null,null,null,null,"1987-02-06",{"$f":"'[1]Report-full'!B1056","v":110.76},{"$f":"'[1]Report-full'!C1056","v":100},{"$f":"'[1]Report-full'!D1056","v":14.85}]
[null,"00:00:00",null,null,null,null,null,null,null,null,null,null,null,null,"1987-02-13",{"$f":"'[1]Report-full'!B1057","v":111.2},{"$f":"'[1]Report-full'!C1057","v":100},{"$f":"'[1]Report-full'!D1057","v":16.46}]
[null,"00:00:00",null,null,null,null,null,null,null,null,null,null,null,null,"1987-02-20",{"$f":"'[1]Report-full'!B1058","v":111.66},{"$f":"'[1]Report-full'!C1058","v":100},{"$f":"'[1]Report-full'!D1058","v":17.75}]
[null,"00:00:00",null,null,null,null,null,null,null,null,null,null,null,null,"1987-02-27",{"$f":"'[1]Report-full'!B1059","v":111.53},{"$f":"'[1]Report-full'!C1059","v":98.02},{"$f":"'[1]Report-full'!D1059","v":18.12}]
[null,"00:00:00",null,null,null,null,null,null,null,null,null,null,null,null,"1987-03-06",{"$f":"'[1]Report-full'!B1060","v":111.17},{"$f":"'[1]Report-full'!C1060","v":92.68},{"$f":"'[1]Report-full'!D1060","v":17.98}]
[null,"00:00:00",null,null,null,null,null,null,null,null,null,null,null,null,"1987-03-13",{"$f":"'[1]Report-full'!B1061","v":111.53},{"$f":"'[1]Report-full'!C1061","v":98.09},{"$f":"'[1]Report-full'!D1061","v":17.809999999999999}]
[null,"00:00:00",null,null,null,null,null,null,null,null,null,null,null,null,"1987-03-20",{"$f":"'[1]Report-full'!B1062","v":111.59},{"$f":"'[1]Report-full'!C1062","v":98.99},{"$f":"'[1]Report-full'!D1062","v":17.45}]
[null,"00:00:00",null,null,null,null,null,null,null,null,null,null,null,null,"1987-03-27",{"$f":"'[1]Report-full'!B1063","v":112.17},{"$f":"'[1]Report-full'!C1063","v":100},{"$f":"'[1]Report-full'!D1063","v":17.46}]
[null,"00:00:00",null,null,null,null,null,null,null,null,null,null,null,null,"1987-04-03",{"$f":"'[1]Report-full'!B1064","v":112.21},{"$f":"'[1]Report-full'!C1064","v":100},{"$f":"'[1]Report-full'!D1064","v":17.66}]
[null,"00:00:00",null,null,null,null,null,null,null,null,null,null,null,null,"1987-04-10",{"$f":"'[1]Report-full'!B1065","v":112.68},{"$f":"'[1]Report-full'!C1065","v":100},{"$f":"'[1]Report-full'!D1065","v":17.91}]
[null,"00:00:00",null,null,null,null,null,null,null,null,null,null,null,null,"1987-04-17",{"$f":"'[1]Report-full'!B1066","v":111.63},{"$f":"'[1]Report-full'!C1066","v":84.42},{"$f":"'[1]Report-full'!D1066","v":17.61}]
[null,"00:00:00",null,null,null,null,null,null,null,null,null,null,null,null,"1987-04-24",{"$f":"'[1]Report-full'!B1067","v":112.11},{"$f":"'[1]Report-full'!C1067","v":91.58},{"$f":"'[1]Report-full'!D1067","v":17.25}]
[null,"00:00:00",null,null,null,null,null,null,null,null,null,null,null,null,"1987-05-01",{"$f":"'[1]Report-full'!B1068","v":111.68},{"$f":"'[1]Report-full'!C1068","v":85.07},{"$f":"'[1]Report-full'!D1068","v":16.670000000000002}]
[null,"00:00:00",null,null,null,null,null,null,null,null,null,null,null,null,"1987-05-08",{"$f":"'[1]Report-full'!B1069","v":112.29},{"$f":"'[1]Report-full'!C1069","v":94.17},{"$f":"'[1]Report-full'!D1069","v":16.18}]
[null,"00:00:00",null,null,null,null,null,null,null,null,null,null,null,null,"1987-05-15",{"$f":"'[1]Report-full'!B1070","v":113.1},{"$f":"'[1]Report-full'!C1070","v":100},{"$f":"'[1]Report-full'!D1070","v":16.61}]
[null,"00:00:00",null,null,null,null,null,null,null,null,null,null,null,null,"1987-05-22",{"$f":"'[1]Report-full'!B1071","v":112.59},{"$f":"'[1]Report-full'!C1071","v":92.42},{"$f":"'[1]Report-full'!D1071","v":16.559999999999999}]
[null,"00:00:00",null,null,null,null,null,null,null,null,null,null,null,null,"1987-05-29",{"$f":"'[1]Report-full'!B1072","v":112.88},{"$f":"'[1]Report-full'!C1072","v":96.74},{"$f":"'[1]Report-full'!D1072","v":16.86}]
[null,"00:00:00",null,null,null,null,null,null,null,null,null,null,null,null,"1987-06-05",{"$f":"'[1]Report-full'!B1073","v":113.83},{"$f":"'[1]Report-full'!C1073","v":100},{"$f":"'[1]Report-full'!D1073","v":17.32}]
[null,"00:00:00",null,null,null,null,null,null,null,null,null,null,null,null,"1987-06-12",{"$f":"'[1]Report-full'!B1074","v":114.11},{"$f":"'[1]Report-full'!C1074","v":100},{"$f":"'[1]Report-full'!D1074","v":17.52}]
[null,"00:00:00",null,null,null,null,null,null,null,null,null,null,null,null,"1987-06-19",{"$f":"'[1]Report-full'!B1075","v":115.17},{"$f":"'[1]Report-full'!C1075","v":100},{"$f":"'[1]Report-full'!D1075","v":18.47}]
[null,"00:00:00",null,null,null,null,null,null,null,null,null,null,null,null,"1987-06-26",{"$f":"'[1]Report-full'!B1076","v":114.94},{"$f":"'[1]Report-full'!C1076","v":96.56},{"$f":"'[1]Report-full'!D1076","v":19.16}]
[null,"00:00:00",null,null,null,null,null,null,null,null,null,null,null,null,"1987-07-03",{"$f":"'[1]Report-full'!B1077","v":114.59},{"$f":"'[1]Report-full'!C1077","v":91.45},{"$f":"'[1]Report-full'!D1077","v":19.190000000000001}]
[null,"00:00:00",null,null,null,null,null,null,null,null,null,null,null,null,"1987-07-10",{"$f":"'[1]Report-full'!B1078","v":114.1},{"$f":"'[1]Report-full'!C1078","v":84.32},{"$f":"'[1]Report-full'!D1078","v":18.84}]
[null,"00:00:00",null,null,null,null,null,null,null,null,null,null,null,null,"1987-07-17",{"$f":"'[1]Report-full'!B1079","v":114.84},{"$f":"'[1]Report-full'!C1079","v":95.15},{"$f":"'[1]Report-full'!D1079","v":18.34}]
[null,"00:00:00",null,null,null,null,null,null,null,null,null,null,null,null,"1987-07-24",{"$f":"'[1]Report-full'!B1080","v":115.39},{"$f":"'[1]Report-full'!C1080","v":100},{"$f":"'[1]Report-full'!D1080","v":18.2}]
[null,"00:00:00",null,null,null,null,null,null,null,null,null,null,null,null,"1987-07-31",{"$f":"'[1]Report-full'!B1081","v":115.27},{"$f":"'[1]Report-full'!C1081","v":98.24},{"$f":"'[1]Report-full'!D1081","v":18.16}]
[null,"00:00:00",null,null,null,null,null,null,null,null,null,null,null,null,"1987-08-07",{"$f":"'[1]Report-full'!B1082","v":115.43},{"$f":"'[1]Report-full'!C1082","v":100},{"$f":"'[1]Report-full'!D1082","v":18.420000000000002}]
[null,"00:00:00",null,null,null,null,null,null,null,null,null,null,null,null,"1987-08-14",{"$f":"'[1]Report-full'!B1083","v":116.21},{"$f":"'[1]Report-full'!C1083","v":100},{"$f":"'[1]Report-full'!D1083","v":18.649999999999999}]
[null,"00:00:00",null,null,null,null,null,null,null,null,null,null,null,null,"1987-08-21",{"$f":"'[1]Report-full'!B1084","v":116.43},{"$f":"'[1]Report-full'!C1084","v":100},{"$f":"'[1]Report-full'!D1084","v":18.71}]
[null,"00:00:00",null,null,null,null,null,null,null,null,null,null,null,null,"1987-08-28",{"$f":"'[1]Report-full'!B1085","v":117.19},{"$f":"'[1]Report-full'!C1085","v":100},{"$f":"'[1]Report-full'!D1085","v":19.18}]
[null,"00:00:00",null,null,null,null,null,null,null,null,null,null,null,null,"1987-09-04",{"$f":"'[1]Report-full'!B1086","v":116.99},{"$f":"'[1]Report-full'!C1086","v":97.14},{"$f":"'[1]Report-full'!D1086","v":19.46}]
[null,{"$f":"INT(C1082-($H$4/2*7))","v":"00:00:00"},null,null,null,null,null,null,null,null,null,null,null,null,"1987-09-11",{"$f":"'[1]Report-full'!B1087","v":116.56},{"$f":"'[1]Report-full'!C1087","v":90.88},{"$f":"'[1]Report-full'!D1087","v":19.149999999999999}]
[null,"00:00:00",null,null,null,null,null,null,null,null,null,null,null,null,"1987-09-18",{"$f":"'[1]Report-full'!B1088","v":117.16},{"$f":"'[1]Report-full'!C1088","v":99.55},{"$f":"'[1]Report-full'!D1088","v":19.02}]
[null,"00:00:00",null,null,null,null,null,null,null,null,null,null,null,null,"1987-09-25",{"$f":"'[1]Report-full'!B1089","v":116.95},{"$f":"'[1]Report-full'!C1089","v":96.52},{"$f":"'[1]Report-full'!D1089","v":18.41}]
[null,"00:00:00",null,null,null,null,null,null,null,null,null,null,null,null,"1987-10-02",{"$f":"'[1]Report-full'!B1090","v":116.22},{"$f":"'[1]Report-full'!C1090","v":86.09},{"$f":"'[1]Report-full'!D1090","v":17.54}]
[null,"00:00:00",null,null,null,null,null,null,null,null,null,null,null,null,"1987-10-09",{"$f":"'[1]Report-full'!B1091","v":117.2},{"$f":"'[1]Report-full'!C1091","v":100},{"$f":"'[1]Report-full'!D1091","v":17.32}]
[null,"00:00:00",null,null,null,null,null,null,null,null,null,null,null,null,"1987-10-16",{"$f":"'[1]Report-full'!B1092","v":116.76},{"$f":"'[1]Report-full'!C1092","v":93.6},{"$f":"'[1]Report-full'!D1092","v":16.579999999999998}]
[null,"00:00:00",null,null,null,null,null,null,null,null,null,null,null,null,"1987-10-23",{"$f":"'[1]Report-full'!B1093","v":114.57},{"$f":"'[1]Report-full'!C1093","v":62.27},{"$f":"'[1]Report-full'!D1093","v":14.93}]
[null,"00:00:00",null,null,null,null,null,null,null,null,null,null,null,null,"1987-10-30",{"$f":"'[1]Report-full'!B1094","v":112.79},{"$f":"'[1]Report-full'!C1094","v":36.71},{"$f":"'[1]Report-full'!D1094","v":12.84}]
[null,"00:00:00",null,null,null,null,null,null,null,null,null,null,null,null,"1987-11-06",{"$f":"'[1]Report-full'!B1095","v":114.6},{"$f":"'[1]Report-full'!C1095","v":62.77},{"$f":"'[1]Report-full'!D1095","v":11.2}]
[null,"00:00:00",null,null,null,null,null,null,null,null,null,null,null,null,"1987-11-13",{"$f":"'[1]Report-full'!B1096","v":115.1},{"$f":"'[1]Report-full'!C1096","v":69.83},{"$f":"'[1]Report-full'!D1096","v":10.039999999999999}]
[null,"00:00:00",null,null,null,null,null,null,null,null,null,null,null,null,"1987-11-20",{"$f":"'[1]Report-full'!B1097","v":114.76},{"$f":"'[1]Report-full'!C1097","v":64.959999999999994},{"$f":"'[1]Report-full'!D1097","v":9.77}]
[null,"00:00:00",null,null,null,null,null,null,null,null,null,null,null,null,"1987-11-27",{"$f":"'[1]Report-full'!B1098","v":113.86},{"$f":"'[1]Report-full'!C1098","v":52.09},{"$f":"'[1]Report-full'!D1098","v":9.92}]
[null,"00:00:00",null,null,null,null,null,null,null,null,null,null,null,null,"1987-12-04",{"$f":"'[1]Report-full'!B1099","v":113.16},{"$f":"'[1]Report-full'!C1099","v":41.99},{"$f":"'[1]Report-full'!D1099","v":8.9600000000000009}]
[null,"00:00:00",null,null,null,null,null,null,null,null,null,null,null,null,"1987-12-11",{"$f":"'[1]Report-full'!B1100","v":112.38},{"$f":"'[1]Report-full'!C1100","v":30.94},{"$f":"'[1]Report-full'!D1100","v":7.48}]
[null,"00:00:00",null,null,null,null,null,null,null,null,null,null,null,null,"1987-12-18",{"$f":"'[1]Report-full'!B1101","v":113.04},{"$f":"'[1]Report-full'!C1101","v":40.299999999999997},{"$f":"'[1]Report-full'!D1101","v":6.46}]
[null,"00:00:00",null,null,null,null,null,null,null,null,null,null,null,null,"1987-12-25",{"$f":"'[1]Report-full'!B1102","v":113.98},{"$f":"'[1]Report-full'!C1102","v":53.87},{"$f":"'[1]Report-full'!D1102","v":6.27}]
[null,"00:00:00",null,null,null,null,null,null,null,null,null,null,null,null,"1988-01-01",{"$f":"'[1]Report-full'!B1103","v":113.74},{"$f":"'[1]Report-full'!C1103","v":50.39},{"$f":"'[1]Report-full'!D1103","v":6.27}]
[null,"00:00:00",null,null,null,null,null,null,null,null,null,null,null,null,"1988-01-08",{"$f":"'[1]Report-full'!B1104","v":113.81},{"$f":"'[1]Report-full'!C1104","v":51.39},{"$f":"'[1]Report-full'!D1104","v":6.64}]
[null,"00:00:00",null,null,null,null,null,null,null,null,null,null,null,null,"1988-01-15",{"$f":"'[1]Report-full'!B1105","v":113.6},{"$f":"'[1]Report-full'!C1105","v":48.43},{"$f":"'[1]Report-full'!D1105","v":6.62}]
[null,"00:00:00",null,null,null,null,null,null,null,null,null,null,null,null,"1988-01-22",{"$f":"'[1]Report-full'!B1106","v":112.79},{"$f":"'[1]Report-full'!C1106","v":36.729999999999997},{"$f":"'[1]Report-full'!D1106","v":5.86}]
[null,"00:00:00",null,null,null,null,null,null,null,null,null,null,null,null,"1988-01-29",{"$f":"'[1]Report-full'!B1107","v":112.44},{"$f":"'[1]Report-full'!C1107","v":31.79},{"$f":"'[1]Report-full'!D1107","v":5.08}]
[null,"00:00:00",null,null,null,null,null,null,null,null,null,null,null,null,"1988-02-05",{"$f":"'[1]Report-full'!B1108","v":112.65},{"$f":"'[1]Report-full'!C1108","v":34.68},{"$f":"'[1]Report-full'!D1108","v":4.42}]
[null,"00:00:00",null,null,null,null,null,null,null,null,null,null,null,null,"1988-02-12",{"$f":"'[1]Report-full'!B1109","v":112.33},{"$f":"'[1]Report-full'!C1109","v":30.18},{"$f":"'[1]Report-full'!D1109","v":3.75}]
[null,"00:00:00",null,null,null,null,null,null,null,null,null,null,null,null,"1988-02-19",{"$f":"'[1]Report-full'!B1110","v":112.92},{"$f":"'[1]Report-full'!C1110","v":38.630000000000003},{"$f":"'[1]Report-full'!D1110","v":3.73}]
[null,"00:00:00",null,null,null,null,null,null,null,null,null,null,null,null,"1988-02-26",{"$f":"'[1]Report-full'!B1111","v":113.22},{"$f":"'[1]Report-full'!C1111","v":42.93},{"$f":"'[1]Report-full'!D1111","v":4.01}]
[null,"00:00:00",null,null,null,null,null,null,null,null,null,null,null,null,"1988-03-04",{"$f":"'[1]Report-full'!B1112","v":113.92},{"$f":"'[1]Report-full'!C1112","v":52.97},{"$f":"'[1]Report-full'!D1112","v":4.5}]
[null,"00:00:00",null,null,null,null,null,null,null,null,null,null,null,null,"1988-03-11",{"$f":"'[1]Report-full'!B1113","v":114.45},{"$f":"'[1]Report-full'!C1113","v":60.6},{"$f":"'[1]Report-full'!D1113","v":5.35}]
[null,"00:00:00",null,null,null,null,null,null,null,null,null,null,null,null,"1988-03-18",{"$f":"'[1]Report-full'!B1114","v":114.21},{"$f":"'[1]Report-full'!C1114","v":57.13},{"$f":"'[1]Report-full'!D1114","v":5.84}]
[null,"00:00:00",null,null,null,null,null,null,null,null,null,null,null,null,"1988-03-25",{"$f":"'[1]Report-full'!B1115","v":114.67},{"$f":"'[1]Report-full'!C1115","v":63.71},{"$f":"'[1]Report-full'!D1115","v":6.38}]
[null,"00:00:00",null,null,null,null,null,null,null,null,null,null,null,null,"1988-04-01",{"$f":"'[1]Report-full'!B1116","v":114.77},{"$f":"'[1]Report-full'!C1116","v":65.13},{"$f":"'[1]Report-full'!D1116","v":6.65}]
[null,"00:00:00",null,null,null,null,null,null,null,null,null,null,null,null,"1988-04-08",{"$f":"'[1]Report-full'!B1117","v":115.41},{"$f":"'[1]Report-full'!C1117","v":74.319999999999993},{"$f":"'[1]Report-full'!D1117","v":6.98}]
[null,"00:00:00",null,null,null,null,null,null,null,null,null,null,null,null,"1988-04-15",{"$f":"'[1]Report-full'!B1118","v":116.68},{"$f":"'[1]Report-full'!C1118","v":92.59},{"$f":"'[1]Report-full'!D1118","v":7.96}]
[null,"00:00:00",null,null,null,null,null,null,null,null,null,null,null,null,"1988-04-22",{"$f":"'[1]Report-full'!B1119","v":115.97},{"$f":"'[1]Report-full'!C1119","v":82.3},{"$f":"'[1]Report-full'!D1119","v":8.42}]
[null,"00:00:00",null,null,null,null,null,null,null,null,null,null,null,null,"1988-04-29",{"$f":"'[1]Report-full'!B1120","v":116.52},{"$f":"'[1]Report-full'!C1120","v":90.28},{"$f":"'[1]Report-full'!D1120","v":9.06}]
[null,"00:00:00",null,null,null,null,null,null,null,null,null,null,null,null,"1988-05-06",{"$f":"'[1]Report-full'!B1121","v":116.83},{"$f":"'[1]Report-full'!C1121","v":94.68},{"$f":"'[1]Report-full'!D1121","v":9.5399999999999991}]
[null,"00:00:00",null,null,null,null,null,null,null,null,null,null,null,null,"1988-05-13",{"$f":"'[1]Report-full'!B1122","v":116.58},{"$f":"'[1]Report-full'!C1122","v":91.13},{"$f":"'[1]Report-full'!D1122","v":9.34}]
[null,"00:00:00",null,null,null,null,null,null,null,null,null,null,null,null,"1988-05-20",{"$f":"'[1]Report-full'!B1123","v":116.62},{"$f":"'[1]Report-full'!C1123","v":91.64},{"$f":"'[1]Report-full'!D1123","v":9.48}]
[null,"00:00:00",null,null,null,null,null,null,null,null,null,null,null,null,"1988-05-27",{"$f":"'[1]Report-full'!B1124","v":116.67},{"$f":"'[1]Report-full'!C1124","v":92.31},{"$f":"'[1]Report-full'!D1124","v":9.4}]
[null,"00:00:00",null,null,null,null,null,null,null,null,null,null,null,null,"1988-06-03",{"$f":"'[1]Report-full'!B1125","v":117.07},{"$f":"'[1]Report-full'!C1125","v":98.08},{"$f":"'[1]Report-full'!D1125","v":9.36}]
[null,"00:00:00",null,null,null,null,null,null,null,null,null,null,null,null,"1988-06-10",{"$f":"'[1]Report-full'!B1126","v":118.3},{"$f":"'[1]Report-full'!C1126","v":100},{"$f":"'[1]Report-full'!D1126","v":9.99}]
[null,"00:00:00",null,null,null,null,null,null,null,null,null,null,null,null,"1988-06-17",{"$f":"'[1]Report-full'!B1127","v":119.07},{"$f":"'[1]Report-full'!C1127","v":100},{"$f":"'[1]Report-full'!D1127","v":10.93}]
[null,"00:00:00",null,null,null,null,null,null,null,null,null,null,null,null,"1988-06-24",{"$f":"'[1]Report-full'!B1128","v":118.98},{"$f":"'[1]Report-full'!C1128","v":98.77},{"$f":"'[1]Report-full'!D1128","v":11.81}]
[null,"00:00:00",null,null,null,null,null,null,null,null,null,null,null,null,"1988-07-01",{"$f":"'[1]Report-full'!B1129","v":119.19},{"$f":"'[1]Report-full'!C1129","v":100},{"$f":"'[1]Report-full'!D1129","v":12.61}]
[null,"00:00:00",null,null,null,null,null,null,null,null,null,null,null,null,"1988-07-08",{"$f":"'[1]Report-full'!B1130","v":119.35},{"$f":"'[1]Report-full'!C1130","v":100},{"$f":"'[1]Report-full'!D1130","v":12.92}]
[null,"00:00:00",null,null,null,null,null,null,null,null,null,null,null,null,"1988-07-15",{"$f":"'[1]Report-full'!B1131","v":119.24},{"$f":"'[1]Report-full'!C1131","v":98.51},{"$f":"'[1]Report-full'!D1131","v":12.84}]
[null,"00:00:00",null,null,null,null,null,null,null,null,null,null,null,null,"1988-07-22",{"$f":"'[1]Report-full'!B1132","v":119.36},{"$f":"'[1]Report-full'!C1132","v":100},{"$f":"'[1]Report-full'!D1132","v":12.85}]
[null,"00:00:00",null,null,null,null,null,null,null,null,null,null,null,null,"1988-07-29",{"$f":"'[1]Report-full'!B1133","v":118.94},{"$f":"'[1]Report-full'!C1133","v":94.1},{"$f":"'[1]Report-full'!D1133","v":12.58}]
[null,"00:00:00",null,null,null,null,null,null,null,null,null,null,null,null,"1988-08-05",{"$f":"'[1]Report-full'!B1134","v":119.43},{"$f":"'[1]Report-full'!C1134","v":100},{"$f":"'[1]Report-full'!D1134","v":12.47}]
[null,"00:00:00",null,null,null,null,null,null,null,null,null,null,null,null,"1988-08-12",{"$f":"'[1]Report-full'!B1135","v":119.19},{"$f":"'[1]Report-full'!C1135","v":96.61},{"$f":"'[1]Report-full'!D1135","v":12.31}]
[null,"00:00:00",null,null,null,null,null,null,null,null,null,null,null,null,"1988-08-19",{"$f":"'[1]Report-full'!B1136","v":118.57},{"$f":"'[1]Report-full'!C1136","v":87.93},{"$f":"'[1]Report-full'!D1136","v":11.84}]
[null,"00:00:00",null,null,null,null,null,null,null,null,null,null,null,null,"1988-08-26",{"$f":"'[1]Report-full'!B1137","v":118.16},{"$f":"'[1]Report-full'!C1137","v":82.16},{"$f":"'[1]Report-full'!D1137","v":11.39}]
[null,"00:00:00",null,null,null,null,null,null,null,null,null,null,null,null,"1988-09-02",{"$f":"'[1]Report-full'!B1138","v":117.96},{"$f":"'[1]Report-full'!C1138","v":79.22},{"$f":"'[1]Report-full'!D1138","v":10.66}]
[null,"00:00:00",null,null,null,null,null,null,null,null,null,null,null,null,"1988-09-09",{"$f":"'[1]Report-full'!B1139","v":118.13},{"$f":"'[1]Report-full'!C1139","v":81.69},{"$f":"'[1]Report-full'!D1139","v":10.14}]
[null,"00:00:00",null,null,null,null,null,null,null,null,null,null,null,null,"1988-09-16",{"$f":"'[1]Report-full'!B1140","v":118.32},{"$f":"'[1]Report-full'!C1140","v":84.36},{"$f":"'[1]Report-full'!D1140","v":9.98}]
[null,"00:00:00",null,null,null,null,null,null,null,null,null,null,null,null,"1988-09-23",{"$f":"'[1]Report-full'!B1141","v":118.7},{"$f":"'[1]Report-full'!C1141","v":89.76},{"$f":"'[1]Report-full'!D1141","v":10.18}]
[null,"00:00:00",null,null,null,null,null,null,null,null,null,null,null,null,"1988-09-30",{"$f":"'[1]Report-full'!B1142","v":118.51},{"$f":"'[1]Report-full'!C1142","v":86.98},{"$f":"'[1]Report-full'!D1142","v":10.37}]
[null,"00:00:00",null,null,null,null,null,null,null,null,null,null,null,null,"1988-10-07",{"$f":"'[1]Report-full'!B1143","v":118.97},{"$f":"'[1]Report-full'!C1143","v":93.46},{"$f":"'[1]Report-full'!D1143","v":10.67}]
[null,"00:00:00",null,null,null,null,null,null,null,null,null,null,null,null,"1988-10-14",{"$f":"'[1]Report-full'!B1144","v":119.65},{"$f":"'[1]Report-full'!C1144","v":100},{"$f":"'[1]Report-full'!D1144","v":11.19}]
[null,"00:00:00",null,null,null,null,null,null,null,null,null,null,null,null,"1988-10-21",{"$f":"'[1]Report-full'!B1145","v":120.02},{"$f":"'[1]Report-full'!C1145","v":100},{"$f":"'[1]Report-full'!D1145","v":11.69}]
[null,"00:00:00",null,null,null,null,null,null,null,null,null,null,null,null,"1988-10-28",{"$f":"'[1]Report-full'!B1146","v":120.87},{"$f":"'[1]Report-full'!C1146","v":100},{"$f":"'[1]Report-full'!D1146","v":12.61}]
[null,"00:00:00",null,null,null,null,null,null,null,null,null,null,null,null,"1988-11-04",{"$f":"'[1]Report-full'!B1147","v":120.66},{"$f":"'[1]Report-full'!C1147","v":97.05},{"$f":"'[1]Report-full'!D1147","v":13.19}]
[null,"00:00:00",null,null,null,null,null,null,null,null,null,null,null,null,"1988-11-11",{"$f":"'[1]Report-full'!B1148","v":120.47},{"$f":"'[1]Report-full'!C1148","v":94.43},{"$f":"'[1]Report-full'!D1148","v":13.36}]
[null,"00:00:00",null,null,null,null,null,null,null,null,null,null,null,null,"1988-11-18",{"$f":"'[1]Report-full'!B1149","v":120.65},{"$f":"'[1]Report-full'!C1149","v":96.92},{"$f":"'[1]Report-full'!D1149","v":13.41}]
[null,"00:00:00",null,null,null,null,null,null,null,null,null,null,null,null,"1988-11-25",{"$f":"'[1]Report-full'!B1150","v":120.05},{"$f":"'[1]Report-full'!C1150","v":88.5},{"$f":"'[1]Report-full'!D1150","v":12.83}]
[null,{"$f":"INT(C1146-($H$4/2*7))","v":"00:00:00"},null,null,null,null,null,null,null,null,null,null,null,null,"1988-12-02",{"$f":"'[1]Report-full'!B1151","v":120.33},{"$f":"'[1]Report-full'!C1151","v":92.44},{"$f":"'[1]Report-full'!D1151","v":12.48}]
[null,"00:00:00",null,null,null,null,null,null,null,null,null,null,null,null,"1988-12-09",{"$f":"'[1]Report-full'!B1152","v":120.48},{"$f":"'[1]Report-full'!C1152","v":94.54},{"$f":"'[1]Report-full'!D1152","v":12.28}]
[null,"00:00:00",null,null,null,null,null,null,null,null,null,null,null,null,"1988-12-16",{"$f":"'[1]Report-full'!B1153","v":120.69},{"$f":"'[1]Report-full'!C1153","v":97.47},{"$f":"'[1]Report-full'!D1153","v":12.06}]
[null,"00:00:00",null,null,null,null,null,null,null,null,null,null,null,null,"1988-12-23",{"$f":"'[1]Report-full'!B1154","v":120.7},{"$f":"'[1]Report-full'!C1154","v":97.54},{"$f":"'[1]Report-full'!D1154","v":12.09}]
[null,"00:00:00",null,null,null,null,null,null,null,null,null,null,null,null,"1988-12-30",{"$f":"'[1]Report-full'!B1155","v":119.71},{"$f":"'[1]Report-full'!C1155","v":83.76},{"$f":"'[1]Report-full'!D1155","v":11.57}]
[null,"00:00:00",null,null,null,null,null,null,null,null,null,null,null,null,"1989-01-06",{"$f":"'[1]Report-full'!B1156","v":119.07},{"$f":"'[1]Report-full'!C1156","v":74.989999999999995},{"$f":"'[1]Report-full'!D1156","v":10.72}]
[null,"00:00:00",null,null,null,null,null,null,null,null,null,null,null,null,"1989-01-13",{"$f":"'[1]Report-full'!B1157","v":118.81},{"$f":"'[1]Report-full'!C1157","v":71.260000000000005},{"$f":"'[1]Report-full'!D1157","v":9.7100000000000009}]
[null,"00:00:00",null,null,null,null,null,null,null,null,null,null,null,null,"1989-01-20",{"$f":"'[1]Report-full'!B1158","v":119.02},{"$f":"'[1]Report-full'!C1158","v":74.260000000000005},{"$f":"'[1]Report-full'!D1158","v":8.8000000000000007}]
[null,"00:00:00",null,null,null,null,null,null,null,null,null,null,null,null,"1989-01-27",{"$f":"'[1]Report-full'!B1159","v":119.49},{"$f":"'[1]Report-full'!C1159","v":80.760000000000005},{"$f":"'[1]Report-full'!D1159","v":8.52}]
[null,"00:00:00",null,null,null,null,null,null,null,null,null,null,null,null,"1989-02-03",{"$f":"'[1]Report-full'!B1160","v":120.36},{"$f":"'[1]Report-full'!C1160","v":92.82},{"$f":"'[1]Report-full'!D1160","v":8.8699999999999992}]
[null,"00:00:00",null,null,null,null,null,null,null,null,null,null,null,null,"1989-02-10",{"$f":"'[1]Report-full'!B1161","v":120.65},{"$f":"'[1]Report-full'!C1161","v":96.96},{"$f":"'[1]Report-full'!D1161","v":9.44}]
[null,"00:00:00",null,null,null,null,null,null,null,null,null,null,null,null,"1989-02-17",{"$f":"'[1]Report-full'!B1162","v":120.32},{"$f":"'[1]Report-full'!C1162","v":92.35},{"$f":"'[1]Report-full'!D1162","v":9.74}]
[null,"00:00:00",null,null,null,null,null,null,null,null,null,null,null,null,"1989-02-24",{"$f":"'[1]Report-full'!B1163","v":120.18},{"$f":"'[1]Report-full'!C1163","v":90.42},{"$f":"'[1]Report-full'!D1163","v":9.7899999999999991}]
[null,"00:00:00",null,null,null,null,null,null,null,null,null,null,null,null,"1989-03-03",{"$f":"'[1]Report-full'!B1164","v":120.07},{"$f":"'[1]Report-full'!C1164","v":88.88},{"$f":"'[1]Report-full'!D1164","v":9.41}]
[null,"00:00:00",null,null,null,null,null,null,null,null,null,null,null,null,"1989-03-10",{"$f":"'[1]Report-full'!B1165","v":120.18},{"$f":"'[1]Report-full'!C1165","v":90.3},{"$f":"'[1]Report-full'!D1165","v":8.98}]
[null,"00:00:00",null,null,null,null,null,null,null,null,null,null,null,null,"1989-03-17",{"$f":"'[1]Report-full'!B1166","v":120.72},{"$f":"'[1]Report-full'!C1166","v":97.91},{"$f":"'[1]Report-full'!D1166","v":8.93}]
[null,"00:00:00",null,null,null,null,null,null,null,null,null,null,null,null,"1989-03-24",{"$f":"'[1]Report-full'!B1167","v":120.4},{"$f":"'[1]Report-full'!C1167","v":93.42},{"$f":"'[1]Report-full'!D1167","v":8.81}]
[null,"00:00:00",null,null,null,null,null,null,null,null,null,null,null,null,"1989-03-31",{"$f":"'[1]Report-full'!B1168","v":119.46},{"$f":"'[1]Report-full'!C1168","v":80.349999999999994},{"$f":"'[1]Report-full'!D1168","v":8.36}]
[null,"00:00:00",null,null,null,null,null,null,null,null,null,null,null,null,"1989-04-07",{"$f":"'[1]Report-full'!B1169","v":119.02},{"$f":"'[1]Report-full'!C1169","v":74.22},{"$f":"'[1]Report-full'!D1169","v":7.69}]
[null,"00:00:00",null,null,null,null,null,null,null,null,null,null,null,null,"1989-04-14",{"$f":"'[1]Report-full'!B1170","v":118.99},{"$f":"'[1]Report-full'!C1170","v":73.83},{"$f":"'[1]Report-full'!D1170","v":6.81}]
[null,"00:00:00",null,null,null,null,null,null,null,null,null,null,null,null,"1989-04-21",{"$f":"'[1]Report-full'!B1171","v":119.19},{"$f":"'[1]Report-full'!C1171","v":76.67},{"$f":"'[1]Report-full'!D1171","v":6.18}]
[null,"00:00:00",null,null,null,null,null,null,null,null,null,null,null,null,"1989-04-28",{"$f":"'[1]Report-full'!B1172","v":119.11},{"$f":"'[1]Report-full'!C1172","v":75.430000000000007},{"$f":"'[1]Report-full'!D1172","v":5.92}]
[null,"00:00:00",null,null,null,null,null,null,null,null,null,null,null,null,"1989-05-05",{"$f":"'[1]Report-full'!B1173","v":118.79},{"$f":"'[1]Report-full'!C1173","v":71.06},{"$f":"'[1]Report-full'!D1173","v":5.74}]
[null,"00:00:00",null,null,null,null,null,null,null,null,null,null,null,null,"1989-05-12",{"$f":"'[1]Report-full'!B1174","v":118.64},{"$f":"'[1]Report-full'!C1174","v":69.010000000000005},{"$f":"'[1]Report-full'!D1174","v":5.52}]
[null,"00:00:00",null,null,null,null,null,null,null,null,null,null,null,null,"1989-05-19",{"$f":"'[1]Report-full'!B1175","v":118.94},{"$f":"'[1]Report-full'!C1175","v":73.11},{"$f":"'[1]Report-full'!D1175","v":5.33}]
[null,"00:00:00",null,null,null,null,null,null,null,null,null,null,null,null,"1989-05-26",{"$f":"'[1]Report-full'!B1176","v":118.87},{"$f":"'[1]Report-full'!C1176","v":72.11},{"$f":"'[1]Report-full'!D1176","v":5.17}]
[null,"00:00:00",null,null,null,null,null,null,null,null,null,null,null,null,"1989-06-02",{"$f":"'[1]Report-full'!B1177","v":119.53},{"$f":"'[1]Report-full'!C1177","v":81.260000000000005},{"$f":"'[1]Report-full'!D1177","v":5.4}]
[null,"00:00:00",null,null,null,null,null,null,null,null,null,null,null,null,"1989-06-09",{"$f":"'[1]Report-full'!B1178","v":120.3},{"$f":"'[1]Report-full'!C1178","v":91.98},{"$f":"'[1]Report-full'!D1178","v":6.01}]
[null,"00:00:00",null,null,null,null,null,null,null,null,null,null,null,null,"1989-06-16",{"$f":"'[1]Report-full'!B1179","v":120.25},{"$f":"'[1]Report-full'!C1179","v":91.32},{"$f":"'[1]Report-full'!D1179","v":6.47}]
[null,"00:00:00",null,null,null,null,null,null,null,null,null,null,null,null,"1989-06-23",{"$f":"'[1]Report-full'!B1180","v":119.9},{"$f":"'[1]Report-full'!C1180","v":86.41},{"$f":"'[1]Report-full'!D1180","v":6.84}]
[null,"00:00:00",null,null,null,null,null,null,null,null,null,null,null,null,"1989-06-30",{"$f":"'[1]Report-full'!B1181","v":120.8},{"$f":"'[1]Report-full'!C1181","v":98.94},{"$f":"'[1]Report-full'!D1181","v":7.31}]
[null,"00:00:00",null,null,null,null,null,null,null,null,null,null,null,null,"1989-07-07",{"$f":"'[1]Report-full'!B1182","v":120.42},{"$f":"'[1]Report-full'!C1182","v":93.68},{"$f":"'[1]Report-full'!D1182","v":7.31}]
[null,"00:00:00",null,null,null,null,null,null,null,null,null,null,null,null,"1989-07-14",{"$f":"'[1]Report-full'!B1183","v":121.04},{"$f":"'[1]Report-full'!C1183","v":100},{"$f":"'[1]Report-full'!D1183","v":7.6}]
[null,"00:00:00",null,null,null,null,null,null,null,null,null,null,null,null,"1989-07-21",{"$f":"'[1]Report-full'!B1184","v":121.08},{"$f":"'[1]Report-full'!C1184","v":100},{"$f":"'[1]Report-full'!D1184","v":8.0500000000000007}]
[null,"00:00:00",null,null,null,null,null,null,null,null,null,null,null,null,"1989-07-28",{"$f":"'[1]Report-full'!B1185","v":120.86},{"$f":"'[1]Report-full'!C1185","v":97.02},{"$f":"'[1]Report-full'!D1185","v":8.0299999999999994}]
[null,"00:00:00",null,null,null,null,null,null,null,null,null,null,null,null,"1989-08-04",{"$f":"'[1]Report-full'!B1186","v":121.55},{"$f":"'[1]Report-full'!C1186","v":100},{"$f":"'[1]Report-full'!D1186","v":8.44}]
[null,"00:00:00",null,null,null,null,null,null,null,null,null,null,null,null,"1989-08-11",{"$f":"'[1]Report-full'!B1187","v":121.7},{"$f":"'[1]Report-full'!C1187","v":100},{"$f":"'[1]Report-full'!D1187","v":8.66}]
[null,"00:00:00",null,null,null,null,null,null,null,null,null,null,null,null,"1989-08-18",{"$f":"'[1]Report-full'!B1188","v":121.18},{"$f":"'[1]Report-full'!C1188","v":92.76},{"$f":"'[1]Report-full'!D1188","v":8.6300000000000008}]
[null,"00:00:00",null,null,null,null,null,null,null,null,null,null,null,null,"1989-08-25",{"$f":"'[1]Report-full'!B1189","v":120.93},{"$f":"'[1]Report-full'!C1189","v":89.31},{"$f":"'[1]Report-full'!D1189","v":8.58}]
[null,"00:00:00",null,null,null,null,null,null,null,null,null,null,null,null,"1989-09-01",{"$f":"'[1]Report-full'!B1190","v":122.2},{"$f":"'[1]Report-full'!C1190","v":100},{"$f":"'[1]Report-full'!D1190","v":8.77}]
[null,"00:00:00",null,null,null,null,null,null,null,null,null,null,null,null,"1989-09-08",{"$f":"'[1]Report-full'!B1191","v":122.82},{"$f":"'[1]Report-full'!C1191","v":100},{"$f":"'[1]Report-full'!D1191","v":9.14}]
[null,"00:00:00",null,null,null,null,null,null,null,null,null,null,null,null,"1989-09-15",{"$f":"'[1]Report-full'!B1192","v":122.69},{"$f":"'[1]Report-full'!C1192","v":98.25},{"$f":"'[1]Report-full'!D1192","v":9.65}]
[null,"00:00:00",null,null,null,null,null,null,null,null,null,null,null,null,"1989-09-22",{"$f":"'[1]Report-full'!B1193","v":122.53},{"$f":"'[1]Report-full'!C1193","v":96.05},{"$f":"'[1]Report-full'!D1193","v":10.19}]
[null,"00:00:00",null,null,null,null,null,null,null,null,null,null,null,null,"1989-09-29",{"$f":"'[1]Report-full'!B1194","v":122.31},{"$f":"'[1]Report-full'!C1194","v":93.03},{"$f":"'[1]Report-full'!D1194","v":10.09}]
[null,"00:00:00",null,null,null,null,null,null,null,null,null,null,null,null,"1989-10-06",{"$f":"'[1]Report-full'!B1195","v":122.06},{"$f":"'[1]Report-full'!C1195","v":89.67},{"$f":"'[1]Report-full'!D1195","v":9.64}]
[null,"00:00:00",null,null,null,null,null,null,null,null,null,null,null,null,"1989-10-13",{"$f":"'[1]Report-full'!B1196","v":122.38},{"$f":"'[1]Report-full'!C1196","v":94.03},{"$f":"'[1]Report-full'!D1196","v":9.39}]
[null,"00:00:00",null,null,null,null,null,null,null,null,null,null,null,null,"1989-10-20",{"$f":"'[1]Report-full'!B1197","v":120.98},{"$f":"'[1]Report-full'!C1197","v":74.89},{"$f":"'[1]Report-full'!D1197","v":8.64}]
[null,"00:00:00",null,null,null,null,null,null,null,null,null,null,null,null,"1989-10-27",{"$f":"'[1]Report-full'!B1198","v":120.11},{"$f":"'[1]Report-full'!C1198","v":62.97},{"$f":"'[1]Report-full'!D1198","v":7.65}]
[null,"00:00:00",null,null,null,null,null,null,null,null,null,null,null,null,"1989-11-03",{"$f":"'[1]Report-full'!B1199","v":119.09},{"$f":"'[1]Report-full'!C1199","v":48.94},{"$f":"'[1]Report-full'!D1199","v":6.38}]
[null,"00:00:00",null,null,null,null,null,null,null,null,null,null,null,null,"1989-11-10",{"$f":"'[1]Report-full'!B1200","v":118.84},{"$f":"'[1]Report-full'!C1200","v":45.64},{"$f":"'[1]Report-full'!D1200","v":4.93}]
[null,"00:00:00",null,null,null,null,null,null,null,null,null,null,null,null,"1989-11-17",{"$f":"'[1]Report-full'!B1201","v":118.74},{"$f":"'[1]Report-full'!C1201","v":44.21},{"$f":"'[1]Report-full'!D1201","v":4.05}]
[null,"00:00:00",null,null,null,null,null,null,null,null,null,null,null,null,"1989-11-24",{"$f":"'[1]Report-full'!B1202","v":118.75},{"$f":"'[1]Report-full'!C1202","v":44.4},{"$f":"'[1]Report-full'!D1202","v":3.55}]
[null,"00:00:00",null,null,null,null,null,null,null,null,null,null,null,null,"1989-12-01",{"$f":"'[1]Report-full'!B1203","v":118.86},{"$f":"'[1]Report-full'!C1203","v":45.89},{"$f":"'[1]Report-full'!D1203","v":3.51}]
[null,"00:00:00",null,null,null,null,null,null,null,null,null,null,null,null,"1989-12-08",{"$f":"'[1]Report-full'!B1204","v":119.04},{"$f":"'[1]Report-full'!C1204","v":48.32},{"$f":"'[1]Report-full'!D1204","v":3.64}]
[null,"00:00:00",null,null,null,null,null,null,null,null,null,null,null,null,"1989-12-15",{"$f":"'[1]Report-full'!B1205","v":119.28},{"$f":"'[1]Report-full'!C1205","v":51.54},{"$f":"'[1]Report-full'!D1205","v":3.9}]
[null,"00:00:00",null,null,null,null,null,null,null,null,null,null,null,null,"1989-12-22",{"$f":"'[1]Report-full'!B1206","v":119.12},{"$f":"'[1]Report-full'!C1206","v":49.47},{"$f":"'[1]Report-full'!D1206","v":4.09}]
[null,"00:00:00",null,null,null,null,null,null,null,null,null,null,null,null,"1989-12-29",{"$f":"'[1]Report-full'!B1207","v":119.37},{"$f":"'[1]Report-full'!C1207","v":52.8},{"$f":"'[1]Report-full'!D1207","v":4.34}]
[null,"00:00:00",null,null,null,null,null,null,null,null,null,null,null,null,"1990-01-05",{"$f":"'[1]Report-full'!B1208","v":119.99},{"$f":"'[1]Report-full'!C1208","v":61.32},{"$f":"'[1]Report-full'!D1208","v":4.76}]
[null,"00:00:00",null,null,null,null,null,null,null,null,null,null,null,null,"1990-01-12",{"$f":"'[1]Report-full'!B1209","v":119.85},{"$f":"'[1]Report-full'!C1209","v":59.37},{"$f":"'[1]Report-full'!D1209","v":5.01}]
[null,"00:00:00",null,null,null,null,null,null,null,null,null,null,null,null,"1990-01-19",{"$f":"'[1]Report-full'!B1210","v":118.86},{"$f":"'[1]Report-full'!C1210","v":45.92},{"$f":"'[1]Report-full'!D1210","v":4.91}]
[null,"00:00:00",null,null,null,null,null,null,null,null,null,null,null,null,"1990-01-26",{"$f":"'[1]Report-full'!B1211","v":117.66},{"$f":"'[1]Report-full'!C1211","v":29.49},{"$f":"'[1]Report-full'!D1211","v":4.21}]
[null,"00:00:00",null,null,null,null,null,null,null,null,null,null,null,null,"1990-02-02",{"$f":"'[1]Report-full'!B1212","v":116.32},{"$f":"'[1]Report-full'!C1212","v":11.15},{"$f":"'[1]Report-full'!D1212","v":2.73}]
[null,"00:00:00",null,null,null,null,null,null,null,null,null,null,null,null,"1990-02-09",{"$f":"'[1]Report-full'!B1213","v":116.78},{"$f":"'[1]Report-full'!C1213","v":17.38},{"$f":"'[1]Report-full'!D1213","v":1.54}]
[null,"00:00:00",null,null,null,null,null,null,null,null,null,null,null,null,"1990-02-16",{"$f":"'[1]Report-full'!B1214","v":116.63},{"$f":"'[1]Report-full'!C1214","v":15.41},{"$f":"'[1]Report-full'!D1214","v":0.72}]
[null,{"$f":"INT(C1210-($H$4/2*7))","v":"00:00:00"},null,null,null,null,null,null,null,null,null,null,null,null,"1990-02-23",{"$f":"'[1]Report-full'!B1215","v":116.67},{"$f":"'[1]Report-full'!C1215","v":15.9},{"$f":"'[1]Report-full'!D1215","v":0.43}]
[null,"00:00:00",null,null,null,null,null,null,null,null,null,null,null,null,"1990-03-02",{"$f":"'[1]Report-full'!B1216","v":116.01},{"$f":"'[1]Report-full'!C1216","v":6.86},{"$f":"'[1]Report-full'!D1216","v":0.41}]
[null,"00:00:00",null,null,null,null,null,null,null,null,null,null,null,null,"1990-03-09",{"$f":"'[1]Report-full'!B1217","v":116.37},{"$f":"'[1]Report-full'!C1217","v":11.85},{"$f":"'[1]Report-full'!D1217","v":0.37}]
[null,"00:00:00",null,null,null,null,null,null,null,null,null,null,null,null,"1990-03-16",{"$f":"'[1]Report-full'!B1218","v":116.37},{"$f":"'[1]Report-full'!C1218","v":11.84},{"$f":"'[1]Report-full'!D1218","v":0.37}]
[null,"00:00:00",null,null,null,null,null,null,null,null,null,null,null,null,"1990-03-23",{"$f":"'[1]Report-full'!B1219","v":116.69},{"$f":"'[1]Report-full'!C1219","v":16.12},{"$f":"'[1]Report-full'!D1219","v":0.5}]
[null,"00:00:00",null,null,null,null,null,null,null,null,null,null,null,null,"1990-03-30",{"$f":"'[1]Report-full'!B1220","v":115.92},{"$f":"'[1]Report-full'!C1220","v":5.7},{"$f":"'[1]Report-full'!D1220","v":0.57999999999999996}]
[null,"00:00:00",null,null,null,null,null,null,null,null,null,null,null,null,"1990-04-06",{"$f":"'[1]Report-full'!B1221","v":115.86},{"$f":"'[1]Report-full'!C1221","v":4.8600000000000003},{"$f":"'[1]Report-full'!D1221","v":0.49}]
[null,"00:00:00",null,null,null,null,null,null,null,null,null,null,null,null,"1990-04-13",{"$f":"'[1]Report-full'!B1222","v":115.68},{"$f":"'[1]Report-full'!C1222","v":2.29},{"$f":"'[1]Report-full'!D1222","v":0.32}]
[null,"00:00:00",null,null,null,null,null,null,null,null,null,null,null,null,"1990-04-20",{"$f":"'[1]Report-full'!B1223","v":115.91},{"$f":"'[1]Report-full'!C1223","v":5.54},{"$f":"'[1]Report-full'!D1223","v":0.12}]
[null,"00:00:00",null,null,null,null,null,null,null,null,null,null,null,null,"1990-04-27",{"$f":"'[1]Report-full'!B1224","v":114.59},{"$f":"'[1]Report-full'!C1224","v":-12.63},{"$f":"'[1]Report-full'!D1224","v":-0.32}]
[null,"00:00:00",null,null,null,null,null,null,null,null,null,null,null,null,"1990-05-04",{"$f":"'[1]Report-full'!B1225","v":114.18},{"$f":"'[1]Report-full'!C1225","v":-18.22},{"$f":"'[1]Report-full'!D1225","v":-0.88}]
[null,"00:00:00",null,null,null,null,null,null,null,null,null,null,null,null,"1990-05-11",{"$f":"'[1]Report-full'!B1226","v":114.37},{"$f":"'[1]Report-full'!C1226","v":-15.6},{"$f":"'[1]Report-full'!D1226","v":-1.29}]
[null,"00:00:00",null,null,null,null,null,null,null,null,null,null,null,null,"1990-05-18",{"$f":"'[1]Report-full'!B1227","v":115.11},{"$f":"'[1]Report-full'!C1227","v":-5.45},{"$f":"'[1]Report-full'!D1227","v":-1.48}]
[null,"00:00:00",null,null,null,null,null,null,null,null,null,null,null,null,"1990-05-25",{"$f":"'[1]Report-full'!B1228","v":115.45},{"$f":"'[1]Report-full'!C1228","v":-0.83},{"$f":"'[1]Report-full'!D1228","v":-1.01}]
[null,"00:00:00",null,null,null,null,null,null,null,null,null,null,null,null,"1990-06-01",{"$f":"'[1]Report-full'!B1229","v":115.11},{"$f":"'[1]Report-full'!C1229","v":-5.43},{"$f":"'[1]Report-full'!D1229","v":-0.52}]
[null,"00:00:00",null,null,null,null,null,null,null,null,null,null,null,null,"1990-06-08",{"$f":"'[1]Report-full'!B1230","v":114.96},{"$f":"'[1]Report-full'!C1230","v":-7.56},{"$f":"'[1]Report-full'!D1230","v":-0.17}]
[null,"00:00:00",null,null,null,null,null,null,null,null,null,null,null,null,"1990-06-15",{"$f":"'[1]Report-full'!B1231","v":114.67},{"$f":"'[1]Report-full'!C1231","v":-11.43},{"$f":"'[1]Report-full'!D1231","v":-0.22}]
[null,"00:00:00",null,null,null,null,null,null,null,null,null,null,null,null,"1990-06-22",{"$f":"'[1]Report-full'!B1232","v":114.17},{"$f":"'[1]Report-full'!C1232","v":-18.260000000000002},{"$f":"'[1]Report-full'!D1232","v":-0.59}]
[null,"00:00:00",null,null,null,null,null,null,null,null,null,null,null,null,"1990-06-29",{"$f":"'[1]Report-full'!B1233","v":113.75},{"$f":"'[1]Report-full'!C1233","v":-24.07},{"$f":"'[1]Report-full'!D1233","v":-0.97}]
[null,"00:00:00",null,null,null,null,null,null,null,null,null,null,null,null,"1990-07-06",{"$f":"'[1]Report-full'!B1234","v":113.69},{"$f":"'[1]Report-full'!C1234","v":-24.93},{"$f":"'[1]Report-full'!D1234","v":-1.31}]
[null,"00:00:00",null,null,null,null,null,null,null,null,null,null,null,null,"1990-07-13",{"$f":"'[1]Report-full'!B1235","v":113.45},{"$f":"'[1]Report-full'!C1235","v":-28.1},{"$f":"'[1]Report-full'!D1235","v":-1.61}]
[null,"00:00:00",null,null,null,null,null,null,null,null,null,null,null,null,"1990-07-20",{"$f":"'[1]Report-full'!B1236","v":113.55},{"$f":"'[1]Report-full'!C1236","v":-26.76},{"$f":"'[1]Report-full'!D1236","v":-1.65}]
[null,"00:00:00",null,null,null,null,null,null,null,null,null,null,null,null,"1990-07-27",{"$f":"'[1]Report-full'!B1237","v":112.96},{"$f":"'[1]Report-full'!C1237","v":-34.909999999999997},{"$f":"'[1]Report-full'!D1237","v":-1.76}]
[null,"00:00:00",null,null,null,null,null,null,null,null,null,null,null,null,"1990-08-03",{"$f":"'[1]Report-full'!B1238","v":112.88},{"$f":"'[1]Report-full'!C1238","v":-36.020000000000003},{"$f":"'[1]Report-full'!D1238","v":-1.86}]
[null,"00:00:00",null,null,null,null,null,null,null,null,null,null,null,null,"1990-08-10",{"$f":"'[1]Report-full'!B1239","v":111.95},{"$f":"'[1]Report-full'!C1239","v":-48.7},{"$f":"'[1]Report-full'!D1239","v":-2.23}]
[null,"00:00:00",null,null,null,null,null,null,null,null,null,null,null,null,"1990-08-17",{"$f":"'[1]Report-full'!B1240","v":111.7},{"$f":"'[1]Report-full'!C1240","v":-52.13},{"$f":"'[1]Report-full'!D1240","v":-2.72}]
[null,"00:00:00",null,null,null,null,null,null,null,null,null,null,null,null,"1990-08-24",{"$f":"'[1]Report-full'!B1241","v":110.61},{"$f":"'[1]Report-full'!C1241","v":-66.989999999999995},{"$f":"'[1]Report-full'!D1241","v":-3.39}]
[null,"00:00:00",null,null,null,null,null,null,null,null,null,null,null,null,"1990-08-31",{"$f":"'[1]Report-full'!B1242","v":109.55},{"$f":"'[1]Report-full'!C1242","v":-81.540000000000006},{"$f":"'[1]Report-full'!D1242","v":-4.4400000000000004}]
[null,"00:00:00",null,null,null,null,null,null,null,null,null,null,null,null,"1990-09-07",{"$f":"'[1]Report-full'!B1243","v":109.54},{"$f":"'[1]Report-full'!C1243","v":-81.62},{"$f":"'[1]Report-full'!D1243","v":-5.09}]
[null,"00:00:00",null,null,null,null,null,null,null,null,null,null,null,null,"1990-09-14",{"$f":"'[1]Report-full'!B1244","v":109.14},{"$f":"'[1]Report-full'!C1244","v":-87.11},{"$f":"'[1]Report-full'!D1244","v":-5.77}]
[null,"00:00:00",null,null,null,null,null,null,null,null,null,null,null,null,"1990-09-21",{"$f":"'[1]Report-full'!B1245","v":108.63},{"$f":"'[1]Report-full'!C1245","v":-94.07},{"$f":"'[1]Report-full'!D1245","v":-6.2}]
[null,"00:00:00",null,null,null,null,null,null,null,null,null,null,null,null,"1990-09-28",{"$f":"'[1]Report-full'!B1246","v":107.59},{"$f":"'[1]Report-full'!C1246","v":-108.3},{"$f":"'[1]Report-full'!D1246","v":-6.59}]
[null,"00:00:00",null,null,null,null,null,null,null,null,null,null,null,null,"1990-10-05",{"$f":"'[1]Report-full'!B1247","v":107.45},{"$f":"'[1]Report-full'!C1247","v":-110.24},{"$f":"'[1]Report-full'!D1247","v":-7.02}]
[null,"00:00:00",null,null,null,null,null,null,null,null,null,null,null,null,"1990-10-12",{"$f":"'[1]Report-full'!B1248","v":106.92},{"$f":"'[1]Report-full'!C1248","v":-117.43},{"$f":"'[1]Report-full'!D1248","v":-7.5}]
[null,"00:00:00",null,null,null,null,null,null,null,null,null,null,null,null,"1990-10-19",{"$f":"'[1]Report-full'!B1249","v":106.16},{"$f":"'[1]Report-full'!C1249","v":-127.82},{"$f":"'[1]Report-full'!D1249","v":-8.06}]
[null,"00:00:00",null,null,null,null,null,null,null,null,null,null,null,null,"1990-10-26",{"$f":"'[1]Report-full'!B1250","v":106.19},{"$f":"'[1]Report-full'!C1250","v":-127.46},{"$f":"'[1]Report-full'!D1250","v":-8.19}]
[null,"00:00:00",null,null,null,null,null,null,null,null,null,null,null,null,"1990-11-02",{"$f":"'[1]Report-full'!B1251","v":105.13},{"$f":"'[1]Report-full'!C1251","v":-142.03},{"$f":"'[1]Report-full'!D1251","v":-8.6999999999999993}]
[null,"00:00:00",null,null,null,null,null,null,null,null,null,null,null,null,"1990-11-09",{"$f":"'[1]Report-full'!B1252","v":104.65},{"$f":"'[1]Report-full'!C1252","v":-148.57},{"$f":"'[1]Report-full'!D1252","v":-9.19}]
[null,"00:00:00",null,null,null,null,null,null,null,null,null,null,null,null,"1990-11-16",{"$f":"'[1]Report-full'!B1253","v":104.47},{"$f":"'[1]Report-full'!C1253","v":-150.94999999999999},{"$f":"'[1]Report-full'!D1253","v":-9.4600000000000009}]
[null,"00:00:00",null,null,null,null,null,null,null,null,null,null,null,null,"1990-11-23",{"$f":"'[1]Report-full'!B1254","v":104.38},{"$f":"'[1]Report-full'!C1254","v":-152.29},{"$f":"'[1]Report-full'!D1254","v":-9.7799999999999994}]
[null,"00:00:00",null,null,null,null,null,null,null,null,null,null,null,null,"1990-11-30",{"$f":"'[1]Report-full'!B1255","v":102.93},{"$f":"'[1]Report-full'!C1255","v":-172.06},{"$f":"'[1]Report-full'!D1255","v":-10.25}]
[null,"00:00:00",null,null,null,null,null,null,null,null,null,null,null,null,"1990-12-07",{"$f":"'[1]Report-full'!B1256","v":102.75},{"$f":"'[1]Report-full'!C1256","v":-174.59},{"$f":"'[1]Report-full'!D1256","v":-10.6}]
[null,"00:00:00",null,null,null,null,null,null,null,null,null,null,null,null,"1990-12-14",{"$f":"'[1]Report-full'!B1257","v":102.8},{"$f":"'[1]Report-full'!C1257","v":-173.85},{"$f":"'[1]Report-full'!D1257","v":-10.84}]
[null,"00:00:00",null,null,null,null,null,null,null,null,null,null,null,null,"1990-12-21",{"$f":"'[1]Report-full'!B1258","v":102.34},{"$f":"'[1]Report-full'!C1258","v":-180.16},{"$f":"'[1]Report-full'!D1258","v":-11.21}]
[null,"00:00:00",null,null,null,null,null,null,null,null,null,null,null,null,"1990-12-28",{"$f":"'[1]Report-full'!B1259","v":102.46},{"$f":"'[1]Report-full'!C1259","v":-178.45},{"$f":"'[1]Report-full'!D1259","v":-10.94}]
[null,"00:00:00",null,null,null,null,null,null,null,null,null,null,null,null,"1991-01-04",{"$f":"'[1]Report-full'!B1260","v":102.31},{"$f":"'[1]Report-full'!C1260","v":-180.49},{"$f":"'[1]Report-full'!D1260","v":-10.65}]
[null,"00:00:00",null,null,null,null,null,null,null,null,null,null,null,null,"1991-01-11",{"$f":"'[1]Report-full'!B1261","v":101.8},{"$f":"'[1]Report-full'!C1261","v":-187.47},{"$f":"'[1]Report-full'!D1261","v":-10.57}]
[null,"00:00:00",null,null,null,null,null,null,null,null,null,null,null,null,"1991-01-18",{"$f":"'[1]Report-full'!B1262","v":101.19},{"$f":"'[1]Report-full'!C1262","v":-195.84},{"$f":"'[1]Report-full'!D1262","v":-10.54}]
[null,"00:00:00",null,null,null,null,null,null,null,null,null,null,null,null,"1991-01-25",{"$f":"'[1]Report-full'!B1263","v":101.69},{"$f":"'[1]Report-full'!C1263","v":-189.08},{"$f":"'[1]Report-full'!D1263","v":-10.36}]
[null,"00:00:00",null,null,null,null,null,null,null,null,null,null,null,null,"1991-02-01",{"$f":"'[1]Report-full'!B1264","v":101.85},{"$f":"'[1]Report-full'!C1264","v":-186.9},{"$f":"'[1]Report-full'!D1264","v":-10.050000000000001}]
[null,"00:00:00",null,null,null,null,null,null,null,null,null,null,null,null,"1991-02-08",{"$f":"'[1]Report-full'!B1265","v":101.79},{"$f":"'[1]Report-full'!C1265","v":-187.69},{"$f":"'[1]Report-full'!D1265","v":-9.59}]
[null,"00:00:00",null,null,null,null,null,null,null,null,null,null,null,null,"1991-02-15",{"$f":"'[1]Report-full'!B1266","v":101.92},{"$f":"'[1]Report-full'!C1266","v":-185.86},{"$f":"'[1]Report-full'!D1266","v":-8.83}]
[null,"00:00:00",null,null,null,null,null,null,null,null,null,null,null,null,"1991-02-22",{"$f":"'[1]Report-full'!B1267","v":101.82},{"$f":"'[1]Report-full'!C1267","v":-187.25},{"$f":"'[1]Report-full'!D1267","v":-8.34}]
[null,"00:00:00",null,null,null,null,null,null,null,null,null,null,null,null,"1991-03-01",{"$f":"'[1]Report-full'!B1268","v":100.43},{"$f":"'[1]Report-full'!C1268","v":-206.29},{"$f":"'[1]Report-full'!D1268","v":-8.49}]
[null,"00:00:00",null,null,null,null,null,null,null,null,null,null,null,null,"1991-03-08",{"$f":"'[1]Report-full'!B1269","v":99.9},{"$f":"'[1]Report-full'!C1269","v":-213.45},{"$f":"'[1]Report-full'!D1269","v":-8.83}]
[null,"00:00:00",null,null,null,null,null,null,null,null,null,null,null,null,"1991-03-15",{"$f":"'[1]Report-full'!B1270","v":99.24},{"$f":"'[1]Report-full'!C1270","v":-222.53},{"$f":"'[1]Report-full'!D1270","v":-9.48}]
[null,"00:00:00",null,null,null,null,null,null,null,null,null,null,null,null,"1991-03-22",{"$f":"'[1]Report-full'!B1271","v":98.59},{"$f":"'[1]Report-full'!C1271","v":-231.4},{"$f":"'[1]Report-full'!D1271","v":-10.35}]
[null,"00:00:00",null,null,null,null,null,null,null,null,null,null,null,null,"1991-03-29",{"$f":"'[1]Report-full'!B1272","v":99.09},{"$f":"'[1]Report-full'!C1272","v":-224.61},{"$f":"'[1]Report-full'!D1272","v":-10.42}]
[null,"00:00:00",null,null,null,null,null,null,null,null,null,null,null,null,"1991-04-05",{"$f":"'[1]Report-full'!B1273","v":99.76},{"$f":"'[1]Report-full'!C1273","v":100},{"$f":"'[1]Report-full'!D1273","v":-9.98}]
[null,"00:00:00",null,null,null,null,null,null,null,null,null,null,null,null,"1991-04-12",{"$f":"'[1]Report-full'!B1274","v":99.66},{"$f":"'[1]Report-full'!C1274","v":98.25},{"$f":"'[1]Report-full'!D1274","v":-9.3000000000000007}]
[null,"00:00:00",null,null,null,null,null,null,null,null,null,null,null,null,"1991-04-19",{"$f":"'[1]Report-full'!B1275","v":100},{"$f":"'[1]Report-full'!C1275","v":100},{"$f":"'[1]Report-full'!D1275","v":-8.2100000000000009}]
[null,"00:00:00",null,null,null,null,null,null,null,null,null,null,null,null,"1991-04-26",{"$f":"'[1]Report-full'!B1276","v":100.37},{"$f":"'[1]Report-full'!C1276","v":100},{"$f":"'[1]Report-full'!D1276","v":-7.17}]
[null,"00:00:00",null,null,null,null,null,null,null,null,null,null,null,null,"1991-05-03",{"$f":"'[1]Report-full'!B1277","v":100.16},{"$f":"'[1]Report-full'!C1277","v":96.39},{"$f":"'[1]Report-full'!D1277","v":-6.53}]
[null,"00:00:00",null,null,null,null,null,null,null,null,null,null,null,null,"1991-05-10",{"$f":"'[1]Report-full'!B1278","v":100.29},{"$f":"'[1]Report-full'!C1278","v":98.64},{"$f":"'[1]Report-full'!D1278","v":-5.79}]
[null,{"$f":"INT(C1274-($H$4/2*7))","v":"00:00:00"},null,null,null,null,null,null,null,null,null,null,null,null,"1991-05-17",{"$f":"'[1]Report-full'!B1279","v":99.98},{"$f":"'[1]Report-full'!C1279","v":93.42},{"$f":"'[1]Report-full'!D1279","v":-5.34}]
[null,"00:00:00",null,null,null,null,null,null,null,null,null,null,null,null,"1991-05-24",{"$f":"'[1]Report-full'!B1280","v":99.95},{"$f":"'[1]Report-full'!C1280","v":92.83},{"$f":"'[1]Report-full'!D1280","v":-5.07}]
[null,"00:00:00",null,null,null,null,null,null,null,null,null,null,null,null,"1991-05-31",{"$f":"'[1]Report-full'!B1281","v":100.28},{"$f":"'[1]Report-full'!C1281","v":98.5},{"$f":"'[1]Report-full'!D1281","v":-4.55}]
[null,"00:00:00",null,null,null,null,null,null,null,null,null,null,null,null,"1991-06-07",{"$f":"'[1]Report-full'!B1282","v":100.72},{"$f":"'[1]Report-full'!C1282","v":100},{"$f":"'[1]Report-full'!D1282","v":-3.89}]
[null,"00:00:00",null,null,null,null,null,null,null,null,null,null,null,null,"1991-06-14",{"$f":"'[1]Report-full'!B1283","v":100.19},{"$f":"'[1]Report-full'!C1283","v":91.21},{"$f":"'[1]Report-full'!D1283","v":-3.32}]
[null,"00:00:00",null,null,null,null,null,null,null,null,null,null,null,null,"1991-06-21",{"$f":"'[1]Report-full'!B1284","v":100.27},{"$f":"'[1]Report-full'!C1284","v":92.63},{"$f":"'[1]Report-full'!D1284","v":-2.69}]
[null,"00:00:00",null,null,null,null,null,null,null,null,null,null,null,null,"1991-06-28",{"$f":"'[1]Report-full'!B1285","v":100.21},{"$f":"'[1]Report-full'!C1285","v":91.59},{"$f":"'[1]Report-full'!D1285","v":-2.25}]
[null,"00:00:00",null,null,null,null,null,null,null,null,null,null,null,null,"1991-07-05",{"$f":"'[1]Report-full'!B1286","v":100.5},{"$f":"'[1]Report-full'!C1286","v":96.47},{"$f":"'[1]Report-full'!D1286","v":-1.88}]
[null,"00:00:00",null,null,null,null,null,null,null,null,null,null,null,null,"1991-07-12",{"$f":"'[1]Report-full'!B1287","v":100.79},{"$f":"'[1]Report-full'!C1287","v":100},{"$f":"'[1]Report-full'!D1287","v":-1.1499999999999999}]
[null,"00:00:00",null,null,null,null,null,null,null,null,null,null,null,null,"1991-07-19",{"$f":"'[1]Report-full'!B1288","v":101.04},{"$f":"'[1]Report-full'!C1288","v":100},{"$f":"'[1]Report-full'!D1288","v":-0.35}]
[null,"00:00:00",null,null,null,null,null,null,null,null,null,null,null,null,"1991-07-26",{"$f":"'[1]Report-full'!B1289","v":101.62},{"$f":"'[1]Report-full'!C1289","v":100},{"$f":"'[1]Report-full'!D1289","v":0.74}]
[null,"00:00:00",null,null,null,null,null,null,null,null,null,null,null,null,"1991-08-02",{"$f":"'[1]Report-full'!B1290","v":101.8},{"$f":"'[1]Report-full'!C1290","v":100},{"$f":"'[1]Report-full'!D1290","v":1.78}]
[null,"00:00:00",null,null,null,null,null,null,null,null,null,null,null,null,"1991-08-09",{"$f":"'[1]Report-full'!B1291","v":101.92},{"$f":"'[1]Report-full'!C1291","v":100},{"$f":"'[1]Report-full'!D1291","v":2.72}]
[null,"00:00:00",null,null,null,null,null,null,null,null,null,null,null,null,"1991-08-16",{"$f":"'[1]Report-full'!B1292","v":101.92},{"$f":"'[1]Report-full'!C1292","v":100},{"$f":"'[1]Report-full'!D1292","v":3.53}]
[null,"00:00:00",null,null,null,null,null,null,null,null,null,null,null,null,"1991-08-23",{"$f":"'[1]Report-full'!B1293","v":101.66},{"$f":"'[1]Report-full'!C1293","v":95.77},{"$f":"'[1]Report-full'!D1293","v":3.92}]
[null,"00:00:00",null,null,null,null,null,null,null,null,null,null,null,null,"1991-08-30",{"$f":"'[1]Report-full'!B1294","v":102.11},{"$f":"'[1]Report-full'!C1294","v":100},{"$f":"'[1]Report-full'!D1294","v":4.43}]
[null,"00:00:00",null,null,null,null,null,null,null,null,null,null,null,null,"1991-09-06",{"$f":"'[1]Report-full'!B1295","v":102.19},{"$f":"'[1]Report-full'!C1295","v":100},{"$f":"'[1]Report-full'!D1295","v":4.88}]
[null,"00:00:00",null,null,null,null,null,null,null,null,null,null,null,null,"1991-09-13",{"$f":"'[1]Report-full'!B1296","v":101.91},{"$f":"'[1]Report-full'!C1296","v":95.34},{"$f":"'[1]Report-full'!D1296","v":5.18}]
[null,"00:00:00",null,null,null,null,null,null,null,null,null,null,null,null,"1991-09-20",{"$f":"'[1]Report-full'!B1297","v":101.65},{"$f":"'[1]Report-full'!C1297","v":91.13},{"$f":"'[1]Report-full'!D1297","v":5.46}]
[null,"00:00:00",null,null,null,null,null,null,null,null,null,null,null,null,"1991-09-27",{"$f":"'[1]Report-full'!B1298","v":101.88},{"$f":"'[1]Report-full'!C1298","v":94.88},{"$f":"'[1]Report-full'!D1298","v":5.61}]
[null,"00:00:00",null,null,null,null,null,null,null,null,null,null,null,null,"1991-10-04",{"$f":"'[1]Report-full'!B1299","v":101.93},{"$f":"'[1]Report-full'!C1299","v":95.67},{"$f":"'[1]Report-full'!D1299","v":5.74}]
[null,"00:00:00",null,null,null,null,null,null,null,null,null,null,null,null,"1991-10-11",{"$f":"'[1]Report-full'!B1300","v":101.65},{"$f":"'[1]Report-full'!C1300","v":91.16},{"$f":"'[1]Report-full'!D1300","v":5.85}]
[null,"00:00:00",null,null,null,null,null,null,null,null,null,null,null,null,"1991-10-18",{"$f":"'[1]Report-full'!B1301","v":101.58},{"$f":"'[1]Report-full'!C1301","v":90.07},{"$f":"'[1]Report-full'!D1301","v":6.04}]
[null,"00:00:00",null,null,null,null,null,null,null,null,null,null,null,null,"1991-10-25",{"$f":"'[1]Report-full'!B1302","v":102.15},{"$f":"'[1]Report-full'!C1302","v":99.42},{"$f":"'[1]Report-full'!D1302","v":6.37}]
[null,"00:00:00",null,null,null,null,null,null,null,null,null,null,null,null,"1991-11-01",{"$f":"'[1]Report-full'!B1303","v":101.6},{"$f":"'[1]Report-full'!C1303","v":90.28},{"$f":"'[1]Report-full'!D1303","v":6.39}]
[null,"00:00:00",null,null,null,null,null,null,null,null,null,null,null,null,"1991-11-08",{"$f":"'[1]Report-full'!B1304","v":101.46},{"$f":"'[1]Report-full'!C1304","v":88.04},{"$f":"'[1]Report-full'!D1304","v":6.46}]
[null,"00:00:00",null,null,null,null,null,null,null,null,null,null,null,null,"1991-11-15",{"$f":"'[1]Report-full'!B1305","v":101.39},{"$f":"'[1]Report-full'!C1305","v":86.9},{"$f":"'[1]Report-full'!D1305","v":6.51}]
[null,"00:00:00",null,null,null,null,null,null,null,null,null,null,null,null,"1991-11-22",{"$f":"'[1]Report-full'!B1306","v":100.83},{"$f":"'[1]Report-full'!C1306","v":77.599999999999994},{"$f":"'[1]Report-full'!D1306","v":6}]
[null,"00:00:00",null,null,null,null,null,null,null,null,null,null,null,null,"1991-11-29",{"$f":"'[1]Report-full'!B1307","v":100.82},{"$f":"'[1]Report-full'!C1307","v":77.430000000000007},{"$f":"'[1]Report-full'!D1307","v":5.74}]
[null,"00:00:00",null,null,null,null,null,null,null,null,null,null,null,null,"1991-12-06",{"$f":"'[1]Report-full'!B1308","v":101.39},{"$f":"'[1]Report-full'!C1308","v":86.92},{"$f":"'[1]Report-full'!D1308","v":5.82}]
[null,"00:00:00",null,null,null,null,null,null,null,null,null,null,null,null,"1991-12-13",{"$f":"'[1]Report-full'!B1309","v":101.2},{"$f":"'[1]Report-full'!C1309","v":83.71},{"$f":"'[1]Report-full'!D1309","v":5.82}]
[null,"00:00:00",null,null,null,null,null,null,null,null,null,null,null,null,"1991-12-20",{"$f":"'[1]Report-full'!B1310","v":101.25},{"$f":"'[1]Report-full'!C1310","v":84.54},{"$f":"'[1]Report-full'!D1310","v":6.11}]
[null,"00:00:00",null,null,null,null,null,null,null,null,null,null,null,null,"1991-12-27",{"$f":"'[1]Report-full'!B1311","v":102.06},{"$f":"'[1]Report-full'!C1311","v":97.82},{"$f":"'[1]Report-full'!D1311","v":6.77}]
[null,"00:00:00",null,null,null,null,null,null,null,null,null,null,null,null,"1992-01-03",{"$f":"'[1]Report-full'!B1312","v":103.54},{"$f":"'[1]Report-full'!C1312","v":100},{"$f":"'[1]Report-full'!D1312","v":7.86}]
[null,"00:00:00",null,null,null,null,null,null,null,null,null,null,null,null,"1992-01-10",{"$f":"'[1]Report-full'!B1313","v":104.02},{"$f":"'[1]Report-full'!C1313","v":100},{"$f":"'[1]Report-full'!D1313","v":9.26}]
[null,"00:00:00",null,null,null,null,null,null,null,null,null,null,null,null,"1992-01-17",{"$f":"'[1]Report-full'!B1314","v":103.88},{"$f":"'[1]Report-full'!C1314","v":97.81},{"$f":"'[1]Report-full'!D1314","v":10.54}]
[null,"00:00:00",null,null,null,null,null,null,null,null,null,null,null,null,"1992-01-24",{"$f":"'[1]Report-full'!B1315","v":104.04},{"$f":"'[1]Report-full'!C1315","v":100},{"$f":"'[1]Report-full'!D1315","v":11.47}]
[null,"00:00:00",null,null,null,null,null,null,null,null,null,null,null,null,"1992-01-31",{"$f":"'[1]Report-full'!B1316","v":103.99},{"$f":"'[1]Report-full'!C1316","v":99.3},{"$f":"'[1]Report-full'!D1316","v":11.61}]
[null,"00:00:00",null,null,null,null,null,null,null,null,null,null,null,null,"1992-02-07",{"$f":"'[1]Report-full'!B1317","v":103.67},{"$f":"'[1]Report-full'!C1317","v":94.02},{"$f":"'[1]Report-full'!D1317","v":11.35}]
[null,"00:00:00",null,null,null,null,null,null,null,null,null,null,null,null,"1992-02-14",{"$f":"'[1]Report-full'!B1318","v":103.89},{"$f":"'[1]Report-full'!C1318","v":97.68},{"$f":"'[1]Report-full'!D1318","v":11.26}]
[null,"00:00:00",null,null,null,null,null,null,null,null,null,null,null,null,"1992-02-21",{"$f":"'[1]Report-full'!B1319","v":103.78},{"$f":"'[1]Report-full'!C1319","v":95.83},{"$f":"'[1]Report-full'!D1319","v":11.05}]
[null,"00:00:00",null,null,null,null,null,null,null,null,null,null,null,null,"1992-02-28",{"$f":"'[1]Report-full'!B1320","v":105.27},{"$f":"'[1]Report-full'!C1320","v":100},{"$f":"'[1]Report-full'!D1320","v":11.61}]
[null,"00:00:00",null,null,null,null,null,null,null,null,null,null,null,null,"1992-03-06",{"$f":"'[1]Report-full'!B1321","v":105.5},{"$f":"'[1]Report-full'!C1321","v":100},{"$f":"'[1]Report-full'!D1321","v":12.42}]
[null,"00:00:00",null,null,null,null,null,null,null,null,null,null,null,null,"1992-03-13",{"$f":"'[1]Report-full'!B1322","v":105.82},{"$f":"'[1]Report-full'!C1322","v":100},{"$f":"'[1]Report-full'!D1322","v":13.24}]
[null,"00:00:00",null,null,null,null,null,null,null,null,null,null,null,null,"1992-03-20",{"$f":"'[1]Report-full'!B1323","v":106.2},{"$f":"'[1]Report-full'!C1323","v":100},{"$f":"'[1]Report-full'!D1323","v":14.26}]
[null,"00:00:00",null,null,null,null,null,null,null,null,null,null,null,null,"1992-03-27",{"$f":"'[1]Report-full'!B1324","v":106.56},{"$f":"'[1]Report-full'!C1324","v":100},{"$f":"'[1]Report-full'!D1324","v":14.67}]
[null,"00:00:00",null,null,null,null,null,null,null,null,null,null,null,null,"1992-04-03",{"$f":"'[1]Report-full'!B1325","v":105.72},{"$f":"'[1]Report-full'!C1325","v":86.73},{"$f":"'[1]Report-full'!D1325","v":14.5}]
[null,"00:00:00",null,null,null,null,null,null,null,null,null,null,null,null,"1992-04-10",{"$f":"'[1]Report-full'!B1326","v":105.19},{"$f":"'[1]Report-full'!C1326","v":78.42},{"$f":"'[1]Report-full'!D1326","v":13.91}]
[null,"00:00:00",null,null,null,null,null,null,null,null,null,null,null,null,"1992-04-17",{"$f":"'[1]Report-full'!B1327","v":105.21},{"$f":"'[1]Report-full'!C1327","v":78.64},{"$f":"'[1]Report-full'!D1327","v":13.15}]
[null,"00:00:00",null,null,null,null,null,null,null,null,null,null,null,null,"1992-04-24",{"$f":"'[1]Report-full'!B1328","v":105.63},{"$f":"'[1]Report-full'!C1328","v":85.28},{"$f":"'[1]Report-full'!D1328","v":12.45}]
[null,"00:00:00",null,null,null,null,null,null,null,null,null,null,null,null,"1992-05-01",{"$f":"'[1]Report-full'!B1329","v":104.73},{"$f":"'[1]Report-full'!C1329","v":71.09},{"$f":"'[1]Report-full'!D1329","v":11.74}]
[null,"00:00:00",null,null,null,null,null,null,null,null,null,null,null,null,"1992-05-08",{"$f":"'[1]Report-full'!B1330","v":104.38},{"$f":"'[1]Report-full'!C1330","v":65.69},{"$f":"'[1]Report-full'!D1330","v":11.14}]
[null,"00:00:00",null,null,null,null,null,null,null,null,null,null,null,null,"1992-05-15",{"$f":"'[1]Report-full'!B1331","v":104.06},{"$f":"'[1]Report-full'!C1331","v":60.53},{"$f":"'[1]Report-full'!D1331","v":10.4}]
[null,"00:00:00",null,null,null,null,null,null,null,null,null,null,null,null,"1992-05-22",{"$f":"'[1]Report-full'!B1332","v":103.87},{"$f":"'[1]Report-full'!C1332","v":57.54},{"$f":"'[1]Report-full'!D1332","v":9.3699999999999992}]
[null,"00:00:00",null,null,null,null,null,null,null,null,null,null,null,null,"1992-05-29",{"$f":"'[1]Report-full'!B1333","v":103.87},{"$f":"'[1]Report-full'!C1333","v":57.55},{"$f":"'[1]Report-full'!D1333","v":8.7899999999999991}]
[null,"00:00:00",null,null,null,null,null,null,null,null,null,null,null,null,"1992-06-05",{"$f":"'[1]Report-full'!B1334","v":104.04},{"$f":"'[1]Report-full'!C1334","v":60.2},{"$f":"'[1]Report-full'!D1334","v":8.48}]
[null,"00:00:00",null,null,null,null,null,null,null,null,null,null,null,null,"1992-06-12",{"$f":"'[1]Report-full'!B1335","v":103.56},{"$f":"'[1]Report-full'!C1335","v":52.66},{"$f":"'[1]Report-full'!D1335","v":8.09}]
[null,"00:00:00",null,null,null,null,null,null,null,null,null,null,null,null,"1992-06-19",{"$f":"'[1]Report-full'!B1336","v":103.69},{"$f":"'[1]Report-full'!C1336","v":54.71},{"$f":"'[1]Report-full'!D1336","v":7.87}]
[null,"00:00:00",null,null,null,null,null,null,null,null,null,null,null,null,"1992-06-26",{"$f":"'[1]Report-full'!B1337","v":103.67},{"$f":"'[1]Report-full'!C1337","v":54.42},{"$f":"'[1]Report-full'!D1337","v":7.65}]
[null,"00:00:00",null,null,null,null,null,null,null,null,null,null,null,null,"1992-07-03",{"$f":"'[1]Report-full'!B1338","v":103.91},{"$f":"'[1]Report-full'!C1338","v":58.22},{"$f":"'[1]Report-full'!D1338","v":7.46}]
[null,"00:00:00",null,null,null,null,null,null,null,null,null,null,null,null,"1992-07-10",{"$f":"'[1]Report-full'!B1339","v":103.99},{"$f":"'[1]Report-full'!C1339","v":59.46},{"$f":"'[1]Report-full'!D1339","v":7.54}]
[null,"00:00:00",null,null,null,null,null,null,null,null,null,null,null,null,"1992-07-17",{"$f":"'[1]Report-full'!B1340","v":104.62},{"$f":"'[1]Report-full'!C1340","v":69.459999999999994},{"$f":"'[1]Report-full'!D1340","v":7.87}]
[null,"00:00:00",null,null,null,null,null,null,null,null,null,null,null,null,"1992-07-24",{"$f":"'[1]Report-full'!B1341","v":105.22},{"$f":"'[1]Report-full'!C1341","v":78.86},{"$f":"'[1]Report-full'!D1341","v":8.49}]
[null,"00:00:00",null,null,null,null,null,null,null,null,null,null,null,null,"1992-07-31",{"$f":"'[1]Report-full'!B1342","v":105.6},{"$f":"'[1]Report-full'!C1342","v":84.92},{"$f":"'[1]Report-full'!D1342","v":9.17}]
[null,{"$f":"INT(C1338-($H$4/2*7))","v":"00:00:00"},null,null,null,null,null,null,null,null,null,null,null,null,"1992-08-07",{"$f":"'[1]Report-full'!B1343","v":105.95},{"$f":"'[1]Report-full'!C1343","v":90.33},{"$f":"'[1]Report-full'!D1343","v":9.99}]
[null,"00:00:00",null,null,null,null,null,null,null,null,null,null,null,null,"1992-08-14",{"$f":"'[1]Report-full'!B1344","v":105.25},{"$f":"'[1]Report-full'!C1344","v":79.290000000000006},{"$f":"'[1]Report-full'!D1344","v":10.15}]
[null,"00:00:00",null,null,null,null,null,null,null,null,null,null,null,null,"1992-08-21",{"$f":"'[1]Report-full'!B1345","v":105.95},{"$f":"'[1]Report-full'!C1345","v":90.38},{"$f":"'[1]Report-full'!D1345","v":10.36}]
[null,"00:00:00",null,null,null,null,null,null,null,null,null,null,null,null,"1992-08-28",{"$f":"'[1]Report-full'!B1346","v":106.36},{"$f":"'[1]Report-full'!C1346","v":96.81},{"$f":"'[1]Report-full'!D1346","v":10.58}]
[null,"00:00:00",null,null,null,null,null,null,null,null,null,null,null,null,"1992-09-04",{"$f":"'[1]Report-full'!B1347","v":106.87},{"$f":"'[1]Report-full'!C1347","v":100},{"$f":"'[1]Report-full'!D1347","v":10.87}]
[null,"00:00:00",null,null,null,null,null,null,null,null,null,null,null,null,"1992-09-11",{"$f":"'[1]Report-full'!B1348","v":107.28},{"$f":"'[1]Report-full'!C1348","v":100},{"$f":"'[1]Report-full'!D1348","v":11.7}]
[null,"00:00:00",null,null,null,null,null,null,null,null,null,null,null,null,"1992-09-18",{"$f":"'[1]Report-full'!B1349","v":107.72},{"$f":"'[1]Report-full'!C1349","v":100},{"$f":"'[1]Report-full'!D1349","v":12.38}]
[null,"00:00:00",null,null,null,null,null,null,null,null,null,null,null,null,"1992-09-25",{"$f":"'[1]Report-full'!B1350","v":107.47},{"$f":"'[1]Report-full'!C1350","v":96.25},{"$f":"'[1]Report-full'!D1350","v":12.73}]
[null,"00:00:00",null,null,null,null,null,null,null,null,null,null,null,null,"1992-10-02",{"$f":"'[1]Report-full'!B1351","v":107.5},{"$f":"'[1]Report-full'!C1351","v":96.67},{"$f":"'[1]Report-full'!D1351","v":12.83}]
[null,"00:00:00",null,null,null,null,null,null,null,null,null,null,null,null,"1992-10-09",{"$f":"'[1]Report-full'!B1352","v":107.25},{"$f":"'[1]Report-full'!C1352","v":92.73},{"$f":"'[1]Report-full'!D1352","v":12.59}]
[null,"00:00:00",null,null,null,null,null,null,null,null,null,null,null,null,"1992-10-16",{"$f":"'[1]Report-full'!B1353","v":107.52},{"$f":"'[1]Report-full'!C1353","v":96.94},{"$f":"'[1]Report-full'!D1353","v":12.28}]
[null,"00:00:00",null,null,null,null,null,null,null,null,null,null,null,null,"1992-10-23",{"$f":"'[1]Report-full'!B1354","v":108.2},{"$f":"'[1]Report-full'!C1354","v":100},{"$f":"'[1]Report-full'!D1354","v":12.41}]
[null,"00:00:00",null,null,null,null,null,null,null,null,null,null,null,null,"1992-10-30",{"$f":"'[1]Report-full'!B1355","v":108.7},{"$f":"'[1]Report-full'!C1355","v":100},{"$f":"'[1]Report-full'!D1355","v":12.77}]
[null,"00:00:00",null,null,null,null,null,null,null,null,null,null,null,null,"1992-11-06",{"$f":"'[1]Report-full'!B1356","v":109.11},{"$f":"'[1]Report-full'!C1356","v":100},{"$f":"'[1]Report-full'!D1356","v":13.44}]
[null,"00:00:00",null,null,null,null,null,null,null,null,null,null,null,null,"1992-11-13",{"$f":"'[1]Report-full'!B1357","v":109.69},{"$f":"'[1]Report-full'!C1357","v":100},{"$f":"'[1]Report-full'!D1357","v":14.24}]
[null,"00:00:00",null,null,null,null,null,null,null,null,null,null,null,null,"1992-11-20",{"$f":"'[1]Report-full'!B1358","v":109.95},{"$f":"'[1]Report-full'!C1358","v":100},{"$f":"'[1]Report-full'!D1358","v":14.8}]
[null,"00:00:00",null,null,null,null,null,null,null,null,null,null,null,null,"1992-11-27",{"$f":"'[1]Report-full'!B1359","v":110.18},{"$f":"'[1]Report-full'!C1359","v":100},{"$f":"'[1]Report-full'!D1359","v":15.21}]
[null,"00:00:00",null,null,null,null,null,null,null,null,null,null,null,null,"1992-12-04",{"$f":"'[1]Report-full'!B1360","v":110.6},{"$f":"'[1]Report-full'!C1360","v":100},{"$f":"'[1]Report-full'!D1360","v":15.59}]
[null,"00:00:00",null,null,null,null,null,null,null,null,null,null,null,null,"1992-12-11",{"$f":"'[1]Report-full'!B1361","v":110.92},{"$f":"'[1]Report-full'!C1361","v":100},{"$f":"'[1]Report-full'!D1361","v":15.84}]
[null,"00:00:00",null,null,null,null,null,null,null,null,null,null,null,null,"1992-12-18",{"$f":"'[1]Report-full'!B1362","v":110.95},{"$f":"'[1]Report-full'!C1362","v":100},{"$f":"'[1]Report-full'!D1362","v":15.96}]
[null,"00:00:00",null,null,null,null,null,null,null,null,null,null,null,null,"1992-12-25",{"$f":"'[1]Report-full'!B1363","v":111.75},{"$f":"'[1]Report-full'!C1363","v":100},{"$f":"'[1]Report-full'!D1363","v":16.350000000000001}]
[null,"00:00:00",null,null,null,null,null,null,null,null,null,null,null,null,"1993-01-01",{"$f":"'[1]Report-full'!B1364","v":112.02},{"$f":"'[1]Report-full'!C1364","v":100},{"$f":"'[1]Report-full'!D1364","v":16.670000000000002}]
[null,"00:00:00",null,null,null,null,null,null,null,null,null,null,null,null,"1993-01-08",{"$f":"'[1]Report-full'!B1365","v":111.84},{"$f":"'[1]Report-full'!C1365","v":97.28},{"$f":"'[1]Report-full'!D1365","v":16.739999999999998}]
[null,"00:00:00",null,null,null,null,null,null,null,null,null,null,null,null,"1993-01-15",{"$f":"'[1]Report-full'!B1366","v":112.03},{"$f":"'[1]Report-full'!C1366","v":100},{"$f":"'[1]Report-full'!D1366","v":16.920000000000002}]
[null,"00:00:00",null,null,null,null,null,null,null,null,null,null,null,null,"1993-01-22",{"$f":"'[1]Report-full'!B1367","v":112.59},{"$f":"'[1]Report-full'!C1367","v":100},{"$f":"'[1]Report-full'!D1367","v":16.989999999999998}]
[null,"00:00:00",null,null,null,null,null,null,null,null,null,null,null,null,"1993-01-29",{"$f":"'[1]Report-full'!B1368","v":113.19},{"$f":"'[1]Report-full'!C1368","v":100},{"$f":"'[1]Report-full'!D1368","v":17.23}]
[null,"00:00:00",null,null,null,null,null,null,null,null,null,null,null,null,"1993-02-05",{"$f":"'[1]Report-full'!B1369","v":113.79},{"$f":"'[1]Report-full'!C1369","v":100},{"$f":"'[1]Report-full'!D1369","v":17.84}]
[null,"00:00:00",null,null,null,null,null,null,null,null,null,null,null,null,"1993-02-12",{"$f":"'[1]Report-full'!B1370","v":114.73},{"$f":"'[1]Report-full'!C1370","v":100},{"$f":"'[1]Report-full'!D1370","v":18.8}]
[null,"00:00:00",null,null,null,null,null,null,null,null,null,null,null,null,"1993-02-19",{"$f":"'[1]Report-full'!B1371","v":114.92},{"$f":"'[1]Report-full'!C1371","v":100},{"$f":"'[1]Report-full'!D1371","v":19.55}]
[null,"00:00:00",null,null,null,null,null,null,null,null,null,null,null,null,"1993-02-26",{"$f":"'[1]Report-full'!B1372","v":114.4},{"$f":"'[1]Report-full'!C1372","v":92.29},{"$f":"'[1]Report-full'!D1372","v":19.73}]
[null,"00:00:00",null,null,null,null,null,null,null,null,null,null,null,null,"1993-03-05",{"$f":"'[1]Report-full'!B1373","v":114.54},{"$f":"'[1]Report-full'!C1373","v":94.42},{"$f":"'[1]Report-full'!D1373","v":19.68}]
[null,"00:00:00",null,null,null,null,null,null,null,null,null,null,null,null,"1993-03-12",{"$f":"'[1]Report-full'!B1374","v":114.83},{"$f":"'[1]Report-full'!C1374","v":98.69},{"$f":"'[1]Report-full'!D1374","v":19.329999999999998}]
[null,"00:00:00",null,null,null,null,null,null,null,null,null,null,null,null,"1993-03-19",{"$f":"'[1]Report-full'!B1375","v":114.61},{"$f":"'[1]Report-full'!C1375","v":95.46},{"$f":"'[1]Report-full'!D1375","v":18.8}]
[null,"00:00:00",null,null,null,null,null,null,null,null,null,null,null,null,"1993-03-26",{"$f":"'[1]Report-full'!B1376","v":114.77},{"$f":"'[1]Report-full'!C1376","v":97.72},{"$f":"'[1]Report-full'!D1376","v":18.63}]
[null,"00:00:00",null,null,null,null,null,null,null,null,null,null,null,null,"1993-04-02",{"$f":"'[1]Report-full'!B1377","v":114.44},{"$f":"'[1]Report-full'!C1377","v":92.92},{"$f":"'[1]Report-full'!D1377","v":18.239999999999998}]
[null,"00:00:00",null,null,null,null,null,null,null,null,null,null,null,null,"1993-04-09",{"$f":"'[1]Report-full'!B1378","v":113.94},{"$f":"'[1]Report-full'!C1378","v":85.63},{"$f":"'[1]Report-full'!D1378","v":17.48}]
[null,"00:00:00",null,null,null,null,null,null,null,null,null,null,null,null,"1993-04-16",{"$f":"'[1]Report-full'!B1379","v":113.92},{"$f":"'[1]Report-full'!C1379","v":85.35},{"$f":"'[1]Report-full'!D1379","v":16.82}]
[null,"00:00:00",null,null,null,null,null,null,null,null,null,null,null,null,"1993-04-23",{"$f":"'[1]Report-full'!B1380","v":113.68},{"$f":"'[1]Report-full'!C1380","v":81.84},{"$f":"'[1]Report-full'!D1380","v":15.97}]
[null,"00:00:00",null,null,null,null,null,null,null,null,null,null,null,null,"1993-04-30",{"$f":"'[1]Report-full'!B1381","v":113.15},{"$f":"'[1]Report-full'!C1381","v":74.099999999999994},{"$f":"'[1]Report-full'!D1381","v":15.04}]
[null,"00:00:00",null,null,null,null,null,null,null,null,null,null,null,null,"1993-05-07",{"$f":"'[1]Report-full'!B1382","v":113.34},{"$f":"'[1]Report-full'!C1382","v":76.8},{"$f":"'[1]Report-full'!D1382","v":14.44}]
[null,"00:00:00",null,null,null,null,null,null,null,null,null,null,null,null,"1993-05-14",{"$f":"'[1]Report-full'!B1383","v":113.77},{"$f":"'[1]Report-full'!C1383","v":83.1},{"$f":"'[1]Report-full'!D1383","v":14.04}]
[null,"00:00:00",null,null,null,null,null,null,null,null,null,null,null,null,"1993-05-21",{"$f":"'[1]Report-full'!B1384","v":113.53},{"$f":"'[1]Report-full'!C1384","v":79.69},{"$f":"'[1]Report-full'!D1384","v":13.65}]
[null,"00:00:00",null,null,null,null,null,null,null,null,null,null,null,null,"1993-05-28",{"$f":"'[1]Report-full'!B1385","v":114.91},{"$f":"'[1]Report-full'!C1385","v":99.75},{"$f":"'[1]Report-full'!D1385","v":14.12}]
[null,"00:00:00",null,null,null,null,null,null,null,null,null,null,null,null,"1993-06-04",{"$f":"'[1]Report-full'!B1386","v":115.6},{"$f":"'[1]Report-full'!C1386","v":100},{"$f":"'[1]Report-full'!D1386","v":14.81}]
[null,"00:00:00",null,null,null,null,null,null,null,null,null,null,null,null,"1993-06-11",{"$f":"'[1]Report-full'!B1387","v":116.25},{"$f":"'[1]Report-full'!C1387","v":100},{"$f":"'[1]Report-full'!D1387","v":15.57}]
[null,"00:00:00",null,null,null,null,null,null,null,null,null,null,null,null,"1993-06-18",{"$f":"'[1]Report-full'!B1388","v":116.29},{"$f":"'[1]Report-full'!C1388","v":100},{"$f":"'[1]Report-full'!D1388","v":16.440000000000001}]
[null,"00:00:00",null,null,null,null,null,null,null,null,null,null,null,null,"1993-06-25",{"$f":"'[1]Report-full'!B1389","v":116.18},{"$f":"'[1]Report-full'!C1389","v":98.49},{"$f":"'[1]Report-full'!D1389","v":16.579999999999998}]
[null,"00:00:00",null,null,null,null,null,null,null,null,null,null,null,null,"1993-07-02",{"$f":"'[1]Report-full'!B1390","v":115.62},{"$f":"'[1]Report-full'!C1390","v":90.34},{"$f":"'[1]Report-full'!D1390","v":16.13}]
[null,"00:00:00",null,null,null,null,null,null,null,null,null,null,null,null,"1993-07-09",{"$f":"'[1]Report-full'!B1391","v":115.53},{"$f":"'[1]Report-full'!C1391","v":89},{"$f":"'[1]Report-full'!D1391","v":15.33}]
[null,"00:00:00",null,null,null,null,null,null,null,null,null,null,null,null,"1993-07-16",{"$f":"'[1]Report-full'!B1392","v":115.87},{"$f":"'[1]Report-full'!C1392","v":94.01},{"$f":"'[1]Report-full'!D1392","v":14.69}]
[null,"00:00:00",null,null,null,null,null,null,null,null,null,null,null,null,"1993-07-23",{"$f":"'[1]Report-full'!B1393","v":115.64},{"$f":"'[1]Report-full'!C1393","v":90.68},{"$f":"'[1]Report-full'!D1393","v":14.01}]
[null,"00:00:00",null,null,null,null,null,null,null,null,null,null,null,null,"1993-07-30",{"$f":"'[1]Report-full'!B1394","v":115.97},{"$f":"'[1]Report-full'!C1394","v":95.4},{"$f":"'[1]Report-full'!D1394","v":13.76}]
[null,"00:00:00",null,null,null,null,null,null,null,null,null,null,null,null,"1993-08-06",{"$f":"'[1]Report-full'!B1395","v":116.09},{"$f":"'[1]Report-full'!C1395","v":97.12},{"$f":"'[1]Report-full'!D1395","v":13.62}]
[null,"00:00:00",null,null,null,null,null,null,null,null,null,null,null,null,"1993-08-13",{"$f":"'[1]Report-full'!B1396","v":116.05},{"$f":"'[1]Report-full'!C1396","v":96.49},{"$f":"'[1]Report-full'!D1396","v":13.31}]
[null,"00:00:00",null,null,null,null,null,null,null,null,null,null,null,null,"1993-08-20",{"$f":"'[1]Report-full'!B1397","v":116.3},{"$f":"'[1]Report-full'!C1397","v":100},{"$f":"'[1]Report-full'!D1397","v":13.23}]
[null,"00:00:00",null,null,null,null,null,null,null,null,null,null,null,null,"1993-08-27",{"$f":"'[1]Report-full'!B1398","v":116.81},{"$f":"'[1]Report-full'!C1398","v":100},{"$f":"'[1]Report-full'!D1398","v":13.24}]
[null,"00:00:00",null,null,null,null,null,null,null,null,null,null,null,null,"1993-09-03",{"$f":"'[1]Report-full'!B1399","v":117.04},{"$f":"'[1]Report-full'!C1399","v":100},{"$f":"'[1]Report-full'!D1399","v":13.29}]
[null,"00:00:00",null,null,null,null,null,null,null,null,null,null,null,null,"1993-09-10",{"$f":"'[1]Report-full'!B1400","v":117.22},{"$f":"'[1]Report-full'!C1400","v":100},{"$f":"'[1]Report-full'!D1400","v":13.45}]
[null,"00:00:00",null,null,null,null,null,null,null,null,null,null,null,null,"1993-09-17",{"$f":"'[1]Report-full'!B1401","v":117.49},{"$f":"'[1]Report-full'!C1401","v":100},{"$f":"'[1]Report-full'!D1401","v":13.61}]
[null,"00:00:00",null,null,null,null,null,null,null,null,null,null,null,null,"1993-09-24",{"$f":"'[1]Report-full'!B1402","v":117.08},{"$f":"'[1]Report-full'!C1402","v":94.14},{"$f":"'[1]Report-full'!D1402","v":13.37}]
[null,"00:00:00",null,null,null,null,null,null,null,null,null,null,null,null,"1993-10-01",{"$f":"'[1]Report-full'!B1403","v":117.13},{"$f":"'[1]Report-full'!C1403","v":94.99},{"$f":"'[1]Report-full'!D1403","v":13.06}]
[null,"00:00:00",null,null,null,null,null,null,null,null,null,null,null,null,"1993-10-08",{"$f":"'[1]Report-full'!B1404","v":117.27},{"$f":"'[1]Report-full'!C1404","v":96.92},{"$f":"'[1]Report-full'!D1404","v":12.73}]
[null,"00:00:00",null,null,null,null,null,null,null,null,null,null,null,null,"1993-10-15",{"$f":"'[1]Report-full'!B1405","v":117.54},{"$f":"'[1]Report-full'!C1405","v":100},{"$f":"'[1]Report-full'!D1405","v":12.41}]
[null,"00:00:00",null,null,null,null,null,null,null,null,null,null,null,null,"1993-10-22",{"$f":"'[1]Report-full'!B1406","v":118.04},{"$f":"'[1]Report-full'!C1406","v":100},{"$f":"'[1]Report-full'!D1406","v":12.49}]
[null,{"$f":"INT(C1402-($H$4/2*7))","v":"00:00:00"},null,null,null,null,null,null,null,null,null,null,null,null,"1993-10-29",{"$f":"'[1]Report-full'!B1407","v":118.83},{"$f":"'[1]Report-full'!C1407","v":100},{"$f":"'[1]Report-full'!D1407","v":12.9}]
[null,"00:00:00",null,null,null,null,null,null,null,null,null,null,null,null,"1993-11-05",{"$f":"'[1]Report-full'!B1408","v":119.24},{"$f":"'[1]Report-full'!C1408","v":100},{"$f":"'[1]Report-full'!D1408","v":13.42}]
[null,"00:00:00",null,null,null,null,null,null,null,null,null,null,null,null,"1993-11-12",{"$f":"'[1]Report-full'!B1409","v":119.66},{"$f":"'[1]Report-full'!C1409","v":100},{"$f":"'[1]Report-full'!D1409","v":14}]
[null,"00:00:00",null,null,null,null,null,null,null,null,null,null,null,null,"1993-11-19",{"$f":"'[1]Report-full'!B1410","v":120.07},{"$f":"'[1]Report-full'!C1410","v":100},{"$f":"'[1]Report-full'!D1410","v":14.55}]
[null,"00:00:00",null,null,null,null,null,null,null,null,null,null,null,null,"1993-11-26",{"$f":"'[1]Report-full'!B1411","v":120.16},{"$f":"'[1]Report-full'!C1411","v":100},{"$f":"'[1]Report-full'!D1411","v":14.78}]
[null,"00:00:00",null,null,null,null,null,null,null,null,null,null,null,null,"1993-12-03",{"$f":"'[1]Report-full'!B1412","v":120.2},{"$f":"'[1]Report-full'!C1412","v":100},{"$f":"'[1]Report-full'!D1412","v":14.85}]
[null,"00:00:00",null,null,null,null,null,null,null,null,null,null,null,null,"1993-12-10",{"$f":"'[1]Report-full'!B1413","v":120.55},{"$f":"'[1]Report-full'!C1413","v":100},{"$f":"'[1]Report-full'!D1413","v":14.9}]
[null,"00:00:00",null,null,null,null,null,null,null,null,null,null,null,null,"1993-12-17",{"$f":"'[1]Report-full'!B1414","v":120.51},{"$f":"'[1]Report-full'!C1414","v":99.47},{"$f":"'[1]Report-full'!D1414","v":14.74}]
[null,"00:00:00",null,null,null,null,null,null,null,null,null,null,null,null,"1993-12-24",{"$f":"'[1]Report-full'!B1415","v":120.89},{"$f":"'[1]Report-full'!C1415","v":100},{"$f":"'[1]Report-full'!D1415","v":14.72}]
[null,"00:00:00",null,null,null,null,null,null,null,null,null,null,null,null,"1993-12-31",{"$f":"'[1]Report-full'!B1416","v":121.75},{"$f":"'[1]Report-full'!C1416","v":100},{"$f":"'[1]Report-full'!D1416","v":15.07}]
[null,"00:00:00",null,null,null,null,null,null,null,null,null,null,null,null,"1994-01-07",{"$f":"'[1]Report-full'!B1417","v":122.37},{"$f":"'[1]Report-full'!C1417","v":100},{"$f":"'[1]Report-full'!D1417","v":15.54}]
[null,"00:00:00",null,null,null,null,null,null,null,null,null,null,null,null,"1994-01-14",{"$f":"'[1]Report-full'!B1418","v":123.56},{"$f":"'[1]Report-full'!C1418","v":100},{"$f":"'[1]Report-full'!D1418","v":16.54}]
[null,"00:00:00",null,null,null,null,null,null,null,null,null,null,null,null,"1994-01-21",{"$f":"'[1]Report-full'!B1419","v":123.82},{"$f":"'[1]Report-full'!C1419","v":100},{"$f":"'[1]Report-full'!D1419","v":17.47}]
[null,"00:00:00",null,null,null,null,null,null,null,null,null,null,null,null,"1994-01-28",{"$f":"'[1]Report-full'!B1420","v":124.72},{"$f":"'[1]Report-full'!C1420","v":100},{"$f":"'[1]Report-full'!D1420","v":18.41}]
[null,"00:00:00",null,null,null,null,null,null,null,null,null,null,null,null,"1994-02-04",{"$f":"'[1]Report-full'!B1421","v":124.59},{"$f":"'[1]Report-full'!C1421","v":98.19},{"$f":"'[1]Report-full'!D1421","v":18.989999999999998}]
[null,"00:00:00",null,null,null,null,null,null,null,null,null,null,null,null,"1994-02-11",{"$f":"'[1]Report-full'!B1422","v":124.53},{"$f":"'[1]Report-full'!C1422","v":97.39},{"$f":"'[1]Report-full'!D1422","v":19.010000000000002}]
[null,"00:00:00",null,null,null,null,null,null,null,null,null,null,null,null,"1994-02-18",{"$f":"'[1]Report-full'!B1423","v":124.52},{"$f":"'[1]Report-full'!C1423","v":97.3},{"$f":"'[1]Report-full'!D1423","v":18.93}]
[null,"00:00:00",null,null,null,null,null,null,null,null,null,null,null,null,"1994-02-25",{"$f":"'[1]Report-full'!B1424","v":124.03},{"$f":"'[1]Report-full'!C1424","v":90.73},{"$f":"'[1]Report-full'!D1424","v":18.239999999999998}]
[null,"00:00:00",null,null,null,null,null,null,null,null,null,null,null,null,"1994-03-04",{"$f":"'[1]Report-full'!B1425","v":122.51},{"$f":"'[1]Report-full'!C1425","v":70.150000000000006},{"$f":"'[1]Report-full'!D1425","v":16.97}]
[null,"00:00:00",null,null,null,null,null,null,null,null,null,null,null,null,"1994-03-11",{"$f":"'[1]Report-full'!B1426","v":121.34},{"$f":"'[1]Report-full'!C1426","v":54.46},{"$f":"'[1]Report-full'!D1426","v":15.25}]
[null,"00:00:00",null,null,null,null,null,null,null,null,null,null,null,null,"1994-03-18",{"$f":"'[1]Report-full'!B1427","v":120.86},{"$f":"'[1]Report-full'!C1427","v":48.02},{"$f":"'[1]Report-full'!D1427","v":13.37}]
[null,"00:00:00",null,null,null,null,null,null,null,null,null,null,null,null,"1994-03-25",{"$f":"'[1]Report-full'!B1428","v":120.63},{"$f":"'[1]Report-full'!C1428","v":44.93},{"$f":"'[1]Report-full'!D1428","v":11.65}]
[null,"00:00:00",null,null,null,null,null,null,null,null,null,null,null,null,"1994-04-01",{"$f":"'[1]Report-full'!B1429","v":120.71},{"$f":"'[1]Report-full'!C1429","v":45.93},{"$f":"'[1]Report-full'!D1429","v":10.66}]
[null,"00:00:00",null,null,null,null,null,null,null,null,null,null,null,null,"1994-04-08",{"$f":"'[1]Report-full'!B1430","v":120.69},{"$f":"'[1]Report-full'!C1430","v":45.64},{"$f":"'[1]Report-full'!D1430","v":10.18}]
[null,"00:00:00",null,null,null,null,null,null,null,null,null,null,null,null,"1994-04-15",{"$f":"'[1]Report-full'!B1431","v":121.16},{"$f":"'[1]Report-full'!C1431","v":52.02},{"$f":"'[1]Report-full'!D1431","v":10.09}]
[null,"00:00:00",null,null,null,null,null,null,null,null,null,null,null,null,"1994-04-22",{"$f":"'[1]Report-full'!B1432","v":120.97},{"$f":"'[1]Report-full'!C1432","v":49.47},{"$f":"'[1]Report-full'!D1432","v":10.02}]
[null,"00:00:00",null,null,null,null,null,null,null,null,null,null,null,null,"1994-04-29",{"$f":"'[1]Report-full'!B1433","v":122.29},{"$f":"'[1]Report-full'!C1433","v":67.28},{"$f":"'[1]Report-full'!D1433","v":10.46}]
[null,"00:00:00",null,null,null,null,null,null,null,null,null,null,null,null,"1994-05-06",{"$f":"'[1]Report-full'!B1434","v":123.08},{"$f":"'[1]Report-full'!C1434","v":77.81},{"$f":"'[1]Report-full'!D1434","v":11.22}]
[null,"00:00:00",null,null,null,null,null,null,null,null,null,null,null,null,"1994-05-13",{"$f":"'[1]Report-full'!B1435","v":122.97},{"$f":"'[1]Report-full'!C1435","v":76.34},{"$f":"'[1]Report-full'!D1435","v":11.7}]
[null,"00:00:00",null,null,null,null,null,null,null,null,null,null,null,null,"1994-05-20",{"$f":"'[1]Report-full'!B1436","v":123.34},{"$f":"'[1]Report-full'!C1436","v":81.36},{"$f":"'[1]Report-full'!D1436","v":12.41}]
[null,"00:00:00",null,null,null,null,null,null,null,null,null,null,null,null,"1994-05-27",{"$f":"'[1]Report-full'!B1437","v":123.06},{"$f":"'[1]Report-full'!C1437","v":77.569999999999993},{"$f":"'[1]Report-full'!D1437","v":12.41}]
[null,"00:00:00",null,null,null,null,null,null,null,null,null,null,null,null,"1994-06-03",{"$f":"'[1]Report-full'!B1438","v":122.95},{"$f":"'[1]Report-full'!C1438","v":76.17},{"$f":"'[1]Report-full'!D1438","v":12.05}]
[null,"00:00:00",null,null,null,null,null,null,null,null,null,null,null,null,"1994-06-10",{"$f":"'[1]Report-full'!B1439","v":123.21},{"$f":"'[1]Report-full'!C1439","v":79.59},{"$f":"'[1]Report-full'!D1439","v":11.87}]
[null,"00:00:00",null,null,null,null,null,null,null,null,null,null,null,null,"1994-06-17",{"$f":"'[1]Report-full'!B1440","v":123.3},{"$f":"'[1]Report-full'!C1440","v":80.819999999999993},{"$f":"'[1]Report-full'!D1440","v":11.58}]
[null,"00:00:00",null,null,null,null,null,null,null,null,null,null,null,null,"1994-06-24",{"$f":"'[1]Report-full'!B1441","v":123.07},{"$f":"'[1]Report-full'!C1441","v":77.77},{"$f":"'[1]Report-full'!D1441","v":11.34}]
[null,"00:00:00",null,null,null,null,null,null,null,null,null,null,null,null,"1994-07-01",{"$f":"'[1]Report-full'!B1442","v":122.99},{"$f":"'[1]Report-full'!C1442","v":76.67},{"$f":"'[1]Report-full'!D1442","v":11.12}]
[null,"00:00:00",null,null,null,null,null,null,null,null,null,null,null,null,"1994-07-08",{"$f":"'[1]Report-full'!B1443","v":123.17},{"$f":"'[1]Report-full'!C1443","v":79.11},{"$f":"'[1]Report-full'!D1443","v":10.88}]
[null,"00:00:00",null,null,null,null,null,null,null,null,null,null,null,null,"1994-07-15",{"$f":"'[1]Report-full'!B1444","v":123.65},{"$f":"'[1]Report-full'!C1444","v":85.52},{"$f":"'[1]Report-full'!D1444","v":10.78}]
[null,"00:00:00",null,null,null,null,null,null,null,null,null,null,null,null,"1994-07-22",{"$f":"'[1]Report-full'!B1445","v":124.11},{"$f":"'[1]Report-full'!C1445","v":91.72},{"$f":"'[1]Report-full'!D1445","v":10.97}]
[null,"00:00:00",null,null,null,null,null,null,null,null,null,null,null,null,"1994-07-29",{"$f":"'[1]Report-full'!B1446","v":123.81},{"$f":"'[1]Report-full'!C1446","v":87.7},{"$f":"'[1]Report-full'!D1446","v":11.06}]
[null,"00:00:00",null,null,null,null,null,null,null,null,null,null,null,null,"1994-08-05",{"$f":"'[1]Report-full'!B1447","v":124.05},{"$f":"'[1]Report-full'!C1447","v":90.93},{"$f":"'[1]Report-full'!D1447","v":11.16}]
[null,"00:00:00",null,null,null,null,null,null,null,null,null,null,null,null,"1994-08-12",{"$f":"'[1]Report-full'!B1448","v":124.27},{"$f":"'[1]Report-full'!C1448","v":93.93},{"$f":"'[1]Report-full'!D1448","v":11.16}]
[null,"00:00:00",null,null,null,null,null,null,null,null,null,null,null,null,"1994-08-19",{"$f":"'[1]Report-full'!B1449","v":124.48},{"$f":"'[1]Report-full'!C1449","v":96.66},{"$f":"'[1]Report-full'!D1449","v":11.04}]
[null,"00:00:00",null,null,null,null,null,null,null,null,null,null,null,null,"1994-08-26",{"$f":"'[1]Report-full'!B1450","v":124.75},{"$f":"'[1]Report-full'!C1450","v":100},{"$f":"'[1]Report-full'!D1450","v":11.17}]
[null,"00:00:00",null,null,null,null,null,null,null,null,null,null,null,null,"1994-09-02",{"$f":"'[1]Report-full'!B1451","v":125.16},{"$f":"'[1]Report-full'!C1451","v":100},{"$f":"'[1]Report-full'!D1451","v":11.36}]
[null,"00:00:00",null,null,null,null,null,null,null,null,null,null,null,null,"1994-09-09",{"$f":"'[1]Report-full'!B1452","v":125.29},{"$f":"'[1]Report-full'!C1452","v":100},{"$f":"'[1]Report-full'!D1452","v":11.52}]
[null,"00:00:00",null,null,null,null,null,null,null,null,null,null,null,null,"1994-09-16",{"$f":"'[1]Report-full'!B1453","v":125.27},{"$f":"'[1]Report-full'!C1453","v":99.77},{"$f":"'[1]Report-full'!D1453","v":11.58}]
[null,"00:00:00",null,null,null,null,null,null,null,null,null,null,null,null,"1994-09-23",{"$f":"'[1]Report-full'!B1454","v":125.37},{"$f":"'[1]Report-full'!C1454","v":100},{"$f":"'[1]Report-full'!D1454","v":11.58}]
[null,"00:00:00",null,null,null,null,null,null,null,null,null,null,null,null,"1994-09-30",{"$f":"'[1]Report-full'!B1455","v":125.54},{"$f":"'[1]Report-full'!C1455","v":100},{"$f":"'[1]Report-full'!D1455","v":11.48}]
[null,"00:00:00",null,null,null,null,null,null,null,null,null,null,null,null,"1994-10-07",{"$f":"'[1]Report-full'!B1456","v":125.88},{"$f":"'[1]Report-full'!C1456","v":100},{"$f":"'[1]Report-full'!D1456","v":11.46}]
[null,"00:00:00",null,null,null,null,null,null,null,null,null,null,null,null,"1994-10-14",{"$f":"'[1]Report-full'!B1457","v":126.32},{"$f":"'[1]Report-full'!C1457","v":100},{"$f":"'[1]Report-full'!D1457","v":11.62}]
[null,"00:00:00",null,null,null,null,null,null,null,null,null,null,null,null,"1994-10-21",{"$f":"'[1]Report-full'!B1458","v":127.2},{"$f":"'[1]Report-full'!C1458","v":100},{"$f":"'[1]Report-full'!D1458","v":12.09}]
[null,"00:00:00",null,null,null,null,null,null,null,null,null,null,null,null,"1994-10-28",{"$f":"'[1]Report-full'!B1459","v":127.33},{"$f":"'[1]Report-full'!C1459","v":100},{"$f":"'[1]Report-full'!D1459","v":12.54}]
[null,"00:00:00",null,null,null,null,null,null,null,null,null,null,null,null,"1994-11-04",{"$f":"'[1]Report-full'!B1460","v":128.18},{"$f":"'[1]Report-full'!C1460","v":100},{"$f":"'[1]Report-full'!D1460","v":13.21}]
[null,"00:00:00",null,null,null,null,null,null,null,null,null,null,null,null,"1994-11-11",{"$f":"'[1]Report-full'!B1461","v":128.52000000000001},{"$f":"'[1]Report-full'!C1461","v":100},{"$f":"'[1]Report-full'!D1461","v":13.83}]
[null,"00:00:00",null,null,null,null,null,null,null,null,null,null,null,null,"1994-11-18",{"$f":"'[1]Report-full'!B1462","v":128.77000000000001},{"$f":"'[1]Report-full'!C1462","v":100},{"$f":"'[1]Report-full'!D1462","v":14.18}]
[null,"00:00:00",null,null,null,null,null,null,null,null,null,null,null,null,"1994-11-25",{"$f":"'[1]Report-full'!B1463","v":128.59},{"$f":"'[1]Report-full'!C1463","v":97.67},{"$f":"'[1]Report-full'!D1463","v":14.42}]
[null,"00:00:00",null,null,null,null,null,null,null,null,null,null,null,null,"1994-12-02",{"$f":"'[1]Report-full'!B1464","v":128.85},{"$f":"'[1]Report-full'!C1464","v":100},{"$f":"'[1]Report-full'!D1464","v":14.4}]
[null,"00:00:00",null,null,null,null,null,null,null,null,null,null,null,null,"1994-12-09",{"$f":"'[1]Report-full'!B1465","v":129.06},{"$f":"'[1]Report-full'!C1465","v":100},{"$f":"'[1]Report-full'!D1465","v":14.34}]
[null,"00:00:00",null,null,null,null,null,null,null,null,null,null,null,null,"1994-12-16",{"$f":"'[1]Report-full'!B1466","v":129.36000000000001},{"$f":"'[1]Report-full'!C1466","v":100},{"$f":"'[1]Report-full'!D1466","v":14.3}]
[null,"00:00:00",null,null,null,null,null,null,null,null,null,null,null,null,"1994-12-23",{"$f":"'[1]Report-full'!B1467","v":130.02000000000001},{"$f":"'[1]Report-full'!C1467","v":100},{"$f":"'[1]Report-full'!D1467","v":14.6}]
[null,"00:00:00",null,null,null,null,null,null,null,null,null,null,null,null,"1994-12-30",{"$f":"'[1]Report-full'!B1468","v":129.41},{"$f":"'[1]Report-full'!C1468","v":92.16},{"$f":"'[1]Report-full'!D1468","v":14.54}]
[null,"00:00:00",null,null,null,null,null,null,null,null,null,null,null,null,"1995-01-06",{"$f":"'[1]Report-full'!B1469","v":128.87},{"$f":"'[1]Report-full'!C1469","v":85.26},{"$f":"'[1]Report-full'!D1469","v":14.18}]
[null,"00:00:00",null,null,null,null,null,null,null,null,null,null,null,null,"1995-01-13",{"$f":"'[1]Report-full'!B1470","v":129.12},{"$f":"'[1]Report-full'!C1470","v":88.46},{"$f":"'[1]Report-full'!D1470","v":13.82}]
[null,{"$f":"INT(C1466-($H$4/2*7))","v":"00:00:00"},null,null,null,null,null,null,null,null,null,null,null,null,"1995-01-20",{"$f":"'[1]Report-full'!B1471","v":129.58000000000001},{"$f":"'[1]Report-full'!C1471","v":94.36},{"$f":"'[1]Report-full'!D1471","v":13.41}]
[null,"00:00:00",null,null,null,null,null,null,null,null,null,null,null,null,"1995-01-27",{"$f":"'[1]Report-full'!B1472","v":129.1},{"$f":"'[1]Report-full'!C1472","v":88.1},{"$f":"'[1]Report-full'!D1472","v":13.08}]
[null,"00:00:00",null,null,null,null,null,null,null,null,null,null,null,null,"1995-02-03",{"$f":"'[1]Report-full'!B1473","v":129.5},{"$f":"'[1]Report-full'!C1473","v":93.38},{"$f":"'[1]Report-full'!D1473","v":13.15}]
[null,"00:00:00",null,null,null,null,null,null,null,null,null,null,null,null,"1995-02-10",{"$f":"'[1]Report-full'!B1474","v":129.85},{"$f":"'[1]Report-full'!C1474","v":97.82},{"$f":"'[1]Report-full'!D1474","v":13.28}]
[null,"00:00:00",null,null,null,null,null,null,null,null,null,null,null,null,"1995-02-17",{"$f":"'[1]Report-full'!B1475","v":130.15},{"$f":"'[1]Report-full'!C1475","v":100},{"$f":"'[1]Report-full'!D1475","v":13.35}]
[null,"00:00:00",null,null,null,null,null,null,null,null,null,null,null,null,"1995-02-24",{"$f":"'[1]Report-full'!B1476","v":130.19},{"$f":"'[1]Report-full'!C1476","v":100},{"$f":"'[1]Report-full'!D1476","v":13.63}]
[null,"00:00:00",null,null,null,null,null,null,null,null,null,null,null,null,"1995-03-03",{"$f":"'[1]Report-full'!B1477","v":130.12},{"$f":"'[1]Report-full'!C1477","v":99.01},{"$f":"'[1]Report-full'!D1477","v":13.7}]
[null,"00:00:00",null,null,null,null,null,null,null,null,null,null,null,null,"1995-03-10",{"$f":"'[1]Report-full'!B1478","v":129.96},{"$f":"'[1]Report-full'!C1478","v":96.96},{"$f":"'[1]Report-full'!D1478","v":13.55}]
[null,"00:00:00",null,null,null,null,null,null,null,null,null,null,null,null,"1995-03-17",{"$f":"'[1]Report-full'!B1479","v":130.31},{"$f":"'[1]Report-full'!C1479","v":100},{"$f":"'[1]Report-full'!D1479","v":13.38}]
[null,"00:00:00",null,null,null,null,null,null,null,null,null,null,null,null,"1995-03-24",{"$f":"'[1]Report-full'!B1480","v":130.38},{"$f":"'[1]Report-full'!C1480","v":100},{"$f":"'[1]Report-full'!D1480","v":13.2}]
[null,"00:00:00",null,null,null,null,null,null,null,null,null,null,null,null,"1995-03-31",{"$f":"'[1]Report-full'!B1481","v":130.07},{"$f":"'[1]Report-full'!C1481","v":96.02},{"$f":"'[1]Report-full'!D1481","v":12.89}]
[null,"00:00:00",null,null,null,null,null,null,null,null,null,null,null,null,"1995-04-07",{"$f":"'[1]Report-full'!B1482","v":129.66},{"$f":"'[1]Report-full'!C1482","v":90.79},{"$f":"'[1]Report-full'!D1482","v":12.48}]
[null,"00:00:00",null,null,null,null,null,null,null,null,null,null,null,null,"1995-04-14",{"$f":"'[1]Report-full'!B1483","v":129.85},{"$f":"'[1]Report-full'!C1483","v":93.22},{"$f":"'[1]Report-full'!D1483","v":11.99}]
[null,"00:00:00",null,null,null,null,null,null,null,null,null,null,null,null,"1995-04-21",{"$f":"'[1]Report-full'!B1484","v":129.77000000000001},{"$f":"'[1]Report-full'!C1484","v":92.16},{"$f":"'[1]Report-full'!D1484","v":11.46}]
[null,"00:00:00",null,null,null,null,null,null,null,null,null,null,null,null,"1995-04-28",{"$f":"'[1]Report-full'!B1485","v":130.58000000000001},{"$f":"'[1]Report-full'!C1485","v":100},{"$f":"'[1]Report-full'!D1485","v":11.39}]
[null,"00:00:00",null,null,null,null,null,null,null,null,null,null,null,null,"1995-05-05",{"$f":"'[1]Report-full'!B1486","v":130.82},{"$f":"'[1]Report-full'!C1486","v":100},{"$f":"'[1]Report-full'!D1486","v":11.57}]
[null,"00:00:00",null,null,null,null,null,null,null,null,null,null,null,null,"1995-05-12",{"$f":"'[1]Report-full'!B1487","v":131.41},{"$f":"'[1]Report-full'!C1487","v":100},{"$f":"'[1]Report-full'!D1487","v":11.93}]
[null,"00:00:00",null,null,null,null,null,null,null,null,null,null,null,null,"1995-05-19",{"$f":"'[1]Report-full'!B1488","v":131.77000000000001},{"$f":"'[1]Report-full'!C1488","v":100},{"$f":"'[1]Report-full'!D1488","v":12.47}]
[null,"00:00:00",null,null,null,null,null,null,null,null,null,null,null,null,"1995-05-26",{"$f":"'[1]Report-full'!B1489","v":131.57},{"$f":"'[1]Report-full'!C1489","v":97.37},{"$f":"'[1]Report-full'!D1489","v":12.6}]
[null,"00:00:00",null,null,null,null,null,null,null,null,null,null,null,null,"1995-06-02",{"$f":"'[1]Report-full'!B1490","v":131.4},{"$f":"'[1]Report-full'!C1490","v":95.2},{"$f":"'[1]Report-full'!D1490","v":12.57}]
[null,"00:00:00",null,null,null,null,null,null,null,null,null,null,null,null,"1995-06-09",{"$f":"'[1]Report-full'!B1491","v":131.83000000000001},{"$f":"'[1]Report-full'!C1491","v":100},{"$f":"'[1]Report-full'!D1491","v":12.46}]
[null,"00:00:00",null,null,null,null,null,null,null,null,null,null,null,null,"1995-06-16",{"$f":"'[1]Report-full'!B1492","v":131.65},{"$f":"'[1]Report-full'!C1492","v":97.72},{"$f":"'[1]Report-full'!D1492","v":12.15}]
[null,"00:00:00",null,null,null,null,null,null,null,null,null,null,null,null,"1995-06-23",{"$f":"'[1]Report-full'!B1493","v":131.91},{"$f":"'[1]Report-full'!C1493","v":100},{"$f":"'[1]Report-full'!D1493","v":12.02}]
[null,"00:00:00",null,null,null,null,null,null,null,null,null,null,null,null,"1995-06-30",{"$f":"'[1]Report-full'!B1494","v":132.80000000000001},{"$f":"'[1]Report-full'!C1494","v":100},{"$f":"'[1]Report-full'!D1494","v":12.3}]
[null,"00:00:00",null,null,null,null,null,null,null,null,null,null,null,null,"1995-07-07",{"$f":"'[1]Report-full'!B1495","v":133.19},{"$f":"'[1]Report-full'!C1495","v":100},{"$f":"'[1]Report-full'!D1495","v":12.56}]
[null,"00:00:00",null,null,null,null,null,null,null,null,null,null,null,null,"1995-07-14",{"$f":"'[1]Report-full'!B1496","v":133.96},{"$f":"'[1]Report-full'!C1496","v":100},{"$f":"'[1]Report-full'!D1496","v":13.18}]
[null,"00:00:00",null,null,null,null,null,null,null,null,null,null,null,null,"1995-07-21",{"$f":"'[1]Report-full'!B1497","v":133.93},{"$f":"'[1]Report-full'!C1497","v":99.69},{"$f":"'[1]Report-full'!D1497","v":13.68}]
[null,"00:00:00",null,null,null,null,null,null,null,null,null,null,null,null,"1995-07-28",{"$f":"'[1]Report-full'!B1498","v":134.32},{"$f":"'[1]Report-full'!C1498","v":100},{"$f":"'[1]Report-full'!D1498","v":13.96}]
[null,"00:00:00",null,null,null,null,null,null,null,null,null,null,null,null,"1995-08-04",{"$f":"'[1]Report-full'!B1499","v":135.18},{"$f":"'[1]Report-full'!C1499","v":100},{"$f":"'[1]Report-full'!D1499","v":14.43}]
[null,"00:00:00",null,null,null,null,null,null,null,null,null,null,null,null,"1995-08-11",{"$f":"'[1]Report-full'!B1500","v":135.63999999999999},{"$f":"'[1]Report-full'!C1500","v":100},{"$f":"'[1]Report-full'!D1500","v":14.76}]
[null,"00:00:00",null,null,null,null,null,null,null,null,null,null,null,null,"1995-08-18",{"$f":"'[1]Report-full'!B1501","v":135.82},{"$f":"'[1]Report-full'!C1501","v":100},{"$f":"'[1]Report-full'!D1501","v":15.17}]
[null,"00:00:00",null,null,null,null,null,null,null,null,null,null,null,null,"1995-08-25",{"$f":"'[1]Report-full'!B1502","v":135.83000000000001},{"$f":"'[1]Report-full'!C1502","v":100},{"$f":"'[1]Report-full'!D1502","v":15.41}]
[null,"00:00:00",null,null,null,null,null,null,null,null,null,null,null,null,"1995-09-01",{"$f":"'[1]Report-full'!B1503","v":136.13999999999999},{"$f":"'[1]Report-full'!C1503","v":100},{"$f":"'[1]Report-full'!D1503","v":15.43}]
[null,"00:00:00",null,null,null,null,null,null,null,null,null,null,null,null,"1995-09-08",{"$f":"'[1]Report-full'!B1504","v":136.58000000000001},{"$f":"'[1]Report-full'!C1504","v":100},{"$f":"'[1]Report-full'!D1504","v":15.45}]
[null,"00:00:00",null,null,null,null,null,null,null,null,null,null,null,null,"1995-09-15",{"$f":"'[1]Report-full'!B1505","v":137.13999999999999},{"$f":"'[1]Report-full'!C1505","v":100},{"$f":"'[1]Report-full'!D1505","v":15.62}]
[null,"00:00:00",null,null,null,null,null,null,null,null,null,null,null,null,"1995-09-22",{"$f":"'[1]Report-full'!B1506","v":137.52000000000001},{"$f":"'[1]Report-full'!C1506","v":100},{"$f":"'[1]Report-full'!D1506","v":15.92}]
[null,"00:00:00",null,null,null,null,null,null,null,null,null,null,null,null,"1995-09-29",{"$f":"'[1]Report-full'!B1507","v":136.85},{"$f":"'[1]Report-full'!C1507","v":91.87},{"$f":"'[1]Report-full'!D1507","v":15.83}]
[null,"00:00:00",null,null,null,null,null,null,null,null,null,null,null,null,"1995-10-06",{"$f":"'[1]Report-full'!B1508","v":136.66},{"$f":"'[1]Report-full'!C1508","v":89.57},{"$f":"'[1]Report-full'!D1508","v":15.5}]
[null,"00:00:00",null,null,null,null,null,null,null,null,null,null,null,null,"1995-10-13",{"$f":"'[1]Report-full'!B1509","v":136.58000000000001},{"$f":"'[1]Report-full'!C1509","v":88.62},{"$f":"'[1]Report-full'!D1509","v":14.91}]
[null,"00:00:00",null,null,null,null,null,null,null,null,null,null,null,null,"1995-10-20",{"$f":"'[1]Report-full'!B1510","v":136.5},{"$f":"'[1]Report-full'!C1510","v":87.54},{"$f":"'[1]Report-full'!D1510","v":14.17}]
[null,"00:00:00",null,null,null,null,null,null,null,null,null,null,null,null,"1995-10-27",{"$f":"'[1]Report-full'!B1511","v":136.03},{"$f":"'[1]Report-full'!C1511","v":81.819999999999993},{"$f":"'[1]Report-full'!D1511","v":13.53}]
[null,"00:00:00",null,null,null,null,null,null,null,null,null,null,null,null,"1995-11-03",{"$f":"'[1]Report-full'!B1512","v":135.79},{"$f":"'[1]Report-full'!C1512","v":78.98},{"$f":"'[1]Report-full'!D1512","v":12.89}]
[null,"00:00:00",null,null,null,null,null,null,null,null,null,null,null,null,"1995-11-10",{"$f":"'[1]Report-full'!B1513","v":135.9},{"$f":"'[1]Report-full'!C1513","v":80.25},{"$f":"'[1]Report-full'!D1513","v":12.36}]
[null,"00:00:00",null,null,null,null,null,null,null,null,null,null,null,null,"1995-11-17",{"$f":"'[1]Report-full'!B1514","v":136.06},{"$f":"'[1]Report-full'!C1514","v":82.23},{"$f":"'[1]Report-full'!D1514","v":11.94}]
[null,"00:00:00",null,null,null,null,null,null,null,null,null,null,null,null,"1995-11-24",{"$f":"'[1]Report-full'!B1515","v":136.15},{"$f":"'[1]Report-full'!C1515","v":83.35},{"$f":"'[1]Report-full'!D1515","v":11.75}]
[null,"00:00:00",null,null,null,null,null,null,null,null,null,null,null,null,"1995-12-01",{"$f":"'[1]Report-full'!B1516","v":136.71},{"$f":"'[1]Report-full'!C1516","v":90.22},{"$f":"'[1]Report-full'!D1516","v":11.88}]
[null,"00:00:00",null,null,null,null,null,null,null,null,null,null,null,null,"1995-12-08",{"$f":"'[1]Report-full'!B1517","v":136.96},{"$f":"'[1]Report-full'!C1517","v":93.24},{"$f":"'[1]Report-full'!D1517","v":12.06}]
[null,"00:00:00",null,null,null,null,null,null,null,null,null,null,null,null,"1995-12-15",{"$f":"'[1]Report-full'!B1518","v":137.72999999999999},{"$f":"'[1]Report-full'!C1518","v":100},{"$f":"'[1]Report-full'!D1518","v":12.46}]
[null,"00:00:00",null,null,null,null,null,null,null,null,null,null,null,null,"1995-12-22",{"$f":"'[1]Report-full'!B1519","v":137.71},{"$f":"'[1]Report-full'!C1519","v":99.78},{"$f":"'[1]Report-full'!D1519","v":12.82}]
[null,"00:00:00",null,null,null,null,null,null,null,null,null,null,null,null,"1995-12-29",{"$f":"'[1]Report-full'!B1520","v":137.68},{"$f":"'[1]Report-full'!C1520","v":99.36},{"$f":"'[1]Report-full'!D1520","v":12.95}]
[null,"00:00:00",null,null,null,null,null,null,null,null,null,null,null,null,"1996-01-05",{"$f":"'[1]Report-full'!B1521","v":137.86000000000001},{"$f":"'[1]Report-full'!C1521","v":100},{"$f":"'[1]Report-full'!D1521","v":13.04}]
[null,"00:00:00",null,null,null,null,null,null,null,null,null,null,null,null,"1996-01-12",{"$f":"'[1]Report-full'!B1522","v":138.09},{"$f":"'[1]Report-full'!C1522","v":100},{"$f":"'[1]Report-full'!D1522","v":12.93}]
[null,"00:00:00",null,null,null,null,null,null,null,null,null,null,null,null,"1996-01-19",{"$f":"'[1]Report-full'!B1523","v":138.01},{"$f":"'[1]Report-full'!C1523","v":98.95},{"$f":"'[1]Report-full'!D1523","v":12.79}]
[null,"00:00:00",null,null,null,null,null,null,null,null,null,null,null,null,"1996-01-26",{"$f":"'[1]Report-full'!B1524","v":138.09},{"$f":"'[1]Report-full'!C1524","v":99.95},{"$f":"'[1]Report-full'!D1524","v":12.68}]
[null,"00:00:00",null,null,null,null,null,null,null,null,null,null,null,null,"1996-02-02",{"$f":"'[1]Report-full'!B1525","v":138.47999999999999},{"$f":"'[1]Report-full'!C1525","v":100},{"$f":"'[1]Report-full'!D1525","v":12.65}]
[null,"00:00:00",null,null,null,null,null,null,null,null,null,null,null,null,"1996-02-09",{"$f":"'[1]Report-full'!B1526","v":139.51},{"$f":"'[1]Report-full'!C1526","v":100},{"$f":"'[1]Report-full'!D1526","v":12.92}]
[null,"00:00:00",null,null,null,null,null,null,null,null,null,null,null,null,"1996-02-16",{"$f":"'[1]Report-full'!B1527","v":139.65},{"$f":"'[1]Report-full'!C1527","v":100},{"$f":"'[1]Report-full'!D1527","v":13.27}]
[null,"00:00:00",null,null,null,null,null,null,null,null,null,null,null,null,"1996-02-23",{"$f":"'[1]Report-full'!B1528","v":139.56},{"$f":"'[1]Report-full'!C1528","v":98.95},{"$f":"'[1]Report-full'!D1528","v":13.54}]
[null,"00:00:00",null,null,null,null,null,null,null,null,null,null,null,null,"1996-03-01",{"$f":"'[1]Report-full'!B1529","v":139.66},{"$f":"'[1]Report-full'!C1529","v":100},{"$f":"'[1]Report-full'!D1529","v":13.71}]
[null,"00:00:00",null,null,null,null,null,null,null,null,null,null,null,null,"1996-03-08",{"$f":"'[1]Report-full'!B1530","v":139.75},{"$f":"'[1]Report-full'!C1530","v":100},{"$f":"'[1]Report-full'!D1530","v":13.51}]
[null,"00:00:00",null,null,null,null,null,null,null,null,null,null,null,null,"1996-03-15",{"$f":"'[1]Report-full'!B1531","v":139.53},{"$f":"'[1]Report-full'!C1531","v":97.3},{"$f":"'[1]Report-full'!D1531","v":13.17}]
[null,"00:00:00",null,null,null,null,null,null,null,null,null,null,null,null,"1996-03-22",{"$f":"'[1]Report-full'!B1532","v":140.01},{"$f":"'[1]Report-full'!C1532","v":100},{"$f":"'[1]Report-full'!D1532","v":13.06}]
[null,"00:00:00",null,null,null,null,null,null,null,null,null,null,null,null,"1996-03-29",{"$f":"'[1]Report-full'!B1533","v":140.53},{"$f":"'[1]Report-full'!C1533","v":100},{"$f":"'[1]Report-full'!D1533","v":13.1}]
[null,"00:00:00",null,null,null,null,null,null,null,null,null,null,null,null,"1996-04-05",{"$f":"'[1]Report-full'!B1534","v":140.44999999999999},{"$f":"'[1]Report-full'!C1534","v":99.05},{"$f":"'[1]Report-full'!D1534","v":13.07}]
[null,{"$f":"INT(C1530-($H$4/2*7))","v":"00:00:00"},null,null,null,null,null,null,null,null,null,null,null,null,"1996-04-12",{"$f":"'[1]Report-full'!B1535","v":140.68},{"$f":"'[1]Report-full'!C1535","v":100},{"$f":"'[1]Report-full'!D1535","v":13.21}]
[null,"00:00:00",null,null,null,null,null,null,null,null,null,null,null,null,"1996-04-19",{"$f":"'[1]Report-full'!B1536","v":140.79},{"$f":"'[1]Report-full'!C1536","v":100},{"$f":"'[1]Report-full'!D1536","v":13.19}]
[null,"00:00:00",null,null,null,null,null,null,null,null,null,null,null,null,"1996-04-26",{"$f":"'[1]Report-full'!B1537","v":140.69999999999999},{"$f":"'[1]Report-full'!C1537","v":98.86},{"$f":"'[1]Report-full'!D1537","v":12.93}]
[null,"00:00:00",null,null,null,null,null,null,null,null,null,null,null,null,"1996-05-03",{"$f":"'[1]Report-full'!B1538","v":140.93},{"$f":"'[1]Report-full'!C1538","v":100},{"$f":"'[1]Report-full'!D1538","v":12.79}]
[null,"00:00:00",null,null,null,null,null,null,null,null,null,null,null,null,"1996-05-10",{"$f":"'[1]Report-full'!B1539","v":140.63},{"$f":"'[1]Report-full'!C1539","v":96.47},{"$f":"'[1]Report-full'!D1539","v":12.46}]
[null,"00:00:00",null,null,null,null,null,null,null,null,null,null,null,null,"1996-05-17",{"$f":"'[1]Report-full'!B1540","v":141.24},{"$f":"'[1]Report-full'!C1540","v":100},{"$f":"'[1]Report-full'!D1540","v":12.33}]
[null,"00:00:00",null,null,null,null,null,null,null,null,null,null,null,null,"1996-05-24",{"$f":"'[1]Report-full'!B1541","v":141.88999999999999},{"$f":"'[1]Report-full'!C1541","v":100},{"$f":"'[1]Report-full'!D1541","v":12.49}]
[null,"00:00:00",null,null,null,null,null,null,null,null,null,null,null,null,"1996-05-31",{"$f":"'[1]Report-full'!B1542","v":142.37},{"$f":"'[1]Report-full'!C1542","v":100},{"$f":"'[1]Report-full'!D1542","v":12.73}]
[null,"00:00:00",null,null,null,null,null,null,null,null,null,null,null,null,"1996-06-07",{"$f":"'[1]Report-full'!B1543","v":142.43},{"$f":"'[1]Report-full'!C1543","v":100},{"$f":"'[1]Report-full'!D1543","v":13.1}]
[null,"00:00:00",null,null,null,null,null,null,null,null,null,null,null,null,"1996-06-14",{"$f":"'[1]Report-full'!B1544","v":142.87},{"$f":"'[1]Report-full'!C1544","v":100},{"$f":"'[1]Report-full'!D1544","v":13.4}]
[null,"00:00:00",null,null,null,null,null,null,null,null,null,null,null,null,"1996-06-21",{"$f":"'[1]Report-full'!B1545","v":143.05000000000001},{"$f":"'[1]Report-full'!C1545","v":100},{"$f":"'[1]Report-full'!D1545","v":13.51}]
[null,"00:00:00",null,null,null,null,null,null,null,null,null,null,null,null,"1996-06-28",{"$f":"'[1]Report-full'!B1546","v":143.03},{"$f":"'[1]Report-full'!C1546","v":99.72},{"$f":"'[1]Report-full'!D1546","v":13.43}]
[null,"00:00:00",null,null,null,null,null,null,null,null,null,null,null,null,"1996-07-05",{"$f":"'[1]Report-full'!B1547","v":143.27000000000001},{"$f":"'[1]Report-full'!C1547","v":100},{"$f":"'[1]Report-full'!D1547","v":13.42}]
[null,"00:00:00",null,null,null,null,null,null,null,null,null,null,null,null,"1996-07-12",{"$f":"'[1]Report-full'!B1548","v":142.91999999999999},{"$f":"'[1]Report-full'!C1548","v":95.89},{"$f":"'[1]Report-full'!D1548","v":13.13}]
[null,"00:00:00",null,null,null,null,null,null,null,null,null,null,null,null,"1996-07-19",{"$f":"'[1]Report-full'!B1549","v":142.49},{"$f":"'[1]Report-full'!C1549","v":90.81},{"$f":"'[1]Report-full'!D1549","v":12.63}]
[null,"00:00:00",null,null,null,null,null,null,null,null,null,null,null,null,"1996-07-26",{"$f":"'[1]Report-full'!B1550","v":142.53},{"$f":"'[1]Report-full'!C1550","v":91.31},{"$f":"'[1]Report-full'!D1550","v":12.18}]
[null,"00:00:00",null,null,null,null,null,null,null,null,null,null,null,null,"1996-08-02",{"$f":"'[1]Report-full'!B1551","v":142.29},{"$f":"'[1]Report-full'!C1551","v":88.4},{"$f":"'[1]Report-full'!D1551","v":11.56}]
[null,"00:00:00",null,null,null,null,null,null,null,null,null,null,null,null,"1996-08-09",{"$f":"'[1]Report-full'!B1552","v":143.26},{"$f":"'[1]Report-full'!C1552","v":99.8},{"$f":"'[1]Report-full'!D1552","v":11.44}]
[null,"00:00:00",null,null,null,null,null,null,null,null,null,null,null,null,"1996-08-16",{"$f":"'[1]Report-full'!B1553","v":143.41999999999999},{"$f":"'[1]Report-full'!C1553","v":100},{"$f":"'[1]Report-full'!D1553","v":11.55}]
[null,"00:00:00",null,null,null,null,null,null,null,null,null,null,null,null,"1996-08-23",{"$f":"'[1]Report-full'!B1554","v":143.38},{"$f":"'[1]Report-full'!C1554","v":99.58},{"$f":"'[1]Report-full'!D1554","v":11.64}]
[null,"00:00:00",null,null,null,null,null,null,null,null,null,null,null,null,"1996-08-30",{"$f":"'[1]Report-full'!B1555","v":143.81},{"$f":"'[1]Report-full'!C1555","v":100},{"$f":"'[1]Report-full'!D1555","v":11.98}]
[null,"00:00:00",null,null,null,null,null,null,null,null,null,null,null,null,"1996-09-06",{"$f":"'[1]Report-full'!B1556","v":143.6},{"$f":"'[1]Report-full'!C1556","v":97.61},{"$f":"'[1]Report-full'!D1556","v":11.89}]
[null,"00:00:00",null,null,null,null,null,null,null,null,null,null,null,null,"1996-09-13",{"$f":"'[1]Report-full'!B1557","v":143.84},{"$f":"'[1]Report-full'!C1557","v":100},{"$f":"'[1]Report-full'!D1557","v":11.82}]
[null,"00:00:00",null,null,null,null,null,null,null,null,null,null,null,null,"1996-09-20",{"$f":"'[1]Report-full'!B1558","v":145.08000000000001},{"$f":"'[1]Report-full'!C1558","v":100},{"$f":"'[1]Report-full'!D1558","v":12.23}]
[null,"00:00:00",null,null,null,null,null,null,null,null,null,null,null,null,"1996-09-27",{"$f":"'[1]Report-full'!B1559","v":145.72},{"$f":"'[1]Report-full'!C1559","v":100},{"$f":"'[1]Report-full'!D1559","v":12.71}]
[null,"00:00:00",null,null,null,null,null,null,null,null,null,null,null,null,"1996-10-04",{"$f":"'[1]Report-full'!B1560","v":146.08000000000001},{"$f":"'[1]Report-full'!C1560","v":100},{"$f":"'[1]Report-full'!D1560","v":13.39}]
[null,"00:00:00",null,null,null,null,null,null,null,null,null,null,null,null,"1996-10-11",{"$f":"'[1]Report-full'!B1561","v":146.69},{"$f":"'[1]Report-full'!C1561","v":100},{"$f":"'[1]Report-full'!D1561","v":14.19}]
[null,"00:00:00",null,null,null,null,null,null,null,null,null,null,null,null,"1996-10-18",{"$f":"'[1]Report-full'!B1562","v":146.81},{"$f":"'[1]Report-full'!C1562","v":100},{"$f":"'[1]Report-full'!D1562","v":14.56}]
[null,"00:00:00",null,null,null,null,null,null,null,null,null,null,null,null,"1996-10-25",{"$f":"'[1]Report-full'!B1563","v":147.57},{"$f":"'[1]Report-full'!C1563","v":100},{"$f":"'[1]Report-full'!D1563","v":14.95}]
[null,"00:00:00",null,null,null,null,null,null,null,null,null,null,null,null,"1996-11-01",{"$f":"'[1]Report-full'!B1564","v":146.58000000000001},{"$f":"'[1]Report-full'!C1564","v":88.75},{"$f":"'[1]Report-full'!D1564","v":14.83}]
[null,"00:00:00",null,null,null,null,null,null,null,null,null,null,null,null,"1996-11-08",{"$f":"'[1]Report-full'!B1565","v":146.26},{"$f":"'[1]Report-full'!C1565","v":85.12},{"$f":"'[1]Report-full'!D1565","v":14.37}]
[null,"00:00:00",null,null,null,null,null,null,null,null,null,null,null,null,"1996-11-15",{"$f":"'[1]Report-full'!B1566","v":146.81},{"$f":"'[1]Report-full'!C1566","v":91.4},{"$f":"'[1]Report-full'!D1566","v":14.06}]
[null,"00:00:00",null,null,null,null,null,null,null,null,null,null,null,null,"1996-11-22",{"$f":"'[1]Report-full'!B1567","v":146.91999999999999},{"$f":"'[1]Report-full'!C1567","v":92.58},{"$f":"'[1]Report-full'!D1567","v":13.51}]
[null,"00:00:00",null,null,null,null,null,null,null,null,null,null,null,null,"1996-11-29",{"$f":"'[1]Report-full'!B1568","v":147.12},{"$f":"'[1]Report-full'!C1568","v":94.91},{"$f":"'[1]Report-full'!D1568","v":13.4}]
[null,"00:00:00",null,null,null,null,null,null,null,null,null,null,null,null,"1996-12-06",{"$f":"'[1]Report-full'!B1569","v":147.37},{"$f":"'[1]Report-full'!C1569","v":97.71},{"$f":"'[1]Report-full'!D1569","v":13.49}]
[null,"00:00:00",null,null,null,null,null,null,null,null,null,null,null,null,"1996-12-13",{"$f":"'[1]Report-full'!B1570","v":146.53},{"$f":"'[1]Report-full'!C1570","v":88.16},{"$f":"'[1]Report-full'!D1570","v":13.09}]
[null,"00:00:00",null,null,null,null,null,null,null,null,null,null,null,null,"1996-12-20",{"$f":"'[1]Report-full'!B1571","v":145.47},{"$f":"'[1]Report-full'!C1571","v":76.11},{"$f":"'[1]Report-full'!D1571","v":12.29}]
[null,"00:00:00",null,null,null,null,null,null,null,null,null,null,null,null,"1996-12-27",{"$f":"'[1]Report-full'!B1572","v":146.5},{"$f":"'[1]Report-full'!C1572","v":87.82},{"$f":"'[1]Report-full'!D1572","v":11.8}]
[null,"00:00:00",null,null,null,null,null,null,null,null,null,null,null,null,"1997-01-03",{"$f":"'[1]Report-full'!B1573","v":146.54},{"$f":"'[1]Report-full'!C1573","v":88.24},{"$f":"'[1]Report-full'!D1573","v":11.26}]
[null,"00:00:00",null,null,null,null,null,null,null,null,null,null,null,null,"1997-01-10",{"$f":"'[1]Report-full'!B1574","v":146.59},{"$f":"'[1]Report-full'!C1574","v":88.82},{"$f":"'[1]Report-full'!D1574","v":11.04}]
[null,"00:00:00",null,null,null,null,null,null,null,null,null,null,null,null,"1997-01-17",{"$f":"'[1]Report-full'!B1575","v":146.75},{"$f":"'[1]Report-full'!C1575","v":90.7},{"$f":"'[1]Report-full'!D1575","v":11.26}]
[null,"00:00:00",null,null,null,null,null,null,null,null,null,null,null,null,"1997-01-24",{"$f":"'[1]Report-full'!B1576","v":147.68},{"$f":"'[1]Report-full'!C1576","v":100},{"$f":"'[1]Report-full'!D1576","v":11.43}]
[null,"00:00:00",null,null,null,null,null,null,null,null,null,null,null,null,"1997-01-31",{"$f":"'[1]Report-full'!B1577","v":148.21},{"$f":"'[1]Report-full'!C1577","v":100},{"$f":"'[1]Report-full'!D1577","v":11.77}]
[null,"00:00:00",null,null,null,null,null,null,null,null,null,null,null,null,"1997-02-07",{"$f":"'[1]Report-full'!B1578","v":148.63},{"$f":"'[1]Report-full'!C1578","v":100},{"$f":"'[1]Report-full'!D1578","v":12.24}]
[null,"00:00:00",null,null,null,null,null,null,null,null,null,null,null,null,"1997-02-14",{"$f":"'[1]Report-full'!B1579","v":149.52000000000001},{"$f":"'[1]Report-full'!C1579","v":100},{"$f":"'[1]Report-full'!D1579","v":12.95}]
[null,"00:00:00",null,null,null,null,null,null,null,null,null,null,null,null,"1997-02-21",{"$f":"'[1]Report-full'!B1580","v":150.32},{"$f":"'[1]Report-full'!C1580","v":100},{"$f":"'[1]Report-full'!D1580","v":13.62}]
[null,"00:00:00",null,null,null,null,null,null,null,null,null,null,null,null,"1997-02-28",{"$f":"'[1]Report-full'!B1581","v":150.33000000000001},{"$f":"'[1]Report-full'!C1581","v":100},{"$f":"'[1]Report-full'!D1581","v":14.09}]
[null,"00:00:00",null,null,null,null,null,null,null,null,null,null,null,null,"1997-03-07",{"$f":"'[1]Report-full'!B1582","v":149.94},{"$f":"'[1]Report-full'!C1582","v":95.63},{"$f":"'[1]Report-full'!D1582","v":14.27}]
[null,"00:00:00",null,null,null,null,null,null,null,null,null,null,null,null,"1997-03-14",{"$f":"'[1]Report-full'!B1583","v":150.66999999999999},{"$f":"'[1]Report-full'!C1583","v":100},{"$f":"'[1]Report-full'!D1583","v":14.38}]
[null,"00:00:00",null,null,null,null,null,null,null,null,null,null,null,null,"1997-03-21",{"$f":"'[1]Report-full'!B1584","v":150.41999999999999},{"$f":"'[1]Report-full'!C1584","v":97.19},{"$f":"'[1]Report-full'!D1584","v":14.11}]
[null,"00:00:00",null,null,null,null,null,null,null,null,null,null,null,null,"1997-03-28",{"$f":"'[1]Report-full'!B1585","v":150.55000000000001},{"$f":"'[1]Report-full'!C1585","v":98.65},{"$f":"'[1]Report-full'!D1585","v":13.89}]
[null,"00:00:00",null,null,null,null,null,null,null,null,null,null,null,null,"1997-04-04",{"$f":"'[1]Report-full'!B1586","v":149.4},{"$f":"'[1]Report-full'!C1586","v":85.91},{"$f":"'[1]Report-full'!D1586","v":13.41}]
[null,"00:00:00",null,null,null,null,null,null,null,null,null,null,null,null,"1997-04-11",{"$f":"'[1]Report-full'!B1587","v":149.03},{"$f":"'[1]Report-full'!C1587","v":81.77},{"$f":"'[1]Report-full'!D1587","v":12.55}]
[null,"00:00:00",null,null,null,null,null,null,null,null,null,null,null,null,"1997-04-18",{"$f":"'[1]Report-full'!B1588","v":148.41999999999999},{"$f":"'[1]Report-full'!C1588","v":74.97},{"$f":"'[1]Report-full'!D1588","v":11.6}]
[null,"00:00:00",null,null,null,null,null,null,null,null,null,null,null,null,"1997-04-25",{"$f":"'[1]Report-full'!B1589","v":149.06},{"$f":"'[1]Report-full'!C1589","v":82.1},{"$f":"'[1]Report-full'!D1589","v":10.85}]
[null,"00:00:00",null,null,null,null,null,null,null,null,null,null,null,null,"1997-05-02",{"$f":"'[1]Report-full'!B1590","v":149.59},{"$f":"'[1]Report-full'!C1590","v":88.01},{"$f":"'[1]Report-full'!D1590","v":10.69}]
[null,"00:00:00",null,null,null,null,null,null,null,null,null,null,null,null,"1997-05-09",{"$f":"'[1]Report-full'!B1591","v":150.55000000000001},{"$f":"'[1]Report-full'!C1591","v":98.71},{"$f":"'[1]Report-full'!D1591","v":10.99}]
[null,"00:00:00",null,null,null,null,null,null,null,null,null,null,null,null,"1997-05-16",{"$f":"'[1]Report-full'!B1592","v":151},{"$f":"'[1]Report-full'!C1592","v":100},{"$f":"'[1]Report-full'!D1592","v":11.64}]
[null,"00:00:00",null,null,null,null,null,null,null,null,null,null,null,null,"1997-05-23",{"$f":"'[1]Report-full'!B1593","v":151.37},{"$f":"'[1]Report-full'!C1593","v":100},{"$f":"'[1]Report-full'!D1593","v":12.19}]
[null,"00:00:00",null,null,null,null,null,null,null,null,null,null,null,null,"1997-05-30",{"$f":"'[1]Report-full'!B1594","v":151.22999999999999},{"$f":"'[1]Report-full'!C1594","v":98.48},{"$f":"'[1]Report-full'!D1594","v":12.49}]
[null,"00:00:00",null,null,null,null,null,null,null,null,null,null,null,null,"1997-06-06",{"$f":"'[1]Report-full'!B1595","v":150.96},{"$f":"'[1]Report-full'!C1595","v":95.49},{"$f":"'[1]Report-full'!D1595","v":12.37}]
[null,"00:00:00",null,null,null,null,null,null,null,null,null,null,null,null,"1997-06-13",{"$f":"'[1]Report-full'!B1596","v":151.05000000000001},{"$f":"'[1]Report-full'!C1596","v":96.47},{"$f":"'[1]Report-full'!D1596","v":12.14}]
[null,"00:00:00",null,null,null,null,null,null,null,null,null,null,null,null,"1997-06-20",{"$f":"'[1]Report-full'!B1597","v":151.96},{"$f":"'[1]Report-full'!C1597","v":100},{"$f":"'[1]Report-full'!D1597","v":12.1}]
[null,"00:00:00",null,null,null,null,null,null,null,null,null,null,null,null,"1997-06-27",{"$f":"'[1]Report-full'!B1598","v":152.24},{"$f":"'[1]Report-full'!C1598","v":100},{"$f":"'[1]Report-full'!D1598","v":12.22}]
[null,{"$f":"INT(C1594-($H$4/2*7))","v":"00:00:00"},null,null,null,null,null,null,null,null,null,null,null,null,"1997-07-04",{"$f":"'[1]Report-full'!B1599","v":151.99},{"$f":"'[1]Report-full'!C1599","v":97.16},{"$f":"'[1]Report-full'!D1599","v":12.33}]
[null,"00:00:00",null,null,null,null,null,null,null,null,null,null,null,null,"1997-07-11",{"$f":"'[1]Report-full'!B1600","v":152.33000000000001},{"$f":"'[1]Report-full'!C1600","v":100},{"$f":"'[1]Report-full'!D1600","v":12.54}]
[null,"00:00:00",null,null,null,null,null,null,null,null,null,null,null,null,"1997-07-18",{"$f":"'[1]Report-full'!B1601","v":152.81},{"$f":"'[1]Report-full'!C1601","v":100},{"$f":"'[1]Report-full'!D1601","v":12.58}]
[null,"00:00:00",null,null,null,null,null,null,null,null,null,null,null,null,"1997-07-25",{"$f":"'[1]Report-full'!B1602","v":153.22999999999999},{"$f":"'[1]Report-full'!C1602","v":100},{"$f":"'[1]Report-full'!D1602","v":12.66}]
[null,"00:00:00",null,null,null,null,null,null,null,null,null,null,null,null,"1997-08-01",{"$f":"'[1]Report-full'!B1603","v":154.19},{"$f":"'[1]Report-full'!C1603","v":100},{"$f":"'[1]Report-full'!D1603","v":13.15}]
[null,"00:00:00",null,null,null,null,null,null,null,null,null,null,null,null,"1997-08-08",{"$f":"'[1]Report-full'!B1604","v":154.86000000000001},{"$f":"'[1]Report-full'!C1604","v":100},{"$f":"'[1]Report-full'!D1604","v":13.73}]
[null,"00:00:00",null,null,null,null,null,null,null,null,null,null,null,null,"1997-08-15",{"$f":"'[1]Report-full'!B1605","v":154.94},{"$f":"'[1]Report-full'!C1605","v":100},{"$f":"'[1]Report-full'!D1605","v":14.16}]
[null,"00:00:00",null,null,null,null,null,null,null,null,null,null,null,null,"1997-08-22",{"$f":"'[1]Report-full'!B1606","v":154.53},{"$f":"'[1]Report-full'!C1606","v":95.61},{"$f":"'[1]Report-full'!D1606","v":14.29}]
[null,"00:00:00",null,null,null,null,null,null,null,null,null,null,null,null,"1997-08-29",{"$f":"'[1]Report-full'!B1607","v":154.44999999999999},{"$f":"'[1]Report-full'!C1607","v":94.75},{"$f":"'[1]Report-full'!D1607","v":14.06}]
[null,"00:00:00",null,null,null,null,null,null,null,null,null,null,null,null,"1997-09-05",{"$f":"'[1]Report-full'!B1608","v":154.31},{"$f":"'[1]Report-full'!C1608","v":93.24},{"$f":"'[1]Report-full'!D1608","v":13.57}]
[null,"00:00:00",null,null,null,null,null,null,null,null,null,null,null,null,"1997-09-12",{"$f":"'[1]Report-full'!B1609","v":154.78},{"$f":"'[1]Report-full'!C1609","v":98.34},{"$f":"'[1]Report-full'!D1609","v":13.21}]
[null,"00:00:00",null,null,null,null,null,null,null,null,null,null,null,null,"1997-09-19",{"$f":"'[1]Report-full'!B1610","v":155},{"$f":"'[1]Report-full'!C1610","v":100},{"$f":"'[1]Report-full'!D1610","v":13.08}]
[null,"00:00:00",null,null,null,null,null,null,null,null,null,null,null,null,"1997-09-26",{"$f":"'[1]Report-full'!B1611","v":156.08000000000001},{"$f":"'[1]Report-full'!C1611","v":100},{"$f":"'[1]Report-full'!D1611","v":13.35}]
[null,"00:00:00",null,null,null,null,null,null,null,null,null,null,null,null,"1997-10-03",{"$f":"'[1]Report-full'!B1612","v":156.02000000000001},{"$f":"'[1]Report-full'!C1612","v":99.34},{"$f":"'[1]Report-full'!D1612","v":13.64}]
[null,"00:00:00",null,null,null,null,null,null,null,null,null,null,null,null,"1997-10-10",{"$f":"'[1]Report-full'!B1613","v":156.84},{"$f":"'[1]Report-full'!C1613","v":100},{"$f":"'[1]Report-full'!D1613","v":14.06}]
[null,"00:00:00",null,null,null,null,null,null,null,null,null,null,null,null,"1997-10-17",{"$f":"'[1]Report-full'!B1614","v":156.88},{"$f":"'[1]Report-full'!C1614","v":100},{"$f":"'[1]Report-full'!D1614","v":14.43}]
[null,"00:00:00",null,null,null,null,null,null,null,null,null,null,null,null,"1997-10-24",{"$f":"'[1]Report-full'!B1615","v":156.88},{"$f":"'[1]Report-full'!C1615","v":99.93},{"$f":"'[1]Report-full'!D1615","v":14.42}]
[null,"00:00:00",null,null,null,null,null,null,null,null,null,null,null,null,"1997-10-31",{"$f":"'[1]Report-full'!B1616","v":156.55000000000001},{"$f":"'[1]Report-full'!C1616","v":96.45},{"$f":"'[1]Report-full'!D1616","v":14.33}]
[null,"00:00:00",null,null,null,null,null,null,null,null,null,null,null,null,"1997-11-07",{"$f":"'[1]Report-full'!B1617","v":156.58000000000001},{"$f":"'[1]Report-full'!C1617","v":96.74},{"$f":"'[1]Report-full'!D1617","v":13.98}]
[null,"00:00:00",null,null,null,null,null,null,null,null,null,null,null,null,"1997-11-14",{"$f":"'[1]Report-full'!B1618","v":156.79},{"$f":"'[1]Report-full'!C1618","v":99},{"$f":"'[1]Report-full'!D1618","v":13.68}]
[null,"00:00:00",null,null,null,null,null,null,null,null,null,null,null,null,"1997-11-21",{"$f":"'[1]Report-full'!B1619","v":157.19},{"$f":"'[1]Report-full'!C1619","v":100},{"$f":"'[1]Report-full'!D1619","v":13.52}]
[null,"00:00:00",null,null,null,null,null,null,null,null,null,null,null,null,"1997-11-28",{"$f":"'[1]Report-full'!B1620","v":157.38},{"$f":"'[1]Report-full'!C1620","v":100},{"$f":"'[1]Report-full'!D1620","v":13.52}]
[null,"00:00:00",null,null,null,null,null,null,null,null,null,null,null,null,"1997-12-05",{"$f":"'[1]Report-full'!B1621","v":157.44999999999999},{"$f":"'[1]Report-full'!C1621","v":100},{"$f":"'[1]Report-full'!D1621","v":13.54}]
[null,"00:00:00",null,null,null,null,null,null,null,null,null,null,null,null,"1997-12-12",{"$f":"'[1]Report-full'!B1622","v":157.5},{"$f":"'[1]Report-full'!C1622","v":100},{"$f":"'[1]Report-full'!D1622","v":13.51}]
[null,"00:00:00",null,null,null,null,null,null,null,null,null,null,null,null,"1997-12-19",{"$f":"'[1]Report-full'!B1623","v":157.07},{"$f":"'[1]Report-full'!C1623","v":95.42},{"$f":"'[1]Report-full'!D1623","v":13.19}]
[null,"00:00:00",null,null,null,null,null,null,null,null,null,null,null,null,"1997-12-26",{"$f":"'[1]Report-full'!B1624","v":156.57},{"$f":"'[1]Report-full'!C1624","v":90.07},{"$f":"'[1]Report-full'!D1624","v":12.64}]
[null,"00:00:00",null,null,null,null,null,null,null,null,null,null,null,null,"1998-01-02",{"$f":"'[1]Report-full'!B1625","v":157.52000000000001},{"$f":"'[1]Report-full'!C1625","v":100},{"$f":"'[1]Report-full'!D1625","v":12.38}]
[null,"00:00:00",null,null,null,null,null,null,null,null,null,null,null,null,"1998-01-09",{"$f":"'[1]Report-full'!B1626","v":157.71},{"$f":"'[1]Report-full'!C1626","v":100},{"$f":"'[1]Report-full'!D1626","v":12.16}]
[null,"00:00:00",null,null,null,null,null,null,null,null,null,null,null,null,"1998-01-16",{"$f":"'[1]Report-full'!B1627","v":156.4},{"$f":"'[1]Report-full'!C1627","v":86.02},{"$f":"'[1]Report-full'!D1627","v":11.65}]
[null,"00:00:00",null,null,null,null,null,null,null,null,null,null,null,null,"1998-01-23",{"$f":"'[1]Report-full'!B1628","v":157.04},{"$f":"'[1]Report-full'!C1628","v":92.84},{"$f":"'[1]Report-full'!D1628","v":11.53}]
[null,"00:00:00",null,null,null,null,null,null,null,null,null,null,null,null,"1998-01-30",{"$f":"'[1]Report-full'!B1629","v":157.03},{"$f":"'[1]Report-full'!C1629","v":92.77},{"$f":"'[1]Report-full'!D1629","v":11.11}]
[null,"00:00:00",null,null,null,null,null,null,null,null,null,null,null,null,"1998-02-06",{"$f":"'[1]Report-full'!B1630","v":157.44},{"$f":"'[1]Report-full'!C1630","v":97.05},{"$f":"'[1]Report-full'!D1630","v":10.77}]
[null,"00:00:00",null,null,null,null,null,null,null,null,null,null,null,null,"1998-02-13",{"$f":"'[1]Report-full'!B1631","v":158.41},{"$f":"'[1]Report-full'!C1631","v":100},{"$f":"'[1]Report-full'!D1631","v":11.19}]
[null,"00:00:00",null,null,null,null,null,null,null,null,null,null,null,null,"1998-02-20",{"$f":"'[1]Report-full'!B1632","v":158.47999999999999},{"$f":"'[1]Report-full'!C1632","v":100},{"$f":"'[1]Report-full'!D1632","v":11.43}]
[null,"00:00:00",null,null,null,null,null,null,null,null,null,null,null,null,"1998-02-27",{"$f":"'[1]Report-full'!B1633","v":159.57},{"$f":"'[1]Report-full'!C1633","v":100},{"$f":"'[1]Report-full'!D1633","v":12.03}]
[null,"00:00:00",null,null,null,null,null,null,null,null,null,null,null,null,"1998-03-06",{"$f":"'[1]Report-full'!B1634","v":160.52000000000001},{"$f":"'[1]Report-full'!C1634","v":100},{"$f":"'[1]Report-full'!D1634","v":12.82}]
[null,"00:00:00",null,null,null,null,null,null,null,null,null,null,null,null,"1998-03-13",{"$f":"'[1]Report-full'!B1635","v":161.09},{"$f":"'[1]Report-full'!C1635","v":100},{"$f":"'[1]Report-full'!D1635","v":13.46}]
[null,"00:00:00",null,null,null,null,null,null,null,null,null,null,null,null,"1998-03-20",{"$f":"'[1]Report-full'!B1636","v":161.81},{"$f":"'[1]Report-full'!C1636","v":100},{"$f":"'[1]Report-full'!D1636","v":14.3}]
[null,"00:00:00",null,null,null,null,null,null,null,null,null,null,null,null,"1998-03-27",{"$f":"'[1]Report-full'!B1637","v":162.19999999999999},{"$f":"'[1]Report-full'!C1637","v":100},{"$f":"'[1]Report-full'!D1637","v":14.9}]
[null,"00:00:00",null,null,null,null,null,null,null,null,null,null,null,null,"1998-04-03",{"$f":"'[1]Report-full'!B1638","v":162.06},{"$f":"'[1]Report-full'!C1638","v":98.54},{"$f":"'[1]Report-full'!D1638","v":15.12}]
[null,"00:00:00",null,null,null,null,null,null,null,null,null,null,null,null,"1998-04-10",{"$f":"'[1]Report-full'!B1639","v":162.41999999999999},{"$f":"'[1]Report-full'!C1639","v":100},{"$f":"'[1]Report-full'!D1639","v":15.25}]
[null,"00:00:00",null,null,null,null,null,null,null,null,null,null,null,null,"1998-04-17",{"$f":"'[1]Report-full'!B1640","v":162.81},{"$f":"'[1]Report-full'!C1640","v":100},{"$f":"'[1]Report-full'!D1640","v":15.25}]
[null,"00:00:00",null,null,null,null,null,null,null,null,null,null,null,null,"1998-04-24",{"$f":"'[1]Report-full'!B1641","v":162.88},{"$f":"'[1]Report-full'!C1641","v":100},{"$f":"'[1]Report-full'!D1641","v":15.13}]
[null,"00:00:00",null,null,null,null,null,null,null,null,null,null,null,null,"1998-05-01",{"$f":"'[1]Report-full'!B1642","v":162.03},{"$f":"'[1]Report-full'!C1642","v":91.29},{"$f":"'[1]Report-full'!D1642","v":14.76}]
[null,"00:00:00",null,null,null,null,null,null,null,null,null,null,null,null,"1998-05-08",{"$f":"'[1]Report-full'!B1643","v":162.62},{"$f":"'[1]Report-full'!C1643","v":97.36},{"$f":"'[1]Report-full'!D1643","v":14.47}]
[null,"00:00:00",null,null,null,null,null,null,null,null,null,null,null,null,"1998-05-15",{"$f":"'[1]Report-full'!B1644","v":162.88999999999999},{"$f":"'[1]Report-full'!C1644","v":100},{"$f":"'[1]Report-full'!D1644","v":14.15}]
[null,"00:00:00",null,null,null,null,null,null,null,null,null,null,null,null,"1998-05-22",{"$f":"'[1]Report-full'!B1645","v":163.07},{"$f":"'[1]Report-full'!C1645","v":100},{"$f":"'[1]Report-full'!D1645","v":13.89}]
[null,"00:00:00",null,null,null,null,null,null,null,null,null,null,null,null,"1998-05-29",{"$f":"'[1]Report-full'!B1646","v":163.63},{"$f":"'[1]Report-full'!C1646","v":100},{"$f":"'[1]Report-full'!D1646","v":14.1}]
[null,"00:00:00",null,null,null,null,null,null,null,null,null,null,null,null,"1998-06-05",{"$f":"'[1]Report-full'!B1647","v":163.56},{"$f":"'[1]Report-full'!C1647","v":99.32},{"$f":"'[1]Report-full'!D1647","v":14.09}]
[null,"00:00:00",null,null,null,null,null,null,null,null,null,null,null,null,"1998-06-12",{"$f":"'[1]Report-full'!B1648","v":164.18},{"$f":"'[1]Report-full'!C1648","v":100},{"$f":"'[1]Report-full'!D1648","v":14.19}]
[null,"00:00:00",null,null,null,null,null,null,null,null,null,null,null,null,"1998-06-19",{"$f":"'[1]Report-full'!B1649","v":164.12},{"$f":"'[1]Report-full'!C1649","v":99.37},{"$f":"'[1]Report-full'!D1649","v":14.21}]
[null,"00:00:00",null,null,null,null,null,null,null,null,null,null,null,null,"1998-06-26",{"$f":"'[1]Report-full'!B1650","v":164.5},{"$f":"'[1]Report-full'!C1650","v":100},{"$f":"'[1]Report-full'!D1650","v":14.16}]
[null,"00:00:00",null,null,null,null,null,null,null,null,null,null,null,null,"1998-07-03",{"$f":"'[1]Report-full'!B1651","v":164.81},{"$f":"'[1]Report-full'!C1651","v":100},{"$f":"'[1]Report-full'!D1651","v":14.24}]
[null,"00:00:00",null,null,null,null,null,null,null,null,null,null,null,null,"1998-07-10",{"$f":"'[1]Report-full'!B1652","v":163.47},{"$f":"'[1]Report-full'!C1652","v":86.4},{"$f":"'[1]Report-full'!D1652","v":13.69}]
[null,"00:00:00",null,null,null,null,null,null,null,null,null,null,null,null,"1998-07-17",{"$f":"'[1]Report-full'!B1653","v":163.77000000000001},{"$f":"'[1]Report-full'!C1653","v":89.41},{"$f":"'[1]Report-full'!D1653","v":13.27}]
[null,"00:00:00",null,null,null,null,null,null,null,null,null,null,null,null,"1998-07-24",{"$f":"'[1]Report-full'!B1654","v":163.68},{"$f":"'[1]Report-full'!C1654","v":88.48},{"$f":"'[1]Report-full'!D1654","v":12.71}]
[null,"00:00:00",null,null,null,null,null,null,null,null,null,null,null,null,"1998-07-31",{"$f":"'[1]Report-full'!B1655","v":163.03},{"$f":"'[1]Report-full'!C1655","v":81.84},{"$f":"'[1]Report-full'!D1655","v":11.85}]
[null,"00:00:00",null,null,null,null,null,null,null,null,null,null,null,null,"1998-08-07",{"$f":"'[1]Report-full'!B1656","v":162.03},{"$f":"'[1]Report-full'!C1656","v":71.709999999999994},{"$f":"'[1]Report-full'!D1656","v":11.14}]
[null,"00:00:00",null,null,null,null,null,null,null,null,null,null,null,null,"1998-08-14",{"$f":"'[1]Report-full'!B1657","v":161.74},{"$f":"'[1]Report-full'!C1657","v":68.77},{"$f":"'[1]Report-full'!D1657","v":10.27}]
[null,"00:00:00",null,null,null,null,null,null,null,null,null,null,null,null,"1998-08-21",{"$f":"'[1]Report-full'!B1658","v":162.47},{"$f":"'[1]Report-full'!C1658","v":76.17},{"$f":"'[1]Report-full'!D1658","v":9.68}]
[null,"00:00:00",null,null,null,null,null,null,null,null,null,null,null,null,"1998-08-28",{"$f":"'[1]Report-full'!B1659","v":162.74},{"$f":"'[1]Report-full'!C1659","v":78.900000000000006},{"$f":"'[1]Report-full'!D1659","v":9.4}]
[null,"00:00:00",null,null,null,null,null,null,null,null,null,null,null,null,"1998-09-04",{"$f":"'[1]Report-full'!B1660","v":160.82},{"$f":"'[1]Report-full'!C1660","v":59.36},{"$f":"'[1]Report-full'!D1660","v":8.84}]
[null,"00:00:00",null,null,null,null,null,null,null,null,null,null,null,null,"1998-09-11",{"$f":"'[1]Report-full'!B1661","v":160.66999999999999},{"$f":"'[1]Report-full'!C1661","v":57.85},{"$f":"'[1]Report-full'!D1661","v":8.33}]
[null,"00:00:00",null,null,null,null,null,null,null,null,null,null,null,null,"1998-09-18",{"$f":"'[1]Report-full'!B1662","v":161.62},{"$f":"'[1]Report-full'!C1662","v":67.55},{"$f":"'[1]Report-full'!D1662","v":7.89}]
[null,{"$f":"INT(C1658-($H$4/2*7))","v":"00:00:00"},null,null,null,null,null,null,null,null,null,null,null,null,"1998-09-25",{"$f":"'[1]Report-full'!B1663","v":161.83000000000001},{"$f":"'[1]Report-full'!C1663","v":69.62},{"$f":"'[1]Report-full'!D1663","v":7.45}]
[null,"00:00:00",null,null,null,null,null,null,null,null,null,null,null,null,"1998-10-02",{"$f":"'[1]Report-full'!B1664","v":162.27000000000001},{"$f":"'[1]Report-full'!C1664","v":74.14},{"$f":"'[1]Report-full'!D1664","v":7.75}]
[null,"00:00:00",null,null,null,null,null,null,null,null,null,null,null,null,"1998-10-09",{"$f":"'[1]Report-full'!B1665","v":160.72999999999999},{"$f":"'[1]Report-full'!C1665","v":58.45},{"$f":"'[1]Report-full'!D1665","v":7.62}]
[null,"00:00:00",null,null,null,null,null,null,null,null,null,null,null,null,"1998-10-16",{"$f":"'[1]Report-full'!B1666","v":160.52000000000001},{"$f":"'[1]Report-full'!C1666","v":56.31},{"$f":"'[1]Report-full'!D1666","v":7.15}]
[null,"00:00:00",null,null,null,null,null,null,null,null,null,null,null,null,"1998-10-23",{"$f":"'[1]Report-full'!B1667","v":162.06},{"$f":"'[1]Report-full'!C1667","v":72.010000000000005},{"$f":"'[1]Report-full'!D1667","v":7.1}]
[null,"00:00:00",null,null,null,null,null,null,null,null,null,null,null,null,"1998-10-30",{"$f":"'[1]Report-full'!B1668","v":162.83000000000001},{"$f":"'[1]Report-full'!C1668","v":79.81},{"$f":"'[1]Report-full'!D1668","v":7.16}]
[null,"00:00:00",null,null,null,null,null,null,null,null,null,null,null,null,"1998-11-06",{"$f":"'[1]Report-full'!B1669","v":163.83000000000001},{"$f":"'[1]Report-full'!C1669","v":90.02},{"$f":"'[1]Report-full'!D1669","v":8}]
[null,"00:00:00",null,null,null,null,null,null,null,null,null,null,null,null,"1998-11-13",{"$f":"'[1]Report-full'!B1670","v":164.72},{"$f":"'[1]Report-full'!C1670","v":99.15},{"$f":"'[1]Report-full'!D1670","v":9.16}]
[null,"00:00:00",null,null,null,null,null,null,null,null,null,null,null,null,"1998-11-20",{"$f":"'[1]Report-full'!B1671","v":164.66},{"$f":"'[1]Report-full'!C1671","v":98.51},{"$f":"'[1]Report-full'!D1671","v":9.81}]
[null,"00:00:00",null,null,null,null,null,null,null,null,null,null,null,null,"1998-11-27",{"$f":"'[1]Report-full'!B1672","v":166.12},{"$f":"'[1]Report-full'!C1672","v":100},{"$f":"'[1]Report-full'!D1672","v":10.66}]
[null,"00:00:00",null,null,null,null,null,null,null,null,null,null,null,null,"1998-12-04",{"$f":"'[1]Report-full'!B1673","v":166.32},{"$f":"'[1]Report-full'!C1673","v":100},{"$f":"'[1]Report-full'!D1673","v":11.24}]
[null,"00:00:00",null,null,null,null,null,null,null,null,null,null,null,null,"1998-12-11",{"$f":"'[1]Report-full'!B1674","v":166.2},{"$f":"'[1]Report-full'!C1674","v":98.71},{"$f":"'[1]Report-full'!D1674","v":11.5}]
[null,"00:00:00",null,null,null,null,null,null,null,null,null,null,null,null,"1998-12-18",{"$f":"'[1]Report-full'!B1675","v":165.77},{"$f":"'[1]Report-full'!C1675","v":94.38},{"$f":"'[1]Report-full'!D1675","v":11.63}]
[null,"00:00:00",null,null,null,null,null,null,null,null,null,null,null,null,"1998-12-25",{"$f":"'[1]Report-full'!B1676","v":166.84},{"$f":"'[1]Report-full'!C1676","v":100},{"$f":"'[1]Report-full'!D1676","v":11.64}]
[null,"00:00:00",null,null,null,null,null,null,null,null,null,null,null,null,"1999-01-01",{"$f":"'[1]Report-full'!B1677","v":168.9},{"$f":"'[1]Report-full'!C1677","v":100},{"$f":"'[1]Report-full'!D1677","v":12.22}]
[null,"00:00:00",null,null,null,null,null,null,null,null,null,null,null,null,"1999-01-08",{"$f":"'[1]Report-full'!B1678","v":169.09},{"$f":"'[1]Report-full'!C1678","v":100},{"$f":"'[1]Report-full'!D1678","v":12.88}]
[null,"00:00:00",null,null,null,null,null,null,null,null,null,null,null,null,"1999-01-15",{"$f":"'[1]Report-full'!B1679","v":169.27},{"$f":"'[1]Report-full'!C1679","v":100},{"$f":"'[1]Report-full'!D1679","v":13.72}]
[null,"00:00:00",null,null,null,null,null,null,null,null,null,null,null,null,"1999-01-22",{"$f":"'[1]Report-full'!B1680","v":169.05},{"$f":"'[1]Report-full'!C1680","v":97.83},{"$f":"'[1]Report-full'!D1680","v":14.12}]
[null,"00:00:00",null,null,null,null,null,null,null,null,null,null,null,null,"1999-01-29",{"$f":"'[1]Report-full'!B1681","v":168.56},{"$f":"'[1]Report-full'!C1681","v":92.97},{"$f":"'[1]Report-full'!D1681","v":13.72}]
[null,"00:00:00",null,null,null,null,null,null,null,null,null,null,null,null,"1999-02-05",{"$f":"'[1]Report-full'!B1682","v":169.37},{"$f":"'[1]Report-full'!C1682","v":100},{"$f":"'[1]Report-full'!D1682","v":13.5}]
[null,"00:00:00",null,null,null,null,null,null,null,null,null,null,null,null,"1999-02-12",{"$f":"'[1]Report-full'!B1683","v":168.92},{"$f":"'[1]Report-full'!C1683","v":95.5},{"$f":"'[1]Report-full'!D1683","v":13.1}]
[null,"00:00:00",null,null,null,null,null,null,null,null,null,null,null,null,"1999-02-19",{"$f":"'[1]Report-full'!B1684","v":169.02},{"$f":"'[1]Report-full'!C1684","v":96.57},{"$f":"'[1]Report-full'!D1684","v":12.8}]
[null,"00:00:00",null,null,null,null,null,null,null,null,null,null,null,null,"1999-02-26",{"$f":"'[1]Report-full'!B1685","v":168.18},{"$f":"'[1]Report-full'!C1685","v":88.21},{"$f":"'[1]Report-full'!D1685","v":12.41}]
[null,"00:00:00",null,null,null,null,null,null,null,null,null,null,null,null,"1999-03-05",{"$f":"'[1]Report-full'!B1686","v":167.18},{"$f":"'[1]Report-full'!C1686","v":78.31},{"$f":"'[1]Report-full'!D1686","v":11.48}]
[null,"00:00:00",null,null,null,null,null,null,null,null,null,null,null,null,"1999-03-12",{"$f":"'[1]Report-full'!B1687","v":167.85},{"$f":"'[1]Report-full'!C1687","v":84.91},{"$f":"'[1]Report-full'!D1687","v":10.94}]
[null,"00:00:00",null,null,null,null,null,null,null,null,null,null,null,null,"1999-03-19",{"$f":"'[1]Report-full'!B1688","v":168.16},{"$f":"'[1]Report-full'!C1688","v":88.03},{"$f":"'[1]Report-full'!D1688","v":10.48}]
[null,"00:00:00",null,null,null,null,null,null,null,null,null,null,null,null,"1999-03-26",{"$f":"'[1]Report-full'!B1689","v":167.86},{"$f":"'[1]Report-full'!C1689","v":85.05},{"$f":"'[1]Report-full'!D1689","v":10.210000000000001}]
[null,"00:00:00",null,null,null,null,null,null,null,null,null,null,null,null,"1999-04-02",{"$f":"'[1]Report-full'!B1690","v":167.33},{"$f":"'[1]Report-full'!C1690","v":79.78},{"$f":"'[1]Report-full'!D1690","v":10.1}]
[null,"00:00:00",null,null,null,null,null,null,null,null,null,null,null,null,"1999-04-09",{"$f":"'[1]Report-full'!B1691","v":167.8},{"$f":"'[1]Report-full'!C1691","v":84.46},{"$f":"'[1]Report-full'!D1691","v":9.9499999999999993}]
[null,"00:00:00",null,null,null,null,null,null,null,null,null,null,null,null,"1999-04-16",{"$f":"'[1]Report-full'!B1692","v":167.75},{"$f":"'[1]Report-full'!C1692","v":83.99},{"$f":"'[1]Report-full'!D1692","v":9.69}]
[null,"00:00:00",null,null,null,null,null,null,null,null,null,null,null,null,"1999-04-23",{"$f":"'[1]Report-full'!B1693","v":167.13},{"$f":"'[1]Report-full'!C1693","v":77.84},{"$f":"'[1]Report-full'!D1693","v":9.34}]
[null,"00:00:00",null,null,null,null,null,null,null,null,null,null,null,null,"1999-04-30",{"$f":"'[1]Report-full'!B1694","v":168.29},{"$f":"'[1]Report-full'!C1694","v":89.26},{"$f":"'[1]Report-full'!D1694","v":9.51}]
[null,"00:00:00",null,null,null,null,null,null,null,null,null,null,null,null,"1999-05-07",{"$f":"'[1]Report-full'!B1695","v":168.61},{"$f":"'[1]Report-full'!C1695","v":92.51},{"$f":"'[1]Report-full'!D1695","v":9.6300000000000008}]
[null,"00:00:00",null,null,null,null,null,null,null,null,null,null,null,null,"1999-05-14",{"$f":"'[1]Report-full'!B1696","v":168.82},{"$f":"'[1]Report-full'!C1696","v":94.6},{"$f":"'[1]Report-full'!D1696","v":9.83}]
[null,"00:00:00",null,null,null,null,null,null,null,null,null,null,null,null,"1999-05-21",{"$f":"'[1]Report-full'!B1697","v":169.07},{"$f":"'[1]Report-full'!C1697","v":97.07},{"$f":"'[1]Report-full'!D1697","v":10.29}]
[null,"00:00:00",null,null,null,null,null,null,null,null,null,null,null,null,"1999-05-28",{"$f":"'[1]Report-full'!B1698","v":169.06},{"$f":"'[1]Report-full'!C1698","v":96.95},{"$f":"'[1]Report-full'!D1698","v":10.38}]
[null,"00:00:00",null,null,null,null,null,null,null,null,null,null,null,null,"1999-06-04",{"$f":"'[1]Report-full'!B1699","v":169.08},{"$f":"'[1]Report-full'!C1699","v":97.14},{"$f":"'[1]Report-full'!D1699","v":10.38}]
[null,"00:00:00",null,null,null,null,null,null,null,null,null,null,null,null,"1999-06-11",{"$f":"'[1]Report-full'!B1700","v":170.15},{"$f":"'[1]Report-full'!C1700","v":100},{"$f":"'[1]Report-full'!D1700","v":10.64}]
[null,"00:00:00",null,null,null,null,null,null,null,null,null,null,null,null,"1999-06-18",{"$f":"'[1]Report-full'!B1701","v":170.21},{"$f":"'[1]Report-full'!C1701","v":100},{"$f":"'[1]Report-full'!D1701","v":10.85}]
[null,"00:00:00",null,null,null,null,null,null,null,null,null,null,null,null,"1999-06-25",{"$f":"'[1]Report-full'!B1702","v":170.85},{"$f":"'[1]Report-full'!C1702","v":100},{"$f":"'[1]Report-full'!D1702","v":11.26}]
[null,"00:00:00",null,null,null,null,null,null,null,null,null,null,null,null,"1999-07-02",{"$f":"'[1]Report-full'!B1703","v":170.88},{"$f":"'[1]Report-full'!C1703","v":100},{"$f":"'[1]Report-full'!D1703","v":11.66}]
[null,"00:00:00",null,null,null,null,null,null,null,null,null,null,null,null,"1999-07-09",{"$f":"'[1]Report-full'!B1704","v":171.88},{"$f":"'[1]Report-full'!C1704","v":100},{"$f":"'[1]Report-full'!D1704","v":12.04}]
[null,"00:00:00",null,null,null,null,null,null,null,null,null,null,null,null,"1999-07-16",{"$f":"'[1]Report-full'!B1705","v":172.01},{"$f":"'[1]Report-full'!C1705","v":100},{"$f":"'[1]Report-full'!D1705","v":12.43}]
[null,"00:00:00",null,null,null,null,null,null,null,null,null,null,null,null,"1999-07-23",{"$f":"'[1]Report-full'!B1706","v":172.25},{"$f":"'[1]Report-full'!C1706","v":100},{"$f":"'[1]Report-full'!D1706","v":12.68}]
[null,"00:00:00",null,null,null,null,null,null,null,null,null,null,null,null,"1999-07-30",{"$f":"'[1]Report-full'!B1707","v":171.67},{"$f":"'[1]Report-full'!C1707","v":94.4},{"$f":"'[1]Report-full'!D1707","v":12.73}]
[null,"00:00:00",null,null,null,null,null,null,null,null,null,null,null,null,"1999-08-06",{"$f":"'[1]Report-full'!B1708","v":171.29},{"$f":"'[1]Report-full'!C1708","v":90.65},{"$f":"'[1]Report-full'!D1708","v":12.34}]
[null,"00:00:00",null,null,null,null,null,null,null,null,null,null,null,null,"1999-08-13",{"$f":"'[1]Report-full'!B1709","v":171.37},{"$f":"'[1]Report-full'!C1709","v":91.44},{"$f":"'[1]Report-full'!D1709","v":11.94}]
[null,"00:00:00",null,null,null,null,null,null,null,null,null,null,null,null,"1999-08-20",{"$f":"'[1]Report-full'!B1710","v":171.93},{"$f":"'[1]Report-full'!C1710","v":96.95},{"$f":"'[1]Report-full'!D1710","v":11.63}]
[null,"00:00:00",null,null,null,null,null,null,null,null,null,null,null,null,"1999-08-27",{"$f":"'[1]Report-full'!B1711","v":172.39},{"$f":"'[1]Report-full'!C1711","v":100},{"$f":"'[1]Report-full'!D1711","v":11.62}]
[null,"00:00:00",null,null,null,null,null,null,null,null,null,null,null,null,"1999-09-03",{"$f":"'[1]Report-full'!B1712","v":171.98},{"$f":"'[1]Report-full'!C1712","v":96},{"$f":"'[1]Report-full'!D1712","v":11.61}]
[null,"00:00:00",null,null,null,null,null,null,null,null,null,null,null,null,"1999-09-10",{"$f":"'[1]Report-full'!B1713","v":172.23},{"$f":"'[1]Report-full'!C1713","v":98.43},{"$f":"'[1]Report-full'!D1713","v":11.63}]
[null,"00:00:00",null,null,null,null,null,null,null,null,null,null,null,null,"1999-09-17",{"$f":"'[1]Report-full'!B1714","v":172.27},{"$f":"'[1]Report-full'!C1714","v":98.81},{"$f":"'[1]Report-full'!D1714","v":11.48}]
[null,"00:00:00",null,null,null,null,null,null,null,null,null,null,null,null,"1999-09-24",{"$f":"'[1]Report-full'!B1715","v":171.92},{"$f":"'[1]Report-full'!C1715","v":95.4},{"$f":"'[1]Report-full'!D1715","v":11.08}]
[null,"00:00:00",null,null,null,null,null,null,null,null,null,null,null,null,"1999-10-01",{"$f":"'[1]Report-full'!B1716","v":170.89},{"$f":"'[1]Report-full'!C1716","v":85.38},{"$f":"'[1]Report-full'!D1716","v":10.5}]
[null,"00:00:00",null,null,null,null,null,null,null,null,null,null,null,null,"1999-10-08",{"$f":"'[1]Report-full'!B1717","v":171.23},{"$f":"'[1]Report-full'!C1717","v":88.7},{"$f":"'[1]Report-full'!D1717","v":9.9600000000000009}]
[null,"00:00:00",null,null,null,null,null,null,null,null,null,null,null,null,"1999-10-15",{"$f":"'[1]Report-full'!B1718","v":171.87},{"$f":"'[1]Report-full'!C1718","v":94.93},{"$f":"'[1]Report-full'!D1718","v":9.61}]
[null,"00:00:00",null,null,null,null,null,null,null,null,null,null,null,null,"1999-10-22",{"$f":"'[1]Report-full'!B1719","v":171.34},{"$f":"'[1]Report-full'!C1719","v":89.8},{"$f":"'[1]Report-full'!D1719","v":9.2100000000000009}]
[null,"00:00:00",null,null,null,null,null,null,null,null,null,null,null,null,"1999-10-29",{"$f":"'[1]Report-full'!B1720","v":171.49},{"$f":"'[1]Report-full'!C1720","v":91.25},{"$f":"'[1]Report-full'!D1720","v":9.16}]
[null,"00:00:00",null,null,null,null,null,null,null,null,null,null,null,null,"1999-11-05",{"$f":"'[1]Report-full'!B1721","v":172.65},{"$f":"'[1]Report-full'!C1721","v":100},{"$f":"'[1]Report-full'!D1721","v":9.35}]
[null,"00:00:00",null,null,null,null,null,null,null,null,null,null,null,null,"1999-11-12",{"$f":"'[1]Report-full'!B1722","v":173.23},{"$f":"'[1]Report-full'!C1722","v":100},{"$f":"'[1]Report-full'!D1722","v":9.5299999999999994}]
[null,"00:00:00",null,null,null,null,null,null,null,null,null,null,null,null,"1999-11-19",{"$f":"'[1]Report-full'!B1723","v":173.7},{"$f":"'[1]Report-full'!C1723","v":100},{"$f":"'[1]Report-full'!D1723","v":10.02}]
[null,"00:00:00",null,null,null,null,null,null,null,null,null,null,null,null,"1999-11-26",{"$f":"'[1]Report-full'!B1724","v":175.23},{"$f":"'[1]Report-full'!C1724","v":100},{"$f":"'[1]Report-full'!D1724","v":10.92}]
[null,"00:00:00",null,null,null,null,null,null,null,null,null,null,null,null,"1999-12-03",{"$f":"'[1]Report-full'!B1725","v":174.94},{"$f":"'[1]Report-full'!C1725","v":97.14},{"$f":"'[1]Report-full'!D1725","v":11.39}]
[null,"00:00:00",null,null,null,null,null,null,null,null,null,null,null,null,"1999-12-10",{"$f":"'[1]Report-full'!B1726","v":175.32},{"$f":"'[1]Report-full'!C1726","v":100},{"$f":"'[1]Report-full'!D1726","v":11.81}]
[null,{"$f":"INT(C1722-($H$4/2*7))","v":"00:00:00"},null,null,null,null,null,null,null,null,null,null,null,null,"1999-12-17",{"$f":"'[1]Report-full'!B1727","v":175.4},{"$f":"'[1]Report-full'!C1727","v":100},{"$f":"'[1]Report-full'!D1727","v":12.1}]
[null,"00:00:00",null,null,null,null,null,null,null,null,null,null,null,null,"1999-12-24",{"$f":"'[1]Report-full'!B1728","v":175.95},{"$f":"'[1]Report-full'!C1728","v":100},{"$f":"'[1]Report-full'!D1728","v":12.1}]
[null,"00:00:00",null,null,null,null,null,null,null,null,null,null,null,null,"1999-12-31",{"$f":"'[1]Report-full'!B1729","v":176.2},{"$f":"'[1]Report-full'!C1729","v":100},{"$f":"'[1]Report-full'!D1729","v":12.26}]
[null,"00:00:00",null,null,null,null,null,null,null,null,null,null,null,null,"2000-01-07",{"$f":"'[1]Report-full'!B1730","v":175.89},{"$f":"'[1]Report-full'!C1730","v":97.13},{"$f":"'[1]Report-full'!D1730","v":12.22}]
[null,"00:00:00",null,null,null,null,null,null,null,null,null,null,null,null,"2000-01-14",{"$f":"'[1]Report-full'!B1731","v":175.92},{"$f":"'[1]Report-full'!C1731","v":97.39},{"$f":"'[1]Report-full'!D1731","v":12.18}]
[null,"00:00:00",null,null,null,null,null,null,null,null,null,null,null,null,"2000-01-21",{"$f":"'[1]Report-full'!B1732","v":176.33},{"$f":"'[1]Report-full'!C1732","v":100},{"$f":"'[1]Report-full'!D1732","v":12.12}]
[null,"00:00:00",null,null,null,null,null,null,null,null,null,null,null,null,"2000-01-28",{"$f":"'[1]Report-full'!B1733","v":175.93},{"$f":"'[1]Report-full'!C1733","v":96.13},{"$f":"'[1]Report-full'!D1733","v":11.88}]
[null,"00:00:00",null,null,null,null,null,null,null,null,null,null,null,null,"2000-02-04",{"$f":"'[1]Report-full'!B1734","v":176.02},{"$f":"'[1]Report-full'!C1734","v":97.05},{"$f":"'[1]Report-full'!D1734","v":11.75}]
[null,"00:00:00",null,null,null,null,null,null,null,null,null,null,null,null,"2000-02-11",{"$f":"'[1]Report-full'!B1735","v":175.96},{"$f":"'[1]Report-full'!C1735","v":96.49},{"$f":"'[1]Report-full'!D1735","v":11.6}]
[null,"00:00:00",null,null,null,null,null,null,null,null,null,null,null,null,"2000-02-18",{"$f":"'[1]Report-full'!B1736","v":175.24},{"$f":"'[1]Report-full'!C1736","v":89.62},{"$f":"'[1]Report-full'!D1736","v":11.12}]
[null,"00:00:00",null,null,null,null,null,null,null,null,null,null,null,null,"2000-02-25",{"$f":"'[1]Report-full'!B1737","v":174.53},{"$f":"'[1]Report-full'!C1737","v":82.78},{"$f":"'[1]Report-full'!D1737","v":10.55}]
[null,"00:00:00",null,null,null,null,null,null,null,null,null,null,null,null,"2000-03-03",{"$f":"'[1]Report-full'!B1738","v":174.33},{"$f":"'[1]Report-full'!C1738","v":80.87},{"$f":"'[1]Report-full'!D1738","v":9.9}]
[null,"00:00:00",null,null,null,null,null,null,null,null,null,null,null,null,"2000-03-10",{"$f":"'[1]Report-full'!B1739","v":174.47},{"$f":"'[1]Report-full'!C1739","v":82.23},{"$f":"'[1]Report-full'!D1739","v":9.32}]
[null,"00:00:00",null,null,null,null,null,null,null,null,null,null,null,null,"2000-03-17",{"$f":"'[1]Report-full'!B1740","v":175.02},{"$f":"'[1]Report-full'!C1740","v":87.51},{"$f":"'[1]Report-full'!D1740","v":9.1}]
[null,"00:00:00",null,null,null,null,null,null,null,null,null,null,null,null,"2000-03-24",{"$f":"'[1]Report-full'!B1741","v":176.79},{"$f":"'[1]Report-full'!C1741","v":100},{"$f":"'[1]Report-full'!D1741","v":9.6}]
[null,"00:00:00",null,null,null,null,null,null,null,null,null,null,null,null,"2000-03-31",{"$f":"'[1]Report-full'!B1742","v":177.86},{"$f":"'[1]Report-full'!C1742","v":100},{"$f":"'[1]Report-full'!D1742","v":10.46}]
[null,"00:00:00",null,null,null,null,null,null,null,null,null,null,null,null,"2000-04-07",{"$f":"'[1]Report-full'!B1743","v":177.38},{"$f":"'[1]Report-full'!C1743","v":95.48},{"$f":"'[1]Report-full'!D1743","v":11.12}]
[null,"00:00:00",null,null,null,null,null,null,null,null,null,null,null,null,"2000-04-14",{"$f":"'[1]Report-full'!B1744","v":177.84},{"$f":"'[1]Report-full'!C1744","v":99.85},{"$f":"'[1]Report-full'!D1744","v":11.74}]
[null,"00:00:00",null,null,null,null,null,null,null,null,null,null,null,null,"2000-04-21",{"$f":"'[1]Report-full'!B1745","v":176.52},{"$f":"'[1]Report-full'!C1745","v":87.33},{"$f":"'[1]Report-full'!D1745","v":11.43}]
[null,"00:00:00",null,null,null,null,null,null,null,null,null,null,null,null,"2000-04-28",{"$f":"'[1]Report-full'!B1746","v":178.35},{"$f":"'[1]Report-full'!C1746","v":100},{"$f":"'[1]Report-full'!D1746","v":11.35}]
[null,"00:00:00",null,null,null,null,null,null,null,null,null,null,null,null,"2000-05-05",{"$f":"'[1]Report-full'!B1747","v":178.42},{"$f":"'[1]Report-full'!C1747","v":100},{"$f":"'[1]Report-full'!D1747","v":11.43}]
[null,"00:00:00",null,null,null,null,null,null,null,null,null,null,null,null,"2000-05-12",{"$f":"'[1]Report-full'!B1748","v":177.95},{"$f":"'[1]Report-full'!C1748","v":95.56},{"$f":"'[1]Report-full'!D1748","v":11.23}]
[null,"00:00:00",null,null,null,null,null,null,null,null,null,null,null,null,"2000-05-19",{"$f":"'[1]Report-full'!B1749","v":178.82},{"$f":"'[1]Report-full'!C1749","v":100},{"$f":"'[1]Report-full'!D1749","v":11.68}]
[null,"00:00:00",null,null,null,null,null,null,null,null,null,null,null,null,"2000-05-26",{"$f":"'[1]Report-full'!B1750","v":178.52},{"$f":"'[1]Report-full'!C1750","v":97.16},{"$f":"'[1]Report-full'!D1750","v":11.51}]
[null,"00:00:00",null,null,null,null,null,null,null,null,null,null,null,null,"2000-06-02",{"$f":"'[1]Report-full'!B1751","v":177.26},{"$f":"'[1]Report-full'!C1751","v":85.33},{"$f":"'[1]Report-full'!D1751","v":10.95}]
[null,"00:00:00",null,null,null,null,null,null,null,null,null,null,null,null,"2000-06-09",{"$f":"'[1]Report-full'!B1752","v":177.87},{"$f":"'[1]Report-full'!C1752","v":91.05},{"$f":"'[1]Report-full'!D1752","v":10.72}]
[null,"00:00:00",null,null,null,null,null,null,null,null,null,null,null,null,"2000-06-16",{"$f":"'[1]Report-full'!B1753","v":177.19},{"$f":"'[1]Report-full'!C1753","v":84.72},{"$f":"'[1]Report-full'!D1753","v":10.06}]
[null,"00:00:00",null,null,null,null,null,null,null,null,null,null,null,null,"2000-06-23",{"$f":"'[1]Report-full'!B1754","v":177.04},{"$f":"'[1]Report-full'!C1754","v":83.25},{"$f":"'[1]Report-full'!D1754","v":9.4499999999999993}]
[null,"00:00:00",null,null,null,null,null,null,null,null,null,null,null,null,"2000-06-30",{"$f":"'[1]Report-full'!B1755","v":176.42},{"$f":"'[1]Report-full'!C1755","v":77.430000000000007},{"$f":"'[1]Report-full'!D1755","v":9.0500000000000007}]
[null,"00:00:00",null,null,null,null,null,null,null,null,null,null,null,null,"2000-07-07",{"$f":"'[1]Report-full'!B1756","v":176.44},{"$f":"'[1]Report-full'!C1756","v":77.66},{"$f":"'[1]Report-full'!D1756","v":8.49}]
[null,"00:00:00",null,null,null,null,null,null,null,null,null,null,null,null,"2000-07-14",{"$f":"'[1]Report-full'!B1757","v":176.68},{"$f":"'[1]Report-full'!C1757","v":79.92},{"$f":"'[1]Report-full'!D1757","v":8.2200000000000006}]
[null,"00:00:00",null,null,null,null,null,null,null,null,null,null,null,null,"2000-07-21",{"$f":"'[1]Report-full'!B1758","v":176.53},{"$f":"'[1]Report-full'!C1758","v":78.48},{"$f":"'[1]Report-full'!D1758","v":7.96}]
[null,"00:00:00",null,null,null,null,null,null,null,null,null,null,null,null,"2000-07-28",{"$f":"'[1]Report-full'!B1759","v":175.05},{"$f":"'[1]Report-full'!C1759","v":64.58},{"$f":"'[1]Report-full'!D1759","v":7.47}]
[null,"00:00:00",null,null,null,null,null,null,null,null,null,null,null,null,"2000-08-04",{"$f":"'[1]Report-full'!B1760","v":174.2},{"$f":"'[1]Report-full'!C1760","v":56.59},{"$f":"'[1]Report-full'!D1760","v":6.74}]
[null,"00:00:00",null,null,null,null,null,null,null,null,null,null,null,null,"2000-08-11",{"$f":"'[1]Report-full'!B1761","v":174.54},{"$f":"'[1]Report-full'!C1761","v":59.76},{"$f":"'[1]Report-full'!D1761","v":6.06}]
[null,"00:00:00",null,null,null,null,null,null,null,null,null,null,null,null,"2000-08-18",{"$f":"'[1]Report-full'!B1762","v":174.45},{"$f":"'[1]Report-full'!C1762","v":58.92},{"$f":"'[1]Report-full'!D1762","v":5.4}]
[null,"00:00:00",null,null,null,null,null,null,null,null,null,null,null,null,"2000-08-25",{"$f":"'[1]Report-full'!B1763","v":174.5},{"$f":"'[1]Report-full'!C1763","v":59.43},{"$f":"'[1]Report-full'!D1763","v":5.19}]
[null,"00:00:00",null,null,null,null,null,null,null,null,null,null,null,null,"2000-09-01",{"$f":"'[1]Report-full'!B1764","v":175.07},{"$f":"'[1]Report-full'!C1764","v":64.760000000000005},{"$f":"'[1]Report-full'!D1764","v":5.37}]
[null,"00:00:00",null,null,null,null,null,null,null,null,null,null,null,null,"2000-09-08",{"$f":"'[1]Report-full'!B1765","v":175.59},{"$f":"'[1]Report-full'!C1765","v":69.66},{"$f":"'[1]Report-full'!D1765","v":5.61}]
[null,"00:00:00",null,null,null,null,null,null,null,null,null,null,null,null,"2000-09-15",{"$f":"'[1]Report-full'!B1766","v":175},{"$f":"'[1]Report-full'!C1766","v":64.08},{"$f":"'[1]Report-full'!D1766","v":5.7}]
[null,"00:00:00",null,null,null,null,null,null,null,null,null,null,null,null,"2000-09-22",{"$f":"'[1]Report-full'!B1767","v":174.59},{"$f":"'[1]Report-full'!C1767","v":60.26},{"$f":"'[1]Report-full'!D1767","v":5.67}]
[null,"00:00:00",null,null,null,null,null,null,null,null,null,null,null,null,"2000-09-29",{"$f":"'[1]Report-full'!B1768","v":174.07},{"$f":"'[1]Report-full'!C1768","v":55.38},{"$f":"'[1]Report-full'!D1768","v":5.32}]
[null,"00:00:00",null,null,null,null,null,null,null,null,null,null,null,null,"2000-10-06",{"$f":"'[1]Report-full'!B1769","v":174.08},{"$f":"'[1]Report-full'!C1769","v":55.51},{"$f":"'[1]Report-full'!D1769","v":4.84}]
[null,"00:00:00",null,null,null,null,null,null,null,null,null,null,null,null,"2000-10-13",{"$f":"'[1]Report-full'!B1770","v":173.67},{"$f":"'[1]Report-full'!C1770","v":51.65},{"$f":"'[1]Report-full'!D1770","v":4.41}]
[null,"00:00:00",null,null,null,null,null,null,null,null,null,null,null,null,"2000-10-20",{"$f":"'[1]Report-full'!B1771","v":172.32},{"$f":"'[1]Report-full'!C1771","v":38.93},{"$f":"'[1]Report-full'!D1771","v":3.73}]
[null,"00:00:00",null,null,null,null,null,null,null,null,null,null,null,null,"2000-10-27",{"$f":"'[1]Report-full'!B1772","v":173.36},{"$f":"'[1]Report-full'!C1772","v":48.7},{"$f":"'[1]Report-full'!D1772","v":3.49}]
[null,"00:00:00",null,null,null,null,null,null,null,null,null,null,null,null,"2000-11-03",{"$f":"'[1]Report-full'!B1773","v":174.24},{"$f":"'[1]Report-full'!C1773","v":56.95},{"$f":"'[1]Report-full'!D1773","v":3.49}]
[null,"00:00:00",null,null,null,null,null,null,null,null,null,null,null,null,"2000-11-10",{"$f":"'[1]Report-full'!B1774","v":174.64},{"$f":"'[1]Report-full'!C1774","v":60.69},{"$f":"'[1]Report-full'!D1774","v":3.72}]
[null,"00:00:00",null,null,null,null,null,null,null,null,null,null,null,null,"2000-11-17",{"$f":"'[1]Report-full'!B1775","v":173.89},{"$f":"'[1]Report-full'!C1775","v":53.68},{"$f":"'[1]Report-full'!D1775","v":4.13}]
[null,"00:00:00",null,null,null,null,null,null,null,null,null,null,null,null,"2000-11-24",{"$f":"'[1]Report-full'!B1776","v":172.81},{"$f":"'[1]Report-full'!C1776","v":43.57},{"$f":"'[1]Report-full'!D1776","v":3.95}]
[null,"00:00:00",null,null,null,null,null,null,null,null,null,null,null,null,"2000-12-01",{"$f":"'[1]Report-full'!B1777","v":171.52},{"$f":"'[1]Report-full'!C1777","v":31.39},{"$f":"'[1]Report-full'!D1777","v":3.19}]
[null,"00:00:00",null,null,null,null,null,null,null,null,null,null,null,null,"2000-12-08",{"$f":"'[1]Report-full'!B1778","v":170.83},{"$f":"'[1]Report-full'!C1778","v":24.96},{"$f":"'[1]Report-full'!D1778","v":2.17}]
[null,"00:00:00",null,null,null,null,null,null,null,null,null,null,null,null,"2000-12-15",{"$f":"'[1]Report-full'!B1779","v":171.7},{"$f":"'[1]Report-full'!C1779","v":33.119999999999997},{"$f":"'[1]Report-full'!D1779","v":1.62}]
[null,"00:00:00",null,null,null,null,null,null,null,null,null,null,null,null,"2000-12-22",{"$f":"'[1]Report-full'!B1780","v":170.55},{"$f":"'[1]Report-full'!C1780","v":22.3},{"$f":"'[1]Report-full'!D1780","v":1.08}]
[null,"00:00:00",null,null,null,null,null,null,null,null,null,null,null,null,"2000-12-29",{"$f":"'[1]Report-full'!B1781","v":169.35},{"$f":"'[1]Report-full'!C1781","v":11.06},{"$f":"'[1]Report-full'!D1781","v":0.57999999999999996}]
[null,"00:00:00",null,null,null,null,null,null,null,null,null,null,null,null,"2001-01-05",{"$f":"'[1]Report-full'!B1782","v":168.87},{"$f":"'[1]Report-full'!C1782","v":6.54},{"$f":"'[1]Report-full'!D1782","v":0.15}]
[null,"00:00:00",null,null,null,null,null,null,null,null,null,null,null,null,"2001-01-12",{"$f":"'[1]Report-full'!B1783","v":167.96},{"$f":"'[1]Report-full'!C1783","v":-2.02},{"$f":"'[1]Report-full'!D1783","v":-0.75}]
[null,"00:00:00",null,null,null,null,null,null,null,null,null,null,null,null,"2001-01-19",{"$f":"'[1]Report-full'!B1784","v":168.02},{"$f":"'[1]Report-full'!C1784","v":-1.46},{"$f":"'[1]Report-full'!D1784","v":-1.3}]
[null,"00:00:00",null,null,null,null,null,null,null,null,null,null,null,null,"2001-01-26",{"$f":"'[1]Report-full'!B1785","v":169.21},{"$f":"'[1]Report-full'!C1785","v":9.67},{"$f":"'[1]Report-full'!D1785","v":-1.19}]
[null,"00:00:00",null,null,null,null,null,null,null,null,null,null,null,null,"2001-02-02",{"$f":"'[1]Report-full'!B1786","v":169.4},{"$f":"'[1]Report-full'!C1786","v":11.53},{"$f":"'[1]Report-full'!D1786","v":-0.89}]
[null,"00:00:00",null,null,null,null,null,null,null,null,null,null,null,null,"2001-02-09",{"$f":"'[1]Report-full'!B1787","v":169.04},{"$f":"'[1]Report-full'!C1787","v":8.16},{"$f":"'[1]Report-full'!D1787","v":-0.45}]
[null,"00:00:00",null,null,null,null,null,null,null,null,null,null,null,null,"2001-02-16",{"$f":"'[1]Report-full'!B1788","v":167.94},{"$f":"'[1]Report-full'!C1788","v":-2.2000000000000002},{"$f":"'[1]Report-full'!D1788","v":-0.33}]
[null,"00:00:00",null,null,null,null,null,null,null,null,null,null,null,null,"2001-02-23",{"$f":"'[1]Report-full'!B1789","v":167.49},{"$f":"'[1]Report-full'!C1789","v":-6.46},{"$f":"'[1]Report-full'!D1789","v":-0.65}]
[null,"00:00:00",null,null,null,null,null,null,null,null,null,null,null,null,"2001-03-02",{"$f":"'[1]Report-full'!B1790","v":165.53},{"$f":"'[1]Report-full'!C1790","v":-24.86},{"$f":"'[1]Report-full'!D1790","v":-1.56}]
[null,{"$f":"INT(C1786-($H$4/2*7))","v":"00:00:00"},null,null,null,null,null,null,null,null,null,null,null,null,"2001-03-09",{"$f":"'[1]Report-full'!B1791","v":164.78},{"$f":"'[1]Report-full'!C1791","v":-31.95},{"$f":"'[1]Report-full'!D1791","v":-2.57}]
[null,"00:00:00",null,null,null,null,null,null,null,null,null,null,null,null,"2001-03-16",{"$f":"'[1]Report-full'!B1792","v":163.28},{"$f":"'[1]Report-full'!C1792","v":-45.98},{"$f":"'[1]Report-full'!D1792","v":-3.66}]
[null,"00:00:00",null,null,null,null,null,null,null,null,null,null,null,null,"2001-03-23",{"$f":"'[1]Report-full'!B1793","v":161.66},{"$f":"'[1]Report-full'!C1793","v":-61.24},{"$f":"'[1]Report-full'!D1793","v":-5.04}]
[null,"00:00:00",null,null,null,null,null,null,null,null,null,null,null,null,"2001-03-30",{"$f":"'[1]Report-full'!B1794","v":160.97},{"$f":"'[1]Report-full'!C1794","v":-67.75},{"$f":"'[1]Report-full'!D1794","v":-6.03}]
[null,"00:00:00",null,null,null,null,null,null,null,null,null,null,null,null,"2001-04-06",{"$f":"'[1]Report-full'!B1795","v":160.47},{"$f":"'[1]Report-full'!C1795","v":-72.44},{"$f":"'[1]Report-full'!D1795","v":-6.92}]
[null,"00:00:00",null,null,null,null,null,null,null,null,null,null,null,null,"2001-04-13",{"$f":"'[1]Report-full'!B1796","v":160.47},{"$f":"'[1]Report-full'!C1796","v":-72.44},{"$f":"'[1]Report-full'!D1796","v":-7.38}]
[null,"00:00:00",null,null,null,null,null,null,null,null,null,null,null,null,"2001-04-20",{"$f":"'[1]Report-full'!B1797","v":161.52000000000001},{"$f":"'[1]Report-full'!C1797","v":-62.5},{"$f":"'[1]Report-full'!D1797","v":-7.1}]
[null,"00:00:00",null,null,null,null,null,null,null,null,null,null,null,null,"2001-04-27",{"$f":"'[1]Report-full'!B1798","v":160.87},{"$f":"'[1]Report-full'!C1798","v":-68.62},{"$f":"'[1]Report-full'!D1798","v":-6.81}]
[null,"00:00:00",null,null,null,null,null,null,null,null,null,null,null,null,"2001-05-04",{"$f":"'[1]Report-full'!B1799","v":160.66},{"$f":"'[1]Report-full'!C1799","v":-70.63},{"$f":"'[1]Report-full'!D1799","v":-6.44}]
[null,"00:00:00",null,null,null,null,null,null,null,null,null,null,null,null,"2001-05-11",{"$f":"'[1]Report-full'!B1800","v":160.34},{"$f":"'[1]Report-full'!C1800","v":-73.66},{"$f":"'[1]Report-full'!D1800","v":-6.15}]
[null,"00:00:00",null,null,null,null,null,null,null,null,null,null,null,null,"2001-05-18",{"$f":"'[1]Report-full'!B1801","v":160.04},{"$f":"'[1]Report-full'!C1801","v":-76.44},{"$f":"'[1]Report-full'!D1801","v":-6.22}]
[null,"00:00:00",null,null,null,null,null,null,null,null,null,null,null,null,"2001-05-25",{"$f":"'[1]Report-full'!B1802","v":160.22},{"$f":"'[1]Report-full'!C1802","v":-74.760000000000005},{"$f":"'[1]Report-full'!D1802","v":-6.05}]
[null,"00:00:00",null,null,null,null,null,null,null,null,null,null,null,null,"2001-06-01",{"$f":"'[1]Report-full'!B1803","v":159.18},{"$f":"'[1]Report-full'!C1803","v":-84.48},{"$f":"'[1]Report-full'!D1803","v":-6.09}]
[null,"00:00:00",null,null,null,null,null,null,null,null,null,null,null,null,"2001-06-08",{"$f":"'[1]Report-full'!B1804","v":158},{"$f":"'[1]Report-full'!C1804","v":-95.58},{"$f":"'[1]Report-full'!D1804","v":-6.37}]
[null,"00:00:00",null,null,null,null,null,null,null,null,null,null,null,null,"2001-06-15",{"$f":"'[1]Report-full'!B1805","v":157.32},{"$f":"'[1]Report-full'!C1805","v":-101.98},{"$f":"'[1]Report-full'!D1805","v":-6.74}]
[null,"00:00:00",null,null,null,null,null,null,null,null,null,null,null,null,"2001-06-22",{"$f":"'[1]Report-full'!B1806","v":156.06},{"$f":"'[1]Report-full'!C1806","v":-113.86},{"$f":"'[1]Report-full'!D1806","v":-7.49}]
[null,"00:00:00",null,null,null,null,null,null,null,null,null,null,null,null,"2001-06-29",{"$f":"'[1]Report-full'!B1807","v":155.85},{"$f":"'[1]Report-full'!C1807","v":-115.78},{"$f":"'[1]Report-full'!D1807","v":-8.01}]
[null,"00:00:00",null,null,null,null,null,null,null,null,null,null,null,null,"2001-07-06",{"$f":"'[1]Report-full'!B1808","v":155.71},{"$f":"'[1]Report-full'!C1808","v":-117.14},{"$f":"'[1]Report-full'!D1808","v":-8.24}]
[null,"00:00:00",null,null,null,null,null,null,null,null,null,null,null,null,"2001-07-13",{"$f":"'[1]Report-full'!B1809","v":154.82},{"$f":"'[1]Report-full'!C1809","v":-125.44},{"$f":"'[1]Report-full'!D1809","v":-8.52}]
[null,"00:00:00",null,null,null,null,null,null,null,null,null,null,null,null,"2001-07-20",{"$f":"'[1]Report-full'!B1810","v":154.34},{"$f":"'[1]Report-full'!C1810","v":-130.01},{"$f":"'[1]Report-full'!D1810","v":-8.58}]
[null,"00:00:00",null,null,null,null,null,null,null,null,null,null,null,null,"2001-07-27",{"$f":"'[1]Report-full'!B1811","v":154.19},{"$f":"'[1]Report-full'!C1811","v":-131.44999999999999},{"$f":"'[1]Report-full'!D1811","v":-8.6199999999999992}]
[null,"00:00:00",null,null,null,null,null,null,null,null,null,null,null,null,"2001-08-03",{"$f":"'[1]Report-full'!B1812","v":154.78},{"$f":"'[1]Report-full'!C1812","v":-125.85},{"$f":"'[1]Report-full'!D1812","v":-8.4600000000000009}]
[null,"00:00:00",null,null,null,null,null,null,null,null,null,null,null,null,"2001-08-10",{"$f":"'[1]Report-full'!B1813","v":154.4},{"$f":"'[1]Report-full'!C1813","v":-129.44},{"$f":"'[1]Report-full'!D1813","v":-8.17}]
[null,"00:00:00",null,null,null,null,null,null,null,null,null,null,null,null,"2001-08-17",{"$f":"'[1]Report-full'!B1814","v":153.74},{"$f":"'[1]Report-full'!C1814","v":-135.6},{"$f":"'[1]Report-full'!D1814","v":-7.93}]
[null,"00:00:00",null,null,null,null,null,null,null,null,null,null,null,null,"2001-08-24",{"$f":"'[1]Report-full'!B1815","v":152.94999999999999},{"$f":"'[1]Report-full'!C1815","v":-143.08000000000001},{"$f":"'[1]Report-full'!D1815","v":-7.87}]
[null,"00:00:00",null,null,null,null,null,null,null,null,null,null,null,null,"2001-08-31",{"$f":"'[1]Report-full'!B1816","v":152.88},{"$f":"'[1]Report-full'!C1816","v":-143.75},{"$f":"'[1]Report-full'!D1816","v":-7.99}]
[null,"00:00:00",null,null,null,null,null,null,null,null,null,null,null,null,"2001-09-07",{"$f":"'[1]Report-full'!B1817","v":151.88999999999999},{"$f":"'[1]Report-full'!C1817","v":-153.01},{"$f":"'[1]Report-full'!D1817","v":-8.27}]
[null,"00:00:00",null,null,null,null,null,null,null,null,null,null,null,null,"2001-09-14",{"$f":"'[1]Report-full'!B1818","v":150.55000000000001},{"$f":"'[1]Report-full'!C1818","v":-165.61},{"$f":"'[1]Report-full'!D1818","v":-8.7200000000000006}]
[null,"00:00:00",null,null,null,null,null,null,null,null,null,null,null,null,"2001-09-21",{"$f":"'[1]Report-full'!B1819","v":149.5},{"$f":"'[1]Report-full'!C1819","v":-175.5},{"$f":"'[1]Report-full'!D1819","v":-9.2200000000000006}]
[null,"00:00:00",null,null,null,null,null,null,null,null,null,null,null,null,"2001-09-28",{"$f":"'[1]Report-full'!B1820","v":147.91},{"$f":"'[1]Report-full'!C1820","v":-190.37},{"$f":"'[1]Report-full'!D1820","v":-10.119999999999999}]
[null,"00:00:00",null,null,null,null,null,null,null,null,null,null,null,null,"2001-10-05",{"$f":"'[1]Report-full'!B1821","v":148.35},{"$f":"'[1]Report-full'!C1821","v":-186.26},{"$f":"'[1]Report-full'!D1821","v":-10.61}]
[null,"00:00:00",null,null,null,null,null,null,null,null,null,null,null,null,"2001-10-12",{"$f":"'[1]Report-full'!B1822","v":148.16999999999999},{"$f":"'[1]Report-full'!C1822","v":-187.96},{"$f":"'[1]Report-full'!D1822","v":-10.78}]
[null,"00:00:00",null,null,null,null,null,null,null,null,null,null,null,null,"2001-10-19",{"$f":"'[1]Report-full'!B1823","v":148.09},{"$f":"'[1]Report-full'!C1823","v":-188.71},{"$f":"'[1]Report-full'!D1823","v":-10.67}]
[null,"00:00:00",null,null,null,null,null,null,null,null,null,null,null,null,"2001-10-26",{"$f":"'[1]Report-full'!B1824","v":147.19999999999999},{"$f":"'[1]Report-full'!C1824","v":-197.08},{"$f":"'[1]Report-full'!D1824","v":-10.38}]
[null,"00:00:00",null,null,null,null,null,null,null,null,null,null,null,null,"2001-11-02",{"$f":"'[1]Report-full'!B1825","v":146.55000000000001},{"$f":"'[1]Report-full'!C1825","v":-203.21},{"$f":"'[1]Report-full'!D1825","v":-10.38}]
[null,"00:00:00",null,null,null,null,null,null,null,null,null,null,null,null,"2001-11-09",{"$f":"'[1]Report-full'!B1826","v":146.31},{"$f":"'[1]Report-full'!C1826","v":-205.4},{"$f":"'[1]Report-full'!D1826","v":-10.39}]
[null,"00:00:00",null,null,null,null,null,null,null,null,null,null,null,null,"2001-11-16",{"$f":"'[1]Report-full'!B1827","v":146.47999999999999},{"$f":"'[1]Report-full'!C1827","v":-203.87},{"$f":"'[1]Report-full'!D1827","v":-10.32}]
[null,"00:00:00",null,null,null,null,null,null,null,null,null,null,null,null,"2001-11-23",{"$f":"'[1]Report-full'!B1828","v":146.6},{"$f":"'[1]Report-full'!C1828","v":-202.76},{"$f":"'[1]Report-full'!D1828","v":-9.9499999999999993}]
[null,"00:00:00",null,null,null,null,null,null,null,null,null,null,null,null,"2001-11-30",{"$f":"'[1]Report-full'!B1829","v":146.11000000000001},{"$f":"'[1]Report-full'!C1829","v":-207.31},{"$f":"'[1]Report-full'!D1829","v":-9.5299999999999994}]
[null,"00:00:00",null,null,null,null,null,null,null,null,null,null,null,null,"2001-12-07",{"$f":"'[1]Report-full'!B1830","v":146.80000000000001},{"$f":"'[1]Report-full'!C1830","v":100},{"$f":"'[1]Report-full'!D1830","v":-8.85}]
[null,"00:00:00",null,null,null,null,null,null,null,null,null,null,null,null,"2001-12-14",{"$f":"'[1]Report-full'!B1831","v":146.97999999999999},{"$f":"'[1]Report-full'!C1831","v":100},{"$f":"'[1]Report-full'!D1831","v":-8.18}]
[null,"00:00:00",null,null,null,null,null,null,null,null,null,null,null,null,"2001-12-21",{"$f":"'[1]Report-full'!B1832","v":146.78},{"$f":"'[1]Report-full'!C1832","v":97.75},{"$f":"'[1]Report-full'!D1832","v":-7.62}]
[null,"00:00:00",null,null,null,null,null,null,null,null,null,null,null,null,"2001-12-28",{"$f":"'[1]Report-full'!B1833","v":147.47},{"$f":"'[1]Report-full'!C1833","v":100},{"$f":"'[1]Report-full'!D1833","v":-6.71}]
[null,"00:00:00",null,null,null,null,null,null,null,null,null,null,null,null,"2002-01-04",{"$f":"'[1]Report-full'!B1834","v":148.19999999999999},{"$f":"'[1]Report-full'!C1834","v":100},{"$f":"'[1]Report-full'!D1834","v":-5.81}]
[null,"00:00:00",null,null,null,null,null,null,null,null,null,null,null,null,"2002-01-11",{"$f":"'[1]Report-full'!B1835","v":149.19999999999999},{"$f":"'[1]Report-full'!C1835","v":100},{"$f":"'[1]Report-full'!D1835","v":-4.66}]
[null,"00:00:00",null,null,null,null,null,null,null,null,null,null,null,null,"2002-01-18",{"$f":"'[1]Report-full'!B1836","v":148.72999999999999},{"$f":"'[1]Report-full'!C1836","v":94.63},{"$f":"'[1]Report-full'!D1836","v":-3.62}]
[null,"00:00:00",null,null,null,null,null,null,null,null,null,null,null,null,"2002-01-25",{"$f":"'[1]Report-full'!B1837","v":148.81},{"$f":"'[1]Report-full'!C1837","v":95.55},{"$f":"'[1]Report-full'!D1837","v":-2.78}]
[null,"00:00:00",null,null,null,null,null,null,null,null,null,null,null,null,"2002-02-01",{"$f":"'[1]Report-full'!B1838","v":149.05000000000001},{"$f":"'[1]Report-full'!C1838","v":98.31},{"$f":"'[1]Report-full'!D1838","v":-2.08}]
[null,"00:00:00",null,null,null,null,null,null,null,null,null,null,null,null,"2002-02-08",{"$f":"'[1]Report-full'!B1839","v":148.91999999999999},{"$f":"'[1]Report-full'!C1839","v":96.83},{"$f":"'[1]Report-full'!D1839","v":-1.73}]
[null,"00:00:00",null,null,null,null,null,null,null,null,null,null,null,null,"2002-02-15",{"$f":"'[1]Report-full'!B1840","v":149.07},{"$f":"'[1]Report-full'!C1840","v":98.48},{"$f":"'[1]Report-full'!D1840","v":-1.17}]
[null,"00:00:00",null,null,null,null,null,null,null,null,null,null,null,null,"2002-02-22",{"$f":"'[1]Report-full'!B1841","v":149.05000000000001},{"$f":"'[1]Report-full'!C1841","v":98.32},{"$f":"'[1]Report-full'!D1841","v":-0.64}]
[null,"00:00:00",null,null,null,null,null,null,null,null,null,null,null,null,"2002-03-01",{"$f":"'[1]Report-full'!B1842","v":148.19999999999999},{"$f":"'[1]Report-full'!C1842","v":88.69},{"$f":"'[1]Report-full'!D1842","v":-0.46}]
[null,"00:00:00",null,null,null,null,null,null,null,null,null,null,null,null,"2002-03-08",{"$f":"'[1]Report-full'!B1843","v":148.72999999999999},{"$f":"'[1]Report-full'!C1843","v":94.67},{"$f":"'[1]Report-full'!D1843","v":-0.09}]
[null,"00:00:00",null,null,null,null,null,null,null,null,null,null,null,null,"2002-03-15",{"$f":"'[1]Report-full'!B1844","v":148.87},{"$f":"'[1]Report-full'!C1844","v":96.28},{"$f":"'[1]Report-full'!D1844","v":0.26}]
[null,"00:00:00",null,null,null,null,null,null,null,null,null,null,null,null,"2002-03-22",{"$f":"'[1]Report-full'!B1845","v":148.72999999999999},{"$f":"'[1]Report-full'!C1845","v":94.69},{"$f":"'[1]Report-full'!D1845","v":0.54}]
[null,"00:00:00",null,null,null,null,null,null,null,null,null,null,null,null,"2002-03-29",{"$f":"'[1]Report-full'!B1846","v":148.69999999999999},{"$f":"'[1]Report-full'!C1846","v":94.36},{"$f":"'[1]Report-full'!D1846","v":1.06}]
[null,"00:00:00",null,null,null,null,null,null,null,null,null,null,null,null,"2002-04-05",{"$f":"'[1]Report-full'!B1847","v":148.83000000000001},{"$f":"'[1]Report-full'!C1847","v":95.84},{"$f":"'[1]Report-full'!D1847","v":1.42}]
[null,"00:00:00",null,null,null,null,null,null,null,null,null,null,null,null,"2002-04-12",{"$f":"'[1]Report-full'!B1848","v":148.06},{"$f":"'[1]Report-full'!C1848","v":87.07},{"$f":"'[1]Report-full'!D1848","v":1.46}]
[null,"00:00:00",null,null,null,null,null,null,null,null,null,null,null,null,"2002-04-19",{"$f":"'[1]Report-full'!B1849","v":147.6},{"$f":"'[1]Report-full'!C1849","v":81.97},{"$f":"'[1]Report-full'!D1849","v":1.4}]
[null,"00:00:00",null,null,null,null,null,null,null,null,null,null,null,null,"2002-04-26",{"$f":"'[1]Report-full'!B1850","v":147.53},{"$f":"'[1]Report-full'!C1850","v":81.11},{"$f":"'[1]Report-full'!D1850","v":1.32}]
[null,"00:00:00",null,null,null,null,null,null,null,null,null,null,null,null,"2002-05-03",{"$f":"'[1]Report-full'!B1851","v":146.79},{"$f":"'[1]Report-full'!C1851","v":72.790000000000006},{"$f":"'[1]Report-full'!D1851","v":0.98}]
[null,"00:00:00",null,null,null,null,null,null,null,null,null,null,null,null,"2002-05-10",{"$f":"'[1]Report-full'!B1852","v":146.34},{"$f":"'[1]Report-full'!C1852","v":67.75},{"$f":"'[1]Report-full'!D1852","v":0.75}]
[null,"00:00:00",null,null,null,null,null,null,null,null,null,null,null,null,"2002-05-17",{"$f":"'[1]Report-full'!B1853","v":146.36000000000001},{"$f":"'[1]Report-full'!C1853","v":67.989999999999995},{"$f":"'[1]Report-full'!D1853","v":0.69}]
[null,"00:00:00",null,null,null,null,null,null,null,null,null,null,null,null,"2002-05-24",{"$f":"'[1]Report-full'!B1854","v":146.55000000000001},{"$f":"'[1]Report-full'!C1854","v":70.17},{"$f":"'[1]Report-full'!D1854","v":0.71}]
[null,{"$f":"INT(C1850-($H$4/2*7))","v":"00:00:00"},null,null,null,null,null,null,null,null,null,null,null,null,"2002-05-31",{"$f":"'[1]Report-full'!B1855","v":146.94999999999999},{"$f":"'[1]Report-full'!C1855","v":74.64},{"$f":"'[1]Report-full'!D1855","v":1.0900000000000001}]
[null,"00:00:00",null,null,null,null,null,null,null,null,null,null,null,null,"2002-06-07",{"$f":"'[1]Report-full'!B1856","v":146.62},{"$f":"'[1]Report-full'!C1856","v":70.91},{"$f":"'[1]Report-full'!D1856","v":1.5}]
[null,"00:00:00",null,null,null,null,null,null,null,null,null,null,null,null,"2002-06-14",{"$f":"'[1]Report-full'!B1857","v":146.33000000000001},{"$f":"'[1]Report-full'!C1857","v":67.63},{"$f":"'[1]Report-full'!D1857","v":1.79}]
[null,"00:00:00",null,null,null,null,null,null,null,null,null,null,null,null,"2002-06-21",{"$f":"'[1]Report-full'!B1858","v":146.37},{"$f":"'[1]Report-full'!C1858","v":68.06},{"$f":"'[1]Report-full'!D1858","v":2.02}]
[null,"00:00:00",null,null,null,null,null,null,null,null,null,null,null,null,"2002-06-28",{"$f":"'[1]Report-full'!B1859","v":146.61000000000001},{"$f":"'[1]Report-full'!C1859","v":70.77},{"$f":"'[1]Report-full'!D1859","v":2.1800000000000002}]
[null,"00:00:00",null,null,null,null,null,null,null,null,null,null,null,null,"2002-07-05",{"$f":"'[1]Report-full'!B1860","v":146.56},{"$f":"'[1]Report-full'!C1860","v":70.28},{"$f":"'[1]Report-full'!D1860","v":2.42}]
[null,"00:00:00",null,null,null,null,null,null,null,null,null,null,null,null,"2002-07-12",{"$f":"'[1]Report-full'!B1861","v":146.77000000000001},{"$f":"'[1]Report-full'!C1861","v":72.540000000000006},{"$f":"'[1]Report-full'!D1861","v":2.8}]
[null,"00:00:00",null,null,null,null,null,null,null,null,null,null,null,null,"2002-07-19",{"$f":"'[1]Report-full'!B1862","v":146.13},{"$f":"'[1]Report-full'!C1862","v":65.44},{"$f":"'[1]Report-full'!D1862","v":2.94}]
[null,"00:00:00",null,null,null,null,null,null,null,null,null,null,null,null,"2002-07-26",{"$f":"'[1]Report-full'!B1863","v":144.58000000000001},{"$f":"'[1]Report-full'!C1863","v":47.9},{"$f":"'[1]Report-full'!D1863","v":2.5}]
[null,"00:00:00",null,null,null,null,null,null,null,null,null,null,null,null,"2002-08-02",{"$f":"'[1]Report-full'!B1864","v":145.75},{"$f":"'[1]Report-full'!C1864","v":61.14},{"$f":"'[1]Report-full'!D1864","v":2.4500000000000002}]
[null,"00:00:00",null,null,null,null,null,null,null,null,null,null,null,null,"2002-08-09",{"$f":"'[1]Report-full'!B1865","v":145.4},{"$f":"'[1]Report-full'!C1865","v":57.16},{"$f":"'[1]Report-full'!D1865","v":2.2200000000000002}]
[null,"00:00:00",null,null,null,null,null,null,null,null,null,null,null,null,"2002-08-16",{"$f":"'[1]Report-full'!B1866","v":146.4},{"$f":"'[1]Report-full'!C1866","v":68.459999999999994},{"$f":"'[1]Report-full'!D1866","v":2.52}]
[null,"00:00:00",null,null,null,null,null,null,null,null,null,null,null,null,"2002-08-23",{"$f":"'[1]Report-full'!B1867","v":147.44999999999999},{"$f":"'[1]Report-full'!C1867","v":80.2},{"$f":"'[1]Report-full'!D1867","v":3.68}]
[null,"00:00:00",null,null,null,null,null,null,null,null,null,null,null,null,"2002-08-30",{"$f":"'[1]Report-full'!B1868","v":147.53},{"$f":"'[1]Report-full'!C1868","v":81.19},{"$f":"'[1]Report-full'!D1868","v":4.46}]
[null,"00:00:00",null,null,null,null,null,null,null,null,null,null,null,null,"2002-09-06",{"$f":"'[1]Report-full'!B1869","v":146.69},{"$f":"'[1]Report-full'!C1869","v":71.73},{"$f":"'[1]Report-full'!D1869","v":5.05}]
[null,"00:00:00",null,null,null,null,null,null,null,null,null,null,null,null,"2002-09-13",{"$f":"'[1]Report-full'!B1870","v":146.36000000000001},{"$f":"'[1]Report-full'!C1870","v":67.989999999999995},{"$f":"'[1]Report-full'!D1870","v":5.19}]
[null,"00:00:00",null,null,null,null,null,null,null,null,null,null,null,null,"2002-09-20",{"$f":"'[1]Report-full'!B1871","v":145.94999999999999},{"$f":"'[1]Report-full'!C1871","v":63.38},{"$f":"'[1]Report-full'!D1871","v":4.82}]
[null,"00:00:00",null,null,null,null,null,null,null,null,null,null,null,null,"2002-09-27",{"$f":"'[1]Report-full'!B1872","v":145.13},{"$f":"'[1]Report-full'!C1872","v":54.1},{"$f":"'[1]Report-full'!D1872","v":4.1399999999999997}]
[null,"00:00:00",null,null,null,null,null,null,null,null,null,null,null,null,"2002-10-04",{"$f":"'[1]Report-full'!B1873","v":145.12},{"$f":"'[1]Report-full'!C1873","v":53.99},{"$f":"'[1]Report-full'!D1873","v":3.72}]
[null,"00:00:00",null,null,null,null,null,null,null,null,null,null,null,null,"2002-10-11",{"$f":"'[1]Report-full'!B1874","v":144.24},{"$f":"'[1]Report-full'!C1874","v":44.14},{"$f":"'[1]Report-full'!D1874","v":3.11}]
[null,"00:00:00",null,null,null,null,null,null,null,null,null,null,null,null,"2002-10-18",{"$f":"'[1]Report-full'!B1875","v":145.33000000000001},{"$f":"'[1]Report-full'!C1875","v":56.41},{"$f":"'[1]Report-full'!D1875","v":2.99}]
[null,"00:00:00",null,null,null,null,null,null,null,null,null,null,null,null,"2002-10-25",{"$f":"'[1]Report-full'!B1876","v":147.03},{"$f":"'[1]Report-full'!C1876","v":75.540000000000006},{"$f":"'[1]Report-full'!D1876","v":3.7}]
[null,"00:00:00",null,null,null,null,null,null,null,null,null,null,null,null,"2002-11-01",{"$f":"'[1]Report-full'!B1877","v":147.62},{"$f":"'[1]Report-full'!C1877","v":82.21},{"$f":"'[1]Report-full'!D1877","v":4.59}]
[null,"00:00:00",null,null,null,null,null,null,null,null,null,null,null,null,"2002-11-08",{"$f":"'[1]Report-full'!B1878","v":148.21},{"$f":"'[1]Report-full'!C1878","v":88.78},{"$f":"'[1]Report-full'!D1878","v":5.94}]
[null,"00:00:00",null,null,null,null,null,null,null,null,null,null,null,null,"2002-11-15",{"$f":"'[1]Report-full'!B1879","v":147.9},{"$f":"'[1]Report-full'!C1879","v":85.35},{"$f":"'[1]Report-full'!D1879","v":6.8}]
[null,"00:00:00",null,null,null,null,null,null,null,null,null,null,null,null,"2002-11-22",{"$f":"'[1]Report-full'!B1880","v":148.49},{"$f":"'[1]Report-full'!C1880","v":91.96},{"$f":"'[1]Report-full'!D1880","v":7.26}]
[null,"00:00:00",null,null,null,null,null,null,null,null,null,null,null,null,"2002-11-29",{"$f":"'[1]Report-full'!B1881","v":149.71},{"$f":"'[1]Report-full'!C1881","v":100},{"$f":"'[1]Report-full'!D1881","v":7.92}]
[null,"00:00:00",null,null,null,null,null,null,null,null,null,null,null,null,"2002-12-06",{"$f":"'[1]Report-full'!B1882","v":149.88999999999999},{"$f":"'[1]Report-full'!C1882","v":100},{"$f":"'[1]Report-full'!D1882","v":8.43}]
[null,"00:00:00",null,null,null,null,null,null,null,null,null,null,null,null,"2002-12-13",{"$f":"'[1]Report-full'!B1883","v":149.66999999999999},{"$f":"'[1]Report-full'!C1883","v":97.52},{"$f":"'[1]Report-full'!D1883","v":8.9600000000000009}]
[null,"00:00:00",null,null,null,null,null,null,null,null,null,null,null,null,"2002-12-20",{"$f":"'[1]Report-full'!B1884","v":149.05000000000001},{"$f":"'[1]Report-full'!C1884","v":90.59},{"$f":"'[1]Report-full'!D1884","v":9.08}]
[null,"00:00:00",null,null,null,null,null,null,null,null,null,null,null,null,"2002-12-27",{"$f":"'[1]Report-full'!B1885","v":149.02000000000001},{"$f":"'[1]Report-full'!C1885","v":90.22},{"$f":"'[1]Report-full'!D1885","v":8.77}]
[null,"00:00:00",null,null,null,null,null,null,null,null,null,null,null,null,"2003-01-03",{"$f":"'[1]Report-full'!B1886","v":149.11000000000001},{"$f":"'[1]Report-full'!C1886","v":91.24},{"$f":"'[1]Report-full'!D1886","v":8.44}]
[null,"00:00:00",null,null,null,null,null,null,null,null,null,null,null,null,"2003-01-10",{"$f":"'[1]Report-full'!B1887","v":150.03},{"$f":"'[1]Report-full'!C1887","v":100},{"$f":"'[1]Report-full'!D1887","v":8.51}]
[null,"00:00:00",null,null,null,null,null,null,null,null,null,null,null,null,"2003-01-17",{"$f":"'[1]Report-full'!B1888","v":150.54},{"$f":"'[1]Report-full'!C1888","v":100},{"$f":"'[1]Report-full'!D1888","v":8.98}]
[null,"00:00:00",null,null,null,null,null,null,null,null,null,null,null,null,"2003-01-24",{"$f":"'[1]Report-full'!B1889","v":150.18},{"$f":"'[1]Report-full'!C1889","v":95.98},{"$f":"'[1]Report-full'!D1889","v":9.34}]
[null,"00:00:00",null,null,null,null,null,null,null,null,null,null,null,null,"2003-01-31",{"$f":"'[1]Report-full'!B1890","v":149.85},{"$f":"'[1]Report-full'!C1890","v":92.22},{"$f":"'[1]Report-full'!D1890","v":9.56}]
[null,"00:00:00",null,null,null,null,null,null,null,null,null,null,null,null,"2003-02-07",{"$f":"'[1]Report-full'!B1891","v":149.13999999999999},{"$f":"'[1]Report-full'!C1891","v":84.37},{"$f":"'[1]Report-full'!D1891","v":9.23}]
[null,"00:00:00",null,null,null,null,null,null,null,null,null,null,null,null,"2003-02-14",{"$f":"'[1]Report-full'!B1892","v":149.01},{"$f":"'[1]Report-full'!C1892","v":82.89},{"$f":"'[1]Report-full'!D1892","v":8.68}]
[null,"00:00:00",null,null,null,null,null,null,null,null,null,null,null,null,"2003-02-21",{"$f":"'[1]Report-full'!B1893","v":148.94999999999999},{"$f":"'[1]Report-full'!C1893","v":82.24},{"$f":"'[1]Report-full'!D1893","v":8.25}]
[null,"00:00:00",null,null,null,null,null,null,null,null,null,null,null,null,"2003-02-28",{"$f":"'[1]Report-full'!B1894","v":148.75},{"$f":"'[1]Report-full'!C1894","v":79.98},{"$f":"'[1]Report-full'!D1894","v":7.88}]
[null,"00:00:00",null,null,null,null,null,null,null,null,null,null,null,null,"2003-03-07",{"$f":"'[1]Report-full'!B1895","v":148.13999999999999},{"$f":"'[1]Report-full'!C1895","v":73.17},{"$f":"'[1]Report-full'!D1895","v":7.54}]
[null,"00:00:00",null,null,null,null,null,null,null,null,null,null,null,null,"2003-03-14",{"$f":"'[1]Report-full'!B1896","v":147.26},{"$f":"'[1]Report-full'!C1896","v":63.32},{"$f":"'[1]Report-full'!D1896","v":6.95}]
[null,"00:00:00",null,null,null,null,null,null,null,null,null,null,null,null,"2003-03-21",{"$f":"'[1]Report-full'!B1897","v":147.91},{"$f":"'[1]Report-full'!C1897","v":70.540000000000006},{"$f":"'[1]Report-full'!D1897","v":6.61}]
[null,"00:00:00",null,null,null,null,null,null,null,null,null,null,null,null,"2003-03-28",{"$f":"'[1]Report-full'!B1898","v":148.56},{"$f":"'[1]Report-full'!C1898","v":77.87},{"$f":"'[1]Report-full'!D1898","v":6.57}]
[null,"00:00:00",null,null,null,null,null,null,null,null,null,null,null,null,"2003-04-04",{"$f":"'[1]Report-full'!B1899","v":147.29},{"$f":"'[1]Report-full'!C1899","v":63.73},{"$f":"'[1]Report-full'!D1899","v":6.31}]
[null,"00:00:00",null,null,null,null,null,null,null,null,null,null,null,null,"2003-04-11",{"$f":"'[1]Report-full'!B1900","v":147.16999999999999},{"$f":"'[1]Report-full'!C1900","v":62.38},{"$f":"'[1]Report-full'!D1900","v":6.3}]
[null,"00:00:00",null,null,null,null,null,null,null,null,null,null,null,null,"2003-04-18",{"$f":"'[1]Report-full'!B1901","v":146.83000000000001},{"$f":"'[1]Report-full'!C1901","v":58.55},{"$f":"'[1]Report-full'!D1901","v":5.97}]
[null,"00:00:00",null,null,null,null,null,null,null,null,null,null,null,null,"2003-04-25",{"$f":"'[1]Report-full'!B1902","v":147.18},{"$f":"'[1]Report-full'!C1902","v":62.46},{"$f":"'[1]Report-full'!D1902","v":5.53}]
[null,"00:00:00",null,null,null,null,null,null,null,null,null,null,null,null,"2003-05-02",{"$f":"'[1]Report-full'!B1903","v":147.30000000000001},{"$f":"'[1]Report-full'!C1903","v":63.78},{"$f":"'[1]Report-full'!D1903","v":5.56}]
[null,"00:00:00",null,null,null,null,null,null,null,null,null,null,null,null,"2003-05-09",{"$f":"'[1]Report-full'!B1904","v":147.65},{"$f":"'[1]Report-full'!C1904","v":67.67},{"$f":"'[1]Report-full'!D1904","v":5.72}]
[null,"00:00:00",null,null,null,null,null,null,null,null,null,null,null,null,"2003-05-16",{"$f":"'[1]Report-full'!B1905","v":147.63999999999999},{"$f":"'[1]Report-full'!C1905","v":67.55},{"$f":"'[1]Report-full'!D1905","v":5.99}]
[null,"00:00:00",null,null,null,null,null,null,null,null,null,null,null,null,"2003-05-23",{"$f":"'[1]Report-full'!B1906","v":147.55000000000001},{"$f":"'[1]Report-full'!C1906","v":66.56},{"$f":"'[1]Report-full'!D1906","v":6.09}]
[null,"00:00:00",null,null,null,null,null,null,null,null,null,null,null,null,"2003-05-30",{"$f":"'[1]Report-full'!B1907","v":148.09},{"$f":"'[1]Report-full'!C1907","v":72.55},{"$f":"'[1]Report-full'!D1907","v":6.33}]
[null,"00:00:00",null,null,null,null,null,null,null,null,null,null,null,null,"2003-06-06",{"$f":"'[1]Report-full'!B1908","v":149.16999999999999},{"$f":"'[1]Report-full'!C1908","v":84.6},{"$f":"'[1]Report-full'!D1908","v":6.8}]
[null,"00:00:00",null,null,null,null,null,null,null,null,null,null,null,null,"2003-06-13",{"$f":"'[1]Report-full'!B1909","v":149.47},{"$f":"'[1]Report-full'!C1909","v":88.05},{"$f":"'[1]Report-full'!D1909","v":7.38}]
[null,"00:00:00",null,null,null,null,null,null,null,null,null,null,null,null,"2003-06-20",{"$f":"'[1]Report-full'!B1910","v":150.26},{"$f":"'[1]Report-full'!C1910","v":96.78},{"$f":"'[1]Report-full'!D1910","v":8.23}]
[null,"00:00:00",null,null,null,null,null,null,null,null,null,null,null,null,"2003-06-27",{"$f":"'[1]Report-full'!B1911","v":150.63999999999999},{"$f":"'[1]Report-full'!C1911","v":100},{"$f":"'[1]Report-full'!D1911","v":9.02}]
[null,"00:00:00",null,null,null,null,null,null,null,null,null,null,null,null,"2003-07-04",{"$f":"'[1]Report-full'!B1912","v":150.99},{"$f":"'[1]Report-full'!C1912","v":100},{"$f":"'[1]Report-full'!D1912","v":9.5500000000000007}]
[null,"00:00:00",null,null,null,null,null,null,null,null,null,null,null,null,"2003-07-11",{"$f":"'[1]Report-full'!B1913","v":151.38999999999999},{"$f":"'[1]Report-full'!C1913","v":100},{"$f":"'[1]Report-full'!D1913","v":10.1}]
[null,"00:00:00",null,null,null,null,null,null,null,null,null,null,null,null,"2003-07-18",{"$f":"'[1]Report-full'!B1914","v":152.02000000000001},{"$f":"'[1]Report-full'!C1914","v":100},{"$f":"'[1]Report-full'!D1914","v":10.58}]
[null,"00:00:00",null,null,null,null,null,null,null,null,null,null,null,null,"2003-07-25",{"$f":"'[1]Report-full'!B1915","v":152.24},{"$f":"'[1]Report-full'!C1915","v":100},{"$f":"'[1]Report-full'!D1915","v":10.99}]
[null,"00:00:00",null,null,null,null,null,null,null,null,null,null,null,null,"2003-08-01",{"$f":"'[1]Report-full'!B1916","v":153.59},{"$f":"'[1]Report-full'!C1916","v":100},{"$f":"'[1]Report-full'!D1916","v":11.73}]
[null,"00:00:00",null,null,null,null,null,null,null,null,null,null,null,null,"2003-08-08",{"$f":"'[1]Report-full'!B1917","v":153.75},{"$f":"'[1]Report-full'!C1917","v":100},{"$f":"'[1]Report-full'!D1917","v":12.36}]
[null,"00:00:00",null,null,null,null,null,null,null,null,null,null,null,null,"2003-08-15",{"$f":"'[1]Report-full'!B1918","v":154.36000000000001},{"$f":"'[1]Report-full'!C1918","v":100},{"$f":"'[1]Report-full'!D1918","v":12.96}]
[null,{"$f":"INT(C1914-($H$4/2*7))","v":"00:00:00"},null,null,null,null,null,null,null,null,null,null,null,null,"2003-08-22",{"$f":"'[1]Report-full'!B1919","v":155.1},{"$f":"'[1]Report-full'!C1919","v":100},{"$f":"'[1]Report-full'!D1919","v":13.72}]
[null,"00:00:00",null,null,null,null,null,null,null,null,null,null,null,null,"2003-08-29",{"$f":"'[1]Report-full'!B1920","v":155.15},{"$f":"'[1]Report-full'!C1920","v":100},{"$f":"'[1]Report-full'!D1920","v":14.04}]
[null,"00:00:00",null,null,null,null,null,null,null,null,null,null,null,null,"2003-09-05",{"$f":"'[1]Report-full'!B1921","v":155.72},{"$f":"'[1]Report-full'!C1921","v":100},{"$f":"'[1]Report-full'!D1921","v":14.49}]
[null,"00:00:00",null,null,null,null,null,null,null,null,null,null,null,null,"2003-09-12",{"$f":"'[1]Report-full'!B1922","v":155.94999999999999},{"$f":"'[1]Report-full'!C1922","v":100},{"$f":"'[1]Report-full'!D1922","v":14.81}]
[null,"00:00:00",null,null,null,null,null,null,null,null,null,null,null,null,"2003-09-19",{"$f":"'[1]Report-full'!B1923","v":155.97999999999999},{"$f":"'[1]Report-full'!C1923","v":100},{"$f":"'[1]Report-full'!D1923","v":14.88}]
[null,"00:00:00",null,null,null,null,null,null,null,null,null,null,null,null,"2003-09-26",{"$f":"'[1]Report-full'!B1924","v":156.66999999999999},{"$f":"'[1]Report-full'!C1924","v":100},{"$f":"'[1]Report-full'!D1924","v":15.15}]
[null,"00:00:00",null,null,null,null,null,null,null,null,null,null,null,null,"2003-10-03",{"$f":"'[1]Report-full'!B1925","v":156.31},{"$f":"'[1]Report-full'!C1925","v":96.18},{"$f":"'[1]Report-full'!D1925","v":15.08}]
[null,"00:00:00",null,null,null,null,null,null,null,null,null,null,null,null,"2003-10-10",{"$f":"'[1]Report-full'!B1926","v":157.25},{"$f":"'[1]Report-full'!C1926","v":100},{"$f":"'[1]Report-full'!D1926","v":15.23}]
[null,"00:00:00",null,null,null,null,null,null,null,null,null,null,null,null,"2003-10-17",{"$f":"'[1]Report-full'!B1927","v":157.75},{"$f":"'[1]Report-full'!C1927","v":100},{"$f":"'[1]Report-full'!D1927","v":15.53}]
[null,"00:00:00",null,null,null,null,null,null,null,null,null,null,null,null,"2003-10-24",{"$f":"'[1]Report-full'!B1928","v":158.38},{"$f":"'[1]Report-full'!C1928","v":100},{"$f":"'[1]Report-full'!D1928","v":15.78}]
[null,"00:00:00",null,null,null,null,null,null,null,null,null,null,null,null,"2003-10-31",{"$f":"'[1]Report-full'!B1929","v":158.29},{"$f":"'[1]Report-full'!C1929","v":99.05},{"$f":"'[1]Report-full'!D1929","v":16.13}]
[null,"00:00:00",null,null,null,null,null,null,null,null,null,null,null,null,"2003-11-07",{"$f":"'[1]Report-full'!B1930","v":158.74},{"$f":"'[1]Report-full'!C1930","v":100},{"$f":"'[1]Report-full'!D1930","v":16.309999999999999}]
[null,"00:00:00",null,null,null,null,null,null,null,null,null,null,null,null,"2003-11-14",{"$f":"'[1]Report-full'!B1931","v":158.99},{"$f":"'[1]Report-full'!C1931","v":100},{"$f":"'[1]Report-full'!D1931","v":16.420000000000002}]
[null,"00:00:00",null,null,null,null,null,null,null,null,null,null,null,null,"2003-11-21",{"$f":"'[1]Report-full'!B1932","v":158.88999999999999},{"$f":"'[1]Report-full'!C1932","v":98.85},{"$f":"'[1]Report-full'!D1932","v":16.29}]
[null,"00:00:00",null,null,null,null,null,null,null,null,null,null,null,null,"2003-11-28",{"$f":"'[1]Report-full'!B1933","v":160.08000000000001},{"$f":"'[1]Report-full'!C1933","v":100},{"$f":"'[1]Report-full'!D1933","v":16.61}]
[null,"00:00:00",null,null,null,null,null,null,null,null,null,null,null,null,"2003-12-05",{"$f":"'[1]Report-full'!B1934","v":161.13},{"$f":"'[1]Report-full'!C1934","v":100},{"$f":"'[1]Report-full'!D1934","v":17.13}]
[null,"00:00:00",null,null,null,null,null,null,null,null,null,null,null,null,"2003-12-12",{"$f":"'[1]Report-full'!B1935","v":161.62},{"$f":"'[1]Report-full'!C1935","v":100},{"$f":"'[1]Report-full'!D1935","v":17.73}]
[null,"00:00:00",null,null,null,null,null,null,null,null,null,null,null,null,"2003-12-19",{"$f":"'[1]Report-full'!B1936","v":162.16999999999999},{"$f":"'[1]Report-full'!C1936","v":100},{"$f":"'[1]Report-full'!D1936","v":18.55}]
[null,"00:00:00",null,null,null,null,null,null,null,null,null,null,null,null,"2003-12-26",{"$f":"'[1]Report-full'!B1937","v":163.21},{"$f":"'[1]Report-full'!C1937","v":100},{"$f":"'[1]Report-full'!D1937","v":19.29}]
[null,"00:00:00",null,null,null,null,null,null,null,null,null,null,null,null,"2004-01-02",{"$f":"'[1]Report-full'!B1938","v":163.41},{"$f":"'[1]Report-full'!C1938","v":100},{"$f":"'[1]Report-full'!D1938","v":19.72}]
[null,"00:00:00",null,null,null,null,null,null,null,null,null,null,null,null,"2004-01-09",{"$f":"'[1]Report-full'!B1939","v":163.71},{"$f":"'[1]Report-full'!C1939","v":100},{"$f":"'[1]Report-full'!D1939","v":20.059999999999999}]
[null,"00:00:00",null,null,null,null,null,null,null,null,null,null,null,null,"2004-01-16",{"$f":"'[1]Report-full'!B1940","v":164.31},{"$f":"'[1]Report-full'!C1940","v":100},{"$f":"'[1]Report-full'!D1940","v":20.399999999999999}]
[null,"00:00:00",null,null,null,null,null,null,null,null,null,null,null,null,"2004-01-23",{"$f":"'[1]Report-full'!B1941","v":165.02},{"$f":"'[1]Report-full'!C1941","v":100},{"$f":"'[1]Report-full'!D1941","v":20.62}]
[null,"00:00:00",null,null,null,null,null,null,null,null,null,null,null,null,"2004-01-30",{"$f":"'[1]Report-full'!B1942","v":166},{"$f":"'[1]Report-full'!C1942","v":100},{"$f":"'[1]Report-full'!D1942","v":21.11}]
[null,"00:00:00",null,null,null,null,null,null,null,null,null,null,null,null,"2004-02-06",{"$f":"'[1]Report-full'!B1943","v":166.29},{"$f":"'[1]Report-full'!C1943","v":100},{"$f":"'[1]Report-full'!D1943","v":21.58}]
[null,"00:00:00",null,null,null,null,null,null,null,null,null,null,null,null,"2004-02-13",{"$f":"'[1]Report-full'!B1944","v":167.03},{"$f":"'[1]Report-full'!C1944","v":100},{"$f":"'[1]Report-full'!D1944","v":22.07}]
[null,"00:00:00",null,null,null,null,null,null,null,null,null,null,null,null,"2004-02-20",{"$f":"'[1]Report-full'!B1945","v":167.16},{"$f":"'[1]Report-full'!C1945","v":100},{"$f":"'[1]Report-full'!D1945","v":22.34}]
[null,"00:00:00",null,null,null,null,null,null,null,null,null,null,null,null,"2004-02-27",{"$f":"'[1]Report-full'!B1946","v":167.6},{"$f":"'[1]Report-full'!C1946","v":100},{"$f":"'[1]Report-full'!D1946","v":22.39}]
[null,"00:00:00",null,null,null,null,null,null,null,null,null,null,null,null,"2004-03-05",{"$f":"'[1]Report-full'!B1947","v":168.31},{"$f":"'[1]Report-full'!C1947","v":100},{"$f":"'[1]Report-full'!D1947","v":22.57}]
[null,"00:00:00",null,null,null,null,null,null,null,null,null,null,null,null,"2004-03-12",{"$f":"'[1]Report-full'!B1948","v":168.8},{"$f":"'[1]Report-full'!C1948","v":100},{"$f":"'[1]Report-full'!D1948","v":22.64}]
[null,"00:00:00",null,null,null,null,null,null,null,null,null,null,null,null,"2004-03-19",{"$f":"'[1]Report-full'!B1949","v":168.32},{"$f":"'[1]Report-full'!C1949","v":95.18},{"$f":"'[1]Report-full'!D1949","v":22.48}]
[null,"00:00:00",null,null,null,null,null,null,null,null,null,null,null,null,"2004-03-26",{"$f":"'[1]Report-full'!B1950","v":168.35},{"$f":"'[1]Report-full'!C1950","v":95.48},{"$f":"'[1]Report-full'!D1950","v":22.16}]
[null,"00:00:00",null,null,null,null,null,null,null,null,null,null,null,null,"2004-04-02",{"$f":"'[1]Report-full'!B1951","v":168.42},{"$f":"'[1]Report-full'!C1951","v":96.2},{"$f":"'[1]Report-full'!D1951","v":21.62}]
[null,"00:00:00",null,null,null,null,null,null,null,null,null,null,null,null,"2004-04-09",{"$f":"'[1]Report-full'!B1952","v":169.38},{"$f":"'[1]Report-full'!C1952","v":100},{"$f":"'[1]Report-full'!D1952","v":21.24}]
[null,"00:00:00",null,null,null,null,null,null,null,null,null,null,null,null,"2004-04-16",{"$f":"'[1]Report-full'!B1953","v":169.61},{"$f":"'[1]Report-full'!C1953","v":100},{"$f":"'[1]Report-full'!D1953","v":21.09}]
[null,"00:00:00",null,null,null,null,null,null,null,null,null,null,null,null,"2004-04-23",{"$f":"'[1]Report-full'!B1954","v":169.4},{"$f":"'[1]Report-full'!C1954","v":97.91},{"$f":"'[1]Report-full'!D1954","v":20.85}]
[null,"00:00:00",null,null,null,null,null,null,null,null,null,null,null,null,"2004-04-30",{"$f":"'[1]Report-full'!B1955","v":170.71},{"$f":"'[1]Report-full'!C1955","v":100},{"$f":"'[1]Report-full'!D1955","v":21.01}]
[null,"00:00:00",null,null,null,null,null,null,null,null,null,null,null,null,"2004-05-07",{"$f":"'[1]Report-full'!B1956","v":171.46},{"$f":"'[1]Report-full'!C1956","v":100},{"$f":"'[1]Report-full'!D1956","v":21.08}]
[null,"00:00:00",null,null,null,null,null,null,null,null,null,null,null,null,"2004-05-14",{"$f":"'[1]Report-full'!B1957","v":171.56},{"$f":"'[1]Report-full'!C1957","v":100},{"$f":"'[1]Report-full'!D1957","v":21.1}]
[null,"00:00:00",null,null,null,null,null,null,null,null,null,null,null,null,"2004-05-21",{"$f":"'[1]Report-full'!B1958","v":171.83},{"$f":"'[1]Report-full'!C1958","v":100},{"$f":"'[1]Report-full'!D1958","v":21.26}]
[null,"00:00:00",null,null,null,null,null,null,null,null,null,null,null,null,"2004-05-28",{"$f":"'[1]Report-full'!B1959","v":171.85},{"$f":"'[1]Report-full'!C1959","v":100},{"$f":"'[1]Report-full'!D1959","v":20.99}]
[null,"00:00:00",null,null,null,null,null,null,null,null,null,null,null,null,"2004-06-04",{"$f":"'[1]Report-full'!B1960","v":172.01},{"$f":"'[1]Report-full'!C1960","v":100},{"$f":"'[1]Report-full'!D1960","v":20.52}]
[null,"00:00:00",null,null,null,null,null,null,null,null,null,null,null,null,"2004-06-11",{"$f":"'[1]Report-full'!B1961","v":172.87},{"$f":"'[1]Report-full'!C1961","v":100},{"$f":"'[1]Report-full'!D1961","v":20.309999999999999}]
[null,"00:00:00",null,null,null,null,null,null,null,null,null,null,null,null,"2004-06-18",{"$f":"'[1]Report-full'!B1962","v":173.23},{"$f":"'[1]Report-full'!C1962","v":100},{"$f":"'[1]Report-full'!D1962","v":20.13}]
[null,"00:00:00",null,null,null,null,null,null,null,null,null,null,null,null,"2004-06-25",{"$f":"'[1]Report-full'!B1963","v":173.01},{"$f":"'[1]Report-full'!C1963","v":97.84},{"$f":"'[1]Report-full'!D1963","v":19.89}]
[null,"00:00:00",null,null,null,null,null,null,null,null,null,null,null,null,"2004-07-02",{"$f":"'[1]Report-full'!B1964","v":173.44},{"$f":"'[1]Report-full'!C1964","v":100},{"$f":"'[1]Report-full'!D1964","v":19.739999999999998}]
[null,"00:00:00",null,null,null,null,null,null,null,null,null,null,null,null,"2004-07-09",{"$f":"'[1]Report-full'!B1965","v":173.74},{"$f":"'[1]Report-full'!C1965","v":100},{"$f":"'[1]Report-full'!D1965","v":19.420000000000002}]
[null,"00:00:00",null,null,null,null,null,null,null,null,null,null,null,null,"2004-07-16",{"$f":"'[1]Report-full'!B1966","v":173.66},{"$f":"'[1]Report-full'!C1966","v":99.27},{"$f":"'[1]Report-full'!D1966","v":18.97}]
[null,"00:00:00",null,null,null,null,null,null,null,null,null,null,null,null,"2004-07-23",{"$f":"'[1]Report-full'!B1967","v":174.18},{"$f":"'[1]Report-full'!C1967","v":100},{"$f":"'[1]Report-full'!D1967","v":18.760000000000002}]
[null,"00:00:00",null,null,null,null,null,null,null,null,null,null,null,null,"2004-07-30",{"$f":"'[1]Report-full'!B1968","v":173.28},{"$f":"'[1]Report-full'!C1968","v":91.33},{"$f":"'[1]Report-full'!D1968","v":18.14}]
[null,"00:00:00",null,null,null,null,null,null,null,null,null,null,null,null,"2004-08-06",{"$f":"'[1]Report-full'!B1969","v":173.32},{"$f":"'[1]Report-full'!C1969","v":91.75},{"$f":"'[1]Report-full'!D1969","v":17.45}]
[null,"00:00:00",null,null,null,null,null,null,null,null,null,null,null,null,"2004-08-13",{"$f":"'[1]Report-full'!B1970","v":172.87},{"$f":"'[1]Report-full'!C1970","v":87.38},{"$f":"'[1]Report-full'!D1970","v":16.68}]
[null,"00:00:00",null,null,null,null,null,null,null,null,null,null,null,null,"2004-08-20",{"$f":"'[1]Report-full'!B1971","v":172.84},{"$f":"'[1]Report-full'!C1971","v":87.12},{"$f":"'[1]Report-full'!D1971","v":15.76}]
[null,"00:00:00",null,null,null,null,null,null,null,null,null,null,null,null,"2004-08-27",{"$f":"'[1]Report-full'!B1972","v":173.08},{"$f":"'[1]Report-full'!C1972","v":89.43},{"$f":"'[1]Report-full'!D1972","v":15.23}]
[null,"00:00:00",null,null,null,null,null,null,null,null,null,null,null,null,"2004-09-03",{"$f":"'[1]Report-full'!B1973","v":173.21},{"$f":"'[1]Report-full'!C1973","v":90.66},{"$f":"'[1]Report-full'!D1973","v":14.73}]
[null,"00:00:00",null,null,null,null,null,null,null,null,null,null,null,null,"2004-09-10",{"$f":"'[1]Report-full'!B1974","v":173.49},{"$f":"'[1]Report-full'!C1974","v":93.38},{"$f":"'[1]Report-full'!D1974","v":14.48}]
[null,"00:00:00",null,null,null,null,null,null,null,null,null,null,null,null,"2004-09-17",{"$f":"'[1]Report-full'!B1975","v":173.72},{"$f":"'[1]Report-full'!C1975","v":95.59},{"$f":"'[1]Report-full'!D1975","v":14.32}]
[null,"00:00:00",null,null,null,null,null,null,null,null,null,null,null,null,"2004-09-24",{"$f":"'[1]Report-full'!B1976","v":173.75},{"$f":"'[1]Report-full'!C1976","v":95.85},{"$f":"'[1]Report-full'!D1976","v":14.09}]
[null,"00:00:00",null,null,null,null,null,null,null,null,null,null,null,null,"2004-10-01",{"$f":"'[1]Report-full'!B1977","v":174.46},{"$f":"'[1]Report-full'!C1977","v":100},{"$f":"'[1]Report-full'!D1977","v":14.04}]
[null,"00:00:00",null,null,null,null,null,null,null,null,null,null,null,null,"2004-10-08",{"$f":"'[1]Report-full'!B1978","v":175.76},{"$f":"'[1]Report-full'!C1978","v":100},{"$f":"'[1]Report-full'!D1978","v":14.31}]
[null,"00:00:00",null,null,null,null,null,null,null,null,null,null,null,null,"2004-10-15",{"$f":"'[1]Report-full'!B1979","v":176.44},{"$f":"'[1]Report-full'!C1979","v":100},{"$f":"'[1]Report-full'!D1979","v":14.7}]
[null,"00:00:00",null,null,null,null,null,null,null,null,null,null,null,null,"2004-10-22",{"$f":"'[1]Report-full'!B1980","v":176.69},{"$f":"'[1]Report-full'!C1980","v":100},{"$f":"'[1]Report-full'!D1980","v":15.15}]
[null,"00:00:00",null,null,null,null,null,null,null,null,null,null,null,null,"2004-10-29",{"$f":"'[1]Report-full'!B1981","v":177.53},{"$f":"'[1]Report-full'!C1981","v":100},{"$f":"'[1]Report-full'!D1981","v":15.63}]
[null,"00:00:00",null,null,null,null,null,null,null,null,null,null,null,null,"2004-11-05",{"$f":"'[1]Report-full'!B1982","v":178.71},{"$f":"'[1]Report-full'!C1982","v":100},{"$f":"'[1]Report-full'!D1982","v":16.07}]
[null,{"$f":"INT(C1978-($H$4/2*7))","v":"00:00:00"},null,null,null,null,null,null,null,null,null,null,null,null,"2004-11-12",{"$f":"'[1]Report-full'!B1983","v":180.1},{"$f":"'[1]Report-full'!C1983","v":100},{"$f":"'[1]Report-full'!D1983","v":16.72}]
[null,"00:00:00",null,null,null,null,null,null,null,null,null,null,null,null,"2004-11-19",{"$f":"'[1]Report-full'!B1984","v":180.87},{"$f":"'[1]Report-full'!C1984","v":100},{"$f":"'[1]Report-full'!D1984","v":17.510000000000002}]
[null,"00:00:00",null,null,null,null,null,null,null,null,null,null,null,null,"2004-11-26",{"$f":"'[1]Report-full'!B1985","v":182.3},{"$f":"'[1]Report-full'!C1985","v":100},{"$f":"'[1]Report-full'!D1985","v":18.45}]
[null,"00:00:00",null,null,null,null,null,null,null,null,null,null,null,null,"2004-12-03",{"$f":"'[1]Report-full'!B1986","v":183.22},{"$f":"'[1]Report-full'!C1986","v":100},{"$f":"'[1]Report-full'!D1986","v":19.3}]
[null,"00:00:00",null,null,null,null,null,null,null,null,null,null,null,null,"2004-12-10",{"$f":"'[1]Report-full'!B1987","v":183.4},{"$f":"'[1]Report-full'!C1987","v":100},{"$f":"'[1]Report-full'!D1987","v":19.760000000000002}]
[null,"00:00:00",null,null,null,null,null,null,null,null,null,null,null,null,"2004-12-17",{"$f":"'[1]Report-full'!B1988","v":184.01},{"$f":"'[1]Report-full'!C1988","v":100},{"$f":"'[1]Report-full'!D1988","v":20.16}]
[null,"00:00:00",null,null,null,null,null,null,null,null,null,null,null,null,"2004-12-24",{"$f":"'[1]Report-full'!B1989","v":184.6},{"$f":"'[1]Report-full'!C1989","v":100},{"$f":"'[1]Report-full'!D1989","v":20.309999999999999}]
[null,"00:00:00",null,null,null,null,null,null,null,null,null,null,null,null,"2004-12-31",{"$f":"'[1]Report-full'!B1990","v":184.32},{"$f":"'[1]Report-full'!C1990","v":97.42},{"$f":"'[1]Report-full'!D1990","v":20.100000000000001}]
[null,"00:00:00",null,null,null,null,null,null,null,null,null,null,null,null,"2005-01-07",{"$f":"'[1]Report-full'!B1991","v":183.12},{"$f":"'[1]Report-full'!C1991","v":86.52},{"$f":"'[1]Report-full'!D1991","v":19.48}]
[null,"00:00:00",null,null,null,null,null,null,null,null,null,null,null,null,"2005-01-14",{"$f":"'[1]Report-full'!B1992","v":183.1},{"$f":"'[1]Report-full'!C1992","v":86.37},{"$f":"'[1]Report-full'!D1992","v":18.690000000000001}]
[null,"00:00:00",null,null,null,null,null,null,null,null,null,null,null,null,"2005-01-21",{"$f":"'[1]Report-full'!B1993","v":182.8},{"$f":"'[1]Report-full'!C1993","v":83.59},{"$f":"'[1]Report-full'!D1993","v":17.66}]
[null,"00:00:00",null,null,null,null,null,null,null,null,null,null,null,null,"2005-01-28",{"$f":"'[1]Report-full'!B1994","v":182.52},{"$f":"'[1]Report-full'!C1994","v":81.02},{"$f":"'[1]Report-full'!D1994","v":16.66}]
[null,"00:00:00",null,null,null,null,null,null,null,null,null,null,null,null,"2005-02-04",{"$f":"'[1]Report-full'!B1995","v":183.51},{"$f":"'[1]Report-full'!C1995","v":90.09},{"$f":"'[1]Report-full'!D1995","v":16.34}]
[null,"00:00:00",null,null,null,null,null,null,null,null,null,null,null,null,"2005-02-11",{"$f":"'[1]Report-full'!B1996","v":184.18},{"$f":"'[1]Report-full'!C1996","v":96.2},{"$f":"'[1]Report-full'!D1996","v":16.239999999999998}]
[null,"00:00:00",null,null,null,null,null,null,null,null,null,null,null,null,"2005-02-18",{"$f":"'[1]Report-full'!B1997","v":184.74},{"$f":"'[1]Report-full'!C1997","v":100},{"$f":"'[1]Report-full'!D1997","v":16.399999999999999}]
[null,"00:00:00",null,null,null,null,null,null,null,null,null,null,null,null,"2005-02-25",{"$f":"'[1]Report-full'!B1998","v":185.06},{"$f":"'[1]Report-full'!C1998","v":100},{"$f":"'[1]Report-full'!D1998","v":16.739999999999998}]
[null,"00:00:00",null,null,null,null,null,null,null,null,null,null,null,null,"2005-03-04",{"$f":"'[1]Report-full'!B1999","v":185.49},{"$f":"'[1]Report-full'!C1999","v":100},{"$f":"'[1]Report-full'!D1999","v":16.91}]
[null,"00:00:00",null,null,null,null,null,null,null,null,null,null,null,null,"2005-03-11",{"$f":"'[1]Report-full'!B2000","v":185.55},{"$f":"'[1]Report-full'!C2000","v":100},{"$f":"'[1]Report-full'!D2000","v":16.899999999999999}]
[null,"00:00:00",null,null,null,null,null,null,null,null,null,null,null,null,"2005-03-18",{"$f":"'[1]Report-full'!B2001","v":185.59},{"$f":"'[1]Report-full'!C2001","v":100},{"$f":"'[1]Report-full'!D2001","v":16.739999999999998}]
[null,"00:00:00",null,null,null,null,null,null,null,null,null,null,null,null,"2005-03-25",{"$f":"'[1]Report-full'!B2002","v":185.13},{"$f":"'[1]Report-full'!C2002","v":95.9},{"$f":"'[1]Report-full'!D2002","v":16.36}]
[null,"00:00:00",null,null,null,null,null,null,null,null,null,null,null,null,"2005-04-01",{"$f":"'[1]Report-full'!B2003","v":186.38},{"$f":"'[1]Report-full'!C2003","v":100},{"$f":"'[1]Report-full'!D2003","v":16.21}]
[null,"00:00:00",null,null,null,null,null,null,null,null,null,null,null,null,"2005-04-08",{"$f":"'[1]Report-full'!B2004","v":186.81},{"$f":"'[1]Report-full'!C2004","v":100},{"$f":"'[1]Report-full'!D2004","v":16.18}]
[null,"00:00:00",null,null,null,null,null,null,null,null,null,null,null,null,"2005-04-15",{"$f":"'[1]Report-full'!B2005","v":187.44},{"$f":"'[1]Report-full'!C2005","v":100},{"$f":"'[1]Report-full'!D2005","v":16.309999999999999}]
[null,"00:00:00",null,null,null,null,null,null,null,null,null,null,null,null,"2005-04-22",{"$f":"'[1]Report-full'!B2006","v":187.13},{"$f":"'[1]Report-full'!C2006","v":97.2},{"$f":"'[1]Report-full'!D2006","v":16.47}]
[null,"00:00:00",null,null,null,null,null,null,null,null,null,null,null,null,"2005-04-29",{"$f":"'[1]Report-full'!B2007","v":188.19},{"$f":"'[1]Report-full'!C2007","v":100},{"$f":"'[1]Report-full'!D2007","v":16.579999999999998}]
[null,"00:00:00",null,null,null,null,null,null,null,null,null,null,null,null,"2005-05-06",{"$f":"'[1]Report-full'!B2008","v":188.56},{"$f":"'[1]Report-full'!C2008","v":100},{"$f":"'[1]Report-full'!D2008","v":16.68}]
[null,"00:00:00",null,null,null,null,null,null,null,null,null,null,null,null,"2005-05-13",{"$f":"'[1]Report-full'!B2009","v":189.13},{"$f":"'[1]Report-full'!C2009","v":100},{"$f":"'[1]Report-full'!D2009","v":16.75}]
[null,"00:00:00",null,null,null,null,null,null,null,null,null,null,null,null,"2005-05-20",{"$f":"'[1]Report-full'!B2010","v":189.13},{"$f":"'[1]Report-full'!C2010","v":99.99},{"$f":"'[1]Report-full'!D2010","v":16.920000000000002}]
[null,"00:00:00",null,null,null,null,null,null,null,null,null,null,null,null,"2005-05-27",{"$f":"'[1]Report-full'!B2011","v":189.5},{"$f":"'[1]Report-full'!C2011","v":100},{"$f":"'[1]Report-full'!D2011","v":16.89}]
[null,"00:00:00",null,null,null,null,null,null,null,null,null,null,null,null,"2005-06-03",{"$f":"'[1]Report-full'!B2012","v":189.31},{"$f":"'[1]Report-full'!C2012","v":98.37},{"$f":"'[1]Report-full'!D2012","v":16.71}]
[null,"00:00:00",null,null,null,null,null,null,null,null,null,null,null,null,"2005-06-10",{"$f":"'[1]Report-full'!B2013","v":189.34},{"$f":"'[1]Report-full'!C2013","v":98.57},{"$f":"'[1]Report-full'!D2013","v":16.36}]
[null,"00:00:00",null,null,null,null,null,null,null,null,null,null,null,null,"2005-06-17",{"$f":"'[1]Report-full'!B2014","v":188.97},{"$f":"'[1]Report-full'!C2014","v":95.34},{"$f":"'[1]Report-full'!D2014","v":15.92}]
[null,"00:00:00",null,null,null,null,null,null,null,null,null,null,null,null,"2005-06-24",{"$f":"'[1]Report-full'!B2015","v":189.28},{"$f":"'[1]Report-full'!C2015","v":98.09},{"$f":"'[1]Report-full'!D2015","v":15.47}]
[null,"00:00:00",null,null,null,null,null,null,null,null,null,null,null,null,"2005-07-01",{"$f":"'[1]Report-full'!B2016","v":189.27},{"$f":"'[1]Report-full'!C2016","v":97.97},{"$f":"'[1]Report-full'!D2016","v":15.08}]
[null,"00:00:00",null,null,null,null,null,null,null,null,null,null,null,null,"2005-07-08",{"$f":"'[1]Report-full'!B2017","v":189.7},{"$f":"'[1]Report-full'!C2017","v":100},{"$f":"'[1]Report-full'!D2017","v":14.82}]
[null,"00:00:00",null,null,null,null,null,null,null,null,null,null,null,null,"2005-07-15",{"$f":"'[1]Report-full'!B2018","v":190.18},{"$f":"'[1]Report-full'!C2018","v":100},{"$f":"'[1]Report-full'!D2018","v":14.8}]
[null,"00:00:00",null,null,null,null,null,null,null,null,null,null,null,null,"2005-07-22",{"$f":"'[1]Report-full'!B2019","v":190.8},{"$f":"'[1]Report-full'!C2019","v":100},{"$f":"'[1]Report-full'!D2019","v":14.86}]
[null,"00:00:00",null,null,null,null,null,null,null,null,null,null,null,null,"2005-07-29",{"$f":"'[1]Report-full'!B2020","v":190.9},{"$f":"'[1]Report-full'!C2020","v":100},{"$f":"'[1]Report-full'!D2020","v":14.95}]
[null,"00:00:00",null,null,null,null,null,null,null,null,null,null,null,null,"2005-08-05",{"$f":"'[1]Report-full'!B2021","v":191.34},{"$f":"'[1]Report-full'!C2021","v":100},{"$f":"'[1]Report-full'!D2021","v":15.04}]
[null,"00:00:00",null,null,null,null,null,null,null,null,null,null,null,null,"2005-08-12",{"$f":"'[1]Report-full'!B2022","v":191.56},{"$f":"'[1]Report-full'!C2022","v":100},{"$f":"'[1]Report-full'!D2022","v":15.04}]
[null,"00:00:00",null,null,null,null,null,null,null,null,null,null,null,null,"2005-08-19",{"$f":"'[1]Report-full'!B2023","v":191.62},{"$f":"'[1]Report-full'!C2023","v":100},{"$f":"'[1]Report-full'!D2023","v":14.87}]
[null,"00:00:00",null,null,null,null,null,null,null,null,null,null,null,null,"2005-08-26",{"$f":"'[1]Report-full'!B2024","v":192.52},{"$f":"'[1]Report-full'!C2024","v":100},{"$f":"'[1]Report-full'!D2024","v":14.91}]
[null,"00:00:00",null,null,null,null,null,null,null,null,null,null,null,null,"2005-09-02",{"$f":"'[1]Report-full'!B2025","v":192.79},{"$f":"'[1]Report-full'!C2025","v":100},{"$f":"'[1]Report-full'!D2025","v":14.89}]
[null,"00:00:00",null,null,null,null,null,null,null,null,null,null,null,null,"2005-09-09",{"$f":"'[1]Report-full'!B2026","v":193.72},{"$f":"'[1]Report-full'!C2026","v":100},{"$f":"'[1]Report-full'!D2026","v":15.07}]
[null,"00:00:00",null,null,null,null,null,null,null,null,null,null,null,null,"2005-09-16",{"$f":"'[1]Report-full'!B2027","v":194.24},{"$f":"'[1]Report-full'!C2027","v":100},{"$f":"'[1]Report-full'!D2027","v":15.36}]
[null,"00:00:00",null,null,null,null,null,null,null,null,null,null,null,null,"2005-09-23",{"$f":"'[1]Report-full'!B2028","v":193.56},{"$f":"'[1]Report-full'!C2028","v":94.08},{"$f":"'[1]Report-full'!D2028","v":15.21}]
[null,"00:00:00",null,null,null,null,null,null,null,null,null,null,null,null,"2005-09-30",{"$f":"'[1]Report-full'!B2029","v":191.54},{"$f":"'[1]Report-full'!C2029","v":76.61},{"$f":"'[1]Report-full'!D2029","v":14.42}]
[null,"00:00:00",null,null,null,null,null,null,null,null,null,null,null,null,"2005-10-07",{"$f":"'[1]Report-full'!B2030","v":189.98},{"$f":"'[1]Report-full'!C2030","v":63.15},{"$f":"'[1]Report-full'!D2030","v":12.97}]
[null,"00:00:00",null,null,null,null,null,null,null,null,null,null,null,null,"2005-10-14",{"$f":"'[1]Report-full'!B2031","v":188.55},{"$f":"'[1]Report-full'!C2031","v":50.79},{"$f":"'[1]Report-full'!D2031","v":11.04}]
[null,"00:00:00",null,null,null,null,null,null,null,null,null,null,null,null,"2005-10-21",{"$f":"'[1]Report-full'!B2032","v":188.13},{"$f":"'[1]Report-full'!C2032","v":47.14},{"$f":"'[1]Report-full'!D2032","v":9.25}]
[null,"00:00:00",null,null,null,null,null,null,null,null,null,null,null,null,"2005-10-28",{"$f":"'[1]Report-full'!B2033","v":188.33},{"$f":"'[1]Report-full'!C2033","v":48.81},{"$f":"'[1]Report-full'!D2033","v":8.11}]
[null,"00:00:00",null,null,null,null,null,null,null,null,null,null,null,null,"2005-11-04",{"$f":"'[1]Report-full'!B2034","v":189.04},{"$f":"'[1]Report-full'!C2034","v":54.96},{"$f":"'[1]Report-full'!D2034","v":7.61}]
[null,"00:00:00",null,null,null,null,null,null,null,null,null,null,null,null,"2005-11-11",{"$f":"'[1]Report-full'!B2035","v":189.96},{"$f":"'[1]Report-full'!C2035","v":62.9},{"$f":"'[1]Report-full'!D2035","v":7.75}]
[null,"00:00:00",null,null,null,null,null,null,null,null,null,null,null,null,"2005-11-18",{"$f":"'[1]Report-full'!B2036","v":190.52},{"$f":"'[1]Report-full'!C2036","v":67.81},{"$f":"'[1]Report-full'!D2036","v":8.16}]
[null,"00:00:00",null,null,null,null,null,null,null,null,null,null,null,null,"2005-11-25",{"$f":"'[1]Report-full'!B2037","v":191.08},{"$f":"'[1]Report-full'!C2037","v":72.59},{"$f":"'[1]Report-full'!D2037","v":8.68}]
[null,"00:00:00",null,null,null,null,null,null,null,null,null,null,null,null,"2005-12-02",{"$f":"'[1]Report-full'!B2038","v":192.44},{"$f":"'[1]Report-full'!C2038","v":84.43},{"$f":"'[1]Report-full'!D2038","v":9.3800000000000008}]
[null,"00:00:00",null,null,null,null,null,null,null,null,null,null,null,null,"2005-12-09",{"$f":"'[1]Report-full'!B2039","v":194.2},{"$f":"'[1]Report-full'!C2039","v":99.58},{"$f":"'[1]Report-full'!D2039","v":10.32}]
[null,"00:00:00",null,null,null,null,null,null,null,null,null,null,null,null,"2005-12-16",{"$f":"'[1]Report-full'!B2040","v":195.26},{"$f":"'[1]Report-full'!C2040","v":100},{"$f":"'[1]Report-full'!D2040","v":11.38}]
[null,"00:00:00",null,null,null,null,null,null,null,null,null,null,null,null,"2005-12-23",{"$f":"'[1]Report-full'!B2041","v":195.56},{"$f":"'[1]Report-full'!C2041","v":100},{"$f":"'[1]Report-full'!D2041","v":12.37}]
[null,"00:00:00",null,null,null,null,null,null,null,null,null,null,null,null,"2005-12-30",{"$f":"'[1]Report-full'!B2042","v":194.69},{"$f":"'[1]Report-full'!C2042","v":92.56},{"$f":"'[1]Report-full'!D2042","v":12.75}]
[null,"00:00:00",null,null,null,null,null,null,null,null,null,null,null,null,"2006-01-06",{"$f":"'[1]Report-full'!B2043","v":193.98},{"$f":"'[1]Report-full'!C2043","v":86.39},{"$f":"'[1]Report-full'!D2043","v":12.46}]
[null,"00:00:00",null,null,null,null,null,null,null,null,null,null,null,null,"2006-01-13",{"$f":"'[1]Report-full'!B2044","v":194.38},{"$f":"'[1]Report-full'!C2044","v":89.84},{"$f":"'[1]Report-full'!D2044","v":11.99}]
[null,"00:00:00",null,null,null,null,null,null,null,null,null,null,null,null,"2006-01-20",{"$f":"'[1]Report-full'!B2045","v":195.06},{"$f":"'[1]Report-full'!C2045","v":95.69},{"$f":"'[1]Report-full'!D2045","v":11.63}]
[null,"00:00:00",null,null,null,null,null,null,null,null,null,null,null,null,"2006-01-27",{"$f":"'[1]Report-full'!B2046","v":195.17},{"$f":"'[1]Report-full'!C2046","v":96.62},{"$f":"'[1]Report-full'!D2046","v":11.52}]
[null,{"$f":"INT(C2042-($H$4/2*7))","v":"00:00:00"},null,null,null,null,null,null,null,null,null,null,null,null,"2006-02-03",{"$f":"'[1]Report-full'!B2047","v":196.26},{"$f":"'[1]Report-full'!C2047","v":100},{"$f":"'[1]Report-full'!D2047","v":11.88}]
[null,"00:00:00",null,null,null,null,null,null,null,null,null,null,null,null,"2006-02-10",{"$f":"'[1]Report-full'!B2048","v":196.06},{"$f":"'[1]Report-full'!C2048","v":98.26},{"$f":"'[1]Report-full'!D2048","v":12.07}]
[null,"00:00:00",null,null,null,null,null,null,null,null,null,null,null,null,"2006-02-17",{"$f":"'[1]Report-full'!B2049","v":196.61},{"$f":"'[1]Report-full'!C2049","v":100},{"$f":"'[1]Report-full'!D2049","v":12.22}]
[null,"00:00:00",null,null,null,null,null,null,null,null,null,null,null,null,"2006-02-24",{"$f":"'[1]Report-full'!B2050","v":197.27},{"$f":"'[1]Report-full'!C2050","v":100},{"$f":"'[1]Report-full'!D2050","v":12.52}]
[null,"00:00:00",null,null,null,null,null,null,null,null,null,null,null,null,"2006-03-03",{"$f":"'[1]Report-full'!B2051","v":197.31},{"$f":"'[1]Report-full'!C2051","v":100},{"$f":"'[1]Report-full'!D2051","v":12.54}]
[null,"00:00:00",null,null,null,null,null,null,null,null,null,null,null,null,"2006-03-10",{"$f":"'[1]Report-full'!B2052","v":196.95},{"$f":"'[1]Report-full'!C2052","v":96.86},{"$f":"'[1]Report-full'!D2052","v":12.53}]
[null,"00:00:00",null,null,null,null,null,null,null,null,null,null,null,null,"2006-03-17",{"$f":"'[1]Report-full'!B2053","v":197.52},{"$f":"'[1]Report-full'!C2053","v":100},{"$f":"'[1]Report-full'!D2053","v":12.52}]
[null,"00:00:00",null,null,null,null,null,null,null,null,null,null,null,null,"2006-03-24",{"$f":"'[1]Report-full'!B2054","v":197.9},{"$f":"'[1]Report-full'!C2054","v":100},{"$f":"'[1]Report-full'!D2054","v":12.43}]
[null,"00:00:00",null,null,null,null,null,null,null,null,null,null,null,null,"2006-03-31",{"$f":"'[1]Report-full'!B2055","v":197.08},{"$f":"'[1]Report-full'!C2055","v":93.05},{"$f":"'[1]Report-full'!D2055","v":12.12}]
[null,"00:00:00",null,null,null,null,null,null,null,null,null,null,null,null,"2006-04-07",{"$f":"'[1]Report-full'!B2056","v":196.73},{"$f":"'[1]Report-full'!C2056","v":90.09},{"$f":"'[1]Report-full'!D2056","v":11.82}]
[null,"00:00:00",null,null,null,null,null,null,null,null,null,null,null,null,"2006-04-14",{"$f":"'[1]Report-full'!B2057","v":196.74},{"$f":"'[1]Report-full'!C2057","v":90.21},{"$f":"'[1]Report-full'!D2057","v":11.38}]
[null,"00:00:00",null,null,null,null,null,null,null,null,null,null,null,null,"2006-04-21",{"$f":"'[1]Report-full'!B2058","v":196.72},{"$f":"'[1]Report-full'!C2058","v":90},{"$f":"'[1]Report-full'!D2058","v":10.85}]
[null,"00:00:00",null,null,null,null,null,null,null,null,null,null,null,null,"2006-04-28",{"$f":"'[1]Report-full'!B2059","v":197.87},{"$f":"'[1]Report-full'!C2059","v":99.78},{"$f":"'[1]Report-full'!D2059","v":10.86}]
[null,"00:00:00",null,null,null,null,null,null,null,null,null,null,null,null,"2006-05-05",{"$f":"'[1]Report-full'!B2060","v":198.29},{"$f":"'[1]Report-full'!C2060","v":100},{"$f":"'[1]Report-full'!D2060","v":11.06}]
[null,"00:00:00",null,null,null,null,null,null,null,null,null,null,null,null,"2006-05-12",{"$f":"'[1]Report-full'!B2061","v":199.49},{"$f":"'[1]Report-full'!C2061","v":100},{"$f":"'[1]Report-full'!D2061","v":11.59}]
[null,"00:00:00",null,null,null,null,null,null,null,null,null,null,null,null,"2006-05-19",{"$f":"'[1]Report-full'!B2062","v":199.14},{"$f":"'[1]Report-full'!C2062","v":97.04},{"$f":"'[1]Report-full'!D2062","v":12.02}]
[null,"00:00:00",null,null,null,null,null,null,null,null,null,null,null,null,"2006-05-26",{"$f":"'[1]Report-full'!B2063","v":198.44},{"$f":"'[1]Report-full'!C2063","v":91.12},{"$f":"'[1]Report-full'!D2063","v":11.96}]
[null,"00:00:00",null,null,null,null,null,null,null,null,null,null,null,null,"2006-06-02",{"$f":"'[1]Report-full'!B2064","v":198.72},{"$f":"'[1]Report-full'!C2064","v":93.51},{"$f":"'[1]Report-full'!D2064","v":11.87}]
[null,"00:00:00",null,null,null,null,null,null,null,null,null,null,null,null,"2006-06-09",{"$f":"'[1]Report-full'!B2065","v":198.96},{"$f":"'[1]Report-full'!C2065","v":95.46},{"$f":"'[1]Report-full'!D2065","v":11.53}]
[null,"00:00:00",null,null,null,null,null,null,null,null,null,null,null,null,"2006-06-16",{"$f":"'[1]Report-full'!B2066","v":198.06},{"$f":"'[1]Report-full'!C2066","v":87.89},{"$f":"'[1]Report-full'!D2066","v":11.05}]
[null,"00:00:00",null,null,null,null,null,null,null,null,null,null,null,null,"2006-06-23",{"$f":"'[1]Report-full'!B2067","v":198.04},{"$f":"'[1]Report-full'!C2067","v":87.78},{"$f":"'[1]Report-full'!D2067","v":10.76}]
[null,"00:00:00",null,null,null,null,null,null,null,null,null,null,null,null,"2006-06-30",{"$f":"'[1]Report-full'!B2068","v":197.79},{"$f":"'[1]Report-full'!C2068","v":85.66},{"$f":"'[1]Report-full'!D2068","v":10.33}]
[null,"00:00:00",null,null,null,null,null,null,null,null,null,null,null,null,"2006-07-07",{"$f":"'[1]Report-full'!B2069","v":198.1},{"$f":"'[1]Report-full'!C2069","v":88.28},{"$f":"'[1]Report-full'!D2069","v":9.93}]
[null,"00:00:00",null,null,null,null,null,null,null,null,null,null,null,null,"2006-07-14",{"$f":"'[1]Report-full'!B2070","v":198},{"$f":"'[1]Report-full'!C2070","v":87.43},{"$f":"'[1]Report-full'!D2070","v":9.74}]
[null,"00:00:00",null,null,null,null,null,null,null,null,null,null,null,null,"2006-07-21",{"$f":"'[1]Report-full'!B2071","v":196.48},{"$f":"'[1]Report-full'!C2071","v":74.650000000000006},{"$f":"'[1]Report-full'!D2071","v":9.17}]
[null,"00:00:00",null,null,null,null,null,null,null,null,null,null,null,null,"2006-07-28",{"$f":"'[1]Report-full'!B2072","v":196.47},{"$f":"'[1]Report-full'!C2072","v":74.540000000000006},{"$f":"'[1]Report-full'!D2072","v":8.68}]
[null,"00:00:00",null,null,null,null,null,null,null,null,null,null,null,null,"2006-08-04",{"$f":"'[1]Report-full'!B2073","v":197.16},{"$f":"'[1]Report-full'!C2073","v":80.37},{"$f":"'[1]Report-full'!D2073","v":8.31}]
[null,"00:00:00",null,null,null,null,null,null,null,null,null,null,null,null,"2006-08-11",{"$f":"'[1]Report-full'!B2074","v":197.07},{"$f":"'[1]Report-full'!C2074","v":79.599999999999994},{"$f":"'[1]Report-full'!D2074","v":7.95}]
[null,"00:00:00",null,null,null,null,null,null,null,null,null,null,null,null,"2006-08-18",{"$f":"'[1]Report-full'!B2075","v":196.88},{"$f":"'[1]Report-full'!C2075","v":78},{"$f":"'[1]Report-full'!D2075","v":7.94}]
[null,"00:00:00",null,null,null,null,null,null,null,null,null,null,null,null,"2006-08-25",{"$f":"'[1]Report-full'!B2076","v":197.27},{"$f":"'[1]Report-full'!C2076","v":81.290000000000006},{"$f":"'[1]Report-full'!D2076","v":8.0299999999999994}]
[null,"00:00:00",null,null,null,null,null,null,null,null,null,null,null,null,"2006-09-01",{"$f":"'[1]Report-full'!B2077","v":196.15},{"$f":"'[1]Report-full'!C2077","v":71.81},{"$f":"'[1]Report-full'!D2077","v":7.67}]
[null,"00:00:00",null,null,null,null,null,null,null,null,null,null,null,null,"2006-09-08",{"$f":"'[1]Report-full'!B2078","v":195.6},{"$f":"'[1]Report-full'!C2078","v":67.19},{"$f":"'[1]Report-full'!D2078","v":7.2}]
[null,"00:00:00",null,null,null,null,null,null,null,null,null,null,null,null,"2006-09-15",{"$f":"'[1]Report-full'!B2079","v":195.06},{"$f":"'[1]Report-full'!C2079","v":62.63},{"$f":"'[1]Report-full'!D2079","v":6.67}]
[null,"00:00:00",null,null,null,null,null,null,null,null,null,null,null,null,"2006-09-22",{"$f":"'[1]Report-full'!B2080","v":195.23},{"$f":"'[1]Report-full'!C2080","v":64.08},{"$f":"'[1]Report-full'!D2080","v":6.1}]
[null,"00:00:00",null,null,null,null,null,null,null,null,null,null,null,null,"2006-09-29",{"$f":"'[1]Report-full'!B2081","v":196.19},{"$f":"'[1]Report-full'!C2081","v":72.2},{"$f":"'[1]Report-full'!D2081","v":6.07}]
[null,"00:00:00",null,null,null,null,null,null,null,null,null,null,null,null,"2006-10-06",{"$f":"'[1]Report-full'!B2082","v":196.87},{"$f":"'[1]Report-full'!C2082","v":77.91},{"$f":"'[1]Report-full'!D2082","v":6.35}]
[null,"00:00:00",null,null,null,null,null,null,null,null,null,null,null,null,"2006-10-13",{"$f":"'[1]Report-full'!B2083","v":197.47},{"$f":"'[1]Report-full'!C2083","v":82.92},{"$f":"'[1]Report-full'!D2083","v":6.89}]
[null,"00:00:00",null,null,null,null,null,null,null,null,null,null,null,null,"2006-10-20",{"$f":"'[1]Report-full'!B2084","v":197.82},{"$f":"'[1]Report-full'!C2084","v":85.88},{"$f":"'[1]Report-full'!D2084","v":7.43}]
[null,"00:00:00",null,null,null,null,null,null,null,null,null,null,null,null,"2006-10-27",{"$f":"'[1]Report-full'!B2085","v":197.55},{"$f":"'[1]Report-full'!C2085","v":83.61},{"$f":"'[1]Report-full'!D2085","v":7.63}]
[null,"00:00:00",null,null,null,null,null,null,null,null,null,null,null,null,"2006-11-03",{"$f":"'[1]Report-full'!B2086","v":197.62},{"$f":"'[1]Report-full'!C2086","v":84.19},{"$f":"'[1]Report-full'!D2086","v":7.65}]
[null,"00:00:00",null,null,null,null,null,null,null,null,null,null,null,null,"2006-11-10",{"$f":"'[1]Report-full'!B2087","v":197.33},{"$f":"'[1]Report-full'!C2087","v":81.760000000000005},{"$f":"'[1]Report-full'!D2087","v":7.43}]
[null,"00:00:00",null,null,null,null,null,null,null,null,null,null,null,null,"2006-11-17",{"$f":"'[1]Report-full'!B2088","v":197.7},{"$f":"'[1]Report-full'!C2088","v":84.86},{"$f":"'[1]Report-full'!D2088","v":7.23}]
[null,"00:00:00",null,null,null,null,null,null,null,null,null,null,null,null,"2006-11-24",{"$f":"'[1]Report-full'!B2089","v":197.58},{"$f":"'[1]Report-full'!C2089","v":83.84},{"$f":"'[1]Report-full'!D2089","v":7.08}]
[null,"00:00:00",null,null,null,null,null,null,null,null,null,null,null,null,"2006-12-01",{"$f":"'[1]Report-full'!B2090","v":195.94},{"$f":"'[1]Report-full'!C2090","v":70.069999999999993},{"$f":"'[1]Report-full'!D2090","v":6.52}]
[null,"00:00:00",null,null,null,null,null,null,null,null,null,null,null,null,"2006-12-08",{"$f":"'[1]Report-full'!B2091","v":195.18},{"$f":"'[1]Report-full'!C2091","v":63.62},{"$f":"'[1]Report-full'!D2091","v":5.86}]
[null,"00:00:00",null,null,null,null,null,null,null,null,null,null,null,null,"2006-12-15",{"$f":"'[1]Report-full'!B2092","v":195.2},{"$f":"'[1]Report-full'!C2092","v":63.81},{"$f":"'[1]Report-full'!D2092","v":5.16}]
[null,"00:00:00",null,null,null,null,null,null,null,null,null,null,null,null,"2006-12-22",{"$f":"'[1]Report-full'!B2093","v":194.97},{"$f":"'[1]Report-full'!C2093","v":61.9},{"$f":"'[1]Report-full'!D2093","v":4.46}]
[null,"00:00:00",null,null,null,null,null,null,null,null,null,null,null,null,"2006-12-29",{"$f":"'[1]Report-full'!B2094","v":195.09},{"$f":"'[1]Report-full'!C2094","v":62.89},{"$f":"'[1]Report-full'!D2094","v":4.2300000000000004}]
[null,"00:00:00",null,null,null,null,null,null,null,null,null,null,null,null,"2007-01-05",{"$f":"'[1]Report-full'!B2095","v":195.82},{"$f":"'[1]Report-full'!C2095","v":69.03},{"$f":"'[1]Report-full'!D2095","v":4.3899999999999997}]
[null,"00:00:00",null,null,null,null,null,null,null,null,null,null,null,null,"2007-01-12",{"$f":"'[1]Report-full'!B2096","v":196.07},{"$f":"'[1]Report-full'!C2096","v":71.2},{"$f":"'[1]Report-full'!D2096","v":4.59}]
[null,"00:00:00",null,null,null,null,null,null,null,null,null,null,null,null,"2007-01-19",{"$f":"'[1]Report-full'!B2097","v":195.98},{"$f":"'[1]Report-full'!C2097","v":70.37},{"$f":"'[1]Report-full'!D2097","v":4.83}]
[null,"00:00:00",null,null,null,null,null,null,null,null,null,null,null,null,"2007-01-26",{"$f":"'[1]Report-full'!B2098","v":195.6},{"$f":"'[1]Report-full'!C2098","v":67.16},{"$f":"'[1]Report-full'!D2098","v":4.93}]
[null,"00:00:00",null,null,null,null,null,null,null,null,null,null,null,null,"2007-02-02",{"$f":"'[1]Report-full'!B2099","v":194.88},{"$f":"'[1]Report-full'!C2099","v":61.1},{"$f":"'[1]Report-full'!D2099","v":4.67}]
[null,"00:00:00",null,null,null,null,null,null,null,null,null,null,null,null,"2007-02-09",{"$f":"'[1]Report-full'!B2100","v":195.31},{"$f":"'[1]Report-full'!C2100","v":64.78},{"$f":"'[1]Report-full'!D2100","v":4.4800000000000004}]
[null,"00:00:00",null,null,null,null,null,null,null,null,null,null,null,null,"2007-02-16",{"$f":"'[1]Report-full'!B2101","v":194.76},{"$f":"'[1]Report-full'!C2101","v":60.09},{"$f":"'[1]Report-full'!D2101","v":4.18}]
[null,"00:00:00",null,null,null,null,null,null,null,null,null,null,null,null,"2007-02-23",{"$f":"'[1]Report-full'!B2102","v":195.13},{"$f":"'[1]Report-full'!C2102","v":63.24},{"$f":"'[1]Report-full'!D2102","v":4.08}]
[null,"00:00:00",null,null,null,null,null,null,null,null,null,null,null,null,"2007-03-02",{"$f":"'[1]Report-full'!B2103","v":193.06},{"$f":"'[1]Report-full'!C2103","v":45.77},{"$f":"'[1]Report-full'!D2103","v":3.66}]
[null,"00:00:00",null,null,null,null,null,null,null,null,null,null,null,null,"2007-03-09",{"$f":"'[1]Report-full'!B2104","v":191.65},{"$f":"'[1]Report-full'!C2104","v":33.96},{"$f":"'[1]Report-full'!D2104","v":2.8}]
[null,"00:00:00",null,null,null,null,null,null,null,null,null,null,null,null,"2007-03-16",{"$f":"'[1]Report-full'!B2105","v":191.04},{"$f":"'[1]Report-full'!C2105","v":28.82},{"$f":"'[1]Report-full'!D2105","v":1.96}]
[null,"00:00:00",null,null,null,null,null,null,null,null,null,null,null,null,"2007-03-23",{"$f":"'[1]Report-full'!B2106","v":191.45},{"$f":"'[1]Report-full'!C2106","v":32.22},{"$f":"'[1]Report-full'!D2106","v":1.1399999999999999}]
[null,"00:00:00",null,null,null,null,null,null,null,null,null,null,null,null,"2007-03-30",{"$f":"'[1]Report-full'!B2107","v":191.23},{"$f":"'[1]Report-full'!C2107","v":30.4},{"$f":"'[1]Report-full'!D2107","v":0.8}]
[null,"00:00:00",null,null,null,null,null,null,null,null,null,null,null,null,"2007-04-06",{"$f":"'[1]Report-full'!B2108","v":190.96},{"$f":"'[1]Report-full'!C2108","v":28.13},{"$f":"'[1]Report-full'!D2108","v":0.74}]
[null,"00:00:00",null,null,null,null,null,null,null,null,null,null,null,null,"2007-04-13",{"$f":"'[1]Report-full'!B2109","v":191.02},{"$f":"'[1]Report-full'!C2109","v":28.59},{"$f":"'[1]Report-full'!D2109","v":0.85}]
[null,"00:00:00",null,null,null,null,null,null,null,null,null,null,null,null,"2007-04-20",{"$f":"'[1]Report-full'!B2110","v":191.23},{"$f":"'[1]Report-full'!C2110","v":30.42},{"$f":"'[1]Report-full'!D2110","v":0.91}]
[null,{"$f":"INT(C2106-($H$4/2*7))","v":"00:00:00"},null,null,null,null,null,null,null,null,null,null,null,null,"2007-04-27",{"$f":"'[1]Report-full'!B2111","v":191.25},{"$f":"'[1]Report-full'!C2111","v":30.59},{"$f":"'[1]Report-full'!D2111","v":1.01}]
[null,"00:00:00",null,null,null,null,null,null,null,null,null,null,null,null,"2007-05-04",{"$f":"'[1]Report-full'!B2112","v":191.87},{"$f":"'[1]Report-full'!C2112","v":35.78},{"$f":"'[1]Report-full'!D2112","v":1.34}]
[null,"00:00:00",null,null,null,null,null,null,null,null,null,null,null,null,"2007-05-11",{"$f":"'[1]Report-full'!B2113","v":192.21},{"$f":"'[1]Report-full'!C2113","v":38.67},{"$f":"'[1]Report-full'!D2113","v":1.75}]
[null,"00:00:00",null,null,null,null,null,null,null,null,null,null,null,null,"2007-05-18",{"$f":"'[1]Report-full'!B2114","v":192.64},{"$f":"'[1]Report-full'!C2114","v":42.29},{"$f":"'[1]Report-full'!D2114","v":2.21}]
[null,"00:00:00",null,null,null,null,null,null,null,null,null,null,null,null,"2007-05-25",{"$f":"'[1]Report-full'!B2115","v":192.87},{"$f":"'[1]Report-full'!C2115","v":44.17},{"$f":"'[1]Report-full'!D2115","v":2.74}]
[null,"00:00:00",null,null,null,null,null,null,null,null,null,null,null,null,"2007-06-01",{"$f":"'[1]Report-full'!B2116","v":193.89},{"$f":"'[1]Report-full'!C2116","v":52.79},{"$f":"'[1]Report-full'!D2116","v":3.36}]
[null,"00:00:00",null,null,null,null,null,null,null,null,null,null,null,null,"2007-06-08",{"$f":"'[1]Report-full'!B2117","v":194.13},{"$f":"'[1]Report-full'!C2117","v":54.85},{"$f":"'[1]Report-full'!D2117","v":3.95}]
[null,"00:00:00",null,null,null,null,null,null,null,null,null,null,null,null,"2007-06-15",{"$f":"'[1]Report-full'!B2118","v":193.99},{"$f":"'[1]Report-full'!C2118","v":53.61},{"$f":"'[1]Report-full'!D2118","v":4.38}]
[null,"00:00:00",null,null,null,null,null,null,null,null,null,null,null,null,"2007-06-22",{"$f":"'[1]Report-full'!B2119","v":194.26},{"$f":"'[1]Report-full'!C2119","v":55.93},{"$f":"'[1]Report-full'!D2119","v":4.82}]
[null,"00:00:00",null,null,null,null,null,null,null,null,null,null,null,null,"2007-06-29",{"$f":"'[1]Report-full'!B2120","v":193.58},{"$f":"'[1]Report-full'!C2120","v":50.14},{"$f":"'[1]Report-full'!D2120","v":4.83}]
[null,"00:00:00",null,null,null,null,null,null,null,null,null,null,null,null,"2007-07-06",{"$f":"'[1]Report-full'!B2121","v":192.92},{"$f":"'[1]Report-full'!C2121","v":44.59},{"$f":"'[1]Report-full'!D2121","v":4.6100000000000003}]
[null,"00:00:00",null,null,null,null,null,null,null,null,null,null,null,null,"2007-07-13",{"$f":"'[1]Report-full'!B2122","v":192.81},{"$f":"'[1]Report-full'!C2122","v":43.66},{"$f":"'[1]Report-full'!D2122","v":4.3899999999999997}]
[null,"00:00:00",null,null,null,null,null,null,null,null,null,null,null,null,"2007-07-20",{"$f":"'[1]Report-full'!B2123","v":192.56},{"$f":"'[1]Report-full'!C2123","v":41.62},{"$f":"'[1]Report-full'!D2123","v":4.0599999999999996}]
[null,"00:00:00",null,null,null,null,null,null,null,null,null,null,null,null,"2007-07-27",{"$f":"'[1]Report-full'!B2124","v":191.31},{"$f":"'[1]Report-full'!C2124","v":31.08},{"$f":"'[1]Report-full'!D2124","v":3.58}]
[null,"00:00:00",null,null,null,null,null,null,null,null,null,null,null,null,"2007-08-03",{"$f":"'[1]Report-full'!B2125","v":189.85},{"$f":"'[1]Report-full'!C2125","v":18.78},{"$f":"'[1]Report-full'!D2125","v":2.91}]
[null,"00:00:00",null,null,null,null,null,null,null,null,null,null,null,null,"2007-08-10",{"$f":"'[1]Report-full'!B2126","v":189.37},{"$f":"'[1]Report-full'!C2126","v":14.76},{"$f":"'[1]Report-full'!D2126","v":2.16}]
[null,"00:00:00",null,null,null,null,null,null,null,null,null,null,null,null,"2007-08-17",{"$f":"'[1]Report-full'!B2127","v":188.59},{"$f":"'[1]Report-full'!C2127","v":8.14},{"$f":"'[1]Report-full'!D2127","v":1.29}]
[null,"00:00:00",null,null,null,null,null,null,null,null,null,null,null,null,"2007-08-24",{"$f":"'[1]Report-full'!B2128","v":188.29},{"$f":"'[1]Report-full'!C2128","v":5.61},{"$f":"'[1]Report-full'!D2128","v":0.68}]
[null,"00:00:00",null,null,null,null,null,null,null,null,null,null,null,null,"2007-08-31",{"$f":"'[1]Report-full'!B2129","v":188.14},{"$f":"'[1]Report-full'!C2129","v":4.4000000000000004},{"$f":"'[1]Report-full'!D2129","v":0.41}]
[null,"00:00:00",null,null,null,null,null,null,null,null,null,null,null,null,"2007-09-07",{"$f":"'[1]Report-full'!B2130","v":188},{"$f":"'[1]Report-full'!C2130","v":3.22},{"$f":"'[1]Report-full'!D2130","v":0.22}]
[null,"00:00:00",null,null,null,null,null,null,null,null,null,null,null,null,"2007-09-14",{"$f":"'[1]Report-full'!B2131","v":187.63},{"$f":"'[1]Report-full'!C2131","v":0.11},{"$f":"'[1]Report-full'!D2131","v":0.14000000000000001}]
[null,"00:00:00",null,null,null,null,null,null,null,null,null,null,null,null,"2007-09-21",{"$f":"'[1]Report-full'!B2132","v":188.32},{"$f":"'[1]Report-full'!C2132","v":5.9},{"$f":"'[1]Report-full'!D2132","v":0.3}]
[null,"00:00:00",null,null,null,null,null,null,null,null,null,null,null,null,"2007-09-28",{"$f":"'[1]Report-full'!B2133","v":187.74},{"$f":"'[1]Report-full'!C2133","v":0.96},{"$f":"'[1]Report-full'!D2133","v":0.33}]
[null,"00:00:00",null,null,null,null,null,null,null,null,null,null,null,null,"2007-10-05",{"$f":"'[1]Report-full'!B2134","v":187.46},{"$f":"'[1]Report-full'!C2134","v":-1.32},{"$f":"'[1]Report-full'!D2134","v":0.34}]
[null,"00:00:00",null,null,null,null,null,null,null,null,null,null,null,null,"2007-10-12",{"$f":"'[1]Report-full'!B2135","v":187.52},{"$f":"'[1]Report-full'!C2135","v":-0.81},{"$f":"'[1]Report-full'!D2135","v":0.46}]
[null,"00:00:00",null,null,null,null,null,null,null,null,null,null,null,null,"2007-10-19",{"$f":"'[1]Report-full'!B2136","v":187.2},{"$f":"'[1]Report-full'!C2136","v":-3.54},{"$f":"'[1]Report-full'!D2136","v":0.34}]
[null,"00:00:00",null,null,null,null,null,null,null,null,null,null,null,null,"2007-10-26",{"$f":"'[1]Report-full'!B2137","v":186.29},{"$f":"'[1]Report-full'!C2137","v":-11.17},{"$f":"'[1]Report-full'!D2137","v":0.16}]
[null,"00:00:00",null,null,null,null,null,null,null,null,null,null,null,null,"2007-11-02",{"$f":"'[1]Report-full'!B2138","v":185.46},{"$f":"'[1]Report-full'!C2138","v":-18.16},{"$f":"'[1]Report-full'!D2138","v":-0.14000000000000001}]
[null,"00:00:00",null,null,null,null,null,null,null,null,null,null,null,null,"2007-11-09",{"$f":"'[1]Report-full'!B2139","v":184.47},{"$f":"'[1]Report-full'!C2139","v":-26.56},{"$f":"'[1]Report-full'!D2139","v":-0.69}]
[null,"00:00:00",null,null,null,null,null,null,null,null,null,null,null,null,"2007-11-16",{"$f":"'[1]Report-full'!B2140","v":183.19},{"$f":"'[1]Report-full'!C2140","v":-37.31},{"$f":"'[1]Report-full'!D2140","v":-1.46}]
[null,"00:00:00",null,null,null,null,null,null,null,null,null,null,null,null,"2007-11-23",{"$f":"'[1]Report-full'!B2141","v":182.48},{"$f":"'[1]Report-full'!C2141","v":-43.3},{"$f":"'[1]Report-full'!D2141","v":-2.17}]
[null,"00:00:00",null,null,null,null,null,null,null,null,null,null,null,null,"2007-11-30",{"$f":"'[1]Report-full'!B2142","v":182.6},{"$f":"'[1]Report-full'!C2142","v":-42.25},{"$f":"'[1]Report-full'!D2142","v":-2.62}]
[null,"00:00:00",null,null,null,null,null,null,null,null,null,null,null,null,"2007-12-07",{"$f":"'[1]Report-full'!B2143","v":183.34},{"$f":"'[1]Report-full'!C2143","v":-36.08},{"$f":"'[1]Report-full'!D2143","v":-2.65}]
[null,"00:00:00",null,null,null,null,null,null,null,null,null,null,null,null,"2007-12-14",{"$f":"'[1]Report-full'!B2144","v":183.86},{"$f":"'[1]Report-full'!C2144","v":-31.68},{"$f":"'[1]Report-full'!D2144","v":-2.2400000000000002}]
[null,"00:00:00",null,null,null,null,null,null,null,null,null,null,null,null,"2007-12-21",{"$f":"'[1]Report-full'!B2145","v":183.01},{"$f":"'[1]Report-full'!C2145","v":-38.81},{"$f":"'[1]Report-full'!D2145","v":-1.87}]
[null,"00:00:00",null,null,null,null,null,null,null,null,null,null,null,null,"2007-12-28",{"$f":"'[1]Report-full'!B2146","v":181.33},{"$f":"'[1]Report-full'!C2146","v":-52.98},{"$f":"'[1]Report-full'!D2146","v":-1.97}]
[null,"00:00:00",null,null,null,null,null,null,null,null,null,null,null,null,"2008-01-04",{"$f":"'[1]Report-full'!B2147","v":179.71},{"$f":"'[1]Report-full'!C2147","v":-66.63},{"$f":"'[1]Report-full'!D2147","v":-2.64}]
[null,"00:00:00",null,null,null,null,null,null,null,null,null,null,null,null,"2008-01-11",{"$f":"'[1]Report-full'!B2148","v":177.93},{"$f":"'[1]Report-full'!C2148","v":-81.61},{"$f":"'[1]Report-full'!D2148","v":-3.86}]
[null,"00:00:00",null,null,null,null,null,null,null,null,null,null,null,null,"2008-01-18",{"$f":"'[1]Report-full'!B2149","v":176.57},{"$f":"'[1]Report-full'!C2149","v":-93.08},{"$f":"'[1]Report-full'!D2149","v":-5.17}]
[null,"00:00:00",null,null,null,null,null,null,null,null,null,null,null,null,"2008-01-25",{"$f":"'[1]Report-full'!B2150","v":175.21},{"$f":"'[1]Report-full'!C2150","v":-104.48},{"$f":"'[1]Report-full'!D2150","v":-6.36}]
[null,"00:00:00",null,null,null,null,null,null,null,null,null,null,null,null,"2008-02-01",{"$f":"'[1]Report-full'!B2151","v":174.85},{"$f":"'[1]Report-full'!C2151","v":-107.52},{"$f":"'[1]Report-full'!D2151","v":-7.21}]
[null,"00:00:00",null,null,null,null,null,null,null,null,null,null,null,null,"2008-02-08",{"$f":"'[1]Report-full'!B2152","v":174.18},{"$f":"'[1]Report-full'!C2152","v":-113.23},{"$f":"'[1]Report-full'!D2152","v":-7.78}]
[null,"00:00:00",null,null,null,null,null,null,null,null,null,null,null,null,"2008-02-15",{"$f":"'[1]Report-full'!B2153","v":173.59},{"$f":"'[1]Report-full'!C2153","v":-118.17},{"$f":"'[1]Report-full'!D2153","v":-8.15}]
[null,"00:00:00",null,null,null,null,null,null,null,null,null,null,null,null,"2008-02-22",{"$f":"'[1]Report-full'!B2154","v":173.29},{"$f":"'[1]Report-full'!C2154","v":-120.71},{"$f":"'[1]Report-full'!D2154","v":-8.26}]
[null,"00:00:00",null,null,null,null,null,null,null,null,null,null,null,null,"2008-02-29",{"$f":"'[1]Report-full'!B2155","v":173.39},{"$f":"'[1]Report-full'!C2155","v":-119.81},{"$f":"'[1]Report-full'!D2155","v":-8.25}]
[null,"00:00:00",null,null,null,null,null,null,null,null,null,null,null,null,"2008-03-07",{"$f":"'[1]Report-full'!B2156","v":172.49},{"$f":"'[1]Report-full'!C2156","v":-127.44},{"$f":"'[1]Report-full'!D2156","v":-8.3000000000000007}]
[null,"00:00:00",null,null,null,null,null,null,null,null,null,null,null,null,"2008-03-14",{"$f":"'[1]Report-full'!B2157","v":171.58},{"$f":"'[1]Report-full'!C2157","v":-135.09},{"$f":"'[1]Report-full'!D2157","v":-8.44}]
[null,"00:00:00",null,null,null,null,null,null,null,null,null,null,null,null,"2008-03-21",{"$f":"'[1]Report-full'!B2158","v":171.3},{"$f":"'[1]Report-full'!C2158","v":-137.46},{"$f":"'[1]Report-full'!D2158","v":-8.57}]
[null,"00:00:00",null,null,null,null,null,null,null,null,null,null,null,null,"2008-03-28",{"$f":"'[1]Report-full'!B2159","v":171.13},{"$f":"'[1]Report-full'!C2159","v":-138.85},{"$f":"'[1]Report-full'!D2159","v":-8.7799999999999994}]
[null,"00:00:00",null,null,null,null,null,null,null,null,null,null,null,null,"2008-04-04",{"$f":"'[1]Report-full'!B2160","v":170.4},{"$f":"'[1]Report-full'!C2160","v":-145.03},{"$f":"'[1]Report-full'!D2160","v":-8.9499999999999993}]
[null,"00:00:00",null,null,null,null,null,null,null,null,null,null,null,null,"2008-04-11",{"$f":"'[1]Report-full'!B2161","v":170.22},{"$f":"'[1]Report-full'!C2161","v":-146.57},{"$f":"'[1]Report-full'!D2161","v":-8.94}]
[null,"00:00:00",null,null,null,null,null,null,null,null,null,null,null,null,"2008-04-18",{"$f":"'[1]Report-full'!B2162","v":169.5},{"$f":"'[1]Report-full'!C2162","v":-152.63999999999999},{"$f":"'[1]Report-full'!D2162","v":-9.0299999999999994}]
[null,"00:00:00",null,null,null,null,null,null,null,null,null,null,null,null,"2008-04-25",{"$f":"'[1]Report-full'!B2163","v":170.15},{"$f":"'[1]Report-full'!C2163","v":-147.12},{"$f":"'[1]Report-full'!D2163","v":-8.91}]
[null,"00:00:00",null,null,null,null,null,null,null,null,null,null,null,null,"2008-05-02",{"$f":"'[1]Report-full'!B2164","v":169.13},{"$f":"'[1]Report-full'!C2164","v":-155.74},{"$f":"'[1]Report-full'!D2164","v":-8.85}]
[null,"00:00:00",null,null,null,null,null,null,null,null,null,null,null,null,"2008-05-09",{"$f":"'[1]Report-full'!B2165","v":168.53},{"$f":"'[1]Report-full'!C2165","v":-160.79},{"$f":"'[1]Report-full'!D2165","v":-8.89}]
[null,"00:00:00",null,null,null,null,null,null,null,null,null,null,null,null,"2008-05-16",{"$f":"'[1]Report-full'!B2166","v":167.75},{"$f":"'[1]Report-full'!C2166","v":-167.39},{"$f":"'[1]Report-full'!D2166","v":-8.93}]
[null,"00:00:00",null,null,null,null,null,null,null,null,null,null,null,null,"2008-05-23",{"$f":"'[1]Report-full'!B2167","v":167.61},{"$f":"'[1]Report-full'!C2167","v":-168.51},{"$f":"'[1]Report-full'!D2167","v":-9.16}]
[null,"00:00:00",null,null,null,null,null,null,null,null,null,null,null,null,"2008-05-30",{"$f":"'[1]Report-full'!B2168","v":166.63},{"$f":"'[1]Report-full'!C2168","v":-176.79},{"$f":"'[1]Report-full'!D2168","v":-9.35}]
[null,"00:00:00",null,null,null,null,null,null,null,null,null,null,null,null,"2008-06-06",{"$f":"'[1]Report-full'!B2169","v":166.45},{"$f":"'[1]Report-full'!C2169","v":-178.29},{"$f":"'[1]Report-full'!D2169","v":-9.43}]
[null,"00:00:00",null,null,null,null,null,null,null,null,null,null,null,null,"2008-06-13",{"$f":"'[1]Report-full'!B2170","v":165.54},{"$f":"'[1]Report-full'!C2170","v":-185.99},{"$f":"'[1]Report-full'!D2170","v":-9.51}]
[null,"00:00:00",null,null,null,null,null,null,null,null,null,null,null,null,"2008-06-20",{"$f":"'[1]Report-full'!B2171","v":165.28},{"$f":"'[1]Report-full'!C2171","v":-188.14},{"$f":"'[1]Report-full'!D2171","v":-9.6199999999999992}]
[null,"00:00:00",null,null,null,null,null,null,null,null,null,null,null,null,"2008-06-27",{"$f":"'[1]Report-full'!B2172","v":163.80000000000001},{"$f":"'[1]Report-full'!C2172","v":-200.63},{"$f":"'[1]Report-full'!D2172","v":-9.83}]
[null,"00:00:00",null,null,null,null,null,null,null,null,null,null,null,null,"2008-07-04",{"$f":"'[1]Report-full'!B2173","v":162.38},{"$f":"'[1]Report-full'!C2173","v":-212.59},{"$f":"'[1]Report-full'!D2173","v":-10.34}]
[null,"00:00:00",null,null,null,null,null,null,null,null,null,null,null,null,"2008-07-11",{"$f":"'[1]Report-full'!B2174","v":161.22},{"$f":"'[1]Report-full'!C2174","v":-222.38},{"$f":"'[1]Report-full'!D2174","v":-10.91}]
[null,{"$f":"INT(C2170-($H$4/2*7))","v":"00:00:00"},null,null,null,null,null,null,null,null,null,null,null,null,"2008-07-18",{"$f":"'[1]Report-full'!B2175","v":160.35},{"$f":"'[1]Report-full'!C2175","v":-229.7},{"$f":"'[1]Report-full'!D2175","v":-11.61}]
[null,"00:00:00",null,null,null,null,null,null,null,null,null,null,null,null,"2008-07-25",{"$f":"'[1]Report-full'!B2176","v":160.77000000000001},{"$f":"'[1]Report-full'!C2176","v":-226.11},{"$f":"'[1]Report-full'!D2176","v":-11.83}]
[null,"00:00:00",null,null,null,null,null,null,null,null,null,null,null,null,"2008-08-01",{"$f":"'[1]Report-full'!B2177","v":159.22999999999999},{"$f":"'[1]Report-full'!C2177","v":-239.12},{"$f":"'[1]Report-full'!D2177","v":-12.07}]
[null,"00:00:00",null,null,null,null,null,null,null,null,null,null,null,null,"2008-08-08",{"$f":"'[1]Report-full'!B2178","v":158.49},{"$f":"'[1]Report-full'!C2178","v":-245.37},{"$f":"'[1]Report-full'!D2178","v":-12.21}]
[null,"00:00:00",null,null,null,null,null,null,null,null,null,null,null,null,"2008-08-15",{"$f":"'[1]Report-full'!B2179","v":157.85},{"$f":"'[1]Report-full'!C2179","v":-250.74},{"$f":"'[1]Report-full'!D2179","v":-12.3}]
[null,"00:00:00",null,null,null,null,null,null,null,null,null,null,null,null,"2008-08-22",{"$f":"'[1]Report-full'!B2180","v":157.28},{"$f":"'[1]Report-full'!C2180","v":-255.52},{"$f":"'[1]Report-full'!D2180","v":-12.64}]
[null,"00:00:00",null,null,null,null,null,null,null,null,null,null,null,null,"2008-08-29",{"$f":"'[1]Report-full'!B2181","v":156.16999999999999},{"$f":"'[1]Report-full'!C2181","v":-264.89999999999998},{"$f":"'[1]Report-full'!D2181","v":-12.88}]
[null,"00:00:00",null,null,null,null,null,null,null,null,null,null,null,null,"2008-09-05",{"$f":"'[1]Report-full'!B2182","v":155.72},{"$f":"'[1]Report-full'!C2182","v":-268.7},{"$f":"'[1]Report-full'!D2182","v":-13.03}]
[null,"00:00:00",null,null,null,null,null,null,null,null,null,null,null,null,"2008-09-12",{"$f":"'[1]Report-full'!B2183","v":154.11000000000001},{"$f":"'[1]Report-full'!C2183","v":-282.22000000000003},{"$f":"'[1]Report-full'!D2183","v":-13.43}]
[null,"00:00:00",null,null,null,null,null,null,null,null,null,null,null,null,"2008-09-19",{"$f":"'[1]Report-full'!B2184","v":153.33000000000001},{"$f":"'[1]Report-full'!C2184","v":-288.77},{"$f":"'[1]Report-full'!D2184","v":-13.87}]
[null,"00:00:00",null,null,null,null,null,null,null,null,null,null,null,null,"2008-09-26",{"$f":"'[1]Report-full'!B2185","v":151.77000000000001},{"$f":"'[1]Report-full'!C2185","v":-301.93},{"$f":"'[1]Report-full'!D2185","v":-14.41}]
[null,"00:00:00",null,null,null,null,null,null,null,null,null,null,null,null,"2008-10-03",{"$f":"'[1]Report-full'!B2186","v":149.94999999999999},{"$f":"'[1]Report-full'!C2186","v":-317.25},{"$f":"'[1]Report-full'!D2186","v":-15.28}]
[null,"00:00:00",null,null,null,null,null,null,null,null,null,null,null,null,"2008-10-10",{"$f":"'[1]Report-full'!B2187","v":147.97999999999999},{"$f":"'[1]Report-full'!C2187","v":-333.86},{"$f":"'[1]Report-full'!D2187","v":-16.22}]
[null,"00:00:00",null,null,null,null,null,null,null,null,null,null,null,null,"2008-10-17",{"$f":"'[1]Report-full'!B2188","v":145.59},{"$f":"'[1]Report-full'!C2188","v":-353.99},{"$f":"'[1]Report-full'!D2188","v":-17.55}]
[null,"00:00:00",null,null,null,null,null,null,null,null,null,null,null,null,"2008-10-24",{"$f":"'[1]Report-full'!B2189","v":144.87},{"$f":"'[1]Report-full'!C2189","v":-360.08},{"$f":"'[1]Report-full'!D2189","v":-18.63}]
[null,"00:00:00",null,null,null,null,null,null,null,null,null,null,null,null,"2008-10-31",{"$f":"'[1]Report-full'!B2190","v":143.09},{"$f":"'[1]Report-full'!C2190","v":-375},{"$f":"'[1]Report-full'!D2190","v":-19.690000000000001}]
[null,"00:00:00",null,null,null,null,null,null,null,null,null,null,null,null,"2008-11-07",{"$f":"'[1]Report-full'!B2191","v":143.86000000000001},{"$f":"'[1]Report-full'!C2191","v":-368.55},{"$f":"'[1]Report-full'!D2191","v":-20.04}]
[null,"00:00:00",null,null,null,null,null,null,null,null,null,null,null,null,"2008-11-14",{"$f":"'[1]Report-full'!B2192","v":141.36000000000001},{"$f":"'[1]Report-full'!C2192","v":-389.57},{"$f":"'[1]Report-full'!D2192","v":-20.41}]
[null,"00:00:00",null,null,null,null,null,null,null,null,null,null,null,null,"2008-11-21",{"$f":"'[1]Report-full'!B2193","v":139.36000000000001},{"$f":"'[1]Report-full'!C2193","v":-406.47},{"$f":"'[1]Report-full'!D2193","v":-21.12}]
[null,"00:00:00",null,null,null,null,null,null,null,null,null,null,null,null,"2008-11-28",{"$f":"'[1]Report-full'!B2194","v":137.09},{"$f":"'[1]Report-full'!C2194","v":-425.59},{"$f":"'[1]Report-full'!D2194","v":-21.94}]
[null,"00:00:00",null,null,null,null,null,null,null,null,null,null,null,null,"2008-12-05",{"$f":"'[1]Report-full'!B2195","v":136.72},{"$f":"'[1]Report-full'!C2195","v":-428.7},{"$f":"'[1]Report-full'!D2195","v":-23.04}]
[null,"00:00:00",null,null,null,null,null,null,null,null,null,null,null,null,"2008-12-12",{"$f":"'[1]Report-full'!B2196","v":135},{"$f":"'[1]Report-full'!C2196","v":-443.18},{"$f":"'[1]Report-full'!D2196","v":-23.92}]
[null,"00:00:00",null,null,null,null,null,null,null,null,null,null,null,null,"2008-12-19",{"$f":"'[1]Report-full'!B2197","v":134.13999999999999},{"$f":"'[1]Report-full'!C2197","v":-450.38},{"$f":"'[1]Report-full'!D2197","v":-24.49}]
[null,"00:00:00",null,null,null,null,null,null,null,null,null,null,null,null,"2008-12-26",{"$f":"'[1]Report-full'!B2198","v":133.25},{"$f":"'[1]Report-full'!C2198","v":-457.92},{"$f":"'[1]Report-full'!D2198","v":-24.69}]
[null,"00:00:00",null,null,null,null,null,null,null,null,null,null,null,null,"2009-01-02",{"$f":"'[1]Report-full'!B2199","v":132.32},{"$f":"'[1]Report-full'!C2199","v":-465.75},{"$f":"'[1]Report-full'!D2199","v":-25.03}]
[null,"00:00:00",null,null,null,null,null,null,null,null,null,null,null,null,"2009-01-09",{"$f":"'[1]Report-full'!B2200","v":132},{"$f":"'[1]Report-full'!C2200","v":-468.41},{"$f":"'[1]Report-full'!D2200","v":-25.01}]
[null,"00:00:00",null,null,null,null,null,null,null,null,null,null,null,null,"2009-01-16",{"$f":"'[1]Report-full'!B2201","v":130.41999999999999},{"$f":"'[1]Report-full'!C2201","v":-481.72},{"$f":"'[1]Report-full'!D2201","v":-25.19}]
[null,"00:00:00",null,null,null,null,null,null,null,null,null,null,null,null,"2009-01-23",{"$f":"'[1]Report-full'!B2202","v":128.85},{"$f":"'[1]Report-full'!C2202","v":-494.97},{"$f":"'[1]Report-full'!D2202","v":-25.55}]
[null,"00:00:00",null,null,null,null,null,null,null,null,null,null,null,null,"2009-01-30",{"$f":"'[1]Report-full'!B2203","v":127.72},{"$f":"'[1]Report-full'!C2203","v":-504.48},{"$f":"'[1]Report-full'!D2203","v":-25.98}]
[null,"00:00:00",null,null,null,null,null,null,null,null,null,null,null,null,"2009-02-06",{"$f":"'[1]Report-full'!B2204","v":126.51},{"$f":"'[1]Report-full'!C2204","v":-514.64},{"$f":"'[1]Report-full'!D2204","v":-26.64}]
[null,"00:00:00",null,null,null,null,null,null,null,null,null,null,null,null,"2009-02-13",{"$f":"'[1]Report-full'!B2205","v":125.98},{"$f":"'[1]Report-full'!C2205","v":-519.12},{"$f":"'[1]Report-full'!D2205","v":-27.02}]
[null,"00:00:00",null,null,null,null,null,null,null,null,null,null,null,null,"2009-02-20",{"$f":"'[1]Report-full'!B2206","v":124.29},{"$f":"'[1]Report-full'!C2206","v":-533.37},{"$f":"'[1]Report-full'!D2206","v":-27.44}]
[null,"00:00:00",null,null,null,null,null,null,null,null,null,null,null,null,"2009-02-27",{"$f":"'[1]Report-full'!B2207","v":121.71},{"$f":"'[1]Report-full'!C2207","v":-555.12},{"$f":"'[1]Report-full'!D2207","v":-28.22}]
[null,"00:00:00",null,null,null,null,null,null,null,null,null,null,null,null,"2009-03-06",{"$f":"'[1]Report-full'!B2208","v":119.31},{"$f":"'[1]Report-full'!C2208","v":-575.28},{"$f":"'[1]Report-full'!D2208","v":-29.3}]
[null,"00:00:00",null,null,null,null,null,null,null,null,null,null,null,null,"2009-03-13",{"$f":"'[1]Report-full'!B2209","v":117.39},{"$f":"'[1]Report-full'!C2209","v":-591.47},{"$f":"'[1]Report-full'!D2209","v":-30.72}]
[null,"00:00:00",null,null,null,null,null,null,null,null,null,null,null,null,"2009-03-20",{"$f":"'[1]Report-full'!B2210","v":118.15},{"$f":"'[1]Report-full'!C2210","v":-585.08000000000004},{"$f":"'[1]Report-full'!D2210","v":-31.49}]
[null,"00:00:00",null,null,null,null,null,null,null,null,null,null,null,null,"2009-03-27",{"$f":"'[1]Report-full'!B2211","v":118.36},{"$f":"'[1]Report-full'!C2211","v":-583.33000000000004},{"$f":"'[1]Report-full'!D2211","v":-31.52}]
[null,"00:00:00",null,null,null,null,null,null,null,null,null,null,null,null,"2009-04-03",{"$f":"'[1]Report-full'!B2212","v":118.4},{"$f":"'[1]Report-full'!C2212","v":-582.97},{"$f":"'[1]Report-full'!D2212","v":-30.92}]
[null,"00:00:00",null,null,null,null,null,null,null,null,null,null,null,null,"2009-04-10",{"$f":"'[1]Report-full'!B2213","v":118.29},{"$f":"'[1]Report-full'!C2213","v":-583.86},{"$f":"'[1]Report-full'!D2213","v":-29.82}]
[null,"00:00:00",null,null,null,null,null,null,null,null,null,null,null,null,"2009-04-17",{"$f":"'[1]Report-full'!B2214","v":118.31},{"$f":"'[1]Report-full'!C2214","v":-583.76},{"$f":"'[1]Report-full'!D2214","v":-28.91}]
[null,"00:00:00",null,null,null,null,null,null,null,null,null,null,null,null,"2009-04-24",{"$f":"'[1]Report-full'!B2215","v":117.9},{"$f":"'[1]Report-full'!C2215","v":-587.15},{"$f":"'[1]Report-full'!D2215","v":-28.16}]
[null,"00:00:00",null,null,null,null,null,null,null,null,null,null,null,null,"2009-05-01",{"$f":"'[1]Report-full'!B2216","v":116.73},{"$f":"'[1]Report-full'!C2216","v":-597.04},{"$f":"'[1]Report-full'!D2216","v":-27.74}]
[null,"00:00:00",null,null,null,null,null,null,null,null,null,null,null,null,"2009-05-08",{"$f":"'[1]Report-full'!B2217","v":116.65},{"$f":"'[1]Report-full'!C2217","v":-597.66},{"$f":"'[1]Report-full'!D2217","v":-27.29}]
[null,"00:00:00",null,null,null,null,null,null,null,null,null,null,null,null,"2009-05-15",{"$f":"'[1]Report-full'!B2218","v":115.99},{"$f":"'[1]Report-full'!C2218","v":-603.23},{"$f":"'[1]Report-full'!D2218","v":-27.03}]
[null,"00:00:00",null,null,null,null,null,null,null,null,null,null,null,null,"2009-05-22",{"$f":"'[1]Report-full'!B2219","v":115.16},{"$f":"'[1]Report-full'!C2219","v":-610.28},{"$f":"'[1]Report-full'!D2219","v":-26.88}]
[null,"00:00:00",null,null,null,null,null,null,null,null,null,null,null,null,"2009-05-29",{"$f":"'[1]Report-full'!B2220","v":114.35},{"$f":"'[1]Report-full'!C2220","v":-617.04},{"$f":"'[1]Report-full'!D2220","v":-26.62}]
[null,"00:00:00",null,null,null,null,null,null,null,null,null,null,null,null,"2009-06-05",{"$f":"'[1]Report-full'!B2221","v":114.73},{"$f":"'[1]Report-full'!C2221","v":-613.87},{"$f":"'[1]Report-full'!D2221","v":-26.23}]
[null,"00:00:00",null,null,null,null,null,null,null,null,null,null,null,null,"2009-06-12",{"$f":"'[1]Report-full'!B2222","v":114.54},{"$f":"'[1]Report-full'!C2222","v":-615.51},{"$f":"'[1]Report-full'!D2222","v":-25.7}]
[null,"00:00:00",null,null,null,null,null,null,null,null,null,null,null,null,"2009-06-19",{"$f":"'[1]Report-full'!B2223","v":114.34},{"$f":"'[1]Report-full'!C2223","v":-617.16999999999996},{"$f":"'[1]Report-full'!D2223","v":-24.97}]
[null,"00:00:00",null,null,null,null,null,null,null,null,null,null,null,null,"2009-06-26",{"$f":"'[1]Report-full'!B2224","v":114.42},{"$f":"'[1]Report-full'!C2224","v":-616.48},{"$f":"'[1]Report-full'!D2224","v":-23.97}]
[null,"00:00:00",null,null,null,null,null,null,null,null,null,null,null,null,"2009-07-03",{"$f":"'[1]Report-full'!B2225","v":115.07},{"$f":"'[1]Report-full'!C2225","v":100},{"$f":"'[1]Report-full'!D2225","v":-22.88}]
[null,"00:00:00",null,null,null,null,null,null,null,null,null,null,null,null,"2009-07-10",{"$f":"'[1]Report-full'!B2226","v":114.31},{"$f":"'[1]Report-full'!C2226","v":88.82},{"$f":"'[1]Report-full'!D2226","v":-21.96}]
[null,"00:00:00",null,null,null,null,null,null,null,null,null,null,null,null,"2009-07-17",{"$f":"'[1]Report-full'!B2227","v":115.33},{"$f":"'[1]Report-full'!C2227","v":100},{"$f":"'[1]Report-full'!D2227","v":-20.67}]
[null,"00:00:00",null,null,null,null,null,null,null,null,null,null,null,null,"2009-07-24",{"$f":"'[1]Report-full'!B2228","v":116.79},{"$f":"'[1]Report-full'!C2228","v":100},{"$f":"'[1]Report-full'!D2228","v":-18.93}]
[null,"00:00:00",null,null,null,null,null,null,null,null,null,null,null,null,"2009-07-31",{"$f":"'[1]Report-full'!B2229","v":117.9},{"$f":"'[1]Report-full'!C2229","v":100},{"$f":"'[1]Report-full'!D2229","v":-17.04}]
[null,"00:00:00",null,null,null,null,null,null,null,null,null,null,null,null,"2009-08-07",{"$f":"'[1]Report-full'!B2230","v":118.48},{"$f":"'[1]Report-full'!C2230","v":100},{"$f":"'[1]Report-full'!D2230","v":-14.68}]
[null,"00:00:00",null,null,null,null,null,null,null,null,null,null,null,null,"2009-08-14",{"$f":"'[1]Report-full'!B2231","v":118.75},{"$f":"'[1]Report-full'!C2231","v":100},{"$f":"'[1]Report-full'!D2231","v":-12.54}]
[null,"00:00:00",null,null,null,null,null,null,null,null,null,null,null,null,"2009-08-21",{"$f":"'[1]Report-full'!B2232","v":118.78},{"$f":"'[1]Report-full'!C2232","v":100},{"$f":"'[1]Report-full'!D2232","v":-10.89}]
[null,"00:00:00",null,null,null,null,null,null,null,null,null,null,null,null,"2009-08-28",{"$f":"'[1]Report-full'!B2233","v":119.59},{"$f":"'[1]Report-full'!C2233","v":100},{"$f":"'[1]Report-full'!D2233","v":-9.33}]
[null,"00:00:00",null,null,null,null,null,null,null,null,null,null,null,null,"2009-09-04",{"$f":"'[1]Report-full'!B2234","v":119.57},{"$f":"'[1]Report-full'!C2234","v":99.64},{"$f":"'[1]Report-full'!D2234","v":-7.98}]
[null,"00:00:00",null,null,null,null,null,null,null,null,null,null,null,null,"2009-09-11",{"$f":"'[1]Report-full'!B2235","v":119.82},{"$f":"'[1]Report-full'!C2235","v":100},{"$f":"'[1]Report-full'!D2235","v":-6.65}]
[null,"00:00:00",null,null,null,null,null,null,null,null,null,null,null,null,"2009-09-18",{"$f":"'[1]Report-full'!B2236","v":120.27},{"$f":"'[1]Report-full'!C2236","v":100},{"$f":"'[1]Report-full'!D2236","v":-5.16}]
[null,"00:00:00",null,null,null,null,null,null,null,null,null,null,null,null,"2009-09-25",{"$f":"'[1]Report-full'!B2237","v":120.7},{"$f":"'[1]Report-full'!C2237","v":100},{"$f":"'[1]Report-full'!D2237","v":-3.82}]
[null,"00:00:00",null,null,null,null,null,null,null,null,null,null,null,null,"2009-10-02",{"$f":"'[1]Report-full'!B2238","v":120.66},{"$f":"'[1]Report-full'!C2238","v":99.41},{"$f":"'[1]Report-full'!D2238","v":-2.5099999999999998}]
[null,{"$f":"INT(C2234-($H$4/2*7))","v":"00:00:00"},null,null,null,null,null,null,null,null,null,null,null,null,"2009-10-09",{"$f":"'[1]Report-full'!B2239","v":120.54},{"$f":"'[1]Report-full'!C2239","v":97.71},{"$f":"'[1]Report-full'!D2239","v":-1.35}]
[null,"00:00:00",null,null,null,null,null,null,null,null,null,null,null,null,"2009-10-16",{"$f":"'[1]Report-full'!B2240","v":121.16},{"$f":"'[1]Report-full'!C2240","v":100},{"$f":"'[1]Report-full'!D2240","v":-0.16}]
[null,"00:00:00",null,null,null,null,null,null,null,null,null,null,null,null,"2009-10-23",{"$f":"'[1]Report-full'!B2241","v":121.69},{"$f":"'[1]Report-full'!C2241","v":100},{"$f":"'[1]Report-full'!D2241","v":1.02}]
[null,"00:00:00",null,null,null,null,null,null,null,null,null,null,null,null,"2009-10-30",{"$f":"'[1]Report-full'!B2242","v":120.9},{"$f":"'[1]Report-full'!C2242","v":89.07},{"$f":"'[1]Report-full'!D2242","v":1.87}]
[null,"00:00:00",null,null,null,null,null,null,null,null,null,null,null,null,"2009-11-06",{"$f":"'[1]Report-full'!B2243","v":120.29},{"$f":"'[1]Report-full'!C2243","v":80.73},{"$f":"'[1]Report-full'!D2243","v":2.4900000000000002}]
[null,"00:00:00",null,null,null,null,null,null,null,null,null,null,null,null,"2009-11-13",{"$f":"'[1]Report-full'!B2244","v":120.8},{"$f":"'[1]Report-full'!C2244","v":87.67},{"$f":"'[1]Report-full'!D2244","v":3.04}]
[null,"00:00:00",null,null,null,null,null,null,null,null,null,null,null,null,"2009-11-20",{"$f":"'[1]Report-full'!B2245","v":121.3},{"$f":"'[1]Report-full'!C2245","v":94.59},{"$f":"'[1]Report-full'!D2245","v":3.55}]
[null,"00:00:00",null,null,null,null,null,null,null,null,null,null,null,null,"2009-11-27",{"$f":"'[1]Report-full'!B2246","v":121.54},{"$f":"'[1]Report-full'!C2246","v":97.97},{"$f":"'[1]Report-full'!D2246","v":4.45}]
[null,"00:00:00",null,null,null,null,null,null,null,null,null,null,null,null,"2009-12-04",{"$f":"'[1]Report-full'!B2247","v":121.6},{"$f":"'[1]Report-full'!C2247","v":98.81},{"$f":"'[1]Report-full'!D2247","v":5.57}]
[null,"00:00:00",null,null,null,null,null,null,null,null,null,null,null,null,"2009-12-11",{"$f":"'[1]Report-full'!B2248","v":121.98},{"$f":"'[1]Report-full'!C2248","v":100},{"$f":"'[1]Report-full'!D2248","v":6.59}]
[null,"00:00:00",null,null,null,null,null,null,null,null,null,null,null,null,"2009-12-18",{"$f":"'[1]Report-full'!B2249","v":122.44},{"$f":"'[1]Report-full'!C2249","v":100},{"$f":"'[1]Report-full'!D2249","v":7.54}]
[null,"00:00:00",null,null,null,null,null,null,null,null,null,null,null,null,"2009-12-25",{"$f":"'[1]Report-full'!B2250","v":122.93},{"$f":"'[1]Report-full'!C2250","v":100},{"$f":"'[1]Report-full'!D2250","v":8.5500000000000007}]
[null,"00:00:00",null,null,null,null,null,null,null,null,null,null,null,null,"2010-01-01",{"$f":"'[1]Report-full'!B2251","v":123.09},{"$f":"'[1]Report-full'!C2251","v":100},{"$f":"'[1]Report-full'!D2251","v":9.57}]
[null,"00:00:00",null,null,null,null,null,null,null,null,null,null,null,null,"2010-01-08",{"$f":"'[1]Report-full'!B2252","v":123.34},{"$f":"'[1]Report-full'!C2252","v":100},{"$f":"'[1]Report-full'!D2252","v":10.49}]
[null,"00:00:00",null,null,null,null,null,null,null,null,null,null,null,null,"2010-01-15",{"$f":"'[1]Report-full'!B2253","v":123.91},{"$f":"'[1]Report-full'!C2253","v":100},{"$f":"'[1]Report-full'!D2253","v":11.43}]
[null,"00:00:00",null,null,null,null,null,null,null,null,null,null,null,null,"2010-01-22",{"$f":"'[1]Report-full'!B2254","v":124},{"$f":"'[1]Report-full'!C2254","v":100},{"$f":"'[1]Report-full'!D2254","v":12.17}]
[null,"00:00:00",null,null,null,null,null,null,null,null,null,null,null,null,"2010-01-29",{"$f":"'[1]Report-full'!B2255","v":123.05},{"$f":"'[1]Report-full'!C2255","v":87.15},{"$f":"'[1]Report-full'!D2255","v":12.4}]
[null,"00:00:00",null,null,null,null,null,null,null,null,null,null,null,null,"2010-02-05",{"$f":"'[1]Report-full'!B2256","v":122.52},{"$f":"'[1]Report-full'!C2256","v":80},{"$f":"'[1]Report-full'!D2256","v":12.27}]
[null,"00:00:00",null,null,null,null,null,null,null,null,null,null,null,null,"2010-02-12",{"$f":"'[1]Report-full'!B2257","v":122.09},{"$f":"'[1]Report-full'!C2257","v":74.17},{"$f":"'[1]Report-full'!D2257","v":11.67}]
[null,"00:00:00",null,null,null,null,null,null,null,null,null,null,null,null,"2010-02-19",{"$f":"'[1]Report-full'!B2258","v":122.29},{"$f":"'[1]Report-full'!C2258","v":76.849999999999994},{"$f":"'[1]Report-full'!D2258","v":11.09}]
[null,"00:00:00",null,null,null,null,null,null,null,null,null,null,null,null,"2010-02-26",{"$f":"'[1]Report-full'!B2259","v":122.49},{"$f":"'[1]Report-full'!C2259","v":79.599999999999994},{"$f":"'[1]Report-full'!D2259","v":10.98}]
[null,"00:00:00",null,null,null,null,null,null,null,null,null,null,null,null,"2010-03-05",{"$f":"'[1]Report-full'!B2260","v":122.74},{"$f":"'[1]Report-full'!C2260","v":82.92},{"$f":"'[1]Report-full'!D2260","v":11.14}]
[null,"00:00:00",null,null,null,null,null,null,null,null,null,null,null,null,"2010-03-12",{"$f":"'[1]Report-full'!B2261","v":123.24},{"$f":"'[1]Report-full'!C2261","v":89.74},{"$f":"'[1]Report-full'!D2261","v":11.64}]
[null,"00:00:00",null,null,null,null,null,null,null,null,null,null,null,null,"2010-03-19",{"$f":"'[1]Report-full'!B2262","v":123.58},{"$f":"'[1]Report-full'!C2262","v":94.32},{"$f":"'[1]Report-full'!D2262","v":12.12}]
[null,"00:00:00",null,null,null,null,null,null,null,null,null,null,null,null,"2010-03-26",{"$f":"'[1]Report-full'!B2263","v":123.89},{"$f":"'[1]Report-full'!C2263","v":98.5},{"$f":"'[1]Report-full'!D2263","v":12.58}]
[null,"00:00:00",null,null,null,null,null,null,null,null,null,null,null,null,"2010-04-02",{"$f":"'[1]Report-full'!B2264","v":123.76},{"$f":"'[1]Report-full'!C2264","v":96.78},{"$f":"'[1]Report-full'!D2264","v":12.84}]
[null,"00:00:00",null,null,null,null,null,null,null,null,null,null,null,null,"2010-04-09",{"$f":"'[1]Report-full'!B2265","v":124.21},{"$f":"'[1]Report-full'!C2265","v":100},{"$f":"'[1]Report-full'!D2265","v":13.07}]
[null,"00:00:00",null,null,null,null,null,null,null,null,null,null,null,null,"2010-04-16",{"$f":"'[1]Report-full'!B2266","v":124.29},{"$f":"'[1]Report-full'!C2266","v":100},{"$f":"'[1]Report-full'!D2266","v":13.18}]
[null,"00:00:00",null,null,null,null,null,null,null,null,null,null,null,null,"2010-04-23",{"$f":"'[1]Report-full'!B2267","v":124.4},{"$f":"'[1]Report-full'!C2267","v":100},{"$f":"'[1]Report-full'!D2267","v":13.2}]
[null,"00:00:00",null,null,null,null,null,null,null,null,null,null,null,null,"2010-04-30",{"$f":"'[1]Report-full'!B2268","v":125.34},{"$f":"'[1]Report-full'!C2268","v":100},{"$f":"'[1]Report-full'!D2268","v":13.67}]
[null,"00:00:00",null,null,null,null,null,null,null,null,null,null,null,null,"2010-05-07",{"$f":"'[1]Report-full'!B2269","v":125.75},{"$f":"'[1]Report-full'!C2269","v":100},{"$f":"'[1]Report-full'!D2269","v":14.1}]
[null,"00:00:00",null,null,null,null,null,null,null,null,null,null,null,null,"2010-05-14",{"$f":"'[1]Report-full'!B2270","v":125.52},{"$f":"'[1]Report-full'!C2270","v":96.95},{"$f":"'[1]Report-full'!D2270","v":14.36}]
[null,"00:00:00",null,null,null,null,null,null,null,null,null,null,null,null,"2010-05-21",{"$f":"'[1]Report-full'!B2271","v":125.49},{"$f":"'[1]Report-full'!C2271","v":96.59},{"$f":"'[1]Report-full'!D2271","v":14.54}]
[null,"00:00:00",null,null,null,null,null,null,null,null,null,null,null,null,"2010-05-28",{"$f":"'[1]Report-full'!B2272","v":125.12},{"$f":"'[1]Report-full'!C2272","v":91.58},{"$f":"'[1]Report-full'!D2272","v":14.13}]
[null,"00:00:00",null,null,null,null,null,null,null,null,null,null,null,null,"2010-06-04",{"$f":"'[1]Report-full'!B2273","v":125.54},{"$f":"'[1]Report-full'!C2273","v":97.17},{"$f":"'[1]Report-full'!D2273","v":13.7}]
[null,"00:00:00",null,null,null,null,null,null,null,null,null,null,null,null,"2010-06-11",{"$f":"'[1]Report-full'!B2274","v":125.84},{"$f":"'[1]Report-full'!C2274","v":100},{"$f":"'[1]Report-full'!D2274","v":13.49}]
[null,"00:00:00",null,null,null,null,null,null,null,null,null,null,null,null,"2010-06-18",{"$f":"'[1]Report-full'!B2275","v":126.58},{"$f":"'[1]Report-full'!C2275","v":100},{"$f":"'[1]Report-full'!D2275","v":13.59}]
[null,"00:00:00",null,null,null,null,null,null,null,null,null,null,null,null,"2010-06-25",{"$f":"'[1]Report-full'!B2276","v":126.94},{"$f":"'[1]Report-full'!C2276","v":100},{"$f":"'[1]Report-full'!D2276","v":13.97}]
[null,"00:00:00",null,null,null,null,null,null,null,null,null,null,null,null,"2010-07-02",{"$f":"'[1]Report-full'!B2277","v":125.17},{"$f":"'[1]Report-full'!C2277","v":76.55},{"$f":"'[1]Report-full'!D2277","v":13.42}]
[null,"00:00:00",null,null,null,null,null,null,null,null,null,null,null,null,"2010-07-09",{"$f":"'[1]Report-full'!B2278","v":123.35},{"$f":"'[1]Report-full'!C2278","v":52.5},{"$f":"'[1]Report-full'!D2278","v":12.01}]
[null,"00:00:00",null,null,null,null,null,null,null,null,null,null,null,null,"2010-07-16",{"$f":"'[1]Report-full'!B2279","v":122.99},{"$f":"'[1]Report-full'!C2279","v":47.71},{"$f":"'[1]Report-full'!D2279","v":10.17}]
[null,"00:00:00",null,null,null,null,null,null,null,null,null,null,null,null,"2010-07-23",{"$f":"'[1]Report-full'!B2280","v":122.65},{"$f":"'[1]Report-full'!C2280","v":43.19},{"$f":"'[1]Report-full'!D2280","v":8.1}]
[null,"00:00:00",null,null,null,null,null,null,null,null,null,null,null,null,"2010-07-30",{"$f":"'[1]Report-full'!B2281","v":123.23},{"$f":"'[1]Report-full'!C2281","v":50.89},{"$f":"'[1]Report-full'!D2281","v":7.06}]
[null,"00:00:00",null,null,null,null,null,null,null,null,null,null,null,null,"2010-08-06",{"$f":"'[1]Report-full'!B2282","v":123.56},{"$f":"'[1]Report-full'!C2282","v":55.34},{"$f":"'[1]Report-full'!D2282","v":6.93}]
[null,"00:00:00",null,null,null,null,null,null,null,null,null,null,null,null,"2010-08-13",{"$f":"'[1]Report-full'!B2283","v":123.91},{"$f":"'[1]Report-full'!C2283","v":59.92},{"$f":"'[1]Report-full'!D2283","v":7.12}]
[null,"00:00:00",null,null,null,null,null,null,null,null,null,null,null,null,"2010-08-20",{"$f":"'[1]Report-full'!B2284","v":123.54},{"$f":"'[1]Report-full'!C2284","v":55.03},{"$f":"'[1]Report-full'!D2284","v":7.31}]
[null,"00:00:00",null,null,null,null,null,null,null,null,null,null,null,null,"2010-08-27",{"$f":"'[1]Report-full'!B2285","v":122.71},{"$f":"'[1]Report-full'!C2285","v":44.1},{"$f":"'[1]Report-full'!D2285","v":6.95}]
[null,"00:00:00",null,null,null,null,null,null,null,null,null,null,null,null,"2010-09-03",{"$f":"'[1]Report-full'!B2286","v":122.33},{"$f":"'[1]Report-full'!C2286","v":38.96},{"$f":"'[1]Report-full'!D2286","v":6.31}]
[null,"00:00:00",null,null,null,null,null,null,null,null,null,null,null,null,"2010-09-10",{"$f":"'[1]Report-full'!B2287","v":122.64},{"$f":"'[1]Report-full'!C2287","v":43.09},{"$f":"'[1]Report-full'!D2287","v":5.68}]
[null,"00:00:00",null,null,null,null,null,null,null,null,null,null,null,null,"2010-09-17",{"$f":"'[1]Report-full'!B2288","v":122.88},{"$f":"'[1]Report-full'!C2288","v":46.3},{"$f":"'[1]Report-full'!D2288","v":5.32}]
[null,"00:00:00",null,null,null,null,null,null,null,null,null,null,null,null,"2010-09-24",{"$f":"'[1]Report-full'!B2289","v":123.16},{"$f":"'[1]Report-full'!C2289","v":50.01},{"$f":"'[1]Report-full'!D2289","v":5.41}]
[null,"00:00:00",null,null,null,null,null,null,null,null,null,null,null,null,"2010-10-01",{"$f":"'[1]Report-full'!B2290","v":123.38},{"$f":"'[1]Report-full'!C2290","v":52.9},{"$f":"'[1]Report-full'!D2290","v":5.74}]
[null,"00:00:00",null,null,null,null,null,null,null,null,null,null,null,null,"2010-10-08",{"$f":"'[1]Report-full'!B2291","v":123.59},{"$f":"'[1]Report-full'!C2291","v":55.74},{"$f":"'[1]Report-full'!D2291","v":6.04}]
[null,"00:00:00",null,null,null,null,null,null,null,null,null,null,null,null,"2010-10-15",{"$f":"'[1]Report-full'!B2292","v":124.1},{"$f":"'[1]Report-full'!C2292","v":62.37},{"$f":"'[1]Report-full'!D2292","v":6.44}]
[null,"00:00:00",null,null,null,null,null,null,null,null,null,null,null,null,"2010-10-22",{"$f":"'[1]Report-full'!B2293","v":124.35},{"$f":"'[1]Report-full'!C2293","v":65.680000000000007},{"$f":"'[1]Report-full'!D2293","v":6.83}]
[null,"00:00:00",null,null,null,null,null,null,null,null,null,null,null,null,"2010-10-29",{"$f":"'[1]Report-full'!B2294","v":125.44},{"$f":"'[1]Report-full'!C2294","v":80.19},{"$f":"'[1]Report-full'!D2294","v":7.57}]
[null,"00:00:00",null,null,null,null,null,null,null,null,null,null,null,null,"2010-11-05",{"$f":"'[1]Report-full'!B2295","v":126.07},{"$f":"'[1]Report-full'!C2295","v":88.51},{"$f":"'[1]Report-full'!D2295","v":8.4600000000000009}]
[null,"00:00:00",null,null,null,null,null,null,null,null,null,null,null,null,"2010-11-12",{"$f":"'[1]Report-full'!B2296","v":127.07},{"$f":"'[1]Report-full'!C2296","v":100},{"$f":"'[1]Report-full'!D2296","v":9.5299999999999994}]
[null,"00:00:00",null,null,null,null,null,null,null,null,null,null,null,null,"2010-11-19",{"$f":"'[1]Report-full'!B2297","v":127.23},{"$f":"'[1]Report-full'!C2297","v":100},{"$f":"'[1]Report-full'!D2297","v":10.55}]
[null,"00:00:00",null,null,null,null,null,null,null,null,null,null,null,null,"2010-11-26",{"$f":"'[1]Report-full'!B2298","v":126.91},{"$f":"'[1]Report-full'!C2298","v":95.83},{"$f":"'[1]Report-full'!D2298","v":10.96}]
[null,"00:00:00",null,null,null,null,null,null,null,null,null,null,null,null,"2010-12-03",{"$f":"'[1]Report-full'!B2299","v":126.43},{"$f":"'[1]Report-full'!C2299","v":89.49},{"$f":"'[1]Report-full'!D2299","v":10.92}]
[null,"00:00:00",null,null,null,null,null,null,null,null,null,null,null,null,"2010-12-10",{"$f":"'[1]Report-full'!B2300","v":127.11},{"$f":"'[1]Report-full'!C2300","v":98.42},{"$f":"'[1]Report-full'!D2300","v":10.76}]
[null,"00:00:00",null,null,null,null,null,null,null,null,null,null,null,null,"2010-12-17",{"$f":"'[1]Report-full'!B2301","v":127.42},{"$f":"'[1]Report-full'!C2301","v":100},{"$f":"'[1]Report-full'!D2301","v":10.67}]
[null,"00:00:00",null,null,null,null,null,null,null,null,null,null,null,null,"2010-12-24",{"$f":"'[1]Report-full'!B2302","v":127.89},{"$f":"'[1]Report-full'!C2302","v":100},{"$f":"'[1]Report-full'!D2302","v":10.9}]
[null,{"$f":"INT(C2298-($H$4/2*7))","v":"00:00:00"},null,null,null,null,null,null,null,null,null,null,null,null,"2010-12-31",{"$f":"'[1]Report-full'!B2303","v":127.82},{"$f":"'[1]Report-full'!C2303","v":99.08},{"$f":"'[1]Report-full'!D2303","v":11.31}]
[null,"00:00:00",null,null,null,null,null,null,null,null,null,null,null,null,"2011-01-07",{"$f":"'[1]Report-full'!B2304","v":127.83},{"$f":"'[1]Report-full'!C2304","v":99.19},{"$f":"'[1]Report-full'!D2304","v":11.44}]
[null,"00:00:00",null,null,null,null,null,null,null,null,null,null,null,null,"2011-01-14",{"$f":"'[1]Report-full'!B2305","v":128.66},{"$f":"'[1]Report-full'!C2305","v":100},{"$f":"'[1]Report-full'!D2305","v":11.8}]
[null,"00:00:00",null,null,null,null,null,null,null,null,null,null,null,null,"2011-01-21",{"$f":"'[1]Report-full'!B2306","v":129.19},{"$f":"'[1]Report-full'!C2306","v":100},{"$f":"'[1]Report-full'!D2306","v":12.17}]
[null,"00:00:00",null,null,null,null,null,null,null,null,null,null,null,null,"2011-01-28",{"$f":"'[1]Report-full'!B2307","v":129.87},{"$f":"'[1]Report-full'!C2307","v":100},{"$f":"'[1]Report-full'!D2307","v":12.84}]
[null,"00:00:00",null,null,null,null,null,null,null,null,null,null,null,null,"2011-02-04",{"$f":"'[1]Report-full'!B2308","v":130.54},{"$f":"'[1]Report-full'!C2308","v":100},{"$f":"'[1]Report-full'!D2308","v":13.78}]
[null,"00:00:00",null,null,null,null,null,null,null,null,null,null,null,null,"2011-02-11",{"$f":"'[1]Report-full'!B2309","v":131.4},{"$f":"'[1]Report-full'!C2309","v":100},{"$f":"'[1]Report-full'!D2309","v":14.69}]
[null,"00:00:00",null,null,null,null,null,null,null,null,null,null,null,null,"2011-02-18",{"$f":"'[1]Report-full'!B2310","v":131.75},{"$f":"'[1]Report-full'!C2310","v":100},{"$f":"'[1]Report-full'!D2310","v":15.5}]
[null,"00:00:00",null,null,null,null,null,null,null,null,null,null,null,null,"2011-02-25",{"$f":"'[1]Report-full'!B2311","v":132.21},{"$f":"'[1]Report-full'!C2311","v":100},{"$f":"'[1]Report-full'!D2311","v":16.18}]
[null,"00:00:00",null,null,null,null,null,null,null,null,null,null,null,null,"2011-03-04",{"$f":"'[1]Report-full'!B2312","v":131.72},{"$f":"'[1]Report-full'!C2312","v":93.77},{"$f":"'[1]Report-full'!D2312","v":16.36}]
[null,"00:00:00",null,null,null,null,null,null,null,null,null,null,null,null,"2011-03-11",{"$f":"'[1]Report-full'!B2313","v":131.71},{"$f":"'[1]Report-full'!C2313","v":93.59},{"$f":"'[1]Report-full'!D2313","v":16.18}]
[null,"00:00:00",null,null,null,null,null,null,null,null,null,null,null,null,"2011-03-18",{"$f":"'[1]Report-full'!B2314","v":131.36000000000001},{"$f":"'[1]Report-full'!C2314","v":89.22},{"$f":"'[1]Report-full'!D2314","v":15.72}]
[null,"00:00:00",null,null,null,null,null,null,null,null,null,null,null,null,"2011-03-25",{"$f":"'[1]Report-full'!B2315","v":131.43},{"$f":"'[1]Report-full'!C2315","v":90.09},{"$f":"'[1]Report-full'!D2315","v":15.11}]
[null,"00:00:00",null,null,null,null,null,null,null,null,null,null,null,null,"2011-04-01",{"$f":"'[1]Report-full'!B2316","v":130.94},{"$f":"'[1]Report-full'!C2316","v":83.88},{"$f":"'[1]Report-full'!D2316","v":14.53}]
[null,"00:00:00",null,null,null,null,null,null,null,null,null,null,null,null,"2011-04-08",{"$f":"'[1]Report-full'!B2317","v":130.63999999999999},{"$f":"'[1]Report-full'!C2317","v":80.05},{"$f":"'[1]Report-full'!D2317","v":13.85}]
[null,"00:00:00",null,null,null,null,null,null,null,null,null,null,null,null,"2011-04-15",{"$f":"'[1]Report-full'!B2318","v":130.35},{"$f":"'[1]Report-full'!C2318","v":76.349999999999994},{"$f":"'[1]Report-full'!D2318","v":13.21}]
[null,"00:00:00",null,null,null,null,null,null,null,null,null,null,null,null,"2011-04-22",{"$f":"'[1]Report-full'!B2319","v":130.13999999999999},{"$f":"'[1]Report-full'!C2319","v":73.73},{"$f":"'[1]Report-full'!D2319","v":12.47}]
[null,"00:00:00",null,null,null,null,null,null,null,null,null,null,null,null,"2011-04-29",{"$f":"'[1]Report-full'!B2320","v":131.30000000000001},{"$f":"'[1]Report-full'!C2320","v":88.44},{"$f":"'[1]Report-full'!D2320","v":12.42}]
[null,"00:00:00",null,null,null,null,null,null,null,null,null,null,null,null,"2011-05-06",{"$f":"'[1]Report-full'!B2321","v":131.72999999999999},{"$f":"'[1]Report-full'!C2321","v":93.89},{"$f":"'[1]Report-full'!D2321","v":12.66}]
[null,"00:00:00",null,null,null,null,null,null,null,null,null,null,null,null,"2011-05-13",{"$f":"'[1]Report-full'!B2322","v":131.69999999999999},{"$f":"'[1]Report-full'!C2322","v":93.46},{"$f":"'[1]Report-full'!D2322","v":13.01}]
[null,"00:00:00",null,null,null,null,null,null,null,null,null,null,null,null,"2011-05-20",{"$f":"'[1]Report-full'!B2323","v":131.86000000000001},{"$f":"'[1]Report-full'!C2323","v":95.52},{"$f":"'[1]Report-full'!D2323","v":13.5}]
[null,"00:00:00",null,null,null,null,null,null,null,null,null,null,null,null,"2011-05-27",{"$f":"'[1]Report-full'!B2324","v":131.84},{"$f":"'[1]Report-full'!C2324","v":95.3},{"$f":"'[1]Report-full'!D2324","v":13.53}]
[null,"00:00:00",null,null,null,null,null,null,null,null,null,null,null,null,"2011-06-03",{"$f":"'[1]Report-full'!B2325","v":131.94},{"$f":"'[1]Report-full'!C2325","v":96.56},{"$f":"'[1]Report-full'!D2325","v":13.41}]
[null,"00:00:00",null,null,null,null,null,null,null,null,null,null,null,null,"2011-06-10",{"$f":"'[1]Report-full'!B2326","v":131.72},{"$f":"'[1]Report-full'!C2326","v":93.7},{"$f":"'[1]Report-full'!D2326","v":13.21}]
[null,"00:00:00",null,null,null,null,null,null,null,null,null,null,null,null,"2011-06-17",{"$f":"'[1]Report-full'!B2327","v":131.57},{"$f":"'[1]Report-full'!C2327","v":91.91},{"$f":"'[1]Report-full'!D2327","v":12.9}]
[null,"00:00:00",null,null,null,null,null,null,null,null,null,null,null,null,"2011-06-24",{"$f":"'[1]Report-full'!B2328","v":131.66999999999999},{"$f":"'[1]Report-full'!C2328","v":93.1},{"$f":"'[1]Report-full'!D2328","v":12.64}]
[null,"00:00:00",null,null,null,null,null,null,null,null,null,null,null,null,"2011-07-01",{"$f":"'[1]Report-full'!B2329","v":131.53},{"$f":"'[1]Report-full'!C2329","v":91.37},{"$f":"'[1]Report-full'!D2329","v":12.3}]
[null,"00:00:00",null,null,null,null,null,null,null,null,null,null,null,null,"2011-07-08",{"$f":"'[1]Report-full'!B2330","v":132.16},{"$f":"'[1]Report-full'!C2330","v":99.36},{"$f":"'[1]Report-full'!D2330","v":12.31}]
[null,"00:00:00",null,null,null,null,null,null,null,null,null,null,null,null,"2011-07-15",{"$f":"'[1]Report-full'!B2331","v":132.21},{"$f":"'[1]Report-full'!C2331","v":99.98},{"$f":"'[1]Report-full'!D2331","v":12.36}]
[null,"00:00:00",null,null,null,null,null,null,null,null,null,null,null,null,"2011-07-22",{"$f":"'[1]Report-full'!B2332","v":132.1},{"$f":"'[1]Report-full'!C2332","v":98.57},{"$f":"'[1]Report-full'!D2332","v":12.3}]
[null,"00:00:00",null,null,null,null,null,null,null,null,null,null,null,null,"2011-07-29",{"$f":"'[1]Report-full'!B2333","v":132.13999999999999},{"$f":"'[1]Report-full'!C2333","v":99.13},{"$f":"'[1]Report-full'!D2333","v":12.28}]
[null,"00:00:00",null,null,null,null,null,null,null,null,null,null,null,null,"2011-08-05",{"$f":"'[1]Report-full'!B2334","v":131.22999999999999},{"$f":"'[1]Report-full'!C2334","v":87.5},{"$f":"'[1]Report-full'!D2334","v":11.63}]
[null,"00:00:00",null,null,null,null,null,null,null,null,null,null,null,null,"2011-08-12",{"$f":"'[1]Report-full'!B2335","v":129.56},{"$f":"'[1]Report-full'!C2335","v":66.3},{"$f":"'[1]Report-full'!D2335","v":10.32}]
[null,"00:00:00",null,null,null,null,null,null,null,null,null,null,null,null,"2011-08-19",{"$f":"'[1]Report-full'!B2336","v":129.81},{"$f":"'[1]Report-full'!C2336","v":69.5},{"$f":"'[1]Report-full'!D2336","v":9.19}]
[null,"00:00:00",null,null,null,null,null,null,null,null,null,null,null,null,"2011-08-26",{"$f":"'[1]Report-full'!B2337","v":128.88},{"$f":"'[1]Report-full'!C2337","v":57.61},{"$f":"'[1]Report-full'!D2337","v":7.71}]
[null,"00:00:00",null,null,null,null,null,null,null,null,null,null,null,null,"2011-09-02",{"$f":"'[1]Report-full'!B2338","v":129.53},{"$f":"'[1]Report-full'!C2338","v":65.87},{"$f":"'[1]Report-full'!D2338","v":6.87}]
[null,"00:00:00",null,null,null,null,null,null,null,null,null,null,null,null,"2011-09-09",{"$f":"'[1]Report-full'!B2339","v":129.35},{"$f":"'[1]Report-full'!C2339","v":63.68},{"$f":"'[1]Report-full'!D2339","v":6.61}]
[null,"00:00:00",null,null,null,null,null,null,null,null,null,null,null,null,"2011-09-16",{"$f":"'[1]Report-full'!B2340","v":129.02000000000001},{"$f":"'[1]Report-full'!C2340","v":59.42},{"$f":"'[1]Report-full'!D2340","v":6.11}]
[null,"00:00:00",null,null,null,null,null,null,null,null,null,null,null,null,"2011-09-23",{"$f":"'[1]Report-full'!B2341","v":129.37},{"$f":"'[1]Report-full'!C2341","v":63.95},{"$f":"'[1]Report-full'!D2341","v":6.11}]
[null,"00:00:00",null,null,null,null,null,null,null,null,null,null,null,null,"2011-09-30",{"$f":"'[1]Report-full'!B2342","v":128.69999999999999},{"$f":"'[1]Report-full'!C2342","v":55.32},{"$f":"'[1]Report-full'!D2342","v":5.6}]
[null,"00:00:00",null,null,null,null,null,null,null,null,null,null,null,null,"2011-10-07",{"$f":"'[1]Report-full'!B2343","v":128.5},{"$f":"'[1]Report-full'!C2343","v":52.82},{"$f":"'[1]Report-full'!D2343","v":5.0999999999999996}]
[null,"00:00:00",null,null,null,null,null,null,null,null,null,null,null,null,"2011-10-14",{"$f":"'[1]Report-full'!B2344","v":129.59},{"$f":"'[1]Report-full'!C2344","v":66.73},{"$f":"'[1]Report-full'!D2344","v":5.16}]
[null,"00:00:00",null,null,null,null,null,null,null,null,null,null,null,null,"2011-10-21",{"$f":"'[1]Report-full'!B2345","v":130.15},{"$f":"'[1]Report-full'!C2345","v":73.8},{"$f":"'[1]Report-full'!D2345","v":5.29}]
[null,"00:00:00",null,null,null,null,null,null,null,null,null,null,null,null,"2011-10-28",{"$f":"'[1]Report-full'!B2346","v":130.78},{"$f":"'[1]Report-full'!C2346","v":81.81},{"$f":"'[1]Report-full'!D2346","v":5.92}]
[null,"00:00:00",null,null,null,null,null,null,null,null,null,null,null,null,"2011-11-04",{"$f":"'[1]Report-full'!B2347","v":131.25},{"$f":"'[1]Report-full'!C2347","v":87.76},{"$f":"'[1]Report-full'!D2347","v":6.81}]
[null,"00:00:00",null,null,null,null,null,null,null,null,null,null,null,null,"2011-11-11",{"$f":"'[1]Report-full'!B2348","v":131.51},{"$f":"'[1]Report-full'!C2348","v":91.08},{"$f":"'[1]Report-full'!D2348","v":7.37}]
[null,"00:00:00",null,null,null,null,null,null,null,null,null,null,null,null,"2011-11-18",{"$f":"'[1]Report-full'!B2349","v":131.85},{"$f":"'[1]Report-full'!C2349","v":95.39},{"$f":"'[1]Report-full'!D2349","v":7.86}]
[null,"00:00:00",null,null,null,null,null,null,null,null,null,null,null,null,"2011-11-25",{"$f":"'[1]Report-full'!B2350","v":130.91},{"$f":"'[1]Report-full'!C2350","v":83.46},{"$f":"'[1]Report-full'!D2350","v":7.77}]
[null,"00:00:00",null,null,null,null,null,null,null,null,null,null,null,null,"2011-12-02",{"$f":"'[1]Report-full'!B2351","v":130.59},{"$f":"'[1]Report-full'!C2351","v":79.34},{"$f":"'[1]Report-full'!D2351","v":7.38}]
[null,"00:00:00",null,null,null,null,null,null,null,null,null,null,null,null,"2011-12-09",{"$f":"'[1]Report-full'!B2352","v":131.91999999999999},{"$f":"'[1]Report-full'!C2352","v":96.33},{"$f":"'[1]Report-full'!D2352","v":7.41}]
[null,"00:00:00",null,null,null,null,null,null,null,null,null,null,null,null,"2011-12-16",{"$f":"'[1]Report-full'!B2353","v":131.97999999999999},{"$f":"'[1]Report-full'!C2353","v":97.12},{"$f":"'[1]Report-full'!D2353","v":7.34}]
[null,"00:00:00",null,null,null,null,null,null,null,null,null,null,null,null,"2011-12-23",{"$f":"'[1]Report-full'!B2354","v":132.22999999999999},{"$f":"'[1]Report-full'!C2354","v":100},{"$f":"'[1]Report-full'!D2354","v":7.71}]
[null,"00:00:00",null,null,null,null,null,null,null,null,null,null,null,null,"2011-12-30",{"$f":"'[1]Report-full'!B2355","v":132.99},{"$f":"'[1]Report-full'!C2355","v":100},{"$f":"'[1]Report-full'!D2355","v":8.49}]
[null,"00:00:00",null,null,null,null,null,null,null,null,null,null,null,null,"2012-01-06",{"$f":"'[1]Report-full'!B2356","v":133.22},{"$f":"'[1]Report-full'!C2356","v":100},{"$f":"'[1]Report-full'!D2356","v":8.84}]
[null,"00:00:00",null,null,null,null,null,null,null,null,null,null,null,null,"2012-01-13",{"$f":"'[1]Report-full'!B2357","v":133.69},{"$f":"'[1]Report-full'!C2357","v":100},{"$f":"'[1]Report-full'!D2357","v":9.35}]
[null,"00:00:00",null,null,null,null,null,null,null,null,null,null,null,null,"2012-01-20",{"$f":"'[1]Report-full'!B2358","v":134.6},{"$f":"'[1]Report-full'!C2358","v":100},{"$f":"'[1]Report-full'!D2358","v":10.1}]
[null,"00:00:00",null,null,null,null,null,null,null,null,null,null,null,null,"2012-01-27",{"$f":"'[1]Report-full'!B2359","v":134.97},{"$f":"'[1]Report-full'!C2359","v":100},{"$f":"'[1]Report-full'!D2359","v":10.7}]
[null,"00:00:00",null,null,null,null,null,null,null,null,null,null,null,null,"2012-02-03",{"$f":"'[1]Report-full'!B2360","v":135.44},{"$f":"'[1]Report-full'!C2360","v":100},{"$f":"'[1]Report-full'!D2360","v":11.4}]
[null,{"$f":"INT(C2356-($H$4/2*7))","v":"00:00:00"},null,null,null,null,null,null,null,null,null,null,null,null,"2012-02-10",{"$f":"'[1]Report-full'!B2361","v":136},{"$f":"'[1]Report-full'!C2361","v":100},{"$f":"'[1]Report-full'!D2361","v":12.13}]
[null,{"$f":"INT(C2357-($H$4/2*7))","v":"00:00:00"},null,null,null,null,null,null,null,null,null,null,null,null,"2012-02-17",{"$f":"'[1]Report-full'!B2362","v":136.47999999999999},{"$f":"'[1]Report-full'!C2362","v":100},{"$f":"'[1]Report-full'!D2362","v":12.7}]
[null,{"$f":"INT(C2358-($H$4/2*7))","v":"00:00:00"},null,null,null,null,null,null,null,null,null,null,null,null,"2012-02-24",{"$f":"'[1]Report-full'!B2363","v":136.94999999999999},{"$f":"'[1]Report-full'!C2363","v":100},{"$f":"'[1]Report-full'!D2363","v":13.32}]
[null,{"$f":"INT(C2359-($H$4/2*7))","v":"00:00:00"},null,null,null,null,null,null,null,null,null,null,null,null,"2012-03-02",{"$f":"'[1]Report-full'!B2364","v":136.9},{"$f":"'[1]Report-full'!C2364","v":99.31},{"$f":"'[1]Report-full'!D2364","v":13.73}]
[null,{"$f":"INT(C2360-($H$4/2*7))","v":"00:00:00"},null,null,null,null,null,null,null,null,null,null,null,null,"2012-03-09",{"$f":"'[1]Report-full'!B2365","v":136.69999999999999},{"$f":"'[1]Report-full'!C2365","v":96.9},{"$f":"'[1]Report-full'!D2365","v":13.86}]
[null,{"$f":"INT(C2361-($H$4/2*7))","v":"00:00:00"},null,null,null,null,null,null,null,null,null,null,null,null,"2012-03-16",{"$f":"'[1]Report-full'!B2366","v":137.09},{"$f":"'[1]Report-full'!C2366","v":100},{"$f":"'[1]Report-full'!D2366","v":13.94}]
[null,"00:00:00",null,null,null,null,null,null,null,null,null,null,null,null,"2012-03-23",{"$f":"'[1]Report-full'!B2367","v":137.63999999999999},{"$f":"'[1]Report-full'!C2367","v":100},{"$f":"'[1]Report-full'!D2367","v":14.05}]
[null,"00:00:00",null,null,null,null,null,null,null,null,null,null,null,null,"2012-03-30",{"$f":"'[1]Report-full'!B2368","v":138.46},{"$f":"'[1]Report-full'!C2368","v":100},{"$f":"'[1]Report-full'!D2368","v":14.48}]
[null,"00:00:00",null,null,null,null,null,null,null,null,null,null,null,null,"2012-04-06",{"$f":"'[1]Report-full'!B2369","v":139.05000000000001},{"$f":"'[1]Report-full'!C2369","v":100},{"$f":"'[1]Report-full'!D2369","v":15.2}]
[null,"00:00:00",null,null,null,null,null,null,null,null,null,null,null,null,"2012-04-13",{"$f":"'[1]Report-full'!B2370","v":139.34},{"$f":"'[1]Report-full'!C2370","v":100},{"$f":"'[1]Report-full'!D2370","v":15.86}]
[null,"00:00:00",null,null,null,null,null,null,null,null,null,null,null,null,{"$f":"O2365+7","v":"2012-04-20"},{"$f":"'[1]Report-full'!B2371","v":139.51},{"$f":"'[1]Report-full'!C2371","v":100},{"$f":"'[1]Report-full'!D2371","v":16.34}]
[null,"00:00:00",null,null,null,null,null,null,null,null,null,null,null,null,"2012-04-27",{"$f":"'[1]Report-full'!B2372","v":139.08000000000001},{"$f":"'[1]Report-full'!C2372","v":94.84},{"$f":"'[1]Report-full'!D2372","v":16.309999999999999}]
[null,"00:00:00",null,null,null,null,null,null,null,null,null,null,null,null,"2012-05-04",{"$f":"'[1]Report-full'!B2373","v":139.41999999999999},{"$f":"'[1]Report-full'!C2373","v":98.91},{"$f":"'[1]Report-full'!D2373","v":16.18}]
[null,"00:00:00",null,null,null,null,null,null,null,null,null,null,null,null,"2012-05-11",{"$f":"'[1]Report-full'!B2374","v":139.13999999999999},{"$f":"'[1]Report-full'!C2374","v":95.55},{"$f":"'[1]Report-full'!D2374","v":15.84}]
[null,"00:00:00",null,null,null,null,null,null,null,null,null,null,null,null,"2012-05-18",{"$f":"'[1]Report-full'!B2375","v":138.59},{"$f":"'[1]Report-full'!C2375","v":88.88},{"$f":"'[1]Report-full'!D2375","v":15.23}]
[null,"00:00:00",null,null,null,null,null,null,null,null,null,null,null,null,"2012-05-25",{"$f":"'[1]Report-full'!B2376","v":137.99},{"$f":"'[1]Report-full'!C2376","v":81.680000000000007},{"$f":"'[1]Report-full'!D2376","v":14.58}]
[null,"00:00:00",null,null,null,null,null,null,null,null,null,null,null,null,"2012-06-01",{"$f":"'[1]Report-full'!B2377","v":138.19},{"$f":"'[1]Report-full'!C2377","v":84.15},{"$f":"'[1]Report-full'!D2377","v":13.9}]
[null,"00:00:00",null,null,null,null,null,null,null,null,null,null,null,null,"2012-06-08",{"$f":"'[1]Report-full'!B2378","v":137.56},{"$f":"'[1]Report-full'!C2378","v":76.56},{"$f":"'[1]Report-full'!D2378","v":13.09}]
[null,"00:00:00",null,null,null,null,null,null,null,null,null,null,null,null,"2012-06-15",{"$f":"'[1]Report-full'!B2379","v":137.94999999999999},{"$f":"'[1]Report-full'!C2379","v":81.25},{"$f":"'[1]Report-full'!D2379","v":12.66}]
[null,"00:00:00",null,null,null,null,null,null,null,null,null,null,null,null,"2012-06-22",{"$f":"'[1]Report-full'!B2380","v":138.38999999999999},{"$f":"'[1]Report-full'!C2380","v":86.55},{"$f":"'[1]Report-full'!D2380","v":12.63}]
[null,"00:00:00",null,null,null,null,null,null,null,null,null,null,null,null,"2012-06-29",{"$f":"'[1]Report-full'!B2381","v":138.6},{"$f":"'[1]Report-full'!C2381","v":89.06},{"$f":"'[1]Report-full'!D2381","v":12.6}]
[null,"00:00:00",null,null,null,null,null,null,null,null,null,null,null,null,"2012-07-06",{"$f":"'[1]Report-full'!B2382","v":139.31},{"$f":"'[1]Report-full'!C2382","v":97.6},{"$f":"'[1]Report-full'!D2382","v":13.06}]
[null,"00:00:00",null,null,null,null,null,null,null,null,null,null,null,null,"2012-07-13",{"$f":"'[1]Report-full'!B2383","v":139.52000000000001},{"$f":"'[1]Report-full'!C2383","v":100},{"$f":"'[1]Report-full'!D2383","v":13.45}]
[null,"00:00:00",null,null,null,null,null,null,null,null,null,null,null,null,"2012-07-20",{"$f":"'[1]Report-full'!B2384","v":139.80000000000001},{"$f":"'[1]Report-full'!C2384","v":100},{"$f":"'[1]Report-full'!D2384","v":13.77}]
[null,"00:00:00",null,null,null,null,null,null,null,null,null,null,null,null,"2012-07-27",{"$f":"'[1]Report-full'!B2385","v":139.69999999999999},{"$f":"'[1]Report-full'!C2385","v":98.84},{"$f":"'[1]Report-full'!D2385","v":13.97}]
[null,"00:00:00",null,null,null,null,null,null,null,null,null,null,null,null,"2012-08-03",{"$f":"'[1]Report-full'!B2386","v":140.03},{"$f":"'[1]Report-full'!C2386","v":100},{"$f":"'[1]Report-full'!D2386","v":14.02}]
[null,"00:00:00",null,null,null,null,null,null,null,null,null,null,null,null,"2012-08-10",{"$f":"'[1]Report-full'!B2387","v":140.22999999999999},{"$f":"'[1]Report-full'!C2387","v":100},{"$f":"'[1]Report-full'!D2387","v":14.05}]
[null,"00:00:00",null,null,null,null,null,null,null,null,null,null,null,null,"2012-08-17",{"$f":"'[1]Report-full'!B2388","v":140.44},{"$f":"'[1]Report-full'!C2388","v":100},{"$f":"'[1]Report-full'!D2388","v":14.02}]
[null,"00:00:00",null,null,null,null,null,null,null,null,null,null,null,null,"2012-08-24",{"$f":"'[1]Report-full'!B2389","v":140.69999999999999},{"$f":"'[1]Report-full'!C2389","v":100},{"$f":"'[1]Report-full'!D2389","v":14.12}]
[null,"00:00:00",null,null,null,null,null,null,null,null,null,null,null,null,"2012-08-31",{"$f":"'[1]Report-full'!B2390","v":140.6},{"$f":"'[1]Report-full'!C2390","v":98.73},{"$f":"'[1]Report-full'!D2390","v":14.01}]
[null,"00:00:00",null,null,null,null,null,null,null,null,null,null,null,null,"2012-09-07",{"$f":"'[1]Report-full'!B2391","v":140.49},{"$f":"'[1]Report-full'!C2391","v":97.49},{"$f":"'[1]Report-full'!D2391","v":13.78}]
[null,"00:00:00",null,null,null,null,null,null,null,null,null,null,null,null,"2012-09-14",{"$f":"'[1]Report-full'!B2392","v":140.9},{"$f":"'[1]Report-full'!C2392","v":100},{"$f":"'[1]Report-full'!D2392","v":13.62}]
[null,"00:00:00",null,null,null,null,null,null,null,null,null,null,null,null,"2012-09-21",{"$f":"'[1]Report-full'!B2393","v":141.47999999999999},{"$f":"'[1]Report-full'!C2393","v":100},{"$f":"'[1]Report-full'!D2393","v":13.57}]
[null,"00:00:00",null,null,null,null,null,null,null,null,null,null,null,null,"2012-09-28",{"$f":"'[1]Report-full'!B2394","v":141.76},{"$f":"'[1]Report-full'!C2394","v":100},{"$f":"'[1]Report-full'!D2394","v":13.66}]
[null,"00:00:00",null,null,null,null,null,null,null,null,null,null,null,null,"2012-10-05",{"$f":"'[1]Report-full'!B2395","v":142.02000000000001},{"$f":"'[1]Report-full'!C2395","v":100},{"$f":"'[1]Report-full'!D2395","v":13.87}]
[null,"00:00:00",null,null,null,null,null,null,null,null,null,null,null,null,"2012-10-12",{"$f":"'[1]Report-full'!B2396","v":142.31},{"$f":"'[1]Report-full'!C2396","v":100},{"$f":"'[1]Report-full'!D2396","v":14.02}]
[null,"00:00:00",null,null,null,null,null,null,null,null,null,null,null,null,"2012-10-19",{"$f":"'[1]Report-full'!B2397","v":142.44},{"$f":"'[1]Report-full'!C2397","v":100},{"$f":"'[1]Report-full'!D2397","v":13.99}]
[null,"00:00:00",null,null,null,null,null,null,null,null,null,null,null,null,"2012-10-26",{"$f":"'[1]Report-full'!B2398","v":142.32},{"$f":"'[1]Report-full'!C2398","v":98.56},{"$f":"'[1]Report-full'!D2398","v":13.82}]
[null,"00:00:00",null,null,null,null,null,null,null,null,null,null,null,null,"2012-11-02",{"$f":"'[1]Report-full'!B2399","v":142.44},{"$f":"'[1]Report-full'!C2399","v":99.98},{"$f":"'[1]Report-full'!D2399","v":13.61}]
[null,"00:00:00",null,null,null,null,null,null,null,null,null,null,null,null,"2012-11-09",{"$f":"'[1]Report-full'!B2400","v":143.12},{"$f":"'[1]Report-full'!C2400","v":100},{"$f":"'[1]Report-full'!D2400","v":13.55}]
[null,"00:00:00",null,null,null,null,null,null,null,null,null,null,null,null,"2012-11-16",{"$f":"'[1]Report-full'!B2401","v":142.06},{"$f":"'[1]Report-full'!C2401","v":87.53},{"$f":"'[1]Report-full'!D2401","v":13.07}]
[null,"00:00:00",null,null,null,null,null,null,null,null,null,null,null,null,"2012-11-23",{"$f":"'[1]Report-full'!B2402","v":141.94},{"$f":"'[1]Report-full'!C2402","v":86.15},{"$f":"'[1]Report-full'!D2402","v":12.6}]
[null,"00:00:00",null,null,null,null,null,null,null,null,null,null,null,null,"2012-11-30",{"$f":"'[1]Report-full'!B2403","v":142},{"$f":"'[1]Report-full'!C2403","v":86.9},{"$f":"'[1]Report-full'!D2403","v":12.12}]
[null,"00:00:00",null,null,null,null,null,null,null,null,null,null,null,null,"2012-12-07",{"$f":"'[1]Report-full'!B2404","v":142.26},{"$f":"'[1]Report-full'!C2404","v":89.95},{"$f":"'[1]Report-full'!D2404","v":11.49}]
[null,"00:00:00",null,null,null,null,null,null,null,null,null,null,null,null,"2012-12-14",{"$f":"'[1]Report-full'!B2405","v":142.65},{"$f":"'[1]Report-full'!C2405","v":94.54},{"$f":"'[1]Report-full'!D2405","v":11.39}]
[null,"00:00:00",null,null,null,null,null,null,null,null,null,null,null,null,"2012-12-21",{"$f":"'[1]Report-full'!B2406","v":142.88},{"$f":"'[1]Report-full'!C2406","v":97.24},{"$f":"'[1]Report-full'!D2406","v":11.43}]
[null,"00:00:00",null,null,null,null,null,null,null,null,null,null,null,null,"2012-12-28",{"$f":"'[1]Report-full'!B2407","v":143.96},{"$f":"'[1]Report-full'!C2407","v":100},{"$f":"'[1]Report-full'!D2407","v":11.83}]
[null,"00:00:00",null,null,null,null,null,null,null,null,null,null,null,null,"2013-01-04",{"$f":"'[1]Report-full'!B2408","v":144.29},{"$f":"'[1]Report-full'!C2408","v":100},{"$f":"'[1]Report-full'!D2408","v":12.26}]
[null,"00:00:00",null,null,null,null,null,null,null,null,null,null,null,null,"2013-01-11",{"$f":"'[1]Report-full'!B2409","v":145.44},{"$f":"'[1]Report-full'!C2409","v":100},{"$f":"'[1]Report-full'!D2409","v":12.96}]
[null,"00:00:00",null,null,null,null,null,null,null,null,null,null,null,null,"2013-01-18",{"$f":"'[1]Report-full'!B2410","v":145.94},{"$f":"'[1]Report-full'!C2410","v":100},{"$f":"'[1]Report-full'!D2410","v":13.75}]
[null,"00:00:00",null,null,null,null,null,null,null,null,null,null,null,null,"2013-01-25",{"$f":"'[1]Report-full'!B2411","v":146.61000000000001},{"$f":"'[1]Report-full'!C2411","v":100},{"$f":"'[1]Report-full'!D2411","v":14.39}]
[null,"00:00:00",null,null,null,null,null,null,null,null,null,null,null,null,"2013-02-01",{"$f":"'[1]Report-full'!B2412","v":146.91},{"$f":"'[1]Report-full'!C2412","v":100},{"$f":"'[1]Report-full'!D2412","v":15.01}]
[null,"00:00:00",null,null,null,null,null,null,null,null,null,null,null,null,"2013-02-08",{"$f":"'[1]Report-full'!B2413","v":147.01},{"$f":"'[1]Report-full'!C2413","v":100},{"$f":"'[1]Report-full'!D2413","v":15.24}]
[null,"00:00:00",null,null,null,null,null,null,null,null,null,null,null,null,"2013-02-15",{"$f":"'[1]Report-full'!B2414","v":147.61000000000001},{"$f":"'[1]Report-full'!C2414","v":100},{"$f":"'[1]Report-full'!D2414","v":15.52}]
[null,"00:00:00",null,null,null,null,null,null,null,null,null,null,null,null,"2013-02-22",{"$f":"'[1]Report-full'!B2415","v":147.81},{"$f":"'[1]Report-full'!C2415","v":100},{"$f":"'[1]Report-full'!D2415","v":15.62}]
[null,"00:00:00",null,null,null,null,null,null,null,null,null,null,null,null,"2013-03-01",{"$f":"'[1]Report-full'!B2416","v":149.06},{"$f":"'[1]Report-full'!C2416","v":100},{"$f":"'[1]Report-full'!D2416","v":16.079999999999998}]
[null,"00:00:00",null,null,null,null,null,null,null,null,null,null,null,null,"2013-03-08",{"$f":"'[1]Report-full'!B2417","v":150.22},{"$f":"'[1]Report-full'!C2417","v":100},{"$f":"'[1]Report-full'!D2417","v":16.920000000000002}]
[null,"00:00:00",null,null,null,null,null,null,null,null,null,null,null,null,"2013-03-15",{"$f":"'[1]Report-full'!B2418","v":151.38},{"$f":"'[1]Report-full'!C2418","v":100},{"$f":"'[1]Report-full'!D2418","v":17.95}]
[null,"00:00:00",null,null,null,null,null,null,null,null,null,null,null,null,"2013-03-22",{"$f":"'[1]Report-full'!B2419","v":151.88},{"$f":"'[1]Report-full'!C2419","v":100},{"$f":"'[1]Report-full'!D2419","v":19.059999999999999}]
[null,"00:00:00",null,null,null,null,null,null,null,null,null,null,null,null,"2013-03-29",{"$f":"'[1]Report-full'!B2420","v":152.13999999999999},{"$f":"'[1]Report-full'!C2420","v":100},{"$f":"'[1]Report-full'!D2420","v":19.79}]
[null,"00:00:00",null,null,null,null,null,null,null,null,null,null,null,null,"2013-04-05",{"$f":"'[1]Report-full'!B2421","v":152.35},{"$f":"'[1]Report-full'!C2421","v":100},{"$f":"'[1]Report-full'!D2421","v":20.149999999999999}]
[null,"00:00:00",null,null,null,null,null,null,null,null,null,null,null,null,"2013-04-12",{"$f":"'[1]Report-full'!B2422","v":152.44},{"$f":"'[1]Report-full'!C2422","v":100},{"$f":"'[1]Report-full'!D2422","v":20.12}]
[null,"00:00:00",null,null,null,null,null,null,null,null,null,null,null,null,"2013-04-19",{"$f":"'[1]Report-full'!B2423","v":152.63},{"$f":"'[1]Report-full'!C2423","v":100},{"$f":"'[1]Report-full'!D2423","v":19.98}]
[null,"00:00:00",null,null,null,null,null,null,null,null,null,null,null,null,"2013-04-26",{"$f":"'[1]Report-full'!B2424","v":152.9},{"$f":"'[1]Report-full'!C2424","v":100},{"$f":"'[1]Report-full'!D2424","v":19.86}]
[null,"00:00:00",null,null,null,null,null,null,null,null,null,null,null,null,"2013-05-03",{"$f":"'[1]Report-full'!B2425","v":153.37},{"$f":"'[1]Report-full'!C2425","v":100},{"$f":"'[1]Report-full'!D2425","v":19.829999999999998}]
[null,"00:00:00",null,null,null,null,null,null,null,null,null,null,null,null,"2013-05-10",{"$f":"'[1]Report-full'!B2426","v":154.04},{"$f":"'[1]Report-full'!C2426","v":100},{"$f":"'[1]Report-full'!D2426","v":20.02}]
[null,"00:00:00",null,null,null,null,null,null,null,null,null,null,null,null,"2013-05-17",{"$f":"'[1]Report-full'!B2427","v":154.49},{"$f":"'[1]Report-full'!C2427","v":100},{"$f":"'[1]Report-full'!D2427","v":20.27}]
[null,"00:00:00",null,null,null,null,null,null,null,null,null,null,null,null,"2013-05-24",{"$f":"'[1]Report-full'!B2428","v":155.29},{"$f":"'[1]Report-full'!C2428","v":100},{"$f":"'[1]Report-full'!D2428","v":20.71}]
[null,"00:00:00",null,null,null,null,null,null,null,null,null,null,null,null,"2013-05-31",{"$f":"'[1]Report-full'!B2429","v":155.80000000000001},{"$f":"'[1]Report-full'!C2429","v":100},{"$f":"'[1]Report-full'!D2429","v":21.12}]
[null,{"$f":"INT(C2425-($H$4/2*7))","v":"00:00:00"},null,null,null,null,null,null,null,null,null,null,null,null,"2013-06-07",{"$f":"'[1]Report-full'!B2430","v":156},{"$f":"'[1]Report-full'!C2430","v":100},{"$f":"'[1]Report-full'!D2430","v":21.34}]
[null,{"$f":"INT(C2426-($H$4/2*7))","v":"00:00:00"},null,null,null,null,null,null,null,null,null,null,null,null,"2013-06-14",{"$f":"'[1]Report-full'!B2431","v":156.30000000000001},{"$f":"'[1]Report-full'!C2431","v":100},{"$f":"'[1]Report-full'!D2431","v":21.48}]
[null,{"$f":"INT(C2427-($H$4/2*7))","v":"00:00:00"},null,null,null,null,null,null,null,null,null,null,null,null,"2013-06-21",{"$f":"'[1]Report-full'!B2432","v":156.63999999999999},{"$f":"'[1]Report-full'!C2432","v":100},{"$f":"'[1]Report-full'!D2432","v":21.43}]
[null,null,null,null,null,null,null,null,null,null,null,null,null,null,"2013-06-28",{"$f":"'[1]Report-full'!B2433","v":155.88},{"$f":"'[1]Report-full'!C2433","v":91.89},{"$f":"'[1]Report-full'!D2433","v":20.91}]
[null,null,null,null,null,null,null,null,null,null,null,null,null,null,"2013-07-05",{"$f":"'[1]Report-full'!B2434","v":156.19999999999999},{"$f":"'[1]Report-full'!C2434","v":95.31},{"$f":"'[1]Report-full'!D2434","v":20.45}]
[null,null,null,null,null,null,null,null,null,null,null,null,null,null,"2013-07-12",{"$f":"'[1]Report-full'!B2435","v":156.43},{"$f":"'[1]Report-full'!C2435","v":97.83},{"$f":"'[1]Report-full'!D2435","v":19.98}]
[null,null,null,null,null,null,null,null,null,null,null,null,null,null,{"$f":"O2430+7","v":"2013-07-19"},{"$f":"'[1]Report-full'!B2436","v":156.5},{"$f":"'[1]Report-full'!C2436","v":98.55},{"$f":"'[1]Report-full'!D2436","v":19.420000000000002}]
[null,null,null,null,null,null,null,null,null,null,null,null,null,null,"2013-07-26",{"$f":"'[1]Report-full'!B2437","v":157},{"$f":"'[1]Report-full'!C2437","v":100},{"$f":"'[1]Report-full'!D2437","v":19.32}]
[null,null,null,null,null,null,null,null,null,null,null,null,null,null,"2013-08-02",{"$f":"'[1]Report-full'!B2438","v":157.9},{"$f":"'[1]Report-full'!C2438","v":100},{"$f":"'[1]Report-full'!D2438","v":19.43}]
[null,null,null,null,null,null,null,null,null,null,null,null,null,null,"2013-08-09",{"$f":"'[1]Report-full'!B2439","v":158.38},{"$f":"'[1]Report-full'!C2439","v":100},{"$f":"'[1]Report-full'!D2439","v":19.62}]
[null,null,null,null,null,null,null,null,null,null,null,null,null,null,"2013-08-16",{"$f":"'[1]Report-full'!B2440","v":158.68},{"$f":"'[1]Report-full'!C2440","v":100},{"$f":"'[1]Report-full'!D2440","v":19.89}]
[null,null,null,null,null,null,null,null,null,null,null,null,null,null,"2013-08-23",{"$f":"'[1]Report-full'!B2441","v":157.1},{"$f":"'[1]Report-full'!C2441","v":83.29},{"$f":"'[1]Report-full'!D2441","v":19.399999999999999}]
[null,null,null,null,null,null,null,null,null,null,null,null,null,null,"2013-08-30",{"$f":"'[1]Report-full'!B2442","v":156.28},{"$f":"'[1]Report-full'!C2442","v":74.62},{"$f":"'[1]Report-full'!D2442","v":18.329999999999998}]
[null,null,null,null,null,null,null,null,null,null,null,null,null,null,"2013-09-06",{"$f":"'[1]Report-full'!B2443","v":156.02000000000001},{"$f":"'[1]Report-full'!C2443","v":71.78},{"$f":"'[1]Report-full'!D2443","v":17.02}]
[null,null,null,null,null,null,null,null,null,null,null,null,null,null,"2013-09-13",{"$f":"'[1]Report-full'!B2444","v":156.9},{"$f":"'[1]Report-full'!C2444","v":81.14},{"$f":"'[1]Report-full'!D2444","v":15.94}]
[null,null,null,null,null,null,null,null,null,null,null,null,null,null,"2013-09-20",{"$f":"'[1]Report-full'!B2445","v":157.76},{"$f":"'[1]Report-full'!C2445","v":90.2},{"$f":"'[1]Report-full'!D2445","v":15.73}]
[null,null,null,null,null,null,null,null,null,null,null,null,null,null,"2013-09-27",{"$f":"'[1]Report-full'!B2446","v":158.41},{"$f":"'[1]Report-full'!C2446","v":97.17},{"$f":"'[1]Report-full'!D2446","v":16.02}]
[null,null,null,null,null,null,null,null,null,null,null,null,null,null,"2013-10-04",{"$f":"'[1]Report-full'!B2447","v":158.15},{"$f":"'[1]Report-full'!C2447","v":94.39},{"$f":"'[1]Report-full'!D2447","v":16.3}]
[null,null,null,null,null,null,null,null,null,null,null,null,null,null,"2013-10-11",{"$f":"'[1]Report-full'!B2448","v":157.94999999999999},{"$f":"'[1]Report-full'!C2448","v":92.3},{"$f":"'[1]Report-full'!D2448","v":16.22}]
[null,null,null,null,null,null,null,null,null,null,null,null,null,null,"2013-10-18",{"$f":"'[1]Report-full'!B2449","v":158.59},{"$f":"'[1]Report-full'!C2449","v":99.08},{"$f":"'[1]Report-full'!D2449","v":16.059999999999999}]
[null,null,null,null,null,null,null,null,null,null,null,null,null,null,"2013-10-25",{"$f":"'[1]Report-full'!B2450","v":159.33000000000001},{"$f":"'[1]Report-full'!C2450","v":100},{"$f":"'[1]Report-full'!D2450","v":15.93}]
[null,null,null,null,null,null,null,null,null,null,null,null,null,null,"2013-11-01",{"$f":"'[1]Report-full'!B2451","v":160.52000000000001},{"$f":"'[1]Report-full'!C2451","v":100},{"$f":"'[1]Report-full'!D2451","v":16.29}]
[null,null,null,null,null,null,null,null,null,null,null,null,null,null,"2013-11-08",{"$f":"'[1]Report-full'!B2452","v":161.18},{"$f":"'[1]Report-full'!C2452","v":100},{"$f":"'[1]Report-full'!D2452","v":16.920000000000002}]
[null,null,null,null,null,null,null,null,null,null,null,null,null,null,"2013-11-15",{"$f":"'[1]Report-full'!B2453","v":162.01},{"$f":"'[1]Report-full'!C2453","v":100},{"$f":"'[1]Report-full'!D2453","v":17.61}]
[null,null,null,null,null,null,null,null,null,null,null,null,null,null,"2013-11-22",{"$f":"'[1]Report-full'!B2454","v":162.44999999999999},{"$f":"'[1]Report-full'!C2454","v":100},{"$f":"'[1]Report-full'!D2454","v":18.16}]
[null,null,null,null,null,null,null,null,null,null,null,null,null,null,"2013-11-29",{"$f":"'[1]Report-full'!B2455","v":164.39},{"$f":"'[1]Report-full'!C2455","v":100},{"$f":"'[1]Report-full'!D2455","v":18.940000000000001}]
[null,null,null,null,null,null,null,null,null,null,null,null,null,null,"2013-12-06",{"$f":"'[1]Report-full'!B2456","v":165.52},{"$f":"'[1]Report-full'!C2456","v":100},{"$f":"'[1]Report-full'!D2456","v":19.86}]
[null,null,null,null,null,null,null,null,null,null,null,null,null,null,"2013-12-13",{"$f":"'[1]Report-full'!B2457","v":166.04},{"$f":"'[1]Report-full'!C2457","v":100},{"$f":"'[1]Report-full'!D2457","v":20.63}]
[null,null,null,null,null,null,null,null,null,null,null,null,null,null,"2013-12-20",{"$f":"'[1]Report-full'!B2458","v":165.91},{"$f":"'[1]Report-full'!C2458","v":98.67},{"$f":"'[1]Report-full'!D2458","v":21.18}]
[null,null,null,null,null,null,null,null,null,null,null,null,null,null,"2013-12-27",{"$f":"'[1]Report-full'!B2459","v":166},{"$f":"'[1]Report-full'!C2459","v":99.55},{"$f":"'[1]Report-full'!D2459","v":21.08}]
[null,null,null,null,null,null,null,null,null,null,null,null,null,null,{"$f":"'[1]Report-full'!A2460+1","v":"2014-01-03"},{"$f":"'[1]Report-full'!B2460","v":166.68},{"$f":"'[1]Report-full'!C2460","v":100},{"$f":"'[1]Report-full'!D2460","v":20.83}]
[null,null,null,null,null,null,null,null,null,null,null,null,null,null,{"$f":"'[1]Report-full'!A2461+1","v":"2014-01-10"},{"$f":"'[1]Report-full'!B2461","v":166.66},{"$f":"'[1]Report-full'!C2461","v":99.85},{"$f":"'[1]Report-full'!D2461","v":20.41}]
[null,null,null,null,null,null,null,null,null,null,null,null,null,null,{"$f":"'[1]Report-full'!A2462+1","v":"2014-01-17"},{"$f":"'[1]Report-full'!B2462","v":166.23},{"$f":"'[1]Report-full'!C2462","v":95.49},{"$f":"'[1]Report-full'!D2462","v":19.899999999999999}]
[null,null,null,null,null,null,null,null,null,null,null,null,null,null,{"$f":"'[1]Report-full'!A2463+1","v":"2014-01-24"},{"$f":"'[1]Report-full'!B2463","v":166.04},{"$f":"'[1]Report-full'!C2463","v":93.63},{"$f":"'[1]Report-full'!D2463","v":19.329999999999998}]
[null,null,null,null,null,null,null,null,null,null,null,null,null,null,{"$f":"'[1]Report-full'!A2464+1","v":"2014-01-31"},{"$f":"'[1]Report-full'!B2464","v":165.61},{"$f":"'[1]Report-full'!C2464","v":89.28},{"$f":"'[1]Report-full'!D2464","v":18.399999999999999}]
[null,null,null,null,null,null,null,null,null,null,null,null,null,null,{"$f":"'[1]Report-full'!A2465+1","v":"2014-02-07"},{"$f":"'[1]Report-full'!B2465","v":165.21},{"$f":"'[1]Report-full'!C2465","v":85.24},{"$f":"'[1]Report-full'!D2465","v":17.39}]
[null,null,null,null,null,null,null,null,null,null,null,null,null,null,{"$f":"'[1]Report-full'!A2466+1","v":"2014-02-14"},{"$f":"'[1]Report-full'!B2466","v":165.74},{"$f":"'[1]Report-full'!C2466","v":90.59},{"$f":"'[1]Report-full'!D2466","v":16.72}]
[null,null,null,null,null,null,null,null,null,null,null,null,null,null,{"$f":"'[1]Report-full'!A2467+1","v":"2014-02-21"},{"$f":"'[1]Report-full'!B2467","v":166.16},{"$f":"'[1]Report-full'!C2467","v":94.86},{"$f":"'[1]Report-full'!D2467","v":16.260000000000002}]
[null,null,null,null,null,null,null,null,null,null,null,null,null,null,{"$f":"'[1]Report-full'!A2468+1","v":"2014-02-28"},{"$f":"'[1]Report-full'!B2468","v":166.69},{"$f":"'[1]Report-full'!C2468","v":100},{"$f":"'[1]Report-full'!D2468","v":16.13}]
[null,null,null,null,null,null,null,null,null,null,null,null,null,null,{"$f":"'[1]Report-full'!A2469+1","v":"2014-03-07"},{"$f":"'[1]Report-full'!B2469","v":167.53},{"$f":"'[1]Report-full'!C2469","v":100},{"$f":"'[1]Report-full'!D2469","v":16.41}]
[null,null,null,null,null,null,null,null,null,null,null,null,null,null,{"$f":"'[1]Report-full'!A2470+1","v":"2014-03-14"},{"$f":"'[1]Report-full'!B2470","v":168.4},{"$f":"'[1]Report-full'!C2470","v":100},{"$f":"'[1]Report-full'!D2470","v":16.8}]
[null,null,null,null,null,null,null,null,null,null,null,null,null,null,{"$f":"'[1]Report-full'!A2471+1","v":"2014-03-21"},{"$f":"'[1]Report-full'!B2471","v":168.45},{"$f":"'[1]Report-full'!C2471","v":100},{"$f":"'[1]Report-full'!D2471","v":17.079999999999998}]
[null,null,null,null,null,null,null,null,null,null,null,null,null,null,{"$f":"'[1]Report-full'!A2472+1","v":"2014-03-28"},{"$f":"'[1]Report-full'!B2472","v":169.04},{"$f":"'[1]Report-full'!C2472","v":100},{"$f":"'[1]Report-full'!D2472","v":17.39}]
[null,null,null,null,null,null,null,null,null,null,null,null,null,null,{"$f":"'[1]Report-full'!A2473+1","v":"2014-04-04"},{"$f":"'[1]Report-full'!B2473","v":168.6},{"$f":"'[1]Report-full'!C2473","v":95.59},{"$f":"'[1]Report-full'!D2473","v":17.3}]
[null,null,null,null,null,null,null,null,null,null,null,null,null,null,{"$f":"'[1]Report-full'!A2474+1","v":"2014-04-11"},{"$f":"'[1]Report-full'!B2474","v":168.89},{"$f":"'[1]Report-full'!C2474","v":98.46},{"$f":"'[1]Report-full'!D2474","v":17.02}]
[null,null,null,null,null,null,null,null,null,null,null,null,null,null,{"$f":"'[1]Report-full'!A2475+1","v":"2014-04-18"},{"$f":"'[1]Report-full'!B2475","v":168.75},{"$f":"'[1]Report-full'!C2475","v":97.08},{"$f":"'[1]Report-full'!D2475","v":16.68}]
[null,null,null,null,null,null,null,null,null,null,null,null,null,null,{"$f":"'[1]Report-full'!A2476+1","v":"2014-04-25"},{"$f":"'[1]Report-full'!B2476","v":169.4},{"$f":"'[1]Report-full'!C2476","v":100},{"$f":"'[1]Report-full'!D2476","v":16.37}]
[null,null,null,null,null,null,null,null,null,null,null,null,null,null,{"$f":"'[1]Report-full'!A2477+1","v":"2014-05-02"},{"$f":"'[1]Report-full'!B2477","v":168.96},{"$f":"'[1]Report-full'!C2477","v":95.61},{"$f":"'[1]Report-full'!D2477","v":16.059999999999999}]
[null,null,null,null,null,null,null,null,null,null,null,null,null,null,{"$f":"'[1]Report-full'!A2478+1","v":"2014-05-09"},{"$f":"'[1]Report-full'!B2478","v":169.34},{"$f":"'[1]Report-full'!C2478","v":99.43},{"$f":"'[1]Report-full'!D2478","v":15.79}]
[null,null,null,null,null,null,null,null,null,null,null,null,null,null,{"$f":"'[1]Report-full'!A2479+1","v":"2014-05-16"},{"$f":"'[1]Report-full'!B2479","v":169.82},{"$f":"'[1]Report-full'!C2479","v":100},{"$f":"'[1]Report-full'!D2479","v":15.72}]
[null,null,null,null,null,null,null,null,null,null,null,null,null,null,{"$f":"'[1]Report-full'!A2480+1","v":"2014-05-23"},{"$f":"'[1]Report-full'!B2480","v":170.39},{"$f":"'[1]Report-full'!C2480","v":100},{"$f":"'[1]Report-full'!D2480","v":15.63}]
[null,null,null,null,null,null,null,null,null,null,null,null,null,null,{"$f":"'[1]Report-full'!A2481+1","v":"2014-05-30"},{"$f":"'[1]Report-full'!B2481","v":171.2},{"$f":"'[1]Report-full'!C2481","v":100},{"$f":"'[1]Report-full'!D2481","v":15.95}]
[null,null,null,null,null,null,null,null,null,null,null,null,null,null,{"$f":"'[1]Report-full'!A2482+1","v":"2014-06-06"},{"$f":"'[1]Report-full'!B2482","v":171.93},{"$f":"'[1]Report-full'!C2482","v":100},{"$f":"'[1]Report-full'!D2482","v":16.38}]
[null,null,null,null,null,null,null,null,null,null,null,null,null,null,{"$f":"'[1]Report-full'!A2483+1","v":"2014-06-13"},{"$f":"'[1]Report-full'!B2483","v":172.51},{"$f":"'[1]Report-full'!C2483","v":100},{"$f":"'[1]Report-full'!D2483","v":16.84}]
[null,null,null,null,null,null,null,null,null,null,null,null,null,null,{"$f":"'[1]Report-full'!A2484+1","v":"2014-06-20"},{"$f":"'[1]Report-full'!B2484","v":173.03},{"$f":"'[1]Report-full'!C2484","v":100},{"$f":"'[1]Report-full'!D2484","v":17.27}]
[null,null,null,null,null,null,null,null,null,null,null,null,null,null,{"$f":"'[1]Report-full'!A2485+1","v":"2014-06-27"},{"$f":"'[1]Report-full'!B2485","v":175.32},{"$f":"'[1]Report-full'!C2485","v":100},{"$f":"'[1]Report-full'!D2485","v":18.170000000000002}]
[null,null,null,null,null,null,null,null,null,null,null,null,null,null,{"$f":"'[1]Report-full'!A2486+1","v":"2014-07-04"},{"$f":"'[1]Report-full'!B2486","v":176.58},{"$f":"'[1]Report-full'!C2486","v":100},{"$f":"'[1]Report-full'!D2486","v":19.21}]
[null,null,null,null,null,null,null,null,null,null,null,null,null,null,{"$f":"'[1]Report-full'!A2487+1","v":"2014-07-11"},{"$f":"'[1]Report-full'!B2487","v":177.47},{"$f":"'[1]Report-full'!C2487","v":100},{"$f":"'[1]Report-full'!D2487","v":20.309999999999999}]
[null,null,null,null,null,null,null,null,null,null,null,null,null,null,{"$f":"'[1]Report-full'!A2488+1","v":"2014-07-18"},{"$f":"'[1]Report-full'!B2488","v":178.48},{"$f":"'[1]Report-full'!C2488","v":100},{"$f":"'[1]Report-full'!D2488","v":21.57}]
[null,null,null,null,null,null,null,null,null,null,null,null,null,null,{"$f":"'[1]Report-full'!A2489+1","v":"2014-07-25"},{"$f":"'[1]Report-full'!B2489","v":179.17},{"$f":"'[1]Report-full'!C2489","v":100},{"$f":"'[1]Report-full'!D2489","v":22.23}]
[null,null,null,null,null,null,null,null,null,null,null,null,null,null,{"$f":"'[1]Report-full'!A2490+1","v":"2014-08-01"},{"$f":"'[1]Report-full'!B2490","v":"-"},{"$f":"'[1]Report-full'!C2490","v":"-"},{"$f":"'[1]Report-full'!D2490","v":"-"}]
[null,null,null,null,null,null,null,null,null,null,null,null,null,null,{"$f":"'[1]Report-full'!A2491+1","v":"2014-08-08"},{"$f":"'[1]Report-full'!B2491","v":"-"},{"$f":"'[1]Report-full'!C2491","v":"-"},{"$f":"'[1]Report-full'!D2491","v":"-"}]
[null,null,null,null,null,null,null,null,null,null,null,null,null,null,{"$f":"'[1]Report-full'!A2492+1","v":"2014-08-15"},{"$f":"'[1]Report-full'!B2492","v":"-"},{"$f":"'[1]Report-full'!C2492","v":"-"},{"$f":"'[1]Report-full'!D2492","v":"-"}]
[null,null,null,null,null,null,null,null,null,null,null,null,null,null,{"$f":"'[1]Report-full'!A2493+1","v":"2014-08-22"},{"$f":"'[1]Report-full'!B2493","v":"-"},{"$f":"'[1]Report-full'!C2493","v":"-"},{"$f":"'[1]Report-full'!D2493","v":"-"}]
[null,null,null,null,null,null,null,null,null,null,null,null,null,null,{"$f":"'[1]Report-full'!A2494+1","v":"1900-01-01"},{"$f":"'[1]Report-full'!B2494","v":0},{"$f":"'[1]Report-full'!C2494","v":0},{"$f":"'[1]Report-full'!D2494","v":0}]
[null,null,null,null,null,null,null,null,null,null,null,null,null,null,{"$f":"'[1]Report-full'!A2495+1","v":"1900-01-01"},{"$f":"'[1]Report-full'!B2495","v":0},{"$f":"'[1]Report-full'!C2495","v":0},{"$f":"'[1]Report-full'!D2495","v":0}]
[null,null,null,null,null,null,null,null,null,null,null,null,null,null,{"$f":"'[1]Report-full'!A2496+1","v":"1900-01-01"},{"$f":"'[1]Report-full'!B2496","v":0},{"$f":"'[1]Report-full'!C2496","v":0},{"$f":"'[1]Report-full'!D2496","v":0}]

{"sheet":"BCIg","index":1,"n_rows":2435,"n_cols":62,"rows_kept":1125,"cut":true,"hidden":false,"merged":[],"bounds":{"rows_first":500,"rows_last":125,"rows_between":500,"halvings":2}}
[null,"BCIg",null,null,"BCIg",null,null,null,"BCIg ",null,null,null,null,null,null,null,null,null,null,null,null,null,null,{"$f":"IF(CELL(\"COL\",X1:X1)>26,CHAR(64+INT(CELL(\"COL\",X1:X1)/26.1)),\"\")&CHAR(MOD(CELL(\"COL\",X1:X1)-1,26)+65)","v":"X"},"Y",null,{"$f":"IF(CELL(\"COL\",AA1:AA1)>26,CHAR(64+INT(CELL(\"COL\",AA1:AA1)/26.1)),\"\")&CHAR(MOD(CELL(\"COL\",AA1:AA1)-1,26)+65)","v":"AA"},"AB","AC","AD","AE","AF",null,null,null,null,null,null,null,null,null,null,null,"                   Recessions",null,null,null,"line zero",null,null,null,null,null,null,null,null,"current level ","  "]
[null,"list-time",null,null,"real-time",null,null,null,"real-time",null,null,null,null,null,null,null,null,null,null,null,null,null,null,null,null,null,null,"sell",null,"buy","S&P500",null,null,null,null,null,null,null,null,null,null,null,null,null,null,null,null,null,null,null,null,null,null,null,null,null,{"$f":"I5","v":22.23},{"$f":"BE1&BF1&BE2","v":"current level   22.23"}]
[null,"weekly",null,null,"weekly",null,null,null,"level on ",{"$f":"I$3&J4&$I$6&H5","v":"level on 7/25/14 =  22.23"}]
[null,null,null,null,null,null,null,null,{"$f":"MAX(M2312:M2847)","v":"2014-07-25"},{"$f":"TEXT(I4,\"m/d/y\")","v":"7/25/14"},null,null,null,null,"weekly",null,null,null,null,null,null,null,null,0,null,null,null,8,null,5]
[null,null,null,null,{"$f":"MAX(E9:E2847)","v":35.58},null,null,{"$f":"TEXT(I5,\"0.00\")","v":"22.23"},{"$f":"ROUND(VLOOKUP(I4,$M$2312:$X$2847,12),2)","v":22.23},{"$f":"I$1&I5","v":"BCIg 22.23"},null,null,null,null,null,null,null,{"$f":"R7/$W7","v":1}]
[null,null,null,null,null,null,null,null," =  ",null,null,null,"report date","NBER","BCIg",null,null,"BCIg",null,null,null,null,"sum",null,{"$f":"TEXT(Z6,\"0.00%\")","v":"5.69%"},{"$f":"Z7/Z8","v":5.688375927452597E-2}]
[null,null,null,null,null,null,null,null,null,{"$f":"I$3&J8&$I$6&H9","v":"level on 7/18/14 =  21.57"},null,null,"weekly","weekly",null,null,null,1,null,null,null,null,{"$f":"SUM(R7:T7)","v":1},null,null,{"$f":"SUM(Z10:Z2847)","v":138},null,null,null,null,null,null,null,null,null,null,null,null,null,null,null,null,null,null,null,null,null,0]
[null,null,null,null,null,null,null,null,{"$f":"I4-7","v":"2014-07-18"},{"$f":"TEXT(I8,\"m/d/y\")","v":"7/18/14"},null,null,null,null,null,null,null,null,null,null,null,null,null,null,null,{"$f":"SUM(V10:V2847)","v":2426},null,null,null,null,null,null,null,null,null,null,null,null,null,null,null,null,null,null,null,null,null,0]
["1968-01-26",{"$f":"VLOOKUP(A9,'input BCI'!$O$3:$R$19039,4)","v":"-"},null,null,null,null,null,{"$f":"TEXT(I9,\"0.00\")","v":"21.57"},{"$f":"ROUND(VLOOKUP(I8,$M$2312:$X$2847,12),2)","v":21.57},{"$f":"I$1&I9","v":"BCIg 21.57"},null,null,null,"-",null,null,null,null,null,null,null,null,null,null,null,null,null,null,null,null,93.45,null,null,null,null,null,null,null,null,null,null,null,null,null,{"$f":"IF(ISNUMBER(AR9),2000,-2000)","v":-2000},null,null,0]
["1968-02-02",{"$f":"VLOOKUP(A10,'input BCI'!$O$3:$R$5000,4)","v":12.26},null,null,{"$f":"B10+$O$7","v":12.26},null,null,null,null,null,null,null,null,"-",{"$f":"E10","v":12.26},null,null,{"$f":"O10*R$7","v":12.26},null,null,null,1,{"$f":"R10","v":12.26},{"$f":"(W10+$X$4)","v":12.26},null,{"$f":"IF(OR(X10=$I$5,X10>$I$5),1,0)","v":0},null,null,null,null,92.27,null,null,null,null,null,null,null,null,null,null,null,null,null,{"$f":"IF(ISNUMBER(AR10),2000,-2000)","v":-2000},null,null,0,null,null,null,null,null,null,null,null,{"$f":"$BE$2","v":22.23},"recession trigger line"]
["1968-02-09",{"$f":"VLOOKUP(A11,'input BCI'!$O$3:$R$5000,4)","v":11.35},null,null,{"$f":"B11+$O$7","v":11.35},null,null,null,null,{"$f":"I$3&J12&$I$6&H13","v":"level on 7/11/14 =  20.31"},null,null,null,"-",{"$f":"E11","v":11.35},null,null,11.35,null,null,null,{"$f":"V10","v":1},{"$f":"R11","v":11.35},{"$f":"(W11+$X$4)","v":11.35},null,{"$f":"IF(OR(X11=$I$5,X11>$I$5),1,0)","v":0},null,null,null,null,89.86,null,null,null,null,null,null,null,null,null,null,null,null,null,-2000,null,null,0,null,null,null,null,null,null,null,null,{"$f":"$BE$2","v":22.23}]
["1968-02-16",{"$f":"VLOOKUP(A12,'input BCI'!$O$3:$R$5000,4)","v":10.06},null,null,10.06,null,null,null,{"$f":"I8-7","v":"2014-07-11"},{"$f":"TEXT(I12,\"m/d/y\")","v":"7/11/14"},null,null,null,"-",10.06,null,null,10.06,null,null,null,{"$f":"V11","v":1},10.06,10.06,null,0,null,null,null,null,89.96,null,null,null,null,null,null,null,null,null,null,null,null,null,-2000,null,null,0,null,null,null,null,null,null,null,null,22.23]
["1968-02-23",{"$f":"VLOOKUP(A13,'input BCI'!$O$3:$R$5000,4)","v":9.18},null,null,9.18,null,null,{"$f":"TEXT(I13,\"0.00\")","v":"20.31"},{"$f":"ROUND(VLOOKUP(I12,$M$2312:$X$2847,12),2)","v":20.309999999999999},{"$f":"I$1&I13","v":"BCIg 20.31"},null,null,null,"-",9.18,null,null,9.18,null,null,null,1,9.18,9.18,{"$f":"AVERAGE(INDIRECT($X$1&ROW()-$Y$4+1):X13)","v":8.9250000000000007},0,{"$f":"IF(Y13>X13,1,0)","v":0},{"$f":"IF(AND(AA12=0,AA13=1,SUM(INDIRECT($AA$1&ROW()-AB$4):AA12)=0),1,0)","v":0},{"$f":"IF(Y13<X13,1,0)","v":1},{"$f":"IF(AND(AC12=0,AC13=1,SUM(INDIRECT($AC$1&ROW()-AD$4):AC12)=0),1,0)","v":1},90.89,null,null,null,null,null,null,null,null,null,null,null,null,null,-2000,null,null,0,null,null,null,null,null,null,null,null,22.23]
["1968-03-01",{"$f":"VLOOKUP(A14,'input BCI'!$O$3:$R$5000,4)","v":8.67},null,null,8.67,null,null,null,null,null,null,null,null,"-",8.67,null,null,8.67,null,null,null,1,8.67,8.67,{"$f":"AVERAGE(INDIRECT($X$1&ROW()-$Y$4+1):X14)","v":8.2850000000000001},0,0,{"$f":"IF(AND(AA13=0,AA14=1,SUM(INDIRECT($AA$1&ROW()-$AB$4):AA13)=0),1,0)","v":0},{"$f":"IF(Y14<X14,1,0)","v":1},{"$f":"IF(AND(AC13=0,AC14=1,SUM(INDIRECT($AC$1&ROW()-AD$4):AC13)=0),1,0)","v":0},89.11,null,null,null,null,null,null,null,null,null,null,null,null,null,-2000,null,null,0,null,null,null,null,null,null,null,null,22.23]
["1968-03-08",{"$f":"VLOOKUP(A15,'input BCI'!$O$3:$R$5000,4)","v":7.9},null,null,7.9,null,null,null,null,{"$f":"I$3&J16&$I$6&H17","v":"level on 7/4/14 =  19.21"},null,null,null,"-",7.9,null,null,7.9,null,null,null,1,7.9,7.9,{"$f":"AVERAGE(INDIRECT($X$1&ROW()-$Y$4+1):X15)","v":7.8100000000000005},0,0,{"$f":"IF(AND(AA14=0,AA15=1,SUM(INDIRECT($AA$1&ROW()-$AB$4):AA14)=0),1,0)","v":0},1,{"$f":"IF(AND(AC14=0,AC15=1,SUM(INDIRECT($AC$1&ROW()-AD$4):AC14)=0),1,0)","v":0},89.03,null,null,null,null,null,null,null,null,null,null,null,null,null,-2000,null,null,0,null,null,null,null,null,null,null,null,22.23]
["1968-03-15",{"$f":"VLOOKUP(A16,'input BCI'!$O$3:$R$5000,4)","v":7.72},null,null,7.72,null,null,null,{"$f":"I12-7","v":"2014-07-04"},{"$f":"TEXT(I16,\"m/d/y\")","v":"7/4/14"},null,null,null,"-",7.72,null,null,7.72,null,null,null,1,7.72,7.72,{"$f":"AVERAGE(INDIRECT($X$1&ROW()-$Y$4+1):X16)","v":7.63},0,0,{"$f":"IF(AND(AA15=0,AA16=1,SUM(INDIRECT($AA$1&ROW()-$AB$4):AA15)=0),1,0)","v":0},1,{"$f":"IF(AND(AC15=0,AC16=1,SUM(INDIRECT($AC$1&ROW()-AD$4):AC15)=0),1,0)","v":0},89.1,null,null,null,null,null,null,null,null,null,null,null,null,null,-2000,null,null,0,null,null,null,null,null,null,null,null,22.23]
["1968-03-22",{"$f":"VLOOKUP(A17,'input BCI'!$O$3:$R$5000,4)","v":7.54},null,null,7.54,null,null,{"$f":"TEXT(I17,\"0.00\")","v":"19.21"},{"$f":"ROUND(VLOOKUP(I16,$M$2312:$X$2847,12),2)","v":19.21},{"$f":"I$1&I17","v":"BCIg 19.21"},null,null,null,"-",7.54,null,null,{"$f":"O17*R$7","v":7.54},null,null,null,1,7.54,7.54,{"$f":"AVERAGE(INDIRECT($X$1&ROW()-$Y$4+1):X17)","v":7.5449999999999999},0,1,{"$f":"IF(AND(AA16=0,AA17=1,SUM(INDIRECT($AA$1&ROW()-$AB$4):AA16)=0),1,0)","v":1},0,{"$f":"IF(AND(AC16=0,AC17=1,SUM(INDIRECT($AC$1&ROW()-AD$4):AC16)=0),1,0)","v":0},88.42,null,null,null,null,null,null,null,null,null,null,null,null,null,-2000,null,null,0,null,null,null,null,null,null,null,null,22.23]
["1968-03-29",{"$f":"VLOOKUP(A18,'input BCI'!$O$3:$R$5000,4)","v":7.55},null,null,7.55,null,null,null,null,null,null,null,null,"-",7.55,null,null,7.55,null,null,null,1,7.55,7.55,{"$f":"AVERAGE(INDIRECT($X$1&ROW()-$Y$4+1):X18)","v":8.0150000000000006},0,1,{"$f":"IF(AND(AA17=0,AA18=1,SUM(INDIRECT($AA$1&ROW()-$AB$4):AA17)=0),1,0)","v":0},0,{"$f":"IF(AND(AC17=0,AC18=1,SUM(INDIRECT($AC$1&ROW()-AD$4):AC17)=0),1,0)","v":0},90.2,null,null,null,null,null,null,null,null,null,null,null,null,null,-2000,null,null,0,null,null,null,null,null,null,null,null,22.23]
["1968-04-05",{"$f":"VLOOKUP(A19,'input BCI'!$O$3:$R$5000,4)","v":8.48},null,null,8.48,null,null,null,null,null,null,null,null,"-",8.48,null,null,8.48,null,null,null,1,8.48,8.48,{"$f":"AVERAGE(INDIRECT($X$1&ROW()-$Y$4+1):X19)","v":9.129999999999999},0,1,{"$f":"IF(AND(AA18=0,AA19=1,SUM(INDIRECT($AA$1&ROW()-$AB$4):AA18)=0),1,0)","v":0},0,{"$f":"IF(AND(AC18=0,AC19=1,SUM(INDIRECT($AC$1&ROW()-AD$4):AC18)=0),1,0)","v":0},93.29,null,null,null,null,null,null,null,null,null,null,null,null,null,-2000,null,null,0,null,null,null,null,null,null,null,null,22.23]
["1968-04-12",{"$f":"VLOOKUP(A20,'input BCI'!$O$3:$R$5000,4)","v":9.7799999999999994},null,null,9.7799999999999994,null,null,null,"level of MA on ",null,null,null,null,"-",9.7799999999999994,null,null,9.7799999999999994,null,null,null,1,9.7799999999999994,9.7799999999999994,{"$f":"AVERAGE(INDIRECT($X$1&ROW()-$Y$4+1):X20)","v":10.719999999999999},0,1,{"$f":"IF(AND(AA19=0,AA20=1,SUM(INDIRECT($AA$1&ROW()-$AB$4):AA19)=0),1,0)","v":0},0,{"$f":"IF(AND(AC19=0,AC20=1,SUM(INDIRECT($AC$1&ROW()-AD$4):AC19)=0),1,0)","v":0},96.53,null,null,null,null,null,null,null,null,null,null,null,null,null,-2000,null,null,0,null,null,null,null,null,null,null,null,22.23]
["1968-04-19",{"$f":"VLOOKUP(A21,'input BCI'!$O$3:$R$5000,4)","v":11.66},null,null,11.66,null,null,{"$f":"TEXT(I21,\"0.00\")","v":"22.23"},{"$f":"ROUND(VLOOKUP(I4,$M$2312:$Y$2847,13),2)","v":22.23},{"$f":"I20&J4&I6&H21","v":"level of MA on 7/25/14 =  22.23"},null,null,null,"-",11.66,null,null,11.66,null,null,null,1,11.66,11.66,{"$f":"AVERAGE(INDIRECT($X$1&ROW()-$Y$4+1):X21)","v":12.4},0,1,{"$f":"IF(AND(AA20=0,AA21=1,SUM(INDIRECT($AA$1&ROW()-$AB$4):AA20)=0),1,0)","v":0},0,{"$f":"IF(AND(AC20=0,AC21=1,SUM(INDIRECT($AC$1&ROW()-AD$4):AC20)=0),1,0)","v":0},95.85,null,null,null,null,null,null,null,null,null,null,null,null,null,-2000,null,null,0,null,null,null,null,null,null,null,null,22.23]
["1968-04-26",{"$f":"VLOOKUP(A22,'input BCI'!$O$3:$R$5000,4)","v":13.14},null,null,13.14,null,null,null,null,null,null,null,null,"-",13.14,null,null,13.14,null,null,null,1,13.14,13.14,{"$f":"AVERAGE(INDIRECT($X$1&ROW()-$Y$4+1):X22)","v":13.66},0,1,{"$f":"IF(AND(AA21=0,AA22=1,SUM(INDIRECT($AA$1&ROW()-$AB$4):AA21)=0),1,0)","v":0},0,{"$f":"IF(AND(AC21=0,AC22=1,SUM(INDIRECT($AC$1&ROW()-AD$4):AC21)=0),1,0)","v":0},97.21,null,null,null,null,null,null,null,null,null,null,null,null,null,-2000,null,null,0,null,null,null,null,null,null,null,null,22.23]
["1968-05-03",{"$f":"VLOOKUP(A23,'input BCI'!$O$3:$R$5000,4)","v":14.18},null,null,14.18,null,null,null,"BCIg has exceeded the current level ",null,null,null,null,0,14.18,null,null,14.18,null,null,null,1,14.18,14.18,{"$f":"AVERAGE(INDIRECT($X$1&ROW()-$Y$4+1):X23)","v":14.414999999999999},0,1,{"$f":"IF(AND(AA22=0,AA23=1,SUM(INDIRECT($AA$1&ROW()-$AB$4):AA22)=0),1,0)","v":0},0,{"$f":"IF(AND(AC22=0,AC23=1,SUM(INDIRECT($AC$1&ROW()-AD$4):AC22)=0),1,0)","v":0},98.66,null,null,null,null,null,null,null,null,null,null,null,null,null,-2000,null,null,0,null,null,null,null,null,null,null,null,22.23]
["1968-05-10",{"$f":"VLOOKUP(A24,'input BCI'!$O$3:$R$5000,4)","v":14.65},null,null,14.65,null,null,null," of the time from 1969 to present.",null,null,null,null,0,14.65,null,null,14.65,null,null,null,1,14.65,14.65,{"$f":"AVERAGE(INDIRECT($X$1&ROW()-$Y$4+1):X24)","v":14.54},0,0,{"$f":"IF(AND(AA23=0,AA24=1,SUM(INDIRECT($AA$1&ROW()-$AB$4):AA23)=0),1,0)","v":0},1,{"$f":"IF(AND(AC23=0,AC24=1,SUM(INDIRECT($AC$1&ROW()-AD$4):AC23)=0),1,0)","v":1},98.5,null,null,null,null,null,null,null,null,null,null,null,null,null,-2000,null,null,0,null,null,null,null,null,null,null,null,22.23]
["1968-05-17",{"$f":"VLOOKUP(A25,'input BCI'!$O$3:$R$5000,4)","v":14.43},null,null,14.43,null,null,null,{"$f":"I23&Y6&I24","v":"BCIg has exceeded the current level 5.69% of the time from 1969 to present."},null,null,null,null,0,14.43,null,null,{"$f":"O25*R$7","v":14.43},null,null,null,1,14.43,14.43,{"$f":"AVERAGE(INDIRECT($X$1&ROW()-$Y$4+1):X25)","v":14.245000000000001},0,0,{"$f":"IF(AND(AA24=0,AA25=1,SUM(INDIRECT($AA$1&ROW()-$AB$4):AA24)=0),1,0)","v":0},1,{"$f":"IF(AND(AC24=0,AC25=1,SUM(INDIRECT($AC$1&ROW()-AD$4):AC24)=0),1,0)","v":0},96.9,null,null,null,null,null,null,null,null,null,null,null,null,null,-2000,null,null,0,null,null,null,null,null,null,null,null,22.23]
["1968-05-24",{"$f":"VLOOKUP(A26,'input BCI'!$O$3:$R$5000,4)","v":14.06},null,null,14.06,null,null,null,null,null,null,null,null,0,14.06,null,null,14.06,null,null,null,1,14.06,14.06,{"$f":"AVERAGE(INDIRECT($X$1&ROW()-$Y$4+1):X26)","v":13.940000000000001},0,0,{"$f":"IF(AND(AA25=0,AA26=1,SUM(INDIRECT($AA$1&ROW()-$AB$4):AA25)=0),1,0)","v":0},1,{"$f":"IF(AND(AC25=0,AC26=1,SUM(INDIRECT($AC$1&ROW()-AD$4):AC25)=0),1,0)","v":0},97.15,null,null,null,null,null,null,null,null,null,null,null,null,null,-2000,null,null,0,null,null,null,null,null,null,null,null,22.23]
["1968-05-31",{"$f":"VLOOKUP(A27,'input BCI'!$O$3:$R$5000,4)","v":13.82},null,null,13.82,null,null,null,null,null,null,null,null,0,13.82,null,null,13.82,null,null,null,1,13.82,13.82,{"$f":"AVERAGE(INDIRECT($X$1&ROW()-$Y$4+1):X27)","v":13.86},0,1,{"$f":"IF(AND(AA26=0,AA27=1,SUM(INDIRECT($AA$1&ROW()-$AB$4):AA26)=0),1,0)","v":0},0,{"$f":"IF(AND(AC26=0,AC27=1,SUM(INDIRECT($AC$1&ROW()-AD$4):AC26)=0),1,0)","v":0},98.68,null,null,null,null,null,null,null,null,null,null,null,null,null,-2000,null,null,0,null,null,null,null,null,null,null,null,22.23]
["1968-06-07",{"$f":"VLOOKUP(A28,'input BCI'!$O$3:$R$5000,4)","v":13.9},null,null,13.9,null,null,null,null,null,null,null,null,0,13.9,null,null,13.9,null,null,null,1,13.9,13.9,{"$f":"AVERAGE(INDIRECT($X$1&ROW()-$Y$4+1):X28)","v":14.175000000000001},0,1,{"$f":"IF(AND(AA27=0,AA28=1,SUM(INDIRECT($AA$1&ROW()-$AB$4):AA27)=0),1,0)","v":0},0,{"$f":"IF(AND(AC27=0,AC28=1,SUM(INDIRECT($AC$1&ROW()-AD$4):AC27)=0),1,0)","v":0},101.27,null,null,null,null,null,null,null,null,null,null,null,null,null,-2000,null,null,0,null,null,null,null,null,null,null,null,22.23]
["1968-06-14",{"$f":"VLOOKUP(A29,'input BCI'!$O$3:$R$5000,4)","v":14.45},null,null,14.45,null,null,null,null,null,null,null,null,0,14.45,null,null,14.45,null,null,null,1,14.45,14.45,{"$f":"AVERAGE(INDIRECT($X$1&ROW()-$Y$4+1):X29)","v":14.744999999999999},0,1,{"$f":"IF(AND(AA28=0,AA29=1,SUM(INDIRECT($AA$1&ROW()-$AB$4):AA28)=0),1,0)","v":0},0,{"$f":"IF(AND(AC28=0,AC29=1,SUM(INDIRECT($AC$1&ROW()-AD$4):AC28)=0),1,0)","v":0},101.13,null,null,null,null,null,null,null,null,null,null,null,null,null,-2000,null,null,0,null,null,null,null,null,null,null,null,22.23]
["1968-06-21",{"$f":"VLOOKUP(A30,'input BCI'!$O$3:$R$5000,4)","v":15.04},null,null,15.04,null,null,null,null,null,null,null,null,0,15.04,null,null,15.04,null,null,null,1,15.04,15.04,{"$f":"AVERAGE(INDIRECT($X$1&ROW()-$Y$4+1):X30)","v":15.03},0,0,{"$f":"IF(AND(AA29=0,AA30=1,SUM(INDIRECT($AA$1&ROW()-$AB$4):AA29)=0),1,0)","v":0},1,{"$f":"IF(AND(AC29=0,AC30=1,SUM(INDIRECT($AC$1&ROW()-AD$4):AC29)=0),1,0)","v":0},100.66,null,null,null,null,null,null,null,null,null,null,null,null,null,-2000,0,null,0,null,null,null,null,null,null,null,null,22.23]
["1968-06-28",{"$f":"VLOOKUP(A31,'input BCI'!$O$3:$R$5000,4)","v":15.02},null,null,15.02,null,null,null,null,null,null,null,null,0,15.02,null,null,15.02,null,null,null,1,15.02,15.02,{"$f":"AVERAGE(INDIRECT($X$1&ROW()-$Y$4+1):X31)","v":14.719999999999999},0,0,{"$f":"IF(AND(AA30=0,AA31=1,SUM(INDIRECT($AA$1&ROW()-$AB$4):AA30)=0),1,0)","v":0},1,{"$f":"IF(AND(AC30=0,AC31=1,SUM(INDIRECT($AC$1&ROW()-AD$4):AC30)=0),1,0)","v":0},99.58,null,null,null,null,null,null,null,null,null,null,null,null,null,-2000,0,null,0,null,null,null,null,null,null,null,null,22.23]
["1968-07-05",{"$f":"VLOOKUP(A32,'input BCI'!$O$3:$R$5000,4)","v":14.42},null,null,14.42,null,null,null,null,null,null,null,null,0,14.42,null,null,14.42,null,null,null,1,14.42,14.42,{"$f":"AVERAGE(INDIRECT($X$1&ROW()-$Y$4+1):X32)","v":14.065000000000001},0,0,{"$f":"IF(AND(AA31=0,AA32=1,SUM(INDIRECT($AA$1&ROW()-$AB$4):AA31)=0),1,0)","v":0},1,{"$f":"IF(AND(AC31=0,AC32=1,SUM(INDIRECT($AC$1&ROW()-AD$4):AC31)=0),1,0)","v":0},100.91,null,null,null,null,null,null,null,null,null,null,null,null,null,-2000,0,null,0,null,null,null,null,null,null,null,null,22.23]
["1968-07-12",{"$f":"VLOOKUP(A33,'input BCI'!$O$3:$R$5000,4)","v":13.71},null,null,13.71,null,null,null,null,null,null,null,null,0,13.71,null,null,13.71,null,null,null,1,13.71,13.71,{"$f":"AVERAGE(INDIRECT($X$1&ROW()-$Y$4+1):X33)","v":13.335000000000001},0,0,{"$f":"IF(AND(AA32=0,AA33=1,SUM(INDIRECT($AA$1&ROW()-$AB$4):AA32)=0),1,0)","v":0},1,{"$f":"IF(AND(AC32=0,AC33=1,SUM(INDIRECT($AC$1&ROW()-AD$4):AC32)=0),1,0)","v":0},102.34,null,null,null,null,null,null,null,null,null,null,null,null,null,-2000,0,null,0,null,null,null,null,null,null,null,null,22.23]
["1968-07-19",{"$f":"VLOOKUP(A34,'input BCI'!$O$3:$R$5000,4)","v":12.96},null,null,12.96,null,null,null,null,null,null,null,null,0,12.96,null,null,12.96,null,null,null,1,12.96,12.96,{"$f":"AVERAGE(INDIRECT($X$1&ROW()-$Y$4+1):X34)","v":12.605},0,0,{"$f":"IF(AND(AA33=0,AA34=1,SUM(INDIRECT($AA$1&ROW()-$AB$4):AA33)=0),1,0)","v":0},1,{"$f":"IF(AND(AC33=0,AC34=1,SUM(INDIRECT($AC$1&ROW()-AD$4):AC33)=0),1,0)","v":0},100.46,null,null,null,null,null,null,null,null,null,null,null,null,null,-2000,0,null,0,null,null,null,null,null,null,null,null,22.23]
["1968-07-26",{"$f":"VLOOKUP(A35,'input BCI'!$O$3:$R$5000,4)","v":12.25},null,null,12.25,null,null,null,null,null,null,null,null,0,12.25,null,null,12.25,null,null,null,1,12.25,12.25,{"$f":"AVERAGE(INDIRECT($X$1&ROW()-$Y$4+1):X35)","v":11.95},0,0,{"$f":"IF(AND(AA34=0,AA35=1,SUM(INDIRECT($AA$1&ROW()-$AB$4):AA34)=0),1,0)","v":0},1,{"$f":"IF(AND(AC34=0,AC35=1,SUM(INDIRECT($AC$1&ROW()-AD$4):AC34)=0),1,0)","v":0},98.34,null,null,null,null,null,null,null,null,null,null,null,null,null,-2000,0,null,0,null,null,null,null,null,null,null,null,22.23]
["1968-08-02",{"$f":"VLOOKUP(A36,'input BCI'!$O$3:$R$5000,4)","v":11.65},null,null,11.65,null,null,null,null,null,null,null,null,0,11.65,null,null,11.65,null,null,null,1,11.65,11.65,{"$f":"AVERAGE(INDIRECT($X$1&ROW()-$Y$4+1):X36)","v":11.215},0,0,{"$f":"IF(AND(AA35=0,AA36=1,SUM(INDIRECT($AA$1&ROW()-$AB$4):AA35)=0),1,0)","v":0},1,{"$f":"IF(AND(AC35=0,AC36=1,SUM(INDIRECT($AC$1&ROW()-AD$4):AC35)=0),1,0)","v":0},96.63,null,null,null,null,null,null,null,null,null,null,null,null,null,-2000,0,null,0,null,null,null,null,null,null,null,null,22.23]
["1968-08-09",{"$f":"VLOOKUP(A37,'input BCI'!$O$3:$R$5000,4)","v":10.78},null,null,10.78,null,null,null,null,null,null,null,null,0,10.78,null,null,10.78,null,null,null,1,10.78,10.78,{"$f":"AVERAGE(INDIRECT($X$1&ROW()-$Y$4+1):X37)","v":10.45},0,0,{"$f":"IF(AND(AA36=0,AA37=1,SUM(INDIRECT($AA$1&ROW()-$AB$4):AA36)=0),1,0)","v":0},1,{"$f":"IF(AND(AC36=0,AC37=1,SUM(INDIRECT($AC$1&ROW()-AD$4):AC36)=0),1,0)","v":0},97.01,null,null,null,null,null,null,null,null,null,null,null,null,null,-2000,0,null,0,null,null,null,null,null,null,null,null,22.23]
["1968-08-16",{"$f":"VLOOKUP(A38,'input BCI'!$O$3:$R$5000,4)","v":10.119999999999999},null,null,10.119999999999999,null,null,null,null,null,null,null,null,0,10.119999999999999,null,null,10.119999999999999,null,null,null,1,10.119999999999999,10.119999999999999,{"$f":"AVERAGE(INDIRECT($X$1&ROW()-$Y$4+1):X38)","v":9.9149999999999991},0,0,{"$f":"IF(AND(AA37=0,AA38=1,SUM(INDIRECT($AA$1&ROW()-$AB$4):AA37)=0),1,0)","v":0},1,{"$f":"IF(AND(AC37=0,AC38=1,SUM(INDIRECT($AC$1&ROW()-AD$4):AC37)=0),1,0)","v":0},98.68,null,null,null,null,null,null,null,null,null,null,null,null,null,-2000,0,null,0,null,null,null,null,null,null,null,null,22.23]
["1968-08-23",{"$f":"VLOOKUP(A39,'input BCI'!$O$3:$R$5000,4)","v":9.7100000000000009},null,null,9.7100000000000009,null,null,null,null,null,null,null,null,0,9.7100000000000009,null,null,9.7100000000000009,null,null,null,1,9.7100000000000009,9.7100000000000009,{"$f":"AVERAGE(INDIRECT($X$1&ROW()-$Y$4+1):X39)","v":9.6300000000000008},0,0,{"$f":"IF(AND(AA38=0,AA39=1,SUM(INDIRECT($AA$1&ROW()-$AB$4):AA38)=0),1,0)","v":0},1,{"$f":"IF(AND(AC38=0,AC39=1,SUM(INDIRECT($AC$1&ROW()-AD$4):AC38)=0),1,0)","v":0},98.69,null,null,null,null,null,null,null,null,null,null,null,null,null,-2000,0,null,0,null,null,null,null,null,null,null,null,22.23]
["1968-08-30",{"$f":"VLOOKUP(A40,'input BCI'!$O$3:$R$5000,4)","v":9.5500000000000007},null,null,9.5500000000000007,null,null,null,null,null,null,null,null,0,9.5500000000000007,null,null,9.5500000000000007,null,null,null,1,9.5500000000000007,9.5500000000000007,{"$f":"AVERAGE(INDIRECT($X$1&ROW()-$Y$4+1):X40)","v":9.5749999999999993},0,1,{"$f":"IF(AND(AA39=0,AA40=1,SUM(INDIRECT($AA$1&ROW()-$AB$4):AA39)=0),1,0)","v":1},0,{"$f":"IF(AND(AC39=0,AC40=1,SUM(INDIRECT($AC$1&ROW()-AD$4):AC39)=0),1,0)","v":0},98.86,null,null,null,null,null,null,null,null,null,null,null,null,null,-2000,0,null,0,null,null,null,null,null,null,null,null,22.23]
["1968-09-06",{"$f":"VLOOKUP(A41,'input BCI'!$O$3:$R$5000,4)","v":9.6},null,null,9.6,null,null,null,null,null,null,null,null,0,9.6,null,null,9.6,null,null,null,1,9.6,9.6,{"$f":"AVERAGE(INDIRECT($X$1&ROW()-$Y$4+1):X41)","v":9.9149999999999991},0,1,{"$f":"IF(AND(AA40=0,AA41=1,SUM(INDIRECT($AA$1&ROW()-$AB$4):AA40)=0),1,0)","v":0},0,{"$f":"IF(AND(AC40=0,AC41=1,SUM(INDIRECT($AC$1&ROW()-AD$4):AC40)=0),1,0)","v":0},101.2,null,null,null,null,null,null,null,null,null,null,null,null,null,-2000,0,null,0,null,null,null,null,null,null,null,null,22.23]
["1968-09-13",{"$f":"VLOOKUP(A42,'input BCI'!$O$3:$R$5000,4)","v":10.23},null,null,10.23,null,null,null,null,null,null,null,null,0,10.23,null,null,10.23,null,null,null,1,10.23,10.23,{"$f":"AVERAGE(INDIRECT($X$1&ROW()-$Y$4+1):X42)","v":10.66},0,1,{"$f":"IF(AND(AA41=0,AA42=1,SUM(INDIRECT($AA$1&ROW()-$AB$4):AA41)=0),1,0)","v":0},0,{"$f":"IF(AND(AC41=0,AC42=1,SUM(INDIRECT($AC$1&ROW()-AD$4):AC41)=0),1,0)","v":0},100.86,null,null,null,null,null,null,null,null,null,null,null,null,null,-2000,0,null,0,null,null,null,null,null,null,null,null,22.23]
["1968-09-20",{"$f":"VLOOKUP(A43,'input BCI'!$O$3:$R$5000,4)","v":11.09},null,null,11.09,null,null,null,null,null,null,null,null,0,11.09,null,null,11.09,null,null,null,1,11.09,11.09,{"$f":"AVERAGE(INDIRECT($X$1&ROW()-$Y$4+1):X43)","v":11.635},0,1,{"$f":"IF(AND(AA42=0,AA43=1,SUM(INDIRECT($AA$1&ROW()-$AB$4):AA42)=0),1,0)","v":0},0,{"$f":"IF(AND(AC42=0,AC43=1,SUM(INDIRECT($AC$1&ROW()-AD$4):AC42)=0),1,0)","v":0},101.66,null,null,null,null,null,null,null,null,null,null,null,null,null,-2000,0,null,0,null,null,null,null,null,null,null,null,22.23]
["1968-09-27",{"$f":"VLOOKUP(A44,'input BCI'!$O$3:$R$5000,4)","v":12.18},null,null,12.18,null,null,null,null,null,null,null,null,0,12.18,null,null,12.18,null,null,null,1,12.18,12.18,{"$f":"AVERAGE(INDIRECT($X$1&ROW()-$Y$4+1):X44)","v":12.71},0,1,{"$f":"IF(AND(AA43=0,AA44=1,SUM(INDIRECT($AA$1&ROW()-$AB$4):AA43)=0),1,0)","v":0},0,{"$f":"IF(AND(AC43=0,AC44=1,SUM(INDIRECT($AC$1&ROW()-AD$4):AC43)=0),1,0)","v":0},102.31,null,null,null,null,null,null,null,null,null,null,null,null,null,-2000,0,null,0,null,null,null,null,null,null,null,null,22.23]
["1968-10-04",{"$f":"VLOOKUP(A45,'input BCI'!$O$3:$R$5000,4)","v":13.24},null,null,13.24,null,null,null,null,null,null,null,null,0,13.24,null,null,13.24,null,null,null,1,13.24,13.24,{"$f":"AVERAGE(INDIRECT($X$1&ROW()-$Y$4+1):X45)","v":13.620000000000001},0,1,{"$f":"IF(AND(AA44=0,AA45=1,SUM(INDIRECT($AA$1&ROW()-$AB$4):AA44)=0),1,0)","v":0},0,{"$f":"IF(AND(AC44=0,AC45=1,SUM(INDIRECT($AC$1&ROW()-AD$4):AC44)=0),1,0)","v":0},103.71,null,null,null,null,null,null,null,null,null,null,null,null,null,-2000,0,null,0,null,null,null,null,null,null,null,null,22.23]
["1968-10-11",{"$f":"VLOOKUP(A46,'input BCI'!$O$3:$R$5000,4)","v":14},null,null,14,null,null,null,null,null,null,null,null,0,14,null,null,14,null,null,null,1,14,14,{"$f":"AVERAGE(INDIRECT($X$1&ROW()-$Y$4+1):X46)","v":14.26},0,1,{"$f":"IF(AND(AA45=0,AA46=1,SUM(INDIRECT($AA$1&ROW()-$AB$4):AA45)=0),1,0)","v":0},0,{"$f":"IF(AND(AC45=0,AC46=1,SUM(INDIRECT($AC$1&ROW()-AD$4):AC45)=0),1,0)","v":0},103.18,null,null,null,null,null,null,null,null,null,null,null,null,null,-2000,0,null,0,null,null,null,null,null,null,null,null,22.23]
["1968-10-18",{"$f":"VLOOKUP(A47,'input BCI'!$O$3:$R$5000,4)","v":14.52},null,null,14.52,null,null,null,null,null,null,null,null,0,14.52,null,null,14.52,null,null,null,1,14.52,14.52,{"$f":"AVERAGE(INDIRECT($X$1&ROW()-$Y$4+1):X47)","v":14.675000000000001},0,1,{"$f":"IF(AND(AA46=0,AA47=1,SUM(INDIRECT($AA$1&ROW()-$AB$4):AA46)=0),1,0)","v":0},0,{"$f":"IF(AND(AC46=0,AC47=1,SUM(INDIRECT($AC$1&ROW()-AD$4):AC46)=0),1,0)","v":0},104.82,null,null,null,null,null,null,null,null,null,null,null,null,null,-2000,0,null,0,null,null,null,null,null,null,null,null,22.23]
["1968-10-25",{"$f":"VLOOKUP(A48,'input BCI'!$O$3:$R$5000,4)","v":14.83},null,null,14.83,null,null,null,null,null,null,null,null,0,14.83,null,null,14.83,null,null,null,1,14.83,14.83,{"$f":"AVERAGE(INDIRECT($X$1&ROW()-$Y$4+1):X48)","v":14.879999999999999},0,1,{"$f":"IF(AND(AA47=0,AA48=1,SUM(INDIRECT($AA$1&ROW()-$AB$4):AA47)=0),1,0)","v":0},0,{"$f":"IF(AND(AC47=0,AC48=1,SUM(INDIRECT($AC$1&ROW()-AD$4):AC47)=0),1,0)","v":0},104.2,null,null,null,null,null,null,null,null,null,null,null,null,null,-2000,0,null,0,null,null,null,null,null,null,null,null,22.23]
["1968-11-01",{"$f":"VLOOKUP(A49,'input BCI'!$O$3:$R$5000,4)","v":14.93},null,null,14.93,null,null,null,null,null,null,null,null,0,14.93,null,null,14.93,null,null,null,1,14.93,14.93,{"$f":"AVERAGE(INDIRECT($X$1&ROW()-$Y$4+1):X49)","v":14.86},0,0,{"$f":"IF(AND(AA48=0,AA49=1,SUM(INDIRECT($AA$1&ROW()-$AB$4):AA48)=0),1,0)","v":0},1,{"$f":"IF(AND(AC48=0,AC49=1,SUM(INDIRECT($AC$1&ROW()-AD$4):AC48)=0),1,0)","v":1},103.06,null,null,null,null,null,null,null,null,null,null,null,null,null,-2000,0,null,0,null,null,null,null,null,null,null,null,22.23]
["1968-11-08",{"$f":"VLOOKUP(A50,'input BCI'!$O$3:$R$5000,4)","v":14.79},null,null,14.79,null,null,null,null,null,null,null,null,0,14.79,null,null,14.79,null,null,null,1,14.79,14.79,{"$f":"AVERAGE(INDIRECT($X$1&ROW()-$Y$4+1):X50)","v":14.844999999999999},0,1,{"$f":"IF(AND(AA49=0,AA50=1,SUM(INDIRECT($AA$1&ROW()-$AB$4):AA49)=0),1,0)","v":0},0,{"$f":"IF(AND(AC49=0,AC50=1,SUM(INDIRECT($AC$1&ROW()-AD$4):AC49)=0),1,0)","v":0},103.95,null,null,null,null,null,null,null,null,null,null,null,null,null,-2000,0,null,0,null,null,null,null,null,null,null,null,22.23]
["1968-11-15",{"$f":"VLOOKUP(A51,'input BCI'!$O$3:$R$5000,4)","v":14.9},null,null,14.9,null,null,null,null,null,null,null,null,0,14.9,null,null,14.9,null,null,null,1,14.9,14.9,{"$f":"AVERAGE(INDIRECT($X$1&ROW()-$Y$4+1):X51)","v":14.969999999999999},0,1,{"$f":"IF(AND(AA50=0,AA51=1,SUM(INDIRECT($AA$1&ROW()-$AB$4):AA50)=0),1,0)","v":0},0,{"$f":"IF(AND(AC50=0,AC51=1,SUM(INDIRECT($AC$1&ROW()-AD$4):AC50)=0),1,0)","v":0},105.78,null,null,null,null,null,null,null,null,null,null,null,null,null,-2000,0,null,0,null,null,null,null,null,null,null,null,22.23]
["1968-11-22",{"$f":"VLOOKUP(A52,'input BCI'!$O$3:$R$5000,4)","v":15.04},null,null,15.04,null,null,null,null,null,null,null,null,0,15.04,null,null,15.04,null,null,null,1,15.04,15.04,{"$f":"AVERAGE(INDIRECT($X$1&ROW()-$Y$4+1):X52)","v":15.1},0,1,{"$f":"IF(AND(AA51=0,AA52=1,SUM(INDIRECT($AA$1&ROW()-$AB$4):AA51)=0),1,0)","v":0},0,{"$f":"IF(AND(AC51=0,AC52=1,SUM(INDIRECT($AC$1&ROW()-AD$4):AC51)=0),1,0)","v":0},106.3,null,null,null,null,null,null,null,null,null,null,null,null,null,-2000,0,null,0,null,null,null,null,null,null,null,null,22.23]
["1968-11-29",{"$f":"VLOOKUP(A53,'input BCI'!$O$3:$R$5000,4)","v":15.16},null,null,15.16,null,null,null,null,null,null,null,null,0,15.16,null,null,15.16,null,null,null,1,15.16,15.16,{"$f":"AVERAGE(INDIRECT($X$1&ROW()-$Y$4+1):X53)","v":15.43},0,1,{"$f":"IF(AND(AA52=0,AA53=1,SUM(INDIRECT($AA$1&ROW()-$AB$4):AA52)=0),1,0)","v":0},0,{"$f":"IF(AND(AC52=0,AC53=1,SUM(INDIRECT($AC$1&ROW()-AD$4):AC52)=0),1,0)","v":0},108.37,null,null,null,null,null,null,null,null,null,null,null,null,null,-2000,0,null,0,null,null,null,null,null,null,null,null,22.23]
["1968-12-06",{"$f":"VLOOKUP(A54,'input BCI'!$O$3:$R$5000,4)","v":15.7},null,null,15.7,null,null,null,null,null,null,null,null,0,15.7,null,null,15.7,null,null,null,1,15.7,15.7,{"$f":"AVERAGE(INDIRECT($X$1&ROW()-$Y$4+1):X54)","v":15.844999999999999},0,1,{"$f":"IF(AND(AA53=0,AA54=1,SUM(INDIRECT($AA$1&ROW()-$AB$4):AA53)=0),1,0)","v":0},0,{"$f":"IF(AND(AC53=0,AC54=1,SUM(INDIRECT($AC$1&ROW()-AD$4):AC53)=0),1,0)","v":0},107.93,null,null,null,null,null,null,null,null,null,null,null,null,null,-2000,0,null,0,null,null,null,null,null,null,null,null,22.23]
["1968-12-13",{"$f":"VLOOKUP(A55,'input BCI'!$O$3:$R$5000,4)","v":15.99},null,null,15.99,null,null,null,null,null,null,null,null,0,15.99,null,null,15.99,null,null,null,1,15.99,15.99,{"$f":"AVERAGE(INDIRECT($X$1&ROW()-$Y$4+1):X55)","v":15.969999999999999},0,0,{"$f":"IF(AND(AA54=0,AA55=1,SUM(INDIRECT($AA$1&ROW()-$AB$4):AA54)=0),1,0)","v":0},1,{"$f":"IF(AND(AC54=0,AC55=1,SUM(INDIRECT($AC$1&ROW()-AD$4):AC54)=0),1,0)","v":1},107.58,null,null,null,null,null,null,null,null,null,null,null,null,null,-2000,0,null,0,null,null,null,null,null,null,null,null,22.23]
["1968-12-20",{"$f":"VLOOKUP(A56,'input BCI'!$O$3:$R$5000,4)","v":15.95},null,null,15.95,null,null,null,null,null,null,null,null,0,15.95,null,null,15.95,null,null,null,1,15.95,15.95,{"$f":"AVERAGE(INDIRECT($X$1&ROW()-$Y$4+1):X56)","v":15.809999999999999},0,0,{"$f":"IF(AND(AA55=0,AA56=1,SUM(INDIRECT($AA$1&ROW()-$AB$4):AA55)=0),1,0)","v":0},1,{"$f":"IF(AND(AC55=0,AC56=1,SUM(INDIRECT($AC$1&ROW()-AD$4):AC55)=0),1,0)","v":0},106.34,null,null,null,null,null,null,null,null,null,null,null,null,null,-2000,0,null,0,null,null,null,null,null,null,null,null,22.23]
["1968-12-27",{"$f":"VLOOKUP(A57,'input BCI'!$O$3:$R$5000,4)","v":15.67},null,null,15.67,null,null,null,null,null,null,null,null,0,15.67,null,null,15.67,null,null,null,1,15.67,15.67,{"$f":"AVERAGE(INDIRECT($X$1&ROW()-$Y$4+1):X57)","v":15.2},0,0,{"$f":"IF(AND(AA56=0,AA57=1,SUM(INDIRECT($AA$1&ROW()-$AB$4):AA56)=0),1,0)","v":0},1,{"$f":"IF(AND(AC56=0,AC57=1,SUM(INDIRECT($AC$1&ROW()-AD$4):AC56)=0),1,0)","v":0},104.74,null,null,null,null,null,null,null,null,null,null,null,null,null,-2000,0,null,0,null,null,null,null,null,null,null,null,22.23]
["1969-01-03",{"$f":"VLOOKUP(A58,'input BCI'!$O$3:$R$5000,4)","v":14.73},null,null,14.73,null,null,null,null,null,null,null,null,0,14.73,null,null,14.73,null,null,null,1,14.73,14.73,{"$f":"AVERAGE(INDIRECT($X$1&ROW()-$Y$4+1):X58)","v":14.025},0,0,{"$f":"IF(AND(AA57=0,AA58=1,SUM(INDIRECT($AA$1&ROW()-$AB$4):AA57)=0),1,0)","v":0},1,{"$f":"IF(AND(AC57=0,AC58=1,SUM(INDIRECT($AC$1&ROW()-AD$4):AC57)=0),1,0)","v":0},103.99,null,null,null,null,null,null,null,null,null,null,null,null,null,-2000,0,null,0,null,null,null,null,null,null,null,null,22.23]
["1969-01-10",{"$f":"VLOOKUP(A59,'input BCI'!$O$3:$R$5000,4)","v":13.32},null,null,13.32,null,null,null,null,null,null,null,null,0,13.32,null,null,13.32,null,null,null,1,13.32,13.32,{"$f":"AVERAGE(INDIRECT($X$1&ROW()-$Y$4+1):X59)","v":12.5},0,0,{"$f":"IF(AND(AA58=0,AA59=1,SUM(INDIRECT($AA$1&ROW()-$AB$4):AA58)=0),1,0)","v":0},1,{"$f":"IF(AND(AC58=0,AC59=1,SUM(INDIRECT($AC$1&ROW()-AD$4):AC58)=0),1,0)","v":0},100.93,null,null,null,null,null,null,null,null,null,null,null,null,null,-2000,0,null,0,null,null,null,null,null,null,null,null,22.23]
["1969-01-17",{"$f":"VLOOKUP(A60,'input BCI'!$O$3:$R$5000,4)","v":11.68},null,null,11.68,null,null,null,null,null,null,null,null,0,11.68,null,null,11.68,null,null,null,1,11.68,11.68,{"$f":"AVERAGE(INDIRECT($X$1&ROW()-$Y$4+1):X60)","v":11.05},0,0,{"$f":"IF(AND(AA59=0,AA60=1,SUM(INDIRECT($AA$1&ROW()-$AB$4):AA59)=0),1,0)","v":0},1,{"$f":"IF(AND(AC59=0,AC60=1,SUM(INDIRECT($AC$1&ROW()-AD$4):AC59)=0),1,0)","v":0},102.03,null,null,null,null,null,null,null,null,null,null,null,null,null,-2000,0,null,0,null,null,null,null,null,null,null,null,22.23]
["1969-01-24",{"$f":"VLOOKUP(A61,'input BCI'!$O$3:$R$5000,4)","v":10.42},null,null,10.42,null,null,null,null,null,null,null,null,0,10.42,null,null,10.42,null,null,null,1,10.42,10.42,{"$f":"AVERAGE(INDIRECT($X$1&ROW()-$Y$4+1):X61)","v":10.155000000000001},0,0,{"$f":"IF(AND(AA60=0,AA61=1,SUM(INDIRECT($AA$1&ROW()-$AB$4):AA60)=0),1,0)","v":0},1,{"$f":"IF(AND(AC60=0,AC61=1,SUM(INDIRECT($AC$1&ROW()-AD$4):AC60)=0),1,0)","v":0},102.38,null,null,null,null,null,null,null,null,null,null,null,null,null,-2000,0,null,0,null,null,null,null,null,null,null,null,22.23]
["1969-01-31",{"$f":"VLOOKUP(A62,'input BCI'!$O$3:$R$5000,4)","v":9.89},null,null,9.89,null,null,null,null,null,null,null,null,0,9.89,null,null,9.89,null,null,null,1,9.89,9.89,{"$f":"AVERAGE(INDIRECT($X$1&ROW()-$Y$4+1):X62)","v":10},0,1,{"$f":"IF(AND(AA61=0,AA62=1,SUM(INDIRECT($AA$1&ROW()-$AB$4):AA61)=0),1,0)","v":0},0,{"$f":"IF(AND(AC61=0,AC62=1,SUM(INDIRECT($AC$1&ROW()-AD$4):AC61)=0),1,0)","v":0},103.01,null,null,null,null,null,null,null,null,null,null,null,null,null,-2000,0,null,0,null,null,null,null,null,null,null,null,22.23]
["1969-02-07",{"$f":"VLOOKUP(A63,'input BCI'!$O$3:$R$5000,4)","v":10.11},null,null,10.11,null,null,null,null,null,null,null,null,0,10.11,null,null,10.11,null,null,null,1,10.11,10.11,{"$f":"AVERAGE(INDIRECT($X$1&ROW()-$Y$4+1):X63)","v":10.41},0,1,{"$f":"IF(AND(AA62=0,AA63=1,SUM(INDIRECT($AA$1&ROW()-$AB$4):AA62)=0),1,0)","v":0},0,{"$f":"IF(AND(AC62=0,AC63=1,SUM(INDIRECT($AC$1&ROW()-AD$4):AC62)=0),1,0)","v":0},103.53,null,null,null,null,null,null,null,null,null,null,null,null,null,-2000,0,null,0,null,null,null,null,null,null,null,null,22.23]
["1969-02-14",{"$f":"VLOOKUP(A64,'input BCI'!$O$3:$R$5000,4)","v":10.71},null,null,10.71,null,null,null,null,null,null,null,null,0,10.71,null,null,10.71,null,null,null,1,10.71,10.71,{"$f":"AVERAGE(INDIRECT($X$1&ROW()-$Y$4+1):X64)","v":10.93},0,1,{"$f":"IF(AND(AA63=0,AA64=1,SUM(INDIRECT($AA$1&ROW()-$AB$4):AA63)=0),1,0)","v":0},0,{"$f":"IF(AND(AC63=0,AC64=1,SUM(INDIRECT($AC$1&ROW()-AD$4):AC63)=0),1,0)","v":0},103.61,null,null,null,null,null,null,null,null,null,null,null,null,null,-2000,0,null,0,null,null,null,null,null,null,null,null,22.23]
["1969-02-21",{"$f":"VLOOKUP(A65,'input BCI'!$O$3:$R$5000,4)","v":11.15},null,null,11.15,null,null,null,null,null,null,null,null,0,11.15,null,null,11.15,null,null,null,1,11.15,11.15,{"$f":"AVERAGE(INDIRECT($X$1&ROW()-$Y$4+1):X65)","v":10.75},0,0,{"$f":"IF(AND(AA64=0,AA65=1,SUM(INDIRECT($AA$1&ROW()-$AB$4):AA64)=0),1,0)","v":0},1,{"$f":"IF(AND(AC64=0,AC65=1,SUM(INDIRECT($AC$1&ROW()-AD$4):AC64)=0),1,0)","v":0},99.79,null,null,null,null,null,null,null,null,null,null,null,null,null,-2000,0,null,0,null,null,null,null,null,null,null,null,22.23]
["1969-02-28",{"$f":"VLOOKUP(A66,'input BCI'!$O$3:$R$5000,4)","v":10.35},null,null,10.35,null,null,null,null,null,null,null,null,0,10.35,null,null,10.35,null,null,null,1,10.35,10.35,{"$f":"AVERAGE(INDIRECT($X$1&ROW()-$Y$4+1):X66)","v":9.76},0,0,{"$f":"IF(AND(AA65=0,AA66=1,SUM(INDIRECT($AA$1&ROW()-$AB$4):AA65)=0),1,0)","v":0},1,{"$f":"IF(AND(AC65=0,AC66=1,SUM(INDIRECT($AC$1&ROW()-AD$4):AC65)=0),1,0)","v":0},98.13,null,null,null,null,null,null,null,null,null,null,null,null,null,-2000,0,null,0,null,null,null,null,null,null,null,null,22.23]
["1969-03-07",{"$f":"VLOOKUP(A67,'input BCI'!$O$3:$R$5000,4)","v":9.17},null,null,9.17,null,null,null,null,null,null,null,null,0,9.17,null,null,9.17,null,null,null,1,9.17,9.17,{"$f":"AVERAGE(INDIRECT($X$1&ROW()-$Y$4+1):X67)","v":8.5549999999999997},0,0,{"$f":"IF(AND(AA66=0,AA67=1,SUM(INDIRECT($AA$1&ROW()-$AB$4):AA66)=0),1,0)","v":0},1,{"$f":"IF(AND(AC66=0,AC67=1,SUM(INDIRECT($AC$1&ROW()-AD$4):AC66)=0),1,0)","v":0},98.65,null,null,null,null,null,null,null,null,null,null,null,null,null,-2000,0,null,0,null,null,null,null,null,null,null,null,22.23]
["1969-03-14",{"$f":"VLOOKUP(A68,'input BCI'!$O$3:$R$5000,4)","v":7.94},null,null,7.94,null,null,null,null,null,null,null,null,0,7.94,null,null,7.94,null,null,null,1,7.94,7.94,{"$f":"AVERAGE(INDIRECT($X$1&ROW()-$Y$4+1):X68)","v":7.3150000000000004},0,0,{"$f":"IF(AND(AA67=0,AA68=1,SUM(INDIRECT($AA$1&ROW()-$AB$4):AA67)=0),1,0)","v":0},1,{"$f":"IF(AND(AC67=0,AC68=1,SUM(INDIRECT($AC$1&ROW()-AD$4):AC67)=0),1,0)","v":0},98,null,null,null,null,null,null,null,null,null,null,null,null,null,-2000,0,null,0,null,null,null,null,null,null,null,null,22.23]
["1969-03-21",{"$f":"VLOOKUP(A69,'input BCI'!$O$3:$R$5000,4)","v":6.69},null,null,6.69,null,null,null,null,null,null,null,null,0,6.69,null,null,6.69,null,null,null,1,6.69,6.69,{"$f":"AVERAGE(INDIRECT($X$1&ROW()-$Y$4+1):X69)","v":6.5650000000000004},0,0,{"$f":"IF(AND(AA68=0,AA69=1,SUM(INDIRECT($AA$1&ROW()-$AB$4):AA68)=0),1,0)","v":0},1,{"$f":"IF(AND(AC68=0,AC69=1,SUM(INDIRECT($AC$1&ROW()-AD$4):AC68)=0),1,0)","v":0},99.63,null,null,null,null,null,null,null,null,null,null,null,null,null,-2000,0,null,0,null,null,null,null,null,null,null,null,22.23]
["1969-03-28",{"$f":"VLOOKUP(A70,'input BCI'!$O$3:$R$5000,4)","v":6.44},null,null,6.44,null,null,null,null,null,null,null,null,0,6.44,null,null,6.44,null,null,null,1,6.44,6.44,{"$f":"AVERAGE(INDIRECT($X$1&ROW()-$Y$4+1):X70)","v":6.6150000000000002},0,1,{"$f":"IF(AND(AA69=0,AA70=1,SUM(INDIRECT($AA$1&ROW()-$AB$4):AA69)=0),1,0)","v":0},0,{"$f":"IF(AND(AC69=0,AC70=1,SUM(INDIRECT($AC$1&ROW()-AD$4):AC69)=0),1,0)","v":0},101.51,null,null,null,null,null,null,null,null,null,null,null,null,null,-2000,0,null,0,null,null,null,null,null,null,null,null,22.23]
["1969-04-04",{"$f":"VLOOKUP(A71,'input BCI'!$O$3:$R$5000,4)","v":6.79},null,null,6.79,null,null,null,null,null,null,null,null,0,6.79,null,null,6.79,null,null,null,1,6.79,6.79,{"$f":"AVERAGE(INDIRECT($X$1&ROW()-$Y$4+1):X71)","v":7.12},0,1,{"$f":"IF(AND(AA70=0,AA71=1,SUM(INDIRECT($AA$1&ROW()-$AB$4):AA70)=0),1,0)","v":0},0,{"$f":"IF(AND(AC70=0,AC71=1,SUM(INDIRECT($AC$1&ROW()-AD$4):AC70)=0),1,0)","v":0},100.68,null,null,null,null,null,null,null,null,null,null,null,null,null,-2000,0,null,0,null,null,null,null,null,null,null,null,22.23]
["1969-04-11",{"$f":"VLOOKUP(A72,'input BCI'!$O$3:$R$5000,4)","v":7.45},null,null,7.45,null,null,null,null,null,null,null,null,0,7.45,null,null,7.45,null,null,null,1,7.45,7.45,{"$f":"AVERAGE(INDIRECT($X$1&ROW()-$Y$4+1):X72)","v":7.8699999999999992},0,1,{"$f":"IF(AND(AA71=0,AA72=1,SUM(INDIRECT($AA$1&ROW()-$AB$4):AA71)=0),1,0)","v":0},0,{"$f":"IF(AND(AC71=0,AC72=1,SUM(INDIRECT($AC$1&ROW()-AD$4):AC71)=0),1,0)","v":0},101.65,null,null,null,null,null,null,null,null,null,null,null,null,null,-2000,0,null,0,null,null,null,null,null,null,null,null,22.23]
["1969-04-18",{"$f":"VLOOKUP(A73,'input BCI'!$O$3:$R$5000,4)","v":8.2899999999999991},null,null,8.2899999999999991,null,null,null,null,null,null,null,null,0,8.2899999999999991,null,null,8.2899999999999991,null,null,null,1,8.2899999999999991,8.2899999999999991,{"$f":"AVERAGE(INDIRECT($X$1&ROW()-$Y$4+1):X73)","v":8.6499999999999986},0,1,{"$f":"IF(AND(AA72=0,AA73=1,SUM(INDIRECT($AA$1&ROW()-$AB$4):AA72)=0),1,0)","v":0},0,{"$f":"IF(AND(AC72=0,AC73=1,SUM(INDIRECT($AC$1&ROW()-AD$4):AC72)=0),1,0)","v":0},101.24,null,null,null,null,null,null,null,null,null,null,null,null,null,-2000,0,null,0,null,null,null,null,null,null,null,null,22.23]
["1969-04-25",{"$f":"VLOOKUP(A74,'input BCI'!$O$3:$R$5000,4)","v":9.01},null,null,9.01,null,null,null,null,null,null,null,null,0,9.01,null,null,9.01,null,null,null,1,9.01,9.01,{"$f":"AVERAGE(INDIRECT($X$1&ROW()-$Y$4+1):X74)","v":9.2199999999999989},0,1,{"$f":"IF(AND(AA73=0,AA74=1,SUM(INDIRECT($AA$1&ROW()-$AB$4):AA73)=0),1,0)","v":0},0,{"$f":"IF(AND(AC73=0,AC74=1,SUM(INDIRECT($AC$1&ROW()-AD$4):AC73)=0),1,0)","v":0},101.72,null,null,null,null,null,null,null,null,null,null,null,null,null,{"$f":"IF(ISNUMBER(AR74),2000,-2000)","v":-2000},0,null,0,null,null,null,null,null,null,null,null,22.23]
["1969-05-02",{"$f":"VLOOKUP(A75,'input BCI'!$O$3:$R$5000,4)","v":9.43},null,null,{"$f":"B75+$O$7","v":9.43},null,null,null,null,null,null,null,null,0,{"$f":"E75","v":9.43},null,null,9.43,null,null,null,1,{"$f":"R75","v":9.43},{"$f":"(W75+$X$4)","v":9.43},{"$f":"AVERAGE(INDIRECT($X$1&ROW()-$Y$4+1):X75)","v":9.6950000000000003},{"$f":"IF(OR(X75=$I$5,X75>$I$5),1,0)","v":0},1,{"$f":"IF(AND(AA74=0,AA75=1,SUM(INDIRECT($AA$1&ROW()-$AB$4):AA74)=0),1,0)","v":0},0,{"$f":"IF(AND(AC74=0,AC75=1,SUM(INDIRECT($AC$1&ROW()-AD$4):AC74)=0),1,0)","v":0},104,null,null,null,null,null,null,null,null,null,null,null,null,null,-2000,0,null,0,null,null,null,null,null,null,null,null,{"$f":"$BE$2","v":22.23}]
["1969-05-09",{"$f":"VLOOKUP(A76,'input BCI'!$O$3:$R$5000,4)","v":9.9600000000000009},null,null,9.9600000000000009,null,null,null,null,null,null,null,null,0,9.9600000000000009,null,null,9.9600000000000009,null,null,null,{"$f":"V75","v":1},9.9600000000000009,9.9600000000000009,{"$f":"AVERAGE(INDIRECT($X$1&ROW()-$Y$4+1):X76)","v":10.275},0,1,{"$f":"IF(AND(AA75=0,AA76=1,SUM(INDIRECT($AA$1&ROW()-$AB$4):AA75)=0),1,0)","v":0},0,{"$f":"IF(AND(AC75=0,AC76=1,SUM(INDIRECT($AC$1&ROW()-AD$4):AC75)=0),1,0)","v":0},105.05,null,null,null,null,null,null,null,null,null,null,null,null,null,-2000,0,null,0,null,null,null,null,null,null,null,null,22.23]
["1969-05-16",{"$f":"VLOOKUP(A77,'input BCI'!$O$3:$R$5000,4)","v":10.59},null,null,10.59,null,null,null,null,null,null,null,null,0,10.59,null,null,10.59,null,null,null,1,10.59,10.59,{"$f":"AVERAGE(INDIRECT($X$1&ROW()-$Y$4+1):X77)","v":10.8},0,{"$f":"IF(Y77>X77,1,0)","v":1},{"$f":"IF(AND(AA76=0,AA77=1,SUM(INDIRECT($AA$1&ROW()-$AB$4):AA76)=0),1,0)","v":0},0,{"$f":"IF(AND(AC76=0,AC77=1,SUM(INDIRECT($AC$1&ROW()-AD$4):AC76)=0),1,0)","v":0},105.94,null,null,null,null,null,null,null,null,null,null,null,null,null,-2000,0,null,0,null,null,null,null,null,null,null,null,22.23]
["1969-05-23",{"$f":"VLOOKUP(A78,'input BCI'!$O$3:$R$5000,4)","v":11.01},null,null,11.01,null,null,null,null,null,null,null,null,0,11.01,null,null,11.01,null,null,null,1,11.01,11.01,{"$f":"AVERAGE(INDIRECT($X$1&ROW()-$Y$4+1):X78)","v":11.074999999999999},0,1,{"$f":"IF(AND(AA77=0,AA78=1,SUM(INDIRECT($AA$1&ROW()-$AB$4):AA77)=0),1,0)","v":0},{"$f":"IF(Y78<X78,1,0)","v":0},{"$f":"IF(AND(AC77=0,AC78=1,SUM(INDIRECT($AC$1&ROW()-AD$4):AC77)=0),1,0)","v":0},104.59,null,null,null,null,null,null,null,null,null,null,null,null,null,-2000,0,null,0,null,null,null,null,null,null,null,null,22.23]
["1969-05-30",{"$f":"VLOOKUP(A79,'input BCI'!$O$3:$R$5000,4)","v":11.14},null,null,11.14,null,null,null,null,null,null,null,null,0,11.14,null,null,11.14,null,null,null,1,11.14,11.14,{"$f":"AVERAGE(INDIRECT($X$1&ROW()-$Y$4+1):X79)","v":10.925000000000001},0,0,{"$f":"IF(AND(AA78=0,AA79=1,SUM(INDIRECT($AA$1&ROW()-$AB$4):AA78)=0),1,0)","v":0},1,{"$f":"IF(AND(AC78=0,AC79=1,SUM(INDIRECT($AC$1&ROW()-AD$4):AC78)=0),1,0)","v":1},103.46,null,null,null,null,null,null,null,null,null,null,null,null,null,-2000,0,null,0,null,null,null,null,null,null,null,null,22.23]
["1969-06-06",{"$f":"VLOOKUP(A80,'input BCI'!$O$3:$R$5000,4)","v":10.71},null,null,10.71,null,null,null,null,null,null,null,null,0,10.71,null,null,10.71,null,null,null,1,10.71,10.71,{"$f":"AVERAGE(INDIRECT($X$1&ROW()-$Y$4+1):X80)","v":10.370000000000001},0,0,{"$f":"IF(AND(AA79=0,AA80=1,SUM(INDIRECT($AA$1&ROW()-$AB$4):AA79)=0),1,0)","v":0},1,{"$f":"IF(AND(AC79=0,AC80=1,SUM(INDIRECT($AC$1&ROW()-AD$4):AC79)=0),1,0)","v":0},102.12,null,null,null,null,null,null,null,null,null,null,null,null,null,-2000,0,null,0,null,null,null,null,null,null,null,null,22.23]
["1969-06-13",{"$f":"VLOOKUP(A81,'input BCI'!$O$3:$R$5000,4)","v":10.029999999999999},null,null,10.029999999999999,null,null,null,null,null,null,null,null,0,10.029999999999999,null,null,10.029999999999999,null,null,null,1,10.029999999999999,10.029999999999999,{"$f":"AVERAGE(INDIRECT($X$1&ROW()-$Y$4+1):X81)","v":9.59},0,0,{"$f":"IF(AND(AA80=0,AA81=1,SUM(INDIRECT($AA$1&ROW()-$AB$4):AA80)=0),1,0)","v":0},1,{"$f":"IF(AND(AC80=0,AC81=1,SUM(INDIRECT($AC$1&ROW()-AD$4):AC80)=0),1,0)","v":0},98.65,null,null,null,null,null,null,null,null,null,null,null,null,null,-2000,0,null,0,null,null,null,null,null,null,null,null,22.23]
["1969-06-20",{"$f":"VLOOKUP(A82,'input BCI'!$O$3:$R$5000,4)","v":9.15},null,null,9.15,null,null,null,null,null,null,null,null,0,9.15,null,null,9.15,null,null,null,1,9.15,9.15,{"$f":"AVERAGE(INDIRECT($X$1&ROW()-$Y$4+1):X82)","v":8.65},0,0,{"$f":"IF(AND(AA81=0,AA82=1,SUM(INDIRECT($AA$1&ROW()-$AB$4):AA81)=0),1,0)","v":0},1,{"$f":"IF(AND(AC81=0,AC82=1,SUM(INDIRECT($AC$1&ROW()-AD$4):AC81)=0),1,0)","v":0},96.67,null,null,null,null,null,null,null,null,null,null,null,null,null,-2000,0,null,0,null,null,null,null,null,null,null,null,22.23]
["1969-06-27",{"$f":"VLOOKUP(A83,'input BCI'!$O$3:$R$5000,4)","v":8.15},null,null,8.15,null,null,null,null,null,null,null,null,0,8.15,null,null,8.15,null,null,null,1,8.15,8.15,{"$f":"AVERAGE(INDIRECT($X$1&ROW()-$Y$4+1):X83)","v":7.7550000000000008},0,0,{"$f":"IF(AND(AA82=0,AA83=1,SUM(INDIRECT($AA$1&ROW()-$AB$4):AA82)=0),1,0)","v":0},1,{"$f":"IF(AND(AC82=0,AC83=1,SUM(INDIRECT($AC$1&ROW()-AD$4):AC82)=0),1,0)","v":0},97.33,null,null,null,null,null,null,null,null,null,null,null,null,null,-2000,0,null,0,null,null,null,null,null,null,null,null,22.23]
["1969-07-04",{"$f":"VLOOKUP(A84,'input BCI'!$O$3:$R$5000,4)","v":7.36},null,null,7.36,null,null,null,null,null,null,null,null,0,7.36,null,null,7.36,null,null,null,1,7.36,7.36,{"$f":"AVERAGE(INDIRECT($X$1&ROW()-$Y$4+1):X84)","v":7.04},0,0,{"$f":"IF(AND(AA83=0,AA84=1,SUM(INDIRECT($AA$1&ROW()-$AB$4):AA83)=0),1,0)","v":0},1,{"$f":"IF(AND(AC83=0,AC84=1,SUM(INDIRECT($AC$1&ROW()-AD$4):AC83)=0),1,0)","v":0},99.61,null,null,null,null,null,null,null,null,null,null,null,null,null,-2000,0,null,0,null,null,null,null,null,null,null,null,22.23]
["1969-07-11",{"$f":"VLOOKUP(A85,'input BCI'!$O$3:$R$5000,4)","v":6.72},null,null,6.72,null,null,null,null,null,null,null,null,0,6.72,null,null,6.72,null,null,null,1,6.72,6.72,{"$f":"AVERAGE(INDIRECT($X$1&ROW()-$Y$4+1):X85)","v":6.22},0,0,{"$f":"IF(AND(AA84=0,AA85=1,SUM(INDIRECT($AA$1&ROW()-$AB$4):AA84)=0),1,0)","v":0},1,{"$f":"IF(AND(AC84=0,AC85=1,SUM(INDIRECT($AC$1&ROW()-AD$4):AC84)=0),1,0)","v":0},95.77,null,null,null,null,null,null,null,null,null,null,null,null,null,-2000,0,null,0,null,null,null,null,null,null,null,null,22.23]
["1969-07-18",{"$f":"VLOOKUP(A86,'input BCI'!$O$3:$R$5000,4)","v":5.72},null,null,5.72,null,null,null,null,null,null,null,null,0,5.72,null,null,5.72,null,null,null,1,5.72,5.72,{"$f":"AVERAGE(INDIRECT($X$1&ROW()-$Y$4+1):X86)","v":5.1749999999999998},0,0,{"$f":"IF(AND(AA85=0,AA86=1,SUM(INDIRECT($AA$1&ROW()-$AB$4):AA85)=0),1,0)","v":0},1,{"$f":"IF(AND(AC85=0,AC86=1,SUM(INDIRECT($AC$1&ROW()-AD$4):AC85)=0),1,0)","v":0},94.95,null,null,null,null,null,null,null,null,null,null,null,null,null,-2000,0,null,0,null,null,null,null,null,null,null,null,22.23]
["1969-07-25",{"$f":"VLOOKUP(A87,'input BCI'!$O$3:$R$5000,4)","v":4.63},null,null,4.63,null,null,null,null,null,null,null,null,0,4.63,null,null,4.63,null,null,null,1,4.63,4.63,{"$f":"AVERAGE(INDIRECT($X$1&ROW()-$Y$4+1):X87)","v":3.875},0,0,{"$f":"IF(AND(AA86=0,AA87=1,SUM(INDIRECT($AA$1&ROW()-$AB$4):AA86)=0),1,0)","v":0},1,{"$f":"IF(AND(AC86=0,AC87=1,SUM(INDIRECT($AC$1&ROW()-AD$4):AC86)=0),1,0)","v":0},92.06,null,null,null,null,null,null,null,null,null,null,null,null,null,-2000,0,null,0,null,null,null,null,null,null,null,null,22.23]
["1969-08-01",{"$f":"VLOOKUP(A88,'input BCI'!$O$3:$R$5000,4)","v":3.12},null,null,3.12,null,null,null,null,null,null,null,null,0,3.12,null,null,3.12,null,null,null,1,3.12,3.12,{"$f":"AVERAGE(INDIRECT($X$1&ROW()-$Y$4+1):X88)","v":2.38},0,0,{"$f":"IF(AND(AA87=0,AA88=1,SUM(INDIRECT($AA$1&ROW()-$AB$4):AA87)=0),1,0)","v":0},1,{"$f":"IF(AND(AC87=0,AC88=1,SUM(INDIRECT($AC$1&ROW()-AD$4):AC87)=0),1,0)","v":0},93.47,null,null,null,null,null,null,null,null,null,null,null,null,null,-2000,0,null,0,null,null,null,null,null,null,null,null,22.23]
["1969-08-08",{"$f":"VLOOKUP(A89,'input BCI'!$O$3:$R$5000,4)","v":1.64},null,null,1.64,null,null,null,null,null,null,null,null,0,1.64,null,null,{"$f":"O89*R$7","v":1.64},null,null,null,1,1.64,1.64,{"$f":"AVERAGE(INDIRECT($X$1&ROW()-$Y$4+1):X89)","v":1.21},0,0,{"$f":"IF(AND(AA88=0,AA89=1,SUM(INDIRECT($AA$1&ROW()-$AB$4):AA88)=0),1,0)","v":0},1,{"$f":"IF(AND(AC88=0,AC89=1,SUM(INDIRECT($AC$1&ROW()-AD$4):AC88)=0),1,0)","v":0},93.94,null,null,null,null,null,null,null,null,null,null,null,null,null,-2000,0,null,0,null,null,null,null,null,null,null,null,22.23]
["1969-08-15",{"$f":"VLOOKUP(A90,'input BCI'!$O$3:$R$5000,4)","v":0.78},null,null,0.78,null,null,null,null,null,null,null,null,0,0.78,null,null,0.78,null,null,null,1,0.78,0.78,{"$f":"AVERAGE(INDIRECT($X$1&ROW()-$Y$4+1):X90)","v":0.64500000000000002},0,0,{"$f":"IF(AND(AA89=0,AA90=1,SUM(INDIRECT($AA$1&ROW()-$AB$4):AA89)=0),1,0)","v":0},1,{"$f":"IF(AND(AC89=0,AC90=1,SUM(INDIRECT($AC$1&ROW()-AD$4):AC89)=0),1,0)","v":0},94,null,null,null,null,null,null,null,null,null,null,null,null,null,-2000,0,null,0,null,null,null,null,null,null,null,null,22.23]
["1969-08-22",{"$f":"VLOOKUP(A91,'input BCI'!$O$3:$R$5000,4)","v":0.51},null,null,0.51,null,null,null,null,null,null,null,null,0,0.51,null,null,0.51,null,null,null,1,0.51,0.51,{"$f":"AVERAGE(INDIRECT($X$1&ROW()-$Y$4+1):X91)","v":0.60499999999999998},0,1,{"$f":"IF(AND(AA90=0,AA91=1,SUM(INDIRECT($AA$1&ROW()-$AB$4):AA90)=0),1,0)","v":1},0,{"$f":"IF(AND(AC90=0,AC91=1,SUM(INDIRECT($AC$1&ROW()-AD$4):AC90)=0),1,0)","v":0},95.92,null,null,null,null,null,null,null,null,null,null,null,null,null,-2000,0,null,0,null,null,null,null,null,null,null,null,22.23]
["1969-08-29",{"$f":"VLOOKUP(A92,'input BCI'!$O$3:$R$5000,4)","v":0.7},null,null,0.7,null,null,null,null,null,null,null,null,0,0.7,null,null,0.7,null,null,null,1,0.7,0.7,{"$f":"AVERAGE(INDIRECT($X$1&ROW()-$Y$4+1):X92)","v":0.79499999999999993},0,1,{"$f":"IF(AND(AA91=0,AA92=1,SUM(INDIRECT($AA$1&ROW()-$AB$4):AA91)=0),1,0)","v":0},0,{"$f":"IF(AND(AC91=0,AC92=1,SUM(INDIRECT($AC$1&ROW()-AD$4):AC91)=0),1,0)","v":0},95.51,null,null,null,null,null,null,null,null,null,null,null,null,null,-2000,0,null,0,null,null,null,null,null,null,null,null,22.23]
["1969-09-05",{"$f":"VLOOKUP(A93,'input BCI'!$O$3:$R$5000,4)","v":0.89},null,null,0.89,null,null,null,null,null,null,null,null,0,0.89,null,null,0.89,null,null,null,1,0.89,0.89,{"$f":"AVERAGE(INDIRECT($X$1&ROW()-$Y$4+1):X93)","v":0.93500000000000005},0,1,{"$f":"IF(AND(AA92=0,AA93=1,SUM(INDIRECT($AA$1&ROW()-$AB$4):AA92)=0),1,0)","v":0},0,{"$f":"IF(AND(AC92=0,AC93=1,SUM(INDIRECT($AC$1&ROW()-AD$4):AC92)=0),1,0)","v":0},93.64,null,null,null,null,null,null,null,null,null,null,null,null,null,-2000,0,null,0,null,null,null,null,null,null,null,null,22.23]
["1969-09-12",{"$f":"VLOOKUP(A94,'input BCI'!$O$3:$R$5000,4)","v":0.98},null,null,0.98,null,null,null,null,null,null,null,null,0,0.98,null,null,0.98,null,null,null,1,0.98,0.98,{"$f":"AVERAGE(INDIRECT($X$1&ROW()-$Y$4+1):X94)","v":0.86},0,0,{"$f":"IF(AND(AA93=0,AA94=1,SUM(INDIRECT($AA$1&ROW()-$AB$4):AA93)=0),1,0)","v":0},1,{"$f":"IF(AND(AC93=0,AC94=1,SUM(INDIRECT($AC$1&ROW()-AD$4):AC93)=0),1,0)","v":0},94.13,null,null,null,null,null,null,null,null,null,null,null,null,null,-2000,0,null,0,null,null,null,null,null,null,null,null,22.23]
["1969-09-19",{"$f":"VLOOKUP(A95,'input BCI'!$O$3:$R$5000,4)","v":0.74},null,null,0.74,null,null,null,null,null,null,null,null,0,0.74,null,null,0.74,null,null,null,1,0.74,0.74,{"$f":"AVERAGE(INDIRECT($X$1&ROW()-$Y$4+1):X95)","v":0.57999999999999996},0,0,{"$f":"IF(AND(AA94=0,AA95=1,SUM(INDIRECT($AA$1&ROW()-$AB$4):AA94)=0),1,0)","v":0},1,{"$f":"IF(AND(AC94=0,AC95=1,SUM(INDIRECT($AC$1&ROW()-AD$4):AC94)=0),1,0)","v":0},95.19,null,null,null,null,null,null,null,null,null,null,null,null,null,-2000,0,null,0,null,null,null,null,null,null,null,null,22.23]
["1969-09-26",{"$f":"VLOOKUP(A96,'input BCI'!$O$3:$R$5000,4)","v":0.42},null,null,0.42,null,null,null,null,null,null,null,null,0,0.42,null,null,0.42,null,null,null,1,0.42,0.42,{"$f":"AVERAGE(INDIRECT($X$1&ROW()-$Y$4+1):X96)","v":0.11499999999999999},0,0,{"$f":"IF(AND(AA95=0,AA96=1,SUM(INDIRECT($AA$1&ROW()-$AB$4):AA95)=0),1,0)","v":0},1,{"$f":"IF(AND(AC95=0,AC96=1,SUM(INDIRECT($AC$1&ROW()-AD$4):AC95)=0),1,0)","v":0},94.16,null,null,null,null,null,null,null,null,null,null,null,null,null,-2000,0,null,0,null,null,null,null,null,null,null,null,22.23]
["1969-10-03",{"$f":"VLOOKUP(A97,'input BCI'!$O$3:$R$5000,4)","v":-0.19},null,null,-0.19,null,null,null,null,null,null,null,null,0,-0.19,null,null,-0.19,null,null,null,1,-0.19,-0.19,{"$f":"AVERAGE(INDIRECT($X$1&ROW()-$Y$4+1):X97)","v":-0.47},0,0,{"$f":"IF(AND(AA96=0,AA97=1,SUM(INDIRECT($AA$1&ROW()-$AB$4):AA96)=0),1,0)","v":0},1,{"$f":"IF(AND(AC96=0,AC97=1,SUM(INDIRECT($AC$1&ROW()-AD$4):AC96)=0),1,0)","v":0},93.19,null,null,null,null,null,null,null,null,null,null,null,null,null,-2000,0,null,0,null,null,null,null,null,null,null,null,22.23]
["1969-10-10",{"$f":"VLOOKUP(A98,'input BCI'!$O$3:$R$5000,4)","v":-0.75},null,null,-0.75,null,null,null,null,null,null,null,null,0,-0.75,null,null,-0.75,null,null,null,1,-0.75,-0.75,{"$f":"AVERAGE(INDIRECT($X$1&ROW()-$Y$4+1):X98)","v":-0.94499999999999995},0,0,{"$f":"IF(AND(AA97=0,AA98=1,SUM(INDIRECT($AA$1&ROW()-$AB$4):AA97)=0),1,0)","v":0},1,{"$f":"IF(AND(AC97=0,AC98=1,SUM(INDIRECT($AC$1&ROW()-AD$4):AC97)=0),1,0)","v":0},93.56,null,null,null,null,null,null,null,null,null,null,null,null,null,-2000,0,null,0,null,null,null,null,null,null,null,null,22.23]
["1969-10-17",{"$f":"VLOOKUP(A99,'input BCI'!$O$3:$R$5000,4)","v":-1.1399999999999999},null,null,-1.1399999999999999,null,null,null,null,null,null,null,null,0,-1.1399999999999999,null,null,-1.1399999999999999,null,null,null,1,-1.1399999999999999,-1.1399999999999999,{"$f":"AVERAGE(INDIRECT($X$1&ROW()-$Y$4+1):X99)","v":-1.2149999999999999},0,0,{"$f":"IF(AND(AA98=0,AA99=1,SUM(INDIRECT($AA$1&ROW()-$AB$4):AA98)=0),1,0)","v":0},1,{"$f":"IF(AND(AC98=0,AC99=1,SUM(INDIRECT($AC$1&ROW()-AD$4):AC98)=0),1,0)","v":0},96.26,null,null,null,null,null,null,null,null,null,null,null,null,null,-2000,0,null,0,null,null,null,null,null,null,null,null,22.23]
["1969-10-24",{"$f":"VLOOKUP(A100,'input BCI'!$O$3:$R$5000,4)","v":-1.29},null,null,-1.29,null,null,null,null,null,null,null,null,0,-1.29,null,null,-1.29,null,null,null,1,-1.29,-1.29,{"$f":"AVERAGE(INDIRECT($X$1&ROW()-$Y$4+1):X100)","v":-1.29},0,0,{"$f":"IF(AND(AA99=0,AA100=1,SUM(INDIRECT($AA$1&ROW()-$AB$4):AA99)=0),1,0)","v":0},0,{"$f":"IF(AND(AC99=0,AC100=1,SUM(INDIRECT($AC$1&ROW()-AD$4):AC99)=0),1,0)","v":0},98.12,null,null,null,null,null,null,null,null,null,null,null,null,null,-2000,0,null,0,null,null,null,null,null,null,null,null,22.23]
["1969-10-31",{"$f":"VLOOKUP(A101,'input BCI'!$O$3:$R$5000,4)","v":-1.29},null,null,-1.29,null,null,null,null,null,null,null,null,0,-1.29,null,null,-1.29,null,null,null,1,-1.29,-1.29,{"$f":"AVERAGE(INDIRECT($X$1&ROW()-$Y$4+1):X101)","v":-1.33},0,0,{"$f":"IF(AND(AA100=0,AA101=1,SUM(INDIRECT($AA$1&ROW()-$AB$4):AA100)=0),1,0)","v":0},1,{"$f":"IF(AND(AC100=0,AC101=1,SUM(INDIRECT($AC$1&ROW()-AD$4):AC100)=0),1,0)","v":0},97.12,null,null,null,null,null,null,null,null,null,null,null,null,null,-2000,0,null,0,null,null,null,null,null,null,null,null,22.23]
["1969-11-07",{"$f":"VLOOKUP(A102,'input BCI'!$O$3:$R$5000,4)","v":-1.37},null,null,-1.37,null,null,null,null,null,null,null,null,0,-1.37,null,null,-1.37,null,null,null,1,-1.37,-1.37,{"$f":"AVERAGE(INDIRECT($X$1&ROW()-$Y$4+1):X102)","v":-1.4350000000000001},0,0,{"$f":"IF(AND(AA101=0,AA102=1,SUM(INDIRECT($AA$1&ROW()-$AB$4):AA101)=0),1,0)","v":0},1,{"$f":"IF(AND(AC101=0,AC102=1,SUM(INDIRECT($AC$1&ROW()-AD$4):AC101)=0),1,0)","v":0},98.26,null,null,null,null,null,null,null,null,null,null,null,null,null,-2000,0,null,0,null,null,null,null,null,null,null,null,22.23]
["1969-11-14",{"$f":"VLOOKUP(A103,'input BCI'!$O$3:$R$5000,4)","v":-1.5},null,null,-1.5,null,null,null,null,null,null,null,null,0,-1.5,null,null,-1.5,null,null,null,1,-1.5,-1.5,{"$f":"AVERAGE(INDIRECT($X$1&ROW()-$Y$4+1):X103)","v":-1.7749999999999999},0,0,{"$f":"IF(AND(AA102=0,AA103=1,SUM(INDIRECT($AA$1&ROW()-$AB$4):AA102)=0),1,0)","v":0},1,{"$f":"IF(AND(AC102=0,AC103=1,SUM(INDIRECT($AC$1&ROW()-AD$4):AC102)=0),1,0)","v":0},97.07,null,null,null,null,null,null,null,null,null,null,null,null,null,-2000,0,null,0,null,null,null,null,null,null,null,null,22.23]
["1969-11-21",{"$f":"VLOOKUP(A104,'input BCI'!$O$3:$R$5000,4)","v":-2.0499999999999998},null,null,-2.0499999999999998,null,null,null,null,null,null,null,null,0,-2.0499999999999998,null,null,-2.0499999999999998,null,null,null,1,-2.0499999999999998,-2.0499999999999998,{"$f":"AVERAGE(INDIRECT($X$1&ROW()-$Y$4+1):X104)","v":-2.4500000000000002},0,0,{"$f":"IF(AND(AA103=0,AA104=1,SUM(INDIRECT($AA$1&ROW()-$AB$4):AA103)=0),1,0)","v":0},1,{"$f":"IF(AND(AC103=0,AC104=1,SUM(INDIRECT($AC$1&ROW()-AD$4):AC103)=0),1,0)","v":0},94.32,null,null,null,null,null,null,null,null,null,null,null,null,null,-2000,0,null,0,null,null,null,null,null,null,null,null,22.23]
["1969-11-28",{"$f":"VLOOKUP(A105,'input BCI'!$O$3:$R$5000,4)","v":-2.85},null,null,-2.85,null,null,null,null,null,null,null,null,0,-2.85,null,null,-2.85,null,null,null,1,-2.85,-2.85,{"$f":"AVERAGE(INDIRECT($X$1&ROW()-$Y$4+1):X105)","v":-3.145},0,0,{"$f":"IF(AND(AA104=0,AA105=1,SUM(INDIRECT($AA$1&ROW()-$AB$4):AA104)=0),1,0)","v":0},1,{"$f":"IF(AND(AC104=0,AC105=1,SUM(INDIRECT($AC$1&ROW()-AD$4):AC104)=0),1,0)","v":0},93.81,null,null,null,null,null,null,null,null,null,null,null,null,null,-2000,0,null,0,null,null,null,null,null,null,null,null,22.23]
["1969-12-05",{"$f":"VLOOKUP(A106,'input BCI'!$O$3:$R$5000,4)","v":-3.44},null,null,-3.44,null,null,null,null,null,null,null,null,0,-3.44,null,null,-3.44,null,null,null,1,-3.44,-3.44,{"$f":"AVERAGE(INDIRECT($X$1&ROW()-$Y$4+1):X106)","v":-3.915},0,0,{"$f":"IF(AND(AA105=0,AA106=1,SUM(INDIRECT($AA$1&ROW()-$AB$4):AA105)=0),1,0)","v":0},1,{"$f":"IF(AND(AC105=0,AC106=1,SUM(INDIRECT($AC$1&ROW()-AD$4):AC105)=0),1,0)","v":0},91.73,null,null,null,null,null,null,null,null,null,null,null,null,null,-2000,0,null,0,null,null,null,null,null,null,null,null,22.23]
["1969-12-12",{"$f":"VLOOKUP(A107,'input BCI'!$O$3:$R$5000,4)","v":-4.3899999999999997},null,null,-4.3899999999999997,null,null,null,null,null,null,null,null,0,-4.3899999999999997,null,null,-4.3899999999999997,null,null,null,1,-4.3899999999999997,-4.3899999999999997,{"$f":"AVERAGE(INDIRECT($X$1&ROW()-$Y$4+1):X107)","v":-4.88},0,0,{"$f":"IF(AND(AA106=0,AA107=1,SUM(INDIRECT($AA$1&ROW()-$AB$4):AA106)=0),1,0)","v":0},1,{"$f":"IF(AND(AC106=0,AC107=1,SUM(INDIRECT($AC$1&ROW()-AD$4):AC106)=0),1,0)","v":0},90.81,null,null,null,null,null,null,null,null,null,null,null,null,null,-2000,0,null,0,null,null,null,null,null,null,null,null,22.23]
["1969-12-19",{"$f":"VLOOKUP(A108,'input BCI'!$O$3:$R$5000,4)","v":-5.37},null,null,-5.37,null,null,null,null,null,null,null,null,0,-5.37,null,null,-5.37,null,null,null,1,-5.37,-5.37,{"$f":"AVERAGE(INDIRECT($X$1&ROW()-$Y$4+1):X108)","v":-5.6750000000000007},0,0,{"$f":"IF(AND(AA107=0,AA108=1,SUM(INDIRECT($AA$1&ROW()-$AB$4):AA107)=0),1,0)","v":0},1,{"$f":"IF(AND(AC107=0,AC108=1,SUM(INDIRECT($AC$1&ROW()-AD$4):AC107)=0),1,0)","v":0},91.38,null,null,null,null,null,null,null,null,null,null,null,null,null,-2000,0,null,0,null,null,null,null,null,null,null,null,22.23]
["1969-12-26",{"$f":"VLOOKUP(A109,'input BCI'!$O$3:$R$5000,4)","v":-5.98},null,null,-5.98,null,null,null,null,null,null,null,null,0,-5.98,null,null,-5.98,null,null,null,1,-5.98,-5.98,{"$f":"AVERAGE(INDIRECT($X$1&ROW()-$Y$4+1):X109)","v":-6.15},0,0,{"$f":"IF(AND(AA108=0,AA109=1,SUM(INDIRECT($AA$1&ROW()-$AB$4):AA108)=0),1,0)","v":0},1,{"$f":"IF(AND(AC108=0,AC109=1,SUM(INDIRECT($AC$1&ROW()-AD$4):AC108)=0),1,0)","v":0},91.89,null,null,null,null,null,null,null,null,null,null,null,null,null,-2000,0,null,0,null,null,null,null,null,null,null,null,22.23]
["1970-01-02",{"$f":"VLOOKUP(A110,'input BCI'!$O$3:$R$5000,4)","v":-6.32},null,null,-6.32,null,null,null,null,null,null,null,null,1,-6.32,null,null,-6.32,null,null,null,1,-6.32,-6.32,{"$f":"AVERAGE(INDIRECT($X$1&ROW()-$Y$4+1):X110)","v":-6.26},0,1,{"$f":"IF(AND(AA109=0,AA110=1,SUM(INDIRECT($AA$1&ROW()-$AB$4):AA109)=0),1,0)","v":1},0,{"$f":"IF(AND(AC109=0,AC110=1,SUM(INDIRECT($AC$1&ROW()-AD$4):AC109)=0),1,0)","v":0},93,null,null,null,null,null,null,null,null,null,null,null,null,"1970-01-02",2000,1,null,0,null,null,null,null,null,null,null,null,22.23,null,null,null,{"$f":"MAX(BH10:BH110)","v":"00:00:00"},{"$f":"(BG110-BI110)/7","v":0}]
["1970-01-09",{"$f":"VLOOKUP(A111,'input BCI'!$O$3:$R$5000,4)","v":-6.2},null,null,-6.2,null,null,null,null,null,null,null,null,1,-6.2,null,null,-6.2,null,null,null,1,-6.2,-6.2,{"$f":"AVERAGE(INDIRECT($X$1&ROW()-$Y$4+1):X111)","v":-6.1150000000000002},0,1,{"$f":"IF(AND(AA110=0,AA111=1,SUM(INDIRECT($AA$1&ROW()-$AB$4):AA110)=0),1,0)","v":0},0,{"$f":"IF(AND(AC110=0,AC111=1,SUM(INDIRECT($AC$1&ROW()-AD$4):AC110)=0),1,0)","v":0},92.4,null,null,null,null,null,null,null,null,null,null,null,null,"1970-01-09",2000,1,null,0,null,null,null,null,null,null,null,null,22.23]
["1970-01-16",{"$f":"VLOOKUP(A112,'input BCI'!$O$3:$R$5000,4)","v":-6.03},null,null,-6.03,null,null,null,null,null,null,null,null,1,-6.03,null,null,-6.03,null,null,null,1,-6.03,-6.03,{"$f":"AVERAGE(INDIRECT($X$1&ROW()-$Y$4+1):X112)","v":-6.1050000000000004},0,0,{"$f":"IF(AND(AA111=0,AA112=1,SUM(INDIRECT($AA$1&ROW()-$AB$4):AA111)=0),1,0)","v":0},1,{"$f":"IF(AND(AC111=0,AC112=1,SUM(INDIRECT($AC$1&ROW()-AD$4):AC111)=0),1,0)","v":0},90.92,null,null,null,null,null,null,null,null,null,null,null,null,"1970-01-16",2000,1,null,0,null,null,null,null,null,null,null,null,22.23]
["1970-01-23",{"$f":"VLOOKUP(A113,'input BCI'!$O$3:$R$5000,4)","v":-6.18},null,null,-6.18,null,null,null,null,null,null,null,null,1,-6.18,null,null,-6.18,null,null,null,1,-6.18,-6.18,{"$f":"AVERAGE(INDIRECT($X$1&ROW()-$Y$4+1):X113)","v":-6.51},0,0,{"$f":"IF(AND(AA112=0,AA113=1,SUM(INDIRECT($AA$1&ROW()-$AB$4):AA112)=0),1,0)","v":0},1,{"$f":"IF(AND(AC112=0,AC113=1,SUM(INDIRECT($AC$1&ROW()-AD$4):AC112)=0),1,0)","v":0},89.37,null,null,null,null,null,null,null,null,null,null,null,null,"1970-01-23",2000,1,null,0,null,null,null,null,null,null,null,null,22.23]
["1970-01-30",{"$f":"VLOOKUP(A114,'input BCI'!$O$3:$R$5000,4)","v":-6.84},null,null,-6.84,null,null,null,null,null,null,null,null,1,-6.84,null,null,-6.84,null,null,null,1,-6.84,-6.84,{"$f":"AVERAGE(INDIRECT($X$1&ROW()-$Y$4+1):X114)","v":-7.375},0,0,{"$f":"IF(AND(AA113=0,AA114=1,SUM(INDIRECT($AA$1&ROW()-$AB$4):AA113)=0),1,0)","v":0},1,{"$f":"IF(AND(AC113=0,AC114=1,SUM(INDIRECT($AC$1&ROW()-AD$4):AC113)=0),1,0)","v":0},85.02,null,null,null,null,null,null,null,null,null,null,null,null,"1970-01-30",2000,1,null,0,null,null,null,null,null,null,null,null,22.23]
["1970-02-06",{"$f":"VLOOKUP(A115,'input BCI'!$O$3:$R$5000,4)","v":-7.91},null,null,-7.91,null,null,null,null,null,null,null,null,1,-7.91,null,null,-7.91,null,null,null,1,-7.91,-7.91,{"$f":"AVERAGE(INDIRECT($X$1&ROW()-$Y$4+1):X115)","v":-8.3249999999999993},0,0,{"$f":"IF(AND(AA114=0,AA115=1,SUM(INDIRECT($AA$1&ROW()-$AB$4):AA114)=0),1,0)","v":0},1,{"$f":"IF(AND(AC114=0,AC115=1,SUM(INDIRECT($AC$1&ROW()-AD$4):AC114)=0),1,0)","v":0},86.33,null,null,null,null,null,null,null,null,null,null,null,null,"1970-02-06",2000,1,null,0,null,null,null,null,null,null,null,null,22.23]
["1970-02-13",{"$f":"VLOOKUP(A116,'input BCI'!$O$3:$R$5000,4)","v":-8.74},null,null,-8.74,null,null,null,null,null,null,null,null,1,-8.74,null,null,-8.74,null,null,null,1,-8.74,-8.74,{"$f":"AVERAGE(INDIRECT($X$1&ROW()-$Y$4+1):X116)","v":-8.9849999999999994},0,0,{"$f":"IF(AND(AA115=0,AA116=1,SUM(INDIRECT($AA$1&ROW()-$AB$4):AA115)=0),1,0)","v":0},1,{"$f":"IF(AND(AC115=0,AC116=1,SUM(INDIRECT($AC$1&ROW()-AD$4):AC115)=0),1,0)","v":0},86.54,null,null,null,null,null,null,null,null,null,null,null,null,"1970-02-13",2000,1,null,0,null,null,null,null,null,null,null,null,22.23]
["1970-02-20",{"$f":"VLOOKUP(A117,'input BCI'!$O$3:$R$5000,4)","v":-9.23},null,null,-9.23,null,null,null,null,null,null,null,null,1,-9.23,null,null,-9.23,null,null,null,1,-9.23,-9.23,{"$f":"AVERAGE(INDIRECT($X$1&ROW()-$Y$4+1):X117)","v":-9.370000000000001},0,0,{"$f":"IF(AND(AA116=0,AA117=1,SUM(INDIRECT($AA$1&ROW()-$AB$4):AA116)=0),1,0)","v":0},1,{"$f":"IF(AND(AC116=0,AC117=1,SUM(INDIRECT($AC$1&ROW()-AD$4):AC116)=0),1,0)","v":0},88.03,null,null,null,null,null,null,null,null,null,null,null,null,"1970-02-20",2000,1,null,0,null,null,null,null,null,null,null,null,22.23]
["1970-02-27",{"$f":"VLOOKUP(A118,'input BCI'!$O$3:$R$5000,4)","v":-9.51},null,null,-9.51,null,null,null,null,null,null,null,null,1,-9.51,null,null,-9.51,null,null,null,1,-9.51,-9.51,{"$f":"AVERAGE(INDIRECT($X$1&ROW()-$Y$4+1):X118)","v":-9.3949999999999996},0,1,{"$f":"IF(AND(AA117=0,AA118=1,SUM(INDIRECT($AA$1&ROW()-$AB$4):AA117)=0),1,0)","v":0},0,{"$f":"IF(AND(AC117=0,AC118=1,SUM(INDIRECT($AC$1&ROW()-AD$4):AC117)=0),1,0)","v":0},89.5,null,null,null,null,null,null,null,null,null,null,null,null,"1970-02-27",2000,1,null,0,null,null,null,null,null,null,null,null,22.23]
["1970-03-06",{"$f":"VLOOKUP(A119,'input BCI'!$O$3:$R$5000,4)","v":-9.2799999999999994},null,null,-9.2799999999999994,null,null,null,null,null,null,null,null,1,-9.2799999999999994,null,null,-9.2799999999999994,null,null,null,1,-9.2799999999999994,-9.2799999999999994,{"$f":"AVERAGE(INDIRECT($X$1&ROW()-$Y$4+1):X119)","v":-9.23},0,1,{"$f":"IF(AND(AA118=0,AA119=1,SUM(INDIRECT($AA$1&ROW()-$AB$4):AA118)=0),1,0)","v":0},0,{"$f":"IF(AND(AC118=0,AC119=1,SUM(INDIRECT($AC$1&ROW()-AD$4):AC118)=0),1,0)","v":0},89.44,null,null,null,null,null,null,null,null,null,null,null,null,"1970-03-06",2000,1,null,0,null,null,null,null,null,null,null,null,22.23]
["1970-03-13",{"$f":"VLOOKUP(A120,'input BCI'!$O$3:$R$5000,4)","v":-9.18},null,null,-9.18,null,null,null,null,null,null,null,null,1,-9.18,null,null,-9.18,null,null,null,1,-9.18,-9.18,{"$f":"AVERAGE(INDIRECT($X$1&ROW()-$Y$4+1):X120)","v":-9.245000000000001},0,0,{"$f":"IF(AND(AA119=0,AA120=1,SUM(INDIRECT($AA$1&ROW()-$AB$4):AA119)=0),1,0)","v":0},1,{"$f":"IF(AND(AC119=0,AC120=1,SUM(INDIRECT($AC$1&ROW()-AD$4):AC119)=0),1,0)","v":0},87.86,null,null,null,null,null,null,null,null,null,null,null,null,"1970-03-13",2000,1,null,0,null,null,null,null,null,null,null,null,22.23]
["1970-03-20",{"$f":"VLOOKUP(A121,'input BCI'!$O$3:$R$5000,4)","v":-9.31},null,null,-9.31,null,null,null,null,null,null,null,null,1,-9.31,null,null,-9.31,null,null,null,1,-9.31,-9.31,{"$f":"AVERAGE(INDIRECT($X$1&ROW()-$Y$4+1):X121)","v":-9.3450000000000006},0,0,{"$f":"IF(AND(AA120=0,AA121=1,SUM(INDIRECT($AA$1&ROW()-$AB$4):AA120)=0),1,0)","v":0},1,{"$f":"IF(AND(AC120=0,AC121=1,SUM(INDIRECT($AC$1&ROW()-AD$4):AC120)=0),1,0)","v":0},87.06,null,null,null,null,null,null,null,null,null,null,null,null,"1970-03-20",2000,1,null,0,null,null,null,null,null,null,null,null,22.23]
["1970-03-27",{"$f":"VLOOKUP(A122,'input BCI'!$O$3:$R$5000,4)","v":-9.3800000000000008},null,null,-9.3800000000000008,null,null,null,null,null,null,null,null,1,-9.3800000000000008,null,null,-9.3800000000000008,null,null,null,1,-9.3800000000000008,-9.3800000000000008,{"$f":"AVERAGE(INDIRECT($X$1&ROW()-$Y$4+1):X122)","v":-9.7050000000000001},0,0,{"$f":"IF(AND(AA121=0,AA122=1,SUM(INDIRECT($AA$1&ROW()-$AB$4):AA121)=0),1,0)","v":0},1,{"$f":"IF(AND(AC121=0,AC122=1,SUM(INDIRECT($AC$1&ROW()-AD$4):AC121)=0),1,0)","v":0},89.92,null,null,null,null,null,null,null,null,null,null,null,null,"1970-03-27",2000,1,null,0,null,null,null,null,null,null,null,null,22.23]
["1970-04-03",{"$f":"VLOOKUP(A123,'input BCI'!$O$3:$R$5000,4)","v":-10.029999999999999},null,null,-10.029999999999999,null,null,null,null,null,null,null,null,1,-10.029999999999999,null,null,-10.029999999999999,null,null,null,1,-10.029999999999999,-10.029999999999999,{"$f":"AVERAGE(INDIRECT($X$1&ROW()-$Y$4+1):X123)","v":-10.57},0,0,{"$f":"IF(AND(AA122=0,AA123=1,SUM(INDIRECT($AA$1&ROW()-$AB$4):AA122)=0),1,0)","v":0},1,{"$f":"IF(AND(AC122=0,AC123=1,SUM(INDIRECT($AC$1&ROW()-AD$4):AC122)=0),1,0)","v":0},89.39,null,null,null,null,null,null,null,null,null,null,null,null,"1970-04-03",2000,1,null,0,null,null,null,null,null,null,null,null,22.23]
["1970-04-10",{"$f":"VLOOKUP(A124,'input BCI'!$O$3:$R$5000,4)","v":-11.11},null,null,-11.11,null,null,null,null,null,null,null,null,1,-11.11,null,null,-11.11,null,null,null,1,-11.11,-11.11,{"$f":"AVERAGE(INDIRECT($X$1&ROW()-$Y$4+1):X124)","v":-11.78},0,0,{"$f":"IF(AND(AA123=0,AA124=1,SUM(INDIRECT($AA$1&ROW()-$AB$4):AA123)=0),1,0)","v":0},1,{"$f":"IF(AND(AC123=0,AC124=1,SUM(INDIRECT($AC$1&ROW()-AD$4):AC123)=0),1,0)","v":0},88.24,null,null,null,null,null,null,null,null,null,null,null,null,"1970-04-10",2000,1,null,0,null,null,null,null,null,null,null,null,22.23]
["1970-04-17",{"$f":"VLOOKUP(A125,'input BCI'!$O$3:$R$5000,4)","v":-12.45},null,null,-12.45,null,null,null,null,null,null,null,null,1,-12.45,null,null,-12.45,null,null,null,1,-12.45,-12.45,{"$f":"AVERAGE(INDIRECT($X$1&ROW()-$Y$4+1):X125)","v":-13.305},0,0,{"$f":"IF(AND(AA124=0,AA125=1,SUM(INDIRECT($AA$1&ROW()-$AB$4):AA124)=0),1,0)","v":0},1,{"$f":"IF(AND(AC124=0,AC125=1,SUM(INDIRECT($AC$1&ROW()-AD$4):AC124)=0),1,0)","v":0},85.67,null,null,null,null,null,null,null,null,null,null,null,null,"1970-04-17",2000,1,null,0,null,null,null,null,null,null,null,null,22.23]
["1970-04-24",{"$f":"VLOOKUP(A126,'input BCI'!$O$3:$R$5000,4)","v":-14.16},null,null,-14.16,null,null,null,null,null,null,null,null,1,-14.16,null,null,-14.16,null,null,null,1,-14.16,-14.16,{"$f":"AVERAGE(INDIRECT($X$1&ROW()-$Y$4+1):X126)","v":-15.045},0,0,{"$f":"IF(AND(AA125=0,AA126=1,SUM(INDIRECT($AA$1&ROW()-$AB$4):AA125)=0),1,0)","v":0},1,{"$f":"IF(AND(AC125=0,AC126=1,SUM(INDIRECT($AC$1&ROW()-AD$4):AC125)=0),1,0)","v":0},82.77,null,null,null,null,null,null,null,null,null,null,null,null,"1970-04-24",2000,1,null,0,null,null,null,null,null,null,null,null,22.23]
["1970-05-01",{"$f":"VLOOKUP(A127,'input BCI'!$O$3:$R$5000,4)","v":-15.93},null,null,-15.93,null,null,null,null,null,null,null,null,1,-15.93,null,null,-15.93,null,null,null,1,-15.93,-15.93,{"$f":"AVERAGE(INDIRECT($X$1&ROW()-$Y$4+1):X127)","v":-16.785},0,0,{"$f":"IF(AND(AA126=0,AA127=1,SUM(INDIRECT($AA$1&ROW()-$AB$4):AA126)=0),1,0)","v":0},1,{"$f":"IF(AND(AC126=0,AC127=1,SUM(INDIRECT($AC$1&ROW()-AD$4):AC126)=0),1,0)","v":0},81.44,null,null,null,null,null,null,null,null,null,null,null,null,"1970-05-01",2000,1,null,0,null,null,null,null,null,null,null,null,22.23]
["1970-05-08",{"$f":"VLOOKUP(A128,'input BCI'!$O$3:$R$5000,4)","v":-17.64},null,null,-17.64,null,null,null,null,null,null,null,null,1,-17.64,null,null,-17.64,null,null,null,1,-17.64,-17.64,{"$f":"AVERAGE(INDIRECT($X$1&ROW()-$Y$4+1):X128)","v":-18.465},0,0,{"$f":"IF(AND(AA127=0,AA128=1,SUM(INDIRECT($AA$1&ROW()-$AB$4):AA127)=0),1,0)","v":0},1,{"$f":"IF(AND(AC127=0,AC128=1,SUM(INDIRECT($AC$1&ROW()-AD$4):AC127)=0),1,0)","v":0},79.44,null,null,null,null,null,null,null,null,null,null,null,null,"1970-05-08",2000,1,null,0,null,null,null,null,null,null,null,null,22.23]
["1970-05-15",{"$f":"VLOOKUP(A129,'input BCI'!$O$3:$R$5000,4)","v":-19.29},null,null,-19.29,null,null,null,null,null,null,null,null,1,-19.29,null,null,-19.29,null,null,null,1,-19.29,-19.29,{"$f":"AVERAGE(INDIRECT($X$1&ROW()-$Y$4+1):X129)","v":-20.13},0,0,{"$f":"IF(AND(AA128=0,AA129=1,SUM(INDIRECT($AA$1&ROW()-$AB$4):AA128)=0),1,0)","v":0},1,{"$f":"IF(AND(AC128=0,AC129=1,SUM(INDIRECT($AC$1&ROW()-AD$4):AC128)=0),1,0)","v":0},76.900000000000006,null,null,null,null,null,null,null,null,null,null,null,null,"1970-05-15",2000,1,null,0,null,null,null,null,null,null,null,null,22.23]
["1970-05-22",{"$f":"VLOOKUP(A130,'input BCI'!$O$3:$R$5000,4)","v":-20.97},null,null,-20.97,null,null,null,null,null,null,null,null,1,-20.97,null,null,-20.97,null,null,null,1,-20.97,-20.97,{"$f":"AVERAGE(INDIRECT($X$1&ROW()-$Y$4+1):X130)","v":-21.655000000000001},0,0,{"$f":"IF(AND(AA129=0,AA130=1,SUM(INDIRECT($AA$1&ROW()-$AB$4):AA129)=0),1,0)","v":0},1,{"$f":"IF(AND(AC129=0,AC130=1,SUM(INDIRECT($AC$1&ROW()-AD$4):AC129)=0),1,0)","v":0},72.25,null,null,null,null,null,null,null,null,null,null,null,null,"1970-05-22",2000,1,null,0,null,null,null,null,null,null,null,null,22.23]
["1970-05-29",{"$f":"VLOOKUP(A131,'input BCI'!$O$3:$R$5000,4)","v":-22.34},null,null,-22.34,null,null,null,null,null,null,null,null,1,-22.34,null,null,-22.34,null,null,null,1,-22.34,-22.34,{"$f":"AVERAGE(INDIRECT($X$1&ROW()-$Y$4+1):X131)","v":-22.375},0,0,{"$f":"IF(AND(AA130=0,AA131=1,SUM(INDIRECT($AA$1&ROW()-$AB$4):AA130)=0),1,0)","v":0},1,{"$f":"IF(AND(AC130=0,AC131=1,SUM(INDIRECT($AC$1&ROW()-AD$4):AC130)=0),1,0)","v":0},76.55,null,null,null,null,null,null,null,null,null,null,null,null,"1970-05-29",2000,1,null,0,null,null,null,null,null,null,null,null,22.23]
["1970-06-05",{"$f":"VLOOKUP(A132,'input BCI'!$O$3:$R$5000,4)","v":-22.41},null,null,-22.41,null,null,null,null,null,null,null,null,1,-22.41,null,null,-22.41,null,null,null,1,-22.41,-22.41,{"$f":"AVERAGE(INDIRECT($X$1&ROW()-$Y$4+1):X132)","v":-22.134999999999998},0,1,{"$f":"IF(AND(AA131=0,AA132=1,SUM(INDIRECT($AA$1&ROW()-$AB$4):AA131)=0),1,0)","v":1},0,{"$f":"IF(AND(AC131=0,AC132=1,SUM(INDIRECT($AC$1&ROW()-AD$4):AC131)=0),1,0)","v":0},76.17,null,null,null,null,null,null,null,null,null,null,null,null,"1970-06-05",2000,1,null,0,null,null,null,null,null,null,null,null,22.23]
["1970-06-12",{"$f":"VLOOKUP(A133,'input BCI'!$O$3:$R$5000,4)","v":-21.86},null,null,-21.86,null,null,null,null,null,null,null,null,1,-21.86,null,null,-21.86,null,null,null,1,-21.86,-21.86,{"$f":"AVERAGE(INDIRECT($X$1&ROW()-$Y$4+1):X133)","v":-21.34},0,1,{"$f":"IF(AND(AA132=0,AA133=1,SUM(INDIRECT($AA$1&ROW()-$AB$4):AA132)=0),1,0)","v":0},0,{"$f":"IF(AND(AC132=0,AC133=1,SUM(INDIRECT($AC$1&ROW()-AD$4):AC132)=0),1,0)","v":0},73.88,null,null,null,null,null,null,null,null,null,null,null,null,"1970-06-12",2000,1,null,0,null,null,null,null,null,null,null,null,22.23]
["1970-06-19",{"$f":"VLOOKUP(A134,'input BCI'!$O$3:$R$5000,4)","v":-20.82},null,null,-20.82,null,null,null,null,null,null,null,null,1,-20.82,null,null,-20.82,null,null,null,1,-20.82,-20.82,{"$f":"AVERAGE(INDIRECT($X$1&ROW()-$Y$4+1):X134)","v":-20.085000000000001},0,1,{"$f":"IF(AND(AA133=0,AA134=1,SUM(INDIRECT($AA$1&ROW()-$AB$4):AA133)=0),1,0)","v":0},0,{"$f":"IF(AND(AC133=0,AC134=1,SUM(INDIRECT($AC$1&ROW()-AD$4):AC133)=0),1,0)","v":0},77.05,null,null,null,null,null,null,null,null,null,null,null,null,"1970-06-19",2000,1,null,0,null,null,null,null,null,null,null,null,22.23]
["1970-06-26",{"$f":"VLOOKUP(A135,'input BCI'!$O$3:$R$5000,4)","v":-19.350000000000001},null,null,-19.350000000000001,null,null,null,null,null,null,null,null,1,-19.350000000000001,null,null,-19.350000000000001,null,null,null,1,-19.350000000000001,-19.350000000000001,{"$f":"AVERAGE(INDIRECT($X$1&ROW()-$Y$4+1):X135)","v":-19.12},0,1,{"$f":"IF(AND(AA134=0,AA135=1,SUM(INDIRECT($AA$1&ROW()-$AB$4):AA134)=0),1,0)","v":0},0,{"$f":"IF(AND(AC134=0,AC135=1,SUM(INDIRECT($AC$1&ROW()-AD$4):AC134)=0),1,0)","v":0},73.47,null,null,null,null,null,null,null,null,null,null,null,null,"1970-06-26",2000,1,null,0,null,null,null,null,null,null,null,null,22.23]
["1970-07-03",{"$f":"VLOOKUP(A136,'input BCI'!$O$3:$R$5000,4)","v":-18.89},null,null,-18.89,null,null,null,null,null,null,null,null,1,-18.89,null,null,-18.89,null,null,null,1,-18.89,-18.89,{"$f":"AVERAGE(INDIRECT($X$1&ROW()-$Y$4+1):X136)","v":-18.78},0,1,{"$f":"IF(AND(AA135=0,AA136=1,SUM(INDIRECT($AA$1&ROW()-$AB$4):AA135)=0),1,0)","v":0},0,{"$f":"IF(AND(AC135=0,AC136=1,SUM(INDIRECT($AC$1&ROW()-AD$4):AC135)=0),1,0)","v":0},72.92,null,null,null,null,null,null,null,null,null,null,null,null,"1970-07-03",2000,1,null,0,null,null,null,null,null,null,null,null,22.23]
["1970-07-10",{"$f":"VLOOKUP(A137,'input BCI'!$O$3:$R$5000,4)","v":-18.670000000000002},null,null,-18.670000000000002,null,null,null,null,null,null,null,null,1,-18.670000000000002,null,null,-18.670000000000002,null,null,null,1,-18.670000000000002,-18.670000000000002,{"$f":"AVERAGE(INDIRECT($X$1&ROW()-$Y$4+1):X137)","v":-18.36},0,1,{"$f":"IF(AND(AA136=0,AA137=1,SUM(INDIRECT($AA$1&ROW()-$AB$4):AA136)=0),1,0)","v":0},0,{"$f":"IF(AND(AC136=0,AC137=1,SUM(INDIRECT($AC$1&ROW()-AD$4):AC136)=0),1,0)","v":0},74.45,null,null,null,null,null,null,null,null,null,null,null,null,"1970-07-10",2000,1,null,0,null,null,null,null,null,null,null,null,22.23]
["1970-07-17",{"$f":"VLOOKUP(A138,'input BCI'!$O$3:$R$5000,4)","v":-18.05},null,null,-18.05,null,null,null,null,null,null,null,null,1,-18.05,null,null,-18.05,null,null,null,1,-18.05,-18.05,{"$f":"AVERAGE(INDIRECT($X$1&ROW()-$Y$4+1):X138)","v":-17.649999999999999},0,1,{"$f":"IF(AND(AA137=0,AA138=1,SUM(INDIRECT($AA$1&ROW()-$AB$4):AA137)=0),1,0)","v":0},0,{"$f":"IF(AND(AC137=0,AC138=1,SUM(INDIRECT($AC$1&ROW()-AD$4):AC137)=0),1,0)","v":0},77.69,null,null,null,null,null,null,null,null,null,null,null,null,"1970-07-17",{"$f":"IF(ISNUMBER(AR138),2000,-2000)","v":2000},1,null,0,null,null,null,null,null,null,null,null,22.23]
["1970-07-24",{"$f":"VLOOKUP(A139,'input BCI'!$O$3:$R$5000,4)","v":-17.25},null,null,{"$f":"B139+$O$7","v":-17.25},null,null,null,null,null,null,null,null,1,{"$f":"E139","v":-17.25},null,null,-17.25,null,null,null,1,{"$f":"R139","v":-17.25},{"$f":"(W139+$X$4)","v":-17.25},{"$f":"AVERAGE(INDIRECT($X$1&ROW()-$Y$4+1):X139)","v":-16.625},{"$f":"IF(OR(X139=$I$5,X139>$I$5),1,0)","v":0},1,{"$f":"IF(AND(AA138=0,AA139=1,SUM(INDIRECT($AA$1&ROW()-$AB$4):AA138)=0),1,0)","v":0},0,{"$f":"IF(AND(AC138=0,AC139=1,SUM(INDIRECT($AC$1&ROW()-AD$4):AC138)=0),1,0)","v":0},77.819999999999993,null,null,null,null,null,null,null,null,null,null,null,null,"1970-07-24",2000,1,null,0,null,null,null,null,null,null,null,null,{"$f":"$BE$2","v":22.23}]
["1970-07-31",{"$f":"VLOOKUP(A140,'input BCI'!$O$3:$R$5000,4)","v":-16},null,null,-16,null,null,null,null,null,null,null,null,1,-16,null,null,-16,null,null,null,{"$f":"V139","v":1},-16,-16,{"$f":"AVERAGE(INDIRECT($X$1&ROW()-$Y$4+1):X140)","v":-15.36},0,1,{"$f":"IF(AND(AA139=0,AA140=1,SUM(INDIRECT($AA$1&ROW()-$AB$4):AA139)=0),1,0)","v":0},0,{"$f":"IF(AND(AC139=0,AC140=1,SUM(INDIRECT($AC$1&ROW()-AD$4):AC139)=0),1,0)","v":0},78.05,null,null,null,null,null,null,null,null,null,null,null,null,"1970-07-31",2000,1,null,0,null,null,null,null,null,null,null,null,22.23]
["1970-08-07",{"$f":"VLOOKUP(A141,'input BCI'!$O$3:$R$5000,4)","v":-14.72},null,null,-14.72,null,null,null,null,null,null,null,null,1,-14.72,null,null,-14.72,null,null,null,1,-14.72,-14.72,{"$f":"AVERAGE(INDIRECT($X$1&ROW()-$Y$4+1):X141)","v":-14.3},0,{"$f":"IF(Y141>X141,1,0)","v":1},{"$f":"IF(AND(AA140=0,AA141=1,SUM(INDIRECT($AA$1&ROW()-$AB$4):AA140)=0),1,0)","v":0},0,{"$f":"IF(AND(AC140=0,AC141=1,SUM(INDIRECT($AC$1&ROW()-AD$4):AC140)=0),1,0)","v":0},77.28,null,null,null,null,null,null,null,null,null,null,null,null,"1970-08-07",2000,1,null,0,null,null,null,null,null,null,null,null,22.23]
["1970-08-14",{"$f":"VLOOKUP(A142,'input BCI'!$O$3:$R$5000,4)","v":-13.88},null,null,-13.88,null,null,null,null,null,null,null,null,1,-13.88,null,null,-13.88,null,null,null,1,-13.88,-13.88,{"$f":"AVERAGE(INDIRECT($X$1&ROW()-$Y$4+1):X142)","v":-13.670000000000002},0,1,{"$f":"IF(AND(AA141=0,AA142=1,SUM(INDIRECT($AA$1&ROW()-$AB$4):AA141)=0),1,0)","v":0},{"$f":"IF(Y142<X142,1,0)","v":0},{"$f":"IF(AND(AC141=0,AC142=1,SUM(INDIRECT($AC$1&ROW()-AD$4):AC141)=0),1,0)","v":0},75.180000000000007,null,null,null,null,null,null,null,null,null,null,null,null,"1970-08-14",2000,1,null,0,null,null,null,null,null,null,null,null,22.23]
["1970-08-21",{"$f":"VLOOKUP(A143,'input BCI'!$O$3:$R$5000,4)","v":-13.46},null,null,-13.46,null,null,null,null,null,null,null,null,1,-13.46,null,null,-13.46,null,null,null,1,-13.46,-13.46,{"$f":"AVERAGE(INDIRECT($X$1&ROW()-$Y$4+1):X143)","v":-13.115},0,1,{"$f":"IF(AND(AA142=0,AA143=1,SUM(INDIRECT($AA$1&ROW()-$AB$4):AA142)=0),1,0)","v":0},0,{"$f":"IF(AND(AC142=0,AC143=1,SUM(INDIRECT($AC$1&ROW()-AD$4):AC142)=0),1,0)","v":0},79.239999999999995,null,null,null,null,null,null,null,null,null,null,null,null,"1970-08-21",2000,1,null,0,null,null,null,null,null,null,null,null,22.23]
["1970-08-28",{"$f":"VLOOKUP(A144,'input BCI'!$O$3:$R$5000,4)","v":-12.77},null,null,-12.77,null,null,null,null,null,null,null,null,1,-12.77,null,null,-12.77,null,null,null,1,-12.77,-12.77,{"$f":"AVERAGE(INDIRECT($X$1&ROW()-$Y$4+1):X144)","v":-12.335000000000001},0,1,{"$f":"IF(AND(AA143=0,AA144=1,SUM(INDIRECT($AA$1&ROW()-$AB$4):AA143)=0),1,0)","v":0},0,{"$f":"IF(AND(AC143=0,AC144=1,SUM(INDIRECT($AC$1&ROW()-AD$4):AC143)=0),1,0)","v":0},81.86,null,null,null,null,null,null,null,null,null,null,null,null,"1970-08-28",2000,1,null,0,null,null,null,null,null,null,null,null,22.23]
["1970-09-04",{"$f":"VLOOKUP(A145,'input BCI'!$O$3:$R$5000,4)","v":-11.9},null,null,-11.9,null,null,null,null,null,null,null,null,1,-11.9,null,null,-11.9,null,null,null,1,-11.9,-11.9,{"$f":"AVERAGE(INDIRECT($X$1&ROW()-$Y$4+1):X145)","v":-11.379999999999999},0,1,{"$f":"IF(AND(AA144=0,AA145=1,SUM(INDIRECT($AA$1&ROW()-$AB$4):AA144)=0),1,0)","v":0},0,{"$f":"IF(AND(AC144=0,AC145=1,SUM(INDIRECT($AC$1&ROW()-AD$4):AC144)=0),1,0)","v":0},82.83,null,null,null,null,null,null,null,null,null,null,null,null,"1970-09-04",2000,1,null,0,null,null,null,null,null,null,null,null,22.23]
["1970-09-11",{"$f":"VLOOKUP(A146,'input BCI'!$O$3:$R$5000,4)","v":-10.86},null,null,-10.86,null,null,null,null,null,null,null,null,1,-10.86,null,null,-10.86,null,null,null,1,-10.86,-10.86,{"$f":"AVERAGE(INDIRECT($X$1&ROW()-$Y$4+1):X146)","v":-10.370000000000001},0,1,{"$f":"IF(AND(AA145=0,AA146=1,SUM(INDIRECT($AA$1&ROW()-$AB$4):AA145)=0),1,0)","v":0},0,{"$f":"IF(AND(AC145=0,AC146=1,SUM(INDIRECT($AC$1&ROW()-AD$4):AC145)=0),1,0)","v":0},82.52,null,null,null,null,null,null,null,null,null,null,null,null,"1970-09-11",2000,1,null,0,null,null,null,null,null,null,null,null,22.23]
["1970-09-18",{"$f":"VLOOKUP(A147,'input BCI'!$O$3:$R$5000,4)","v":-9.8800000000000008},null,null,-9.8800000000000008,null,null,null,null,null,null,null,null,1,-9.8800000000000008,null,null,-9.8800000000000008,null,null,null,1,-9.8800000000000008,-9.8800000000000008,{"$f":"AVERAGE(INDIRECT($X$1&ROW()-$Y$4+1):X147)","v":-9.7050000000000001},0,1,{"$f":"IF(AND(AA146=0,AA147=1,SUM(INDIRECT($AA$1&ROW()-$AB$4):AA146)=0),1,0)","v":0},0,{"$f":"IF(AND(AC146=0,AC147=1,SUM(INDIRECT($AC$1&ROW()-AD$4):AC146)=0),1,0)","v":0},82.62,null,null,null,null,null,null,null,null,null,null,null,null,"1970-09-18",2000,1,null,0,null,null,null,null,null,null,null,null,22.23]
["1970-09-25",{"$f":"VLOOKUP(A148,'input BCI'!$O$3:$R$5000,4)","v":-9.5299999999999994},null,null,-9.5299999999999994,null,null,null,null,null,null,null,null,1,-9.5299999999999994,null,null,-9.5299999999999994,null,null,null,1,-9.5299999999999994,-9.5299999999999994,{"$f":"AVERAGE(INDIRECT($X$1&ROW()-$Y$4+1):X148)","v":-9.2949999999999999},0,1,{"$f":"IF(AND(AA147=0,AA148=1,SUM(INDIRECT($AA$1&ROW()-$AB$4):AA147)=0),1,0)","v":0},0,{"$f":"IF(AND(AC147=0,AC148=1,SUM(INDIRECT($AC$1&ROW()-AD$4):AC147)=0),1,0)","v":0},82.83,null,null,null,null,null,null,null,null,null,null,null,null,"1970-09-25",2000,1,null,0,null,null,null,null,null,null,null,null,22.23]
["1970-10-02",{"$f":"VLOOKUP(A149,'input BCI'!$O$3:$R$5000,4)","v":-9.06},null,null,-9.06,null,null,null,null,null,null,null,null,1,-9.06,null,null,-9.06,null,null,null,1,-9.06,-9.06,{"$f":"AVERAGE(INDIRECT($X$1&ROW()-$Y$4+1):X149)","v":-8.7349999999999994},0,1,{"$f":"IF(AND(AA148=0,AA149=1,SUM(INDIRECT($AA$1&ROW()-$AB$4):AA148)=0),1,0)","v":0},0,{"$f":"IF(AND(AC148=0,AC149=1,SUM(INDIRECT($AC$1&ROW()-AD$4):AC148)=0),1,0)","v":0},85.16,null,null,null,null,null,null,null,null,null,null,null,null,"1970-10-02",2000,1,null,0,null,null,null,null,null,null,null,null,22.23]
["1970-10-09",{"$f":"VLOOKUP(A150,'input BCI'!$O$3:$R$5000,4)","v":-8.41},null,null,-8.41,null,null,null,null,null,null,null,null,1,-8.41,null,null,-8.41,null,null,null,1,-8.41,-8.41,{"$f":"AVERAGE(INDIRECT($X$1&ROW()-$Y$4+1):X150)","v":-8.1750000000000007},0,1,{"$f":"IF(AND(AA149=0,AA150=1,SUM(INDIRECT($AA$1&ROW()-$AB$4):AA149)=0),1,0)","v":0},0,{"$f":"IF(AND(AC149=0,AC150=1,SUM(INDIRECT($AC$1&ROW()-AD$4):AC149)=0),1,0)","v":0},85.08,null,null,null,null,null,null,null,null,null,null,null,null,"1970-10-09",2000,1,null,0,null,null,null,null,null,null,null,null,22.23]
["1970-10-16",{"$f":"VLOOKUP(A151,'input BCI'!$O$3:$R$5000,4)","v":-7.94},null,null,-7.94,null,null,null,null,null,null,null,null,1,-7.94,null,null,-7.94,null,null,null,1,-7.94,-7.94,{"$f":"AVERAGE(INDIRECT($X$1&ROW()-$Y$4+1):X151)","v":-7.77},0,1,{"$f":"IF(AND(AA150=0,AA151=1,SUM(INDIRECT($AA$1&ROW()-$AB$4):AA150)=0),1,0)","v":0},0,{"$f":"IF(AND(AC150=0,AC151=1,SUM(INDIRECT($AC$1&ROW()-AD$4):AC150)=0),1,0)","v":0},84.28,null,null,null,null,null,null,null,null,null,null,null,null,"1970-10-16",2000,1,null,0,null,null,null,null,null,null,null,null,22.23]
["1970-10-23",{"$f":"VLOOKUP(A152,'input BCI'!$O$3:$R$5000,4)","v":-7.6},null,null,-7.6,null,null,null,null,null,null,null,null,1,-7.6,null,null,-7.6,null,null,null,1,-7.6,-7.6,{"$f":"AVERAGE(INDIRECT($X$1&ROW()-$Y$4+1):X152)","v":-7.4749999999999996},0,1,{"$f":"IF(AND(AA151=0,AA152=1,SUM(INDIRECT($AA$1&ROW()-$AB$4):AA151)=0),1,0)","v":0},0,{"$f":"IF(AND(AC151=0,AC152=1,SUM(INDIRECT($AC$1&ROW()-AD$4):AC151)=0),1,0)","v":0},83.77,null,null,null,null,null,null,null,null,null,null,null,null,"1970-10-23",2000,1,null,0,null,null,null,null,null,null,null,null,22.23]
["1970-10-30",{"$f":"VLOOKUP(A153,'input BCI'!$O$3:$R$5000,4)","v":-7.35},null,null,-7.35,null,null,null,null,null,null,null,null,1,-7.35,null,null,{"$f":"O153*R$7","v":-7.35},null,null,null,1,-7.35,-7.35,{"$f":"AVERAGE(INDIRECT($X$1&ROW()-$Y$4+1):X153)","v":-7.3},0,1,{"$f":"IF(AND(AA152=0,AA153=1,SUM(INDIRECT($AA$1&ROW()-$AB$4):AA152)=0),1,0)","v":0},0,{"$f":"IF(AND(AC152=0,AC153=1,SUM(INDIRECT($AC$1&ROW()-AD$4):AC152)=0),1,0)","v":0},83.25,null,null,null,null,null,null,null,null,null,null,null,null,"1970-10-30",2000,1,null,0,null,null,null,null,null,null,null,null,22.23]
["1970-11-06",{"$f":"VLOOKUP(A154,'input BCI'!$O$3:$R$5000,4)","v":-7.25},null,null,-7.25,null,null,null,null,null,null,null,null,1,-7.25,null,null,-7.25,null,null,null,1,-7.25,-7.25,{"$f":"AVERAGE(INDIRECT($X$1&ROW()-$Y$4+1):X154)","v":-7},0,1,{"$f":"IF(AND(AA153=0,AA154=1,SUM(INDIRECT($AA$1&ROW()-$AB$4):AA153)=0),1,0)","v":0},0,{"$f":"IF(AND(AC153=0,AC154=1,SUM(INDIRECT($AC$1&ROW()-AD$4):AC153)=0),1,0)","v":0},84.22,null,null,null,null,null,null,null,null,null,null,null,null,"1970-11-06",2000,1,null,0,null,null,null,null,null,null,null,null,22.23]
["1970-11-13",{"$f":"VLOOKUP(A155,'input BCI'!$O$3:$R$5000,4)","v":-6.75},null,null,-6.75,null,null,null,null,null,null,null,null,1,-6.75,null,null,-6.75,null,null,null,1,-6.75,-6.75,{"$f":"AVERAGE(INDIRECT($X$1&ROW()-$Y$4+1):X155)","v":-6.4700000000000006},0,1,{"$f":"IF(AND(AA154=0,AA155=1,SUM(INDIRECT($AA$1&ROW()-$AB$4):AA154)=0),1,0)","v":0},0,{"$f":"IF(AND(AC154=0,AC155=1,SUM(INDIRECT($AC$1&ROW()-AD$4):AC154)=0),1,0)","v":0},83.37,null,null,null,null,null,null,null,null,null,null,null,null,"1970-11-13",2000,1,null,0,null,null,null,null,null,null,null,null,22.23]
["1970-11-20",{"$f":"VLOOKUP(A156,'input BCI'!$O$3:$R$5000,4)","v":-6.19},null,null,-6.19,null,null,null,null,null,null,null,null,1,-6.19,null,null,-6.19,null,null,null,1,-6.19,-6.19,{"$f":"AVERAGE(INDIRECT($X$1&ROW()-$Y$4+1):X156)","v":-6.0500000000000007},0,1,{"$f":"IF(AND(AA155=0,AA156=1,SUM(INDIRECT($AA$1&ROW()-$AB$4):AA155)=0),1,0)","v":0},0,{"$f":"IF(AND(AC155=0,AC156=1,SUM(INDIRECT($AC$1&ROW()-AD$4):AC155)=0),1,0)","v":0},83.72,null,null,null,null,null,null,null,null,null,null,null,null,"1970-11-20",2000,1,null,0,null,null,null,null,null,null,null,null,22.23]
["1970-11-27",{"$f":"VLOOKUP(A157,'input BCI'!$O$3:$R$5000,4)","v":-5.91},null,null,-5.91,null,null,null,null,null,null,null,null,1,-5.91,null,null,-5.91,null,null,null,1,-5.91,-5.91,{"$f":"AVERAGE(INDIRECT($X$1&ROW()-$Y$4+1):X157)","v":-5.625},0,1,{"$f":"IF(AND(AA156=0,AA157=1,SUM(INDIRECT($AA$1&ROW()-$AB$4):AA156)=0),1,0)","v":0},0,{"$f":"IF(AND(AC156=0,AC157=1,SUM(INDIRECT($AC$1&ROW()-AD$4):AC156)=0),1,0)","v":0},85.93,null,null,null,null,null,null,null,null,null,null,null,null,"1970-11-27",2000,1,null,0,null,null,null,null,null,null,null,null,22.23]
["1970-12-04",{"$f":"VLOOKUP(A158,'input BCI'!$O$3:$R$5000,4)","v":-5.34},null,null,-5.34,null,null,null,null,null,null,null,null,0,-5.34,null,null,-5.34,null,null,null,1,-5.34,-5.34,{"$f":"AVERAGE(INDIRECT($X$1&ROW()-$Y$4+1):X158)","v":-4.9450000000000003},0,1,{"$f":"IF(AND(AA157=0,AA158=1,SUM(INDIRECT($AA$1&ROW()-$AB$4):AA157)=0),1,0)","v":0},0,{"$f":"IF(AND(AC157=0,AC158=1,SUM(INDIRECT($AC$1&ROW()-AD$4):AC157)=0),1,0)","v":0},89.46,null,null,null,null,null,null,null,null,null,null,null,null,null,-2000,0,null,0,null,null,null,null,null,null,null,null,22.23]
["1970-12-11",{"$f":"VLOOKUP(A159,'input BCI'!$O$3:$R$5000,4)","v":-4.55},null,null,-4.55,null,null,null,null,null,null,null,null,0,-4.55,null,null,-4.55,null,null,null,1,-4.55,-4.55,{"$f":"AVERAGE(INDIRECT($X$1&ROW()-$Y$4+1):X159)","v":-3.99},0,1,{"$f":"IF(AND(AA158=0,AA159=1,SUM(INDIRECT($AA$1&ROW()-$AB$4):AA158)=0),1,0)","v":0},0,{"$f":"IF(AND(AC158=0,AC159=1,SUM(INDIRECT($AC$1&ROW()-AD$4):AC158)=0),1,0)","v":0},90.26,null,null,null,null,null,null,null,null,null,null,null,null,null,-2000,0,null,0,null,null,null,null,null,null,null,null,22.23]
["1970-12-18",{"$f":"VLOOKUP(A160,'input BCI'!$O$3:$R$5000,4)","v":-3.43},null,null,-3.43,null,null,null,null,null,null,null,null,0,-3.43,null,null,-3.43,null,null,null,1,-3.43,-3.43,{"$f":"AVERAGE(INDIRECT($X$1&ROW()-$Y$4+1):X160)","v":-2.6850000000000001},0,1,{"$f":"IF(AND(AA159=0,AA160=1,SUM(INDIRECT($AA$1&ROW()-$AB$4):AA159)=0),1,0)","v":0},0,{"$f":"IF(AND(AC159=0,AC160=1,SUM(INDIRECT($AC$1&ROW()-AD$4):AC159)=0),1,0)","v":0},90.22,null,null,null,null,null,null,null,null,null,null,null,null,null,-2000,0,null,0,null,null,null,null,null,null,null,null,22.23]
["1970-12-25",{"$f":"VLOOKUP(A161,'input BCI'!$O$3:$R$5000,4)","v":-1.94},null,null,-1.94,null,null,null,null,null,null,null,null,0,-1.94,null,null,-1.94,null,null,null,1,-1.94,-1.94,{"$f":"AVERAGE(INDIRECT($X$1&ROW()-$Y$4+1):X161)","v":-1.22},0,1,{"$f":"IF(AND(AA160=0,AA161=1,SUM(INDIRECT($AA$1&ROW()-$AB$4):AA160)=0),1,0)","v":0},0,{"$f":"IF(AND(AC160=0,AC161=1,SUM(INDIRECT($AC$1&ROW()-AD$4):AC160)=0),1,0)","v":0},90.61,null,null,null,null,null,null,null,null,null,null,null,null,null,-2000,0,null,0,null,null,null,null,null,null,null,null,22.23]
["1971-01-01",{"$f":"VLOOKUP(A162,'input BCI'!$O$3:$R$5000,4)","v":-0.5},null,null,-0.5,null,null,null,null,null,null,null,null,0,-0.5,null,null,-0.5,null,null,null,1,-0.5,-0.5,{"$f":"AVERAGE(INDIRECT($X$1&ROW()-$Y$4+1):X162)","v":0.245},0,1,{"$f":"IF(AND(AA161=0,AA162=1,SUM(INDIRECT($AA$1&ROW()-$AB$4):AA161)=0),1,0)","v":0},0,{"$f":"IF(AND(AC161=0,AC162=1,SUM(INDIRECT($AC$1&ROW()-AD$4):AC161)=0),1,0)","v":0},92.15,null,null,null,null,null,null,null,null,null,null,null,null,null,-2000,0,null,0,null,null,null,null,null,null,null,null,22.23]
["1971-01-08",{"$f":"VLOOKUP(A163,'input BCI'!$O$3:$R$5000,4)","v":0.99},null,null,0.99,null,null,null,null,null,null,null,null,0,0.99,null,null,0.99,null,null,null,1,0.99,0.99,{"$f":"AVERAGE(INDIRECT($X$1&ROW()-$Y$4+1):X163)","v":1.8900000000000001},0,1,{"$f":"IF(AND(AA162=0,AA163=1,SUM(INDIRECT($AA$1&ROW()-$AB$4):AA162)=0),1,0)","v":0},0,{"$f":"IF(AND(AC162=0,AC163=1,SUM(INDIRECT($AC$1&ROW()-AD$4):AC162)=0),1,0)","v":0},92.19,null,null,null,null,null,null,null,null,null,null,null,null,null,-2000,0,null,0,null,null,null,null,null,null,null,null,22.23]
["1971-01-15",{"$f":"VLOOKUP(A164,'input BCI'!$O$3:$R$5000,4)","v":2.79},null,null,2.79,null,null,null,null,null,null,null,null,0,2.79,null,null,2.79,null,null,null,1,2.79,2.79,{"$f":"AVERAGE(INDIRECT($X$1&ROW()-$Y$4+1):X164)","v":3.71},0,1,{"$f":"IF(AND(AA163=0,AA164=1,SUM(INDIRECT($AA$1&ROW()-$AB$4):AA163)=0),1,0)","v":0},0,{"$f":"IF(AND(AC163=0,AC164=1,SUM(INDIRECT($AC$1&ROW()-AD$4):AC163)=0),1,0)","v":0},93.03,null,null,null,null,null,null,null,null,null,null,null,null,null,-2000,0,null,0,null,null,null,null,null,null,null,null,22.23]
["1971-01-22",{"$f":"VLOOKUP(A165,'input BCI'!$O$3:$R$5000,4)","v":4.63},null,null,4.63,null,null,null,null,null,null,null,null,0,4.63,null,null,4.63,null,null,null,1,4.63,4.63,{"$f":"AVERAGE(INDIRECT($X$1&ROW()-$Y$4+1):X165)","v":5.6549999999999994},0,1,{"$f":"IF(AND(AA164=0,AA165=1,SUM(INDIRECT($AA$1&ROW()-$AB$4):AA164)=0),1,0)","v":0},0,{"$f":"IF(AND(AC164=0,AC165=1,SUM(INDIRECT($AC$1&ROW()-AD$4):AC164)=0),1,0)","v":0},94.88,null,null,null,null,null,null,null,null,null,null,null,null,null,-2000,0,null,0,null,null,null,null,null,null,null,null,22.23]
["1971-01-29",{"$f":"VLOOKUP(A166,'input BCI'!$O$3:$R$5000,4)","v":6.68},null,null,6.68,null,null,null,null,null,null,null,null,0,6.68,null,null,6.68,null,null,null,1,6.68,6.68,{"$f":"AVERAGE(INDIRECT($X$1&ROW()-$Y$4+1):X166)","v":7.6950000000000003},0,1,{"$f":"IF(AND(AA165=0,AA166=1,SUM(INDIRECT($AA$1&ROW()-$AB$4):AA165)=0),1,0)","v":0},0,{"$f":"IF(AND(AC165=0,AC166=1,SUM(INDIRECT($AC$1&ROW()-AD$4):AC165)=0),1,0)","v":0},95.88,null,null,null,null,null,null,null,null,null,null,null,null,null,-2000,0,null,0,null,null,null,null,null,null,null,null,22.23]
["1971-02-05",{"$f":"VLOOKUP(A167,'input BCI'!$O$3:$R$5000,4)","v":8.7100000000000009},null,null,8.7100000000000009,null,null,null,null,null,null,null,null,0,8.7100000000000009,null,null,8.7100000000000009,null,null,null,1,8.7100000000000009,8.7100000000000009,{"$f":"AVERAGE(INDIRECT($X$1&ROW()-$Y$4+1):X167)","v":9.6350000000000016},0,1,{"$f":"IF(AND(AA166=0,AA167=1,SUM(INDIRECT($AA$1&ROW()-$AB$4):AA166)=0),1,0)","v":0},0,{"$f":"IF(AND(AC166=0,AC167=1,SUM(INDIRECT($AC$1&ROW()-AD$4):AC166)=0),1,0)","v":0},96.93,null,null,null,null,null,null,null,null,null,null,null,null,null,-2000,0,null,0,null,null,null,null,null,null,null,null,22.23]
["1971-02-12",{"$f":"VLOOKUP(A168,'input BCI'!$O$3:$R$5000,4)","v":10.56},null,null,10.56,null,null,null,null,null,null,null,null,0,10.56,null,null,10.56,null,null,null,1,10.56,10.56,{"$f":"AVERAGE(INDIRECT($X$1&ROW()-$Y$4+1):X168)","v":11.41},0,1,{"$f":"IF(AND(AA167=0,AA168=1,SUM(INDIRECT($AA$1&ROW()-$AB$4):AA167)=0),1,0)","v":0},0,{"$f":"IF(AND(AC167=0,AC168=1,SUM(INDIRECT($AC$1&ROW()-AD$4):AC167)=0),1,0)","v":0},98.43,null,null,null,null,null,null,null,null,null,null,null,null,null,-2000,0,null,0,null,null,null,null,null,null,null,null,22.23]
["1971-02-19",{"$f":"VLOOKUP(A169,'input BCI'!$O$3:$R$5000,4)","v":12.26},null,null,12.26,null,null,null,null,null,null,null,null,0,12.26,null,null,12.26,null,null,null,1,12.26,12.26,{"$f":"AVERAGE(INDIRECT($X$1&ROW()-$Y$4+1):X169)","v":12.809999999999999},0,1,{"$f":"IF(AND(AA168=0,AA169=1,SUM(INDIRECT($AA$1&ROW()-$AB$4):AA168)=0),1,0)","v":0},0,{"$f":"IF(AND(AC168=0,AC169=1,SUM(INDIRECT($AC$1&ROW()-AD$4):AC168)=0),1,0)","v":0},96.74,null,null,null,null,null,null,null,null,null,null,null,null,null,-2000,0,null,0,null,null,null,null,null,null,null,null,22.23]
["1971-02-26",{"$f":"VLOOKUP(A170,'input BCI'!$O$3:$R$5000,4)","v":13.36},null,null,13.36,null,null,null,null,null,null,null,null,0,13.36,null,null,13.36,null,null,null,1,13.36,13.36,{"$f":"AVERAGE(INDIRECT($X$1&ROW()-$Y$4+1):X170)","v":13.719999999999999},0,1,{"$f":"IF(AND(AA169=0,AA170=1,SUM(INDIRECT($AA$1&ROW()-$AB$4):AA169)=0),1,0)","v":0},0,{"$f":"IF(AND(AC169=0,AC170=1,SUM(INDIRECT($AC$1&ROW()-AD$4):AC169)=0),1,0)","v":0},96.75,null,null,null,null,null,null,null,null,null,null,null,null,null,-2000,0,null,0,null,null,null,null,null,null,null,null,22.23]
["1971-03-05",{"$f":"VLOOKUP(A171,'input BCI'!$O$3:$R$5000,4)","v":14.08},null,null,14.08,null,null,null,null,null,null,null,null,0,14.08,null,null,14.08,null,null,null,1,14.08,14.08,{"$f":"AVERAGE(INDIRECT($X$1&ROW()-$Y$4+1):X171)","v":14.465},0,1,{"$f":"IF(AND(AA170=0,AA171=1,SUM(INDIRECT($AA$1&ROW()-$AB$4):AA170)=0),1,0)","v":0},0,{"$f":"IF(AND(AC170=0,AC171=1,SUM(INDIRECT($AC$1&ROW()-AD$4):AC170)=0),1,0)","v":0},98.96,null,null,null,null,null,null,null,null,null,null,null,null,null,-2000,0,null,0,null,null,null,null,null,null,null,null,22.23]
["1971-03-12",{"$f":"VLOOKUP(A172,'input BCI'!$O$3:$R$5000,4)","v":14.85},null,null,14.85,null,null,null,null,null,null,null,null,0,14.85,null,null,14.85,null,null,null,1,14.85,14.85,{"$f":"AVERAGE(INDIRECT($X$1&ROW()-$Y$4+1):X172)","v":15.205},0,1,{"$f":"IF(AND(AA171=0,AA172=1,SUM(INDIRECT($AA$1&ROW()-$AB$4):AA171)=0),1,0)","v":0},0,{"$f":"IF(AND(AC171=0,AC172=1,SUM(INDIRECT($AC$1&ROW()-AD$4):AC171)=0),1,0)","v":0},99.57,null,null,null,null,null,null,null,null,null,null,null,null,null,-2000,0,null,0,null,null,null,null,null,null,null,null,22.23]
["1971-03-19",{"$f":"VLOOKUP(A173,'input BCI'!$O$3:$R$5000,4)","v":15.56},null,null,15.56,null,null,null,null,null,null,null,null,0,15.56,null,null,15.56,null,null,null,1,15.56,15.56,{"$f":"AVERAGE(INDIRECT($X$1&ROW()-$Y$4+1):X173)","v":15.914999999999999},0,1,{"$f":"IF(AND(AA172=0,AA173=1,SUM(INDIRECT($AA$1&ROW()-$AB$4):AA172)=0),1,0)","v":0},0,{"$f":"IF(AND(AC172=0,AC173=1,SUM(INDIRECT($AC$1&ROW()-AD$4):AC172)=0),1,0)","v":0},101.01,null,null,null,null,null,null,null,null,null,null,null,null,null,-2000,0,null,0,null,null,null,null,null,null,null,null,22.23]
["1971-03-26",{"$f":"VLOOKUP(A174,'input BCI'!$O$3:$R$5000,4)","v":16.27},null,null,16.27,null,null,null,null,null,null,null,null,0,16.27,null,null,16.27,null,null,null,1,16.27,16.27,{"$f":"AVERAGE(INDIRECT($X$1&ROW()-$Y$4+1):X174)","v":16.504999999999999},0,1,{"$f":"IF(AND(AA173=0,AA174=1,SUM(INDIRECT($AA$1&ROW()-$AB$4):AA173)=0),1,0)","v":0},0,{"$f":"IF(AND(AC173=0,AC174=1,SUM(INDIRECT($AC$1&ROW()-AD$4):AC173)=0),1,0)","v":0},99.95,null,null,null,null,null,null,null,null,null,null,null,null,null,-2000,0,null,0,null,null,null,null,null,null,null,null,22.23]
["1971-04-02",{"$f":"VLOOKUP(A175,'input BCI'!$O$3:$R$5000,4)","v":16.739999999999998},null,null,16.739999999999998,null,null,null,null,null,null,null,null,0,16.739999999999998,null,null,16.739999999999998,null,null,null,1,16.739999999999998,16.739999999999998,{"$f":"AVERAGE(INDIRECT($X$1&ROW()-$Y$4+1):X175)","v":16.765000000000001},0,1,{"$f":"IF(AND(AA174=0,AA175=1,SUM(INDIRECT($AA$1&ROW()-$AB$4):AA174)=0),1,0)","v":0},0,{"$f":"IF(AND(AC174=0,AC175=1,SUM(INDIRECT($AC$1&ROW()-AD$4):AC174)=0),1,0)","v":0},100.56,null,null,null,null,null,null,null,null,null,null,null,null,null,-2000,0,null,0,null,null,null,null,null,null,null,null,22.23]
["1971-04-09",{"$f":"VLOOKUP(A176,'input BCI'!$O$3:$R$5000,4)","v":16.79},null,null,16.79,null,null,null,null,null,null,null,null,0,16.79,null,null,16.79,null,null,null,1,16.79,16.79,{"$f":"AVERAGE(INDIRECT($X$1&ROW()-$Y$4+1):X176)","v":16.844999999999999},0,1,{"$f":"IF(AND(AA175=0,AA176=1,SUM(INDIRECT($AA$1&ROW()-$AB$4):AA175)=0),1,0)","v":0},0,{"$f":"IF(AND(AC175=0,AC176=1,SUM(INDIRECT($AC$1&ROW()-AD$4):AC175)=0),1,0)","v":0},102.1,null,null,null,null,null,null,null,null,null,null,null,null,null,-2000,0,null,0,null,null,null,null,null,null,null,null,22.23]
["1971-04-16",{"$f":"VLOOKUP(A177,'input BCI'!$O$3:$R$5000,4)","v":16.899999999999999},null,null,16.899999999999999,null,null,null,null,null,null,null,null,0,16.899999999999999,null,null,16.899999999999999,null,null,null,1,16.899999999999999,16.899999999999999,{"$f":"AVERAGE(INDIRECT($X$1&ROW()-$Y$4+1):X177)","v":16.954999999999998},0,1,{"$f":"IF(AND(AA176=0,AA177=1,SUM(INDIRECT($AA$1&ROW()-$AB$4):AA176)=0),1,0)","v":0},0,{"$f":"IF(AND(AC176=0,AC177=1,SUM(INDIRECT($AC$1&ROW()-AD$4):AC176)=0),1,0)","v":0},103.49,null,null,null,null,null,null,null,null,null,null,null,null,null,-2000,0,null,0,null,null,null,null,null,null,null,null,22.23]
["1971-04-23",{"$f":"VLOOKUP(A178,'input BCI'!$O$3:$R$5000,4)","v":17.010000000000002},null,null,17.010000000000002,null,null,null,null,null,null,null,null,0,17.010000000000002,null,null,17.010000000000002,null,null,null,1,17.010000000000002,17.010000000000002,{"$f":"AVERAGE(INDIRECT($X$1&ROW()-$Y$4+1):X178)","v":17.37},0,1,{"$f":"IF(AND(AA177=0,AA178=1,SUM(INDIRECT($AA$1&ROW()-$AB$4):AA177)=0),1,0)","v":0},0,{"$f":"IF(AND(AC177=0,AC178=1,SUM(INDIRECT($AC$1&ROW()-AD$4):AC177)=0),1,0)","v":0},104.05,null,null,null,null,null,null,null,null,null,null,null,null,null,-2000,0,null,0,null,null,null,null,null,null,null,null,22.23]
["1971-04-30",{"$f":"VLOOKUP(A179,'input BCI'!$O$3:$R$5000,4)","v":17.73},null,null,17.73,null,null,null,null,null,null,null,null,0,17.73,null,null,17.73,null,null,null,1,17.73,17.73,{"$f":"AVERAGE(INDIRECT($X$1&ROW()-$Y$4+1):X179)","v":18.215},0,1,{"$f":"IF(AND(AA178=0,AA179=1,SUM(INDIRECT($AA$1&ROW()-$AB$4):AA178)=0),1,0)","v":0},0,{"$f":"IF(AND(AC178=0,AC179=1,SUM(INDIRECT($AC$1&ROW()-AD$4):AC178)=0),1,0)","v":0},103.95,null,null,null,null,null,null,null,null,null,null,null,null,null,-2000,0,null,0,null,null,null,null,null,null,null,null,22.23]
["1971-05-07",{"$f":"VLOOKUP(A180,'input BCI'!$O$3:$R$5000,4)","v":18.7},null,null,18.7,null,null,null,null,null,null,null,null,0,18.7,null,null,18.7,null,null,null,1,18.7,18.7,{"$f":"AVERAGE(INDIRECT($X$1&ROW()-$Y$4+1):X180)","v":19.04},0,1,{"$f":"IF(AND(AA179=0,AA180=1,SUM(INDIRECT($AA$1&ROW()-$AB$4):AA179)=0),1,0)","v":0},0,{"$f":"IF(AND(AC179=0,AC180=1,SUM(INDIRECT($AC$1&ROW()-AD$4):AC179)=0),1,0)","v":0},102.87,null,null,null,null,null,null,null,null,null,null,null,null,null,-2000,0,null,0,null,null,null,null,null,null,null,null,22.23]
["1971-05-14",{"$f":"VLOOKUP(A181,'input BCI'!$O$3:$R$5000,4)","v":19.38},null,null,19.38,null,null,null,null,null,null,null,null,0,19.38,null,null,19.38,null,null,null,1,19.38,19.38,{"$f":"AVERAGE(INDIRECT($X$1&ROW()-$Y$4+1):X181)","v":19.574999999999999},0,1,{"$f":"IF(AND(AA180=0,AA181=1,SUM(INDIRECT($AA$1&ROW()-$AB$4):AA180)=0),1,0)","v":0},0,{"$f":"IF(AND(AC180=0,AC181=1,SUM(INDIRECT($AC$1&ROW()-AD$4):AC180)=0),1,0)","v":0},102.21,null,null,null,null,null,null,null,null,null,null,null,null,null,-2000,0,null,0,null,null,null,null,null,null,null,null,22.23]
["1971-05-21",{"$f":"VLOOKUP(A182,'input BCI'!$O$3:$R$5000,4)","v":19.77},null,null,19.77,null,null,null,null,null,null,null,null,0,19.77,null,null,19.77,null,null,null,1,19.77,19.77,{"$f":"AVERAGE(INDIRECT($X$1&ROW()-$Y$4+1):X182)","v":19.64},0,0,{"$f":"IF(AND(AA181=0,AA182=1,SUM(INDIRECT($AA$1&ROW()-$AB$4):AA181)=0),1,0)","v":0},1,{"$f":"IF(AND(AC181=0,AC182=1,SUM(INDIRECT($AC$1&ROW()-AD$4):AC181)=0),1,0)","v":1},100.99,null,null,null,null,null,null,null,null,null,null,null,null,null,-2000,0,null,0,null,null,null,null,null,null,null,null,22.23]
["1971-05-28",{"$f":"VLOOKUP(A183,'input BCI'!$O$3:$R$5000,4)","v":19.510000000000002},null,null,19.510000000000002,null,null,null,null,null,null,null,null,0,19.510000000000002,null,null,19.510000000000002,null,null,null,1,19.510000000000002,19.510000000000002,{"$f":"AVERAGE(INDIRECT($X$1&ROW()-$Y$4+1):X183)","v":19.195},0,0,{"$f":"IF(AND(AA182=0,AA183=1,SUM(INDIRECT($AA$1&ROW()-$AB$4):AA182)=0),1,0)","v":0},1,{"$f":"IF(AND(AC182=0,AC183=1,SUM(INDIRECT($AC$1&ROW()-AD$4):AC182)=0),1,0)","v":0},99.63,null,null,null,null,null,null,null,null,null,null,null,null,null,-2000,0,null,0,null,null,null,null,null,null,null,null,22.23]
["1971-06-04",{"$f":"VLOOKUP(A184,'input BCI'!$O$3:$R$5000,4)","v":18.88},null,null,18.88,null,null,null,null,null,null,null,null,0,18.88,null,null,18.88,null,null,null,1,18.88,18.88,{"$f":"AVERAGE(INDIRECT($X$1&ROW()-$Y$4+1):X184)","v":18.649999999999999},0,0,{"$f":"IF(AND(AA183=0,AA184=1,SUM(INDIRECT($AA$1&ROW()-$AB$4):AA183)=0),1,0)","v":0},1,{"$f":"IF(AND(AC183=0,AC184=1,SUM(INDIRECT($AC$1&ROW()-AD$4):AC183)=0),1,0)","v":0},101.3,null,null,null,null,null,null,null,null,null,null,null,null,null,-2000,0,null,0,null,null,null,null,null,null,null,null,22.23]
["1971-06-11",{"$f":"VLOOKUP(A185,'input BCI'!$O$3:$R$5000,4)","v":18.420000000000002},null,null,18.420000000000002,null,null,null,null,null,null,null,null,0,18.420000000000002,null,null,18.420000000000002,null,null,null,1,18.420000000000002,18.420000000000002,{"$f":"AVERAGE(INDIRECT($X$1&ROW()-$Y$4+1):X185)","v":18.240000000000002},0,0,{"$f":"IF(AND(AA184=0,AA185=1,SUM(INDIRECT($AA$1&ROW()-$AB$4):AA184)=0),1,0)","v":0},1,{"$f":"IF(AND(AC184=0,AC185=1,SUM(INDIRECT($AC$1&ROW()-AD$4):AC184)=0),1,0)","v":0},101.07,null,null,null,null,null,null,null,null,null,null,null,null,null,-2000,0,null,0,null,null,null,null,null,null,null,null,22.23]
["1971-06-18",{"$f":"VLOOKUP(A186,'input BCI'!$O$3:$R$5000,4)","v":18.059999999999999},null,null,18.059999999999999,null,null,null,null,null,null,null,null,0,18.059999999999999,null,null,18.059999999999999,null,null,null,1,18.059999999999999,18.059999999999999,{"$f":"AVERAGE(INDIRECT($X$1&ROW()-$Y$4+1):X186)","v":17.805},0,0,{"$f":"IF(AND(AA185=0,AA186=1,SUM(INDIRECT($AA$1&ROW()-$AB$4):AA185)=0),1,0)","v":0},1,{"$f":"IF(AND(AC185=0,AC186=1,SUM(INDIRECT($AC$1&ROW()-AD$4):AC185)=0),1,0)","v":0},98.97,null,null,null,null,null,null,null,null,null,null,null,null,null,-2000,0,null,0,null,null,null,null,null,null,null,null,22.23]
["1971-06-25",{"$f":"VLOOKUP(A187,'input BCI'!$O$3:$R$5000,4)","v":17.55},null,null,17.55,null,null,null,null,null,null,null,null,0,17.55,null,null,17.55,null,null,null,1,17.55,17.55,{"$f":"AVERAGE(INDIRECT($X$1&ROW()-$Y$4+1):X187)","v":17.245000000000001},0,0,{"$f":"IF(AND(AA186=0,AA187=1,SUM(INDIRECT($AA$1&ROW()-$AB$4):AA186)=0),1,0)","v":0},1,{"$f":"IF(AND(AC186=0,AC187=1,SUM(INDIRECT($AC$1&ROW()-AD$4):AC186)=0),1,0)","v":0},97.99,null,null,null,null,null,null,null,null,null,null,null,null,null,-2000,0,null,0,null,null,null,null,null,null,null,null,22.23]
["1971-07-02",{"$f":"VLOOKUP(A188,'input BCI'!$O$3:$R$5000,4)","v":16.940000000000001},null,null,16.940000000000001,null,null,null,null,null,null,null,null,0,16.940000000000001,null,null,16.940000000000001,null,null,null,1,16.940000000000001,16.940000000000001,{"$f":"AVERAGE(INDIRECT($X$1&ROW()-$Y$4+1):X188)","v":16.615000000000002},0,0,{"$f":"IF(AND(AA187=0,AA188=1,SUM(INDIRECT($AA$1&ROW()-$AB$4):AA187)=0),1,0)","v":0},1,{"$f":"IF(AND(AC187=0,AC188=1,SUM(INDIRECT($AC$1&ROW()-AD$4):AC187)=0),1,0)","v":0},99.78,null,null,null,null,null,null,null,null,null,null,null,null,null,-2000,0,null,0,null,null,null,null,null,null,null,null,22.23]
["1971-07-09",{"$f":"VLOOKUP(A189,'input BCI'!$O$3:$R$5000,4)","v":16.29},null,null,16.29,null,null,null,null,null,null,null,null,0,16.29,null,null,16.29,null,null,null,1,16.29,16.29,{"$f":"AVERAGE(INDIRECT($X$1&ROW()-$Y$4+1):X189)","v":16.074999999999999},0,0,{"$f":"IF(AND(AA188=0,AA189=1,SUM(INDIRECT($AA$1&ROW()-$AB$4):AA188)=0),1,0)","v":0},1,{"$f":"IF(AND(AC188=0,AC189=1,SUM(INDIRECT($AC$1&ROW()-AD$4):AC188)=0),1,0)","v":0},100.69,null,null,null,null,null,null,null,null,null,null,null,null,null,-2000,0,null,0,null,null,null,null,null,null,null,null,22.23]
["1971-07-16",{"$f":"VLOOKUP(A190,'input BCI'!$O$3:$R$5000,4)","v":15.86},null,null,15.86,null,null,null,null,null,null,null,null,0,15.86,null,null,15.86,null,null,null,1,15.86,15.86,{"$f":"AVERAGE(INDIRECT($X$1&ROW()-$Y$4+1):X190)","v":15.73},0,0,{"$f":"IF(AND(AA189=0,AA190=1,SUM(INDIRECT($AA$1&ROW()-$AB$4):AA189)=0),1,0)","v":0},1,{"$f":"IF(AND(AC189=0,AC190=1,SUM(INDIRECT($AC$1&ROW()-AD$4):AC189)=0),1,0)","v":0},99.11,null,null,null,null,null,null,null,null,null,null,null,null,null,-2000,0,null,0,null,null,null,null,null,null,null,null,22.23]
["1971-07-23",{"$f":"VLOOKUP(A191,'input BCI'!$O$3:$R$5000,4)","v":15.6},null,null,15.6,null,null,null,null,null,null,null,null,0,15.6,null,null,15.6,null,null,null,1,15.6,15.6,{"$f":"AVERAGE(INDIRECT($X$1&ROW()-$Y$4+1):X191)","v":15.664999999999999},0,1,{"$f":"IF(AND(AA190=0,AA191=1,SUM(INDIRECT($AA$1&ROW()-$AB$4):AA190)=0),1,0)","v":1},0,{"$f":"IF(AND(AC190=0,AC191=1,SUM(INDIRECT($AC$1&ROW()-AD$4):AC190)=0),1,0)","v":0},98.94,null,null,null,null,null,null,null,null,null,null,null,null,null,-2000,0,null,0,null,null,null,null,null,null,null,null,22.23]
["1971-07-30",{"$f":"VLOOKUP(A192,'input BCI'!$O$3:$R$5000,4)","v":15.73},null,null,15.73,null,null,null,null,null,null,null,null,0,15.73,null,null,15.73,null,null,null,1,15.73,15.73,{"$f":"AVERAGE(INDIRECT($X$1&ROW()-$Y$4+1):X192)","v":15.57},0,0,{"$f":"IF(AND(AA191=0,AA192=1,SUM(INDIRECT($AA$1&ROW()-$AB$4):AA191)=0),1,0)","v":0},1,{"$f":"IF(AND(AC191=0,AC192=1,SUM(INDIRECT($AC$1&ROW()-AD$4):AC191)=0),1,0)","v":0},95.58,null,null,null,null,null,null,null,null,null,null,null,null,null,-2000,0,null,0,null,null,null,null,null,null,null,null,22.23]
["1971-08-06",{"$f":"VLOOKUP(A193,'input BCI'!$O$3:$R$5000,4)","v":15.41},null,null,15.41,null,null,null,null,null,null,null,null,0,15.41,null,null,15.41,null,null,null,1,15.41,15.41,{"$f":"AVERAGE(INDIRECT($X$1&ROW()-$Y$4+1):X193)","v":15.085000000000001},0,0,{"$f":"IF(AND(AA192=0,AA193=1,SUM(INDIRECT($AA$1&ROW()-$AB$4):AA192)=0),1,0)","v":0},1,{"$f":"IF(AND(AC192=0,AC193=1,SUM(INDIRECT($AC$1&ROW()-AD$4):AC192)=0),1,0)","v":0},94.25,null,null,null,null,null,null,null,null,null,null,null,null,null,-2000,0,null,0,null,null,null,null,null,null,null,null,22.23]
["1971-08-13",{"$f":"VLOOKUP(A194,'input BCI'!$O$3:$R$5000,4)","v":14.76},null,null,14.76,null,null,null,null,null,null,null,null,0,14.76,null,null,14.76,null,null,null,1,14.76,14.76,{"$f":"AVERAGE(INDIRECT($X$1&ROW()-$Y$4+1):X194)","v":14.7},0,0,{"$f":"IF(AND(AA193=0,AA194=1,SUM(INDIRECT($AA$1&ROW()-$AB$4):AA193)=0),1,0)","v":0},1,{"$f":"IF(AND(AC193=0,AC194=1,SUM(INDIRECT($AC$1&ROW()-AD$4):AC193)=0),1,0)","v":0},95.69,null,null,null,null,null,null,null,null,null,null,null,null,null,-2000,0,null,0,null,null,null,null,null,null,null,null,22.23]
["1971-08-20",{"$f":"VLOOKUP(A195,'input BCI'!$O$3:$R$5000,4)","v":14.64},null,null,14.64,null,null,null,null,null,null,null,null,0,14.64,null,null,14.64,null,null,null,1,14.64,14.64,{"$f":"AVERAGE(INDIRECT($X$1&ROW()-$Y$4+1):X195)","v":14.645},0,1,{"$f":"IF(AND(AA194=0,AA195=1,SUM(INDIRECT($AA$1&ROW()-$AB$4):AA194)=0),1,0)","v":0},0,{"$f":"IF(AND(AC194=0,AC195=1,SUM(INDIRECT($AC$1&ROW()-AD$4):AC194)=0),1,0)","v":0},98.33,null,null,null,null,null,null,null,null,null,null,null,null,null,-2000,0,null,0,null,null,null,null,null,null,null,null,22.23]
["1971-08-27",{"$f":"VLOOKUP(A196,'input BCI'!$O$3:$R$5000,4)","v":14.65},null,null,14.65,null,null,null,null,null,null,null,null,0,14.65,null,null,14.65,null,null,null,1,14.65,14.65,{"$f":"AVERAGE(INDIRECT($X$1&ROW()-$Y$4+1):X196)","v":14.925000000000001},0,1,{"$f":"IF(AND(AA195=0,AA196=1,SUM(INDIRECT($AA$1&ROW()-$AB$4):AA195)=0),1,0)","v":0},0,{"$f":"IF(AND(AC195=0,AC196=1,SUM(INDIRECT($AC$1&ROW()-AD$4):AC195)=0),1,0)","v":0},100.48,null,null,null,null,null,null,null,null,null,null,null,null,null,-2000,0,null,0,null,null,null,null,null,null,null,null,22.23]
["1971-09-03",{"$f":"VLOOKUP(A197,'input BCI'!$O$3:$R$5000,4)","v":15.2},null,null,15.2,null,null,null,null,null,null,null,null,0,15.2,null,null,15.2,null,null,null,1,15.2,15.2,{"$f":"AVERAGE(INDIRECT($X$1&ROW()-$Y$4+1):X197)","v":15.664999999999999},0,1,{"$f":"IF(AND(AA196=0,AA197=1,SUM(INDIRECT($AA$1&ROW()-$AB$4):AA196)=0),1,0)","v":0},0,{"$f":"IF(AND(AC196=0,AC197=1,SUM(INDIRECT($AC$1&ROW()-AD$4):AC196)=0),1,0)","v":0},100.69,null,null,null,null,null,null,null,null,null,null,null,null,null,-2000,0,null,0,null,null,null,null,null,null,null,null,22.23]
["1971-09-10",{"$f":"VLOOKUP(A198,'input BCI'!$O$3:$R$5000,4)","v":16.13},null,null,16.13,null,null,null,null,null,null,null,null,0,16.13,null,null,16.13,null,null,null,1,16.13,16.13,{"$f":"AVERAGE(INDIRECT($X$1&ROW()-$Y$4+1):X198)","v":16.324999999999999},0,1,{"$f":"IF(AND(AA197=0,AA198=1,SUM(INDIRECT($AA$1&ROW()-$AB$4):AA197)=0),1,0)","v":0},0,{"$f":"IF(AND(AC197=0,AC198=1,SUM(INDIRECT($AC$1&ROW()-AD$4):AC197)=0),1,0)","v":0},100.42,null,null,null,null,null,null,null,null,null,null,null,null,null,-2000,0,null,0,null,null,null,null,null,null,null,null,22.23]
["1971-09-17",{"$f":"VLOOKUP(A199,'input BCI'!$O$3:$R$5000,4)","v":16.52},null,null,16.52,null,null,null,null,null,null,null,null,0,16.52,null,null,16.52,null,null,null,1,16.52,16.52,{"$f":"AVERAGE(INDIRECT($X$1&ROW()-$Y$4+1):X199)","v":16.41},0,0,{"$f":"IF(AND(AA198=0,AA199=1,SUM(INDIRECT($AA$1&ROW()-$AB$4):AA198)=0),1,0)","v":0},1,{"$f":"IF(AND(AC198=0,AC199=1,SUM(INDIRECT($AC$1&ROW()-AD$4):AC198)=0),1,0)","v":0},99.96,null,null,null,null,null,null,null,null,null,null,null,null,null,-2000,0,null,0,null,null,null,null,null,null,null,null,22.23]
["1971-09-24",{"$f":"VLOOKUP(A200,'input BCI'!$O$3:$R$5000,4)","v":16.3},null,null,16.3,null,null,null,null,null,null,null,null,0,16.3,null,null,16.3,null,null,null,1,16.3,16.3,{"$f":"AVERAGE(INDIRECT($X$1&ROW()-$Y$4+1):X200)","v":15.870000000000001},0,0,{"$f":"IF(AND(AA199=0,AA200=1,SUM(INDIRECT($AA$1&ROW()-$AB$4):AA199)=0),1,0)","v":0},1,{"$f":"IF(AND(AC199=0,AC200=1,SUM(INDIRECT($AC$1&ROW()-AD$4):AC199)=0),1,0)","v":0},98.15,null,null,null,null,null,null,null,null,null,null,null,null,null,-2000,0,null,0,null,null,null,null,null,null,null,null,22.23]
["1971-10-01",{"$f":"VLOOKUP(A201,'input BCI'!$O$3:$R$5000,4)","v":15.44},null,null,15.44,null,null,null,null,null,null,null,null,0,15.44,null,null,15.44,null,null,null,1,15.44,15.44,{"$f":"AVERAGE(INDIRECT($X$1&ROW()-$Y$4+1):X201)","v":14.92},0,0,{"$f":"IF(AND(AA200=0,AA201=1,SUM(INDIRECT($AA$1&ROW()-$AB$4):AA200)=0),1,0)","v":0},1,{"$f":"IF(AND(AC200=0,AC201=1,SUM(INDIRECT($AC$1&ROW()-AD$4):AC200)=0),1,0)","v":0},98.93,null,null,null,null,null,null,null,null,null,null,null,null,null,-2000,0,null,0,null,null,null,null,null,null,null,null,22.23]
["1971-10-08",{"$f":"VLOOKUP(A202,'input BCI'!$O$3:$R$5000,4)","v":14.4},null,null,14.4,null,null,null,null,null,null,null,null,0,14.4,null,null,14.4,null,null,null,1,14.4,14.4,{"$f":"AVERAGE(INDIRECT($X$1&ROW()-$Y$4+1):X202)","v":14},0,0,{"$f":"IF(AND(AA201=0,AA202=1,SUM(INDIRECT($AA$1&ROW()-$AB$4):AA201)=0),1,0)","v":0},1,{"$f":"IF(AND(AC201=0,AC202=1,SUM(INDIRECT($AC$1&ROW()-AD$4):AC201)=0),1,0)","v":0},99.36,null,null,null,null,null,null,null,null,null,null,null,null,null,{"$f":"IF(ISNUMBER(AR202),2000,-2000)","v":-2000},0,null,0,null,null,null,null,null,null,null,null,22.23]
["1971-10-15",{"$f":"VLOOKUP(A203,'input BCI'!$O$3:$R$5000,4)","v":13.6},null,null,{"$f":"B203+$O$7","v":13.6},null,null,null,null,null,null,null,null,0,{"$f":"E203","v":13.6},null,null,13.6,null,null,null,1,{"$f":"R203","v":13.6},{"$f":"(W203+$X$4)","v":13.6},{"$f":"AVERAGE(INDIRECT($X$1&ROW()-$Y$4+1):X203)","v":13.125},{"$f":"IF(OR(X203=$I$5,X203>$I$5),1,0)","v":0},0,{"$f":"IF(AND(AA202=0,AA203=1,SUM(INDIRECT($AA$1&ROW()-$AB$4):AA202)=0),1,0)","v":0},1,{"$f":"IF(AND(AC202=0,AC203=1,SUM(INDIRECT($AC$1&ROW()-AD$4):AC202)=0),1,0)","v":0},97.79,null,null,null,null,null,null,null,null,null,null,null,null,null,-2000,0,null,0,null,null,null,null,null,null,null,null,{"$f":"$BE$2","v":22.23}]
["1971-10-22",{"$f":"VLOOKUP(A204,'input BCI'!$O$3:$R$5000,4)","v":12.65},null,null,12.65,null,null,null,null,null,null,null,null,0,12.65,null,null,12.65,null,null,null,{"$f":"V203","v":1},12.65,12.65,{"$f":"AVERAGE(INDIRECT($X$1&ROW()-$Y$4+1):X204)","v":12.280000000000001},0,0,{"$f":"IF(AND(AA203=0,AA204=1,SUM(INDIRECT($AA$1&ROW()-$AB$4):AA203)=0),1,0)","v":0},1,{"$f":"IF(AND(AC203=0,AC204=1,SUM(INDIRECT($AC$1&ROW()-AD$4):AC203)=0),1,0)","v":0},95.57,null,null,null,null,null,null,null,null,null,null,null,null,null,-2000,0,null,0,null,null,null,null,null,null,null,null,22.23]
["1971-10-29",{"$f":"VLOOKUP(A205,'input BCI'!$O$3:$R$5000,4)","v":11.91},null,null,11.91,null,null,null,null,null,null,null,null,0,11.91,null,null,11.91,null,null,null,1,11.91,11.91,{"$f":"AVERAGE(INDIRECT($X$1&ROW()-$Y$4+1):X205)","v":11.484999999999999},0,{"$f":"IF(Y205>X205,1,0)","v":0},{"$f":"IF(AND(AA204=0,AA205=1,SUM(INDIRECT($AA$1&ROW()-$AB$4):AA204)=0),1,0)","v":0},1,{"$f":"IF(AND(AC204=0,AC205=1,SUM(INDIRECT($AC$1&ROW()-AD$4):AC204)=0),1,0)","v":0},94.23,null,null,null,null,null,null,null,null,null,null,null,null,null,-2000,0,null,0,null,null,null,null,null,null,null,null,22.23]
["1971-11-05",{"$f":"VLOOKUP(A206,'input BCI'!$O$3:$R$5000,4)","v":11.06},null,null,11.06,null,null,null,null,null,null,null,null,0,11.06,null,null,11.06,null,null,null,1,11.06,11.06,{"$f":"AVERAGE(INDIRECT($X$1&ROW()-$Y$4+1):X206)","v":10.600000000000001},0,0,{"$f":"IF(AND(AA205=0,AA206=1,SUM(INDIRECT($AA$1&ROW()-$AB$4):AA205)=0),1,0)","v":0},{"$f":"IF(Y206<X206,1,0)","v":1},{"$f":"IF(AND(AC205=0,AC206=1,SUM(INDIRECT($AC$1&ROW()-AD$4):AC205)=0),1,0)","v":0},94.46,null,null,null,null,null,null,null,null,null,null,null,null,null,-2000,0,null,0,null,null,null,null,null,null,null,null,22.23]
["1971-11-12",{"$f":"VLOOKUP(A207,'input BCI'!$O$3:$R$5000,4)","v":10.14},null,null,10.14,null,null,null,null,null,null,null,null,0,10.14,null,null,10.14,null,null,null,1,10.14,10.14,{"$f":"AVERAGE(INDIRECT($X$1&ROW()-$Y$4+1):X207)","v":9.7100000000000009},0,0,{"$f":"IF(AND(AA206=0,AA207=1,SUM(INDIRECT($AA$1&ROW()-$AB$4):AA206)=0),1,0)","v":0},1,{"$f":"IF(AND(AC206=0,AC207=1,SUM(INDIRECT($AC$1&ROW()-AD$4):AC206)=0),1,0)","v":0},92.12,null,null,null,null,null,null,null,null,null,null,null,null,null,-2000,0,null,0,null,null,null,null,null,null,null,null,22.23]
["1971-11-19",{"$f":"VLOOKUP(A208,'input BCI'!$O$3:$R$5000,4)","v":9.2799999999999994},null,null,9.2799999999999994,null,null,null,null,null,null,null,null,0,9.2799999999999994,null,null,9.2799999999999994,null,null,null,1,9.2799999999999994,9.2799999999999994,{"$f":"AVERAGE(INDIRECT($X$1&ROW()-$Y$4+1):X208)","v":9.0449999999999999},0,0,{"$f":"IF(AND(AA207=0,AA208=1,SUM(INDIRECT($AA$1&ROW()-$AB$4):AA207)=0),1,0)","v":0},1,{"$f":"IF(AND(AC207=0,AC208=1,SUM(INDIRECT($AC$1&ROW()-AD$4):AC207)=0),1,0)","v":0},91.61,null,null,null,null,null,null,null,null,null,null,null,null,null,-2000,0,null,0,null,null,null,null,null,null,null,null,22.23]
["1971-11-26",{"$f":"VLOOKUP(A209,'input BCI'!$O$3:$R$5000,4)","v":8.81},null,null,8.81,null,null,null,null,null,null,null,null,0,8.81,null,null,8.81,null,null,null,1,8.81,8.81,{"$f":"AVERAGE(INDIRECT($X$1&ROW()-$Y$4+1):X209)","v":8.8450000000000006},0,1,{"$f":"IF(AND(AA208=0,AA209=1,SUM(INDIRECT($AA$1&ROW()-$AB$4):AA208)=0),1,0)","v":1},0,{"$f":"IF(AND(AC208=0,AC209=1,SUM(INDIRECT($AC$1&ROW()-AD$4):AC208)=0),1,0)","v":0},91.94,null,null,null,null,null,null,null,null,null,null,null,null,null,-2000,0,null,0,null,null,null,null,null,null,null,null,22.23]
["1971-12-03",{"$f":"VLOOKUP(A210,'input BCI'!$O$3:$R$5000,4)","v":8.8800000000000008},null,null,8.8800000000000008,null,null,null,null,null,null,null,null,0,8.8800000000000008,null,null,8.8800000000000008,null,null,null,1,8.8800000000000008,8.8800000000000008,{"$f":"AVERAGE(INDIRECT($X$1&ROW()-$Y$4+1):X210)","v":9.245000000000001},0,1,{"$f":"IF(AND(AA209=0,AA210=1,SUM(INDIRECT($AA$1&ROW()-$AB$4):AA209)=0),1,0)","v":0},0,{"$f":"IF(AND(AC209=0,AC210=1,SUM(INDIRECT($AC$1&ROW()-AD$4):AC209)=0),1,0)","v":0},97.06,null,null,null,null,null,null,null,null,null,null,null,null,null,-2000,0,null,0,null,null,null,null,null,null,null,null,22.23]
["1971-12-10",{"$f":"VLOOKUP(A211,'input BCI'!$O$3:$R$5000,4)","v":9.61},null,null,9.61,null,null,null,null,null,null,null,null,0,9.61,null,null,9.61,null,null,null,1,9.61,9.61,{"$f":"AVERAGE(INDIRECT($X$1&ROW()-$Y$4+1):X211)","v":10.26},0,1,{"$f":"IF(AND(AA210=0,AA211=1,SUM(INDIRECT($AA$1&ROW()-$AB$4):AA210)=0),1,0)","v":0},0,{"$f":"IF(AND(AC210=0,AC211=1,SUM(INDIRECT($AC$1&ROW()-AD$4):AC210)=0),1,0)","v":0},97.69,null,null,null,null,null,null,null,null,null,null,null,null,null,-2000,0,null,0,null,null,null,null,null,null,null,null,22.23]
["1971-12-17",{"$f":"VLOOKUP(A212,'input BCI'!$O$3:$R$5000,4)","v":10.91},null,null,10.91,null,null,null,null,null,null,null,null,0,10.91,null,null,10.91,null,null,null,1,10.91,10.91,{"$f":"AVERAGE(INDIRECT($X$1&ROW()-$Y$4+1):X212)","v":11.73},0,1,{"$f":"IF(AND(AA211=0,AA212=1,SUM(INDIRECT($AA$1&ROW()-$AB$4):AA211)=0),1,0)","v":0},0,{"$f":"IF(AND(AC211=0,AC212=1,SUM(INDIRECT($AC$1&ROW()-AD$4):AC211)=0),1,0)","v":0},100.26,null,null,null,null,null,null,null,null,null,null,null,null,null,-2000,0,null,0,null,null,null,null,null,null,null,null,22.23]
["1971-12-24",{"$f":"VLOOKUP(A213,'input BCI'!$O$3:$R$5000,4)","v":12.55},null,null,12.55,null,null,null,null,null,null,null,null,0,12.55,null,null,12.55,null,null,null,1,12.55,12.55,{"$f":"AVERAGE(INDIRECT($X$1&ROW()-$Y$4+1):X213)","v":13.39},0,1,{"$f":"IF(AND(AA212=0,AA213=1,SUM(INDIRECT($AA$1&ROW()-$AB$4):AA212)=0),1,0)","v":0},0,{"$f":"IF(AND(AC212=0,AC213=1,SUM(INDIRECT($AC$1&ROW()-AD$4):AC212)=0),1,0)","v":0},100.74,null,null,null,null,null,null,null,null,null,null,null,null,null,-2000,0,null,0,null,null,null,null,null,null,null,null,22.23]
["1971-12-31",{"$f":"VLOOKUP(A214,'input BCI'!$O$3:$R$5000,4)","v":14.23},null,null,14.23,null,null,null,null,null,null,null,null,0,14.23,null,null,14.23,null,null,null,1,14.23,14.23,{"$f":"AVERAGE(INDIRECT($X$1&ROW()-$Y$4+1):X214)","v":14.98},0,1,{"$f":"IF(AND(AA213=0,AA214=1,SUM(INDIRECT($AA$1&ROW()-$AB$4):AA213)=0),1,0)","v":0},0,{"$f":"IF(AND(AC213=0,AC214=1,SUM(INDIRECT($AC$1&ROW()-AD$4):AC213)=0),1,0)","v":0},102.09,null,null,null,null,null,null,null,null,null,null,null,null,null,-2000,0,null,0,null,null,null,null,null,null,null,null,22.23]
["1972-01-07",{"$f":"VLOOKUP(A215,'input BCI'!$O$3:$R$5000,4)","v":15.73},null,null,15.73,null,null,null,null,null,null,null,null,0,15.73,null,null,15.73,null,null,null,1,15.73,15.73,{"$f":"AVERAGE(INDIRECT($X$1&ROW()-$Y$4+1):X215)","v":16.740000000000002},0,1,{"$f":"IF(AND(AA214=0,AA215=1,SUM(INDIRECT($AA$1&ROW()-$AB$4):AA214)=0),1,0)","v":0},0,{"$f":"IF(AND(AC214=0,AC215=1,SUM(INDIRECT($AC$1&ROW()-AD$4):AC214)=0),1,0)","v":0},103.47,null,null,null,null,null,null,null,null,null,null,null,null,null,-2000,0,null,0,null,null,null,null,null,null,null,null,22.23]
["1972-01-14",{"$f":"VLOOKUP(A216,'input BCI'!$O$3:$R$5000,4)","v":17.75},null,null,17.75,null,null,null,null,null,null,null,null,0,17.75,null,null,17.75,null,null,null,1,17.75,17.75,{"$f":"AVERAGE(INDIRECT($X$1&ROW()-$Y$4+1):X216)","v":18.664999999999999},0,1,{"$f":"IF(AND(AA215=0,AA216=1,SUM(INDIRECT($AA$1&ROW()-$AB$4):AA215)=0),1,0)","v":0},0,{"$f":"IF(AND(AC215=0,AC216=1,SUM(INDIRECT($AC$1&ROW()-AD$4):AC215)=0),1,0)","v":0},103.39,null,null,null,null,null,null,null,null,null,null,null,null,null,-2000,0,null,0,null,null,null,null,null,null,null,null,22.23]
["1972-01-21",{"$f":"VLOOKUP(A217,'input BCI'!$O$3:$R$5000,4)","v":19.579999999999998},null,null,19.579999999999998,null,null,null,null,null,null,null,null,0,19.579999999999998,null,null,{"$f":"O217*R$7","v":19.579999999999998},null,null,null,1,19.579999999999998,19.579999999999998,{"$f":"AVERAGE(INDIRECT($X$1&ROW()-$Y$4+1):X217)","v":20.314999999999998},0,1,{"$f":"IF(AND(AA216=0,AA217=1,SUM(INDIRECT($AA$1&ROW()-$AB$4):AA216)=0),1,0)","v":0},0,{"$f":"IF(AND(AC216=0,AC217=1,SUM(INDIRECT($AC$1&ROW()-AD$4):AC216)=0),1,0)","v":0},103.65,null,null,null,null,null,null,null,null,null,null,null,null,null,-2000,0,null,0,null,null,null,null,null,null,null,null,22.23]
["1972-01-28",{"$f":"VLOOKUP(A218,'input BCI'!$O$3:$R$5000,4)","v":21.05},null,null,21.05,null,null,null,null,null,null,null,null,0,21.05,null,null,21.05,null,null,null,1,21.05,21.05,{"$f":"AVERAGE(INDIRECT($X$1&ROW()-$Y$4+1):X218)","v":21.645},0,1,{"$f":"IF(AND(AA217=0,AA218=1,SUM(INDIRECT($AA$1&ROW()-$AB$4):AA217)=0),1,0)","v":0},0,{"$f":"IF(AND(AC217=0,AC218=1,SUM(INDIRECT($AC$1&ROW()-AD$4):AC217)=0),1,0)","v":0},104.16,null,null,null,null,null,null,null,null,null,null,null,null,null,-2000,0,null,0,null,null,null,null,null,null,null,null,22.23]
["1972-02-04",{"$f":"VLOOKUP(A219,'input BCI'!$O$3:$R$5000,4)","v":22.24},null,null,22.24,null,null,null,null,null,null,null,null,0,22.24,null,null,22.24,null,null,null,1,22.24,22.24,{"$f":"AVERAGE(INDIRECT($X$1&ROW()-$Y$4+1):X219)","v":22.545000000000002},1,1,{"$f":"IF(AND(AA218=0,AA219=1,SUM(INDIRECT($AA$1&ROW()-$AB$4):AA218)=0),1,0)","v":0},0,{"$f":"IF(AND(AC218=0,AC219=1,SUM(INDIRECT($AC$1&ROW()-AD$4):AC218)=0),1,0)","v":0},104.86,null,null,null,null,null,null,null,null,null,null,null,null,null,-2000,0,null,0,null,null,null,null,null,null,null,null,22.23]
["1972-02-11",{"$f":"VLOOKUP(A220,'input BCI'!$O$3:$R$5000,4)","v":22.85},null,null,22.85,null,null,null,null,null,null,null,null,0,22.85,null,null,22.85,null,null,null,1,22.85,22.85,{"$f":"AVERAGE(INDIRECT($X$1&ROW()-$Y$4+1):X220)","v":22.990000000000002},1,1,{"$f":"IF(AND(AA219=0,AA220=1,SUM(INDIRECT($AA$1&ROW()-$AB$4):AA219)=0),1,0)","v":0},0,{"$f":"IF(AND(AC219=0,AC220=1,SUM(INDIRECT($AC$1&ROW()-AD$4):AC219)=0),1,0)","v":0},105.08,null,null,null,null,null,null,null,null,null,null,null,null,null,-2000,0,null,0,null,null,null,null,null,null,null,null,22.23]
["1972-02-18",{"$f":"VLOOKUP(A221,'input BCI'!$O$3:$R$5000,4)","v":23.13},null,null,23.13,null,null,null,null,null,null,null,null,0,23.13,null,null,23.13,null,null,null,1,23.13,23.13,{"$f":"AVERAGE(INDIRECT($X$1&ROW()-$Y$4+1):X221)","v":23.17},1,1,{"$f":"IF(AND(AA220=0,AA221=1,SUM(INDIRECT($AA$1&ROW()-$AB$4):AA220)=0),1,0)","v":0},0,{"$f":"IF(AND(AC220=0,AC221=1,SUM(INDIRECT($AC$1&ROW()-AD$4):AC220)=0),1,0)","v":0},105.28,null,null,null,null,null,null,null,null,null,null,null,null,null,-2000,0,null,0,null,null,null,null,null,null,null,null,22.23]
["1972-02-25",{"$f":"VLOOKUP(A222,'input BCI'!$O$3:$R$5000,4)","v":23.21},null,null,23.21,null,null,null,null,null,null,null,null,0,23.21,null,null,23.21,null,null,null,1,23.21,23.21,{"$f":"AVERAGE(INDIRECT($X$1&ROW()-$Y$4+1):X222)","v":23.28},1,1,{"$f":"IF(AND(AA221=0,AA222=1,SUM(INDIRECT($AA$1&ROW()-$AB$4):AA221)=0),1,0)","v":0},0,{"$f":"IF(AND(AC221=0,AC222=1,SUM(INDIRECT($AC$1&ROW()-AD$4):AC221)=0),1,0)","v":0},106.18,null,null,null,null,null,null,null,null,null,null,null,null,null,-2000,0,null,0,null,null,null,null,null,null,null,null,22.23]
["1972-03-03",{"$f":"VLOOKUP(A223,'input BCI'!$O$3:$R$5000,4)","v":23.35},null,null,23.35,null,null,null,null,null,null,null,null,0,23.35,null,null,23.35,null,null,null,1,23.35,23.35,{"$f":"AVERAGE(INDIRECT($X$1&ROW()-$Y$4+1):X223)","v":23.48},1,1,{"$f":"IF(AND(AA222=0,AA223=1,SUM(INDIRECT($AA$1&ROW()-$AB$4):AA222)=0),1,0)","v":0},0,{"$f":"IF(AND(AC222=0,AC223=1,SUM(INDIRECT($AC$1&ROW()-AD$4):AC222)=0),1,0)","v":0},107.94,null,null,null,null,null,null,null,null,null,null,null,null,null,-2000,0,null,0,null,null,null,null,null,null,null,null,22.23]
["1972-03-10",{"$f":"VLOOKUP(A224,'input BCI'!$O$3:$R$5000,4)","v":23.61},null,null,23.61,null,null,null,null,null,null,null,null,0,23.61,null,null,23.61,null,null,null,1,23.61,23.61,{"$f":"AVERAGE(INDIRECT($X$1&ROW()-$Y$4+1):X224)","v":23.754999999999999},1,1,{"$f":"IF(AND(AA223=0,AA224=1,SUM(INDIRECT($AA$1&ROW()-$AB$4):AA223)=0),1,0)","v":0},0,{"$f":"IF(AND(AC223=0,AC224=1,SUM(INDIRECT($AC$1&ROW()-AD$4):AC223)=0),1,0)","v":0},108.38,null,null,null,null,null,null,null,null,null,null,null,null,null,-2000,0,null,0,null,null,null,null,null,null,null,null,22.23]
["1972-03-17",{"$f":"VLOOKUP(A225,'input BCI'!$O$3:$R$5000,4)","v":23.9},null,null,23.9,null,null,null,null,null,null,null,null,0,23.9,null,null,23.9,null,null,null,1,23.9,23.9,{"$f":"AVERAGE(INDIRECT($X$1&ROW()-$Y$4+1):X225)","v":24.04},1,1,{"$f":"IF(AND(AA224=0,AA225=1,SUM(INDIRECT($AA$1&ROW()-$AB$4):AA224)=0),1,0)","v":0},0,{"$f":"IF(AND(AC224=0,AC225=1,SUM(INDIRECT($AC$1&ROW()-AD$4):AC224)=0),1,0)","v":0},107.92,null,null,null,null,null,null,null,null,null,null,null,null,null,-2000,0,null,0,null,null,null,null,null,null,null,null,22.23]
["1972-03-24",{"$f":"VLOOKUP(A226,'input BCI'!$O$3:$R$5000,4)","v":24.18},null,null,24.18,null,null,null,null,null,null,null,null,0,24.18,null,null,24.18,null,null,null,1,24.18,24.18,{"$f":"AVERAGE(INDIRECT($X$1&ROW()-$Y$4+1):X226)","v":24.195},1,1,{"$f":"IF(AND(AA225=0,AA226=1,SUM(INDIRECT($AA$1&ROW()-$AB$4):AA225)=0),1,0)","v":0},0,{"$f":"IF(AND(AC225=0,AC226=1,SUM(INDIRECT($AC$1&ROW()-AD$4):AC225)=0),1,0)","v":0},107.52,null,null,null,null,null,null,null,null,null,null,null,null,null,-2000,0,null,0,null,null,null,null,null,null,null,null,22.23]
["1972-03-31",{"$f":"VLOOKUP(A227,'input BCI'!$O$3:$R$5000,4)","v":24.21},null,null,24.21,null,null,null,null,null,null,null,null,0,24.21,null,null,24.21,null,null,null,1,24.21,24.21,{"$f":"AVERAGE(INDIRECT($X$1&ROW()-$Y$4+1):X227)","v":24.15},1,0,{"$f":"IF(AND(AA226=0,AA227=1,SUM(INDIRECT($AA$1&ROW()-$AB$4):AA226)=0),1,0)","v":0},1,{"$f":"IF(AND(AC226=0,AC227=1,SUM(INDIRECT($AC$1&ROW()-AD$4):AC226)=0),1,0)","v":1},107.2,null,null,null,null,null,null,null,null,null,null,null,null,null,-2000,0,null,0,null,null,null,null,null,null,null,null,22.23]
["1972-04-07",{"$f":"VLOOKUP(A228,'input BCI'!$O$3:$R$5000,4)","v":24.09},null,null,24.09,null,null,null,null,null,null,null,null,0,24.09,null,null,24.09,null,null,null,1,24.09,24.09,{"$f":"AVERAGE(INDIRECT($X$1&ROW()-$Y$4+1):X228)","v":24.125},1,1,{"$f":"IF(AND(AA227=0,AA228=1,SUM(INDIRECT($AA$1&ROW()-$AB$4):AA227)=0),1,0)","v":0},0,{"$f":"IF(AND(AC227=0,AC228=1,SUM(INDIRECT($AC$1&ROW()-AD$4):AC227)=0),1,0)","v":0},109.62,null,null,null,null,null,null,null,null,null,null,null,null,null,-2000,0,null,0,null,null,null,null,null,null,null,null,22.23]
["1972-04-14",{"$f":"VLOOKUP(A229,'input BCI'!$O$3:$R$5000,4)","v":24.16},null,null,24.16,null,null,null,null,null,null,null,null,0,24.16,null,null,24.16,null,null,null,1,24.16,24.16,{"$f":"AVERAGE(INDIRECT($X$1&ROW()-$Y$4+1):X229)","v":24.234999999999999},1,1,{"$f":"IF(AND(AA228=0,AA229=1,SUM(INDIRECT($AA$1&ROW()-$AB$4):AA228)=0),1,0)","v":0},0,{"$f":"IF(AND(AC228=0,AC229=1,SUM(INDIRECT($AC$1&ROW()-AD$4):AC228)=0),1,0)","v":0},109.84,null,null,null,null,null,null,null,null,null,null,null,null,null,-2000,0,null,0,null,null,null,null,null,null,null,null,22.23]
["1972-04-21",{"$f":"VLOOKUP(A230,'input BCI'!$O$3:$R$5000,4)","v":24.31},null,null,24.31,null,null,null,null,null,null,null,null,0,24.31,null,null,24.31,null,null,null,1,24.31,24.31,{"$f":"AVERAGE(INDIRECT($X$1&ROW()-$Y$4+1):X230)","v":24.189999999999998},1,0,{"$f":"IF(AND(AA229=0,AA230=1,SUM(INDIRECT($AA$1&ROW()-$AB$4):AA229)=0),1,0)","v":0},1,{"$f":"IF(AND(AC229=0,AC230=1,SUM(INDIRECT($AC$1&ROW()-AD$4):AC229)=0),1,0)","v":0},108.89,null,null,null,null,null,null,null,null,null,null,null,null,null,-2000,0,null,0,null,null,null,null,null,null,null,null,22.23]
["1972-04-28",{"$f":"VLOOKUP(A231,'input BCI'!$O$3:$R$5000,4)","v":24.07},null,null,24.07,null,null,null,null,null,null,null,null,0,24.07,null,null,24.07,null,null,null,1,24.07,24.07,{"$f":"AVERAGE(INDIRECT($X$1&ROW()-$Y$4+1):X231)","v":23.77},1,0,{"$f":"IF(AND(AA230=0,AA231=1,SUM(INDIRECT($AA$1&ROW()-$AB$4):AA230)=0),1,0)","v":0},1,{"$f":"IF(AND(AC230=0,AC231=1,SUM(INDIRECT($AC$1&ROW()-AD$4):AC230)=0),1,0)","v":0},107.67,null,null,null,null,null,null,null,null,null,null,null,null,null,-2000,0,null,0,null,null,null,null,null,null,null,null,22.23]
["1972-05-05",{"$f":"VLOOKUP(A232,'input BCI'!$O$3:$R$5000,4)","v":23.47},null,null,23.47,null,null,null,null,null,null,null,null,0,23.47,null,null,23.47,null,null,null,1,23.47,23.47,{"$f":"AVERAGE(INDIRECT($X$1&ROW()-$Y$4+1):X232)","v":22.994999999999997},1,0,{"$f":"IF(AND(AA231=0,AA232=1,SUM(INDIRECT($AA$1&ROW()-$AB$4):AA231)=0),1,0)","v":0},1,{"$f":"IF(AND(AC231=0,AC232=1,SUM(INDIRECT($AC$1&ROW()-AD$4):AC231)=0),1,0)","v":0},106.63,null,null,null,null,null,null,null,null,null,null,null,null,null,-2000,0,null,0,null,null,null,null,null,null,null,null,22.23]
["1972-05-12",{"$f":"VLOOKUP(A233,'input BCI'!$O$3:$R$5000,4)","v":22.52},null,null,22.52,null,null,null,null,null,null,null,null,0,22.52,null,null,22.52,null,null,null,1,22.52,22.52,{"$f":"AVERAGE(INDIRECT($X$1&ROW()-$Y$4+1):X233)","v":22.03},1,0,{"$f":"IF(AND(AA232=0,AA233=1,SUM(INDIRECT($AA$1&ROW()-$AB$4):AA232)=0),1,0)","v":0},1,{"$f":"IF(AND(AC232=0,AC233=1,SUM(INDIRECT($AC$1&ROW()-AD$4):AC232)=0),1,0)","v":0},106.38,null,null,null,null,null,null,null,null,null,null,null,null,null,-2000,0,null,0,null,null,null,null,null,null,null,null,22.23]
["1972-05-19",{"$f":"VLOOKUP(A234,'input BCI'!$O$3:$R$5000,4)","v":21.54},null,null,21.54,null,null,null,null,null,null,null,null,0,21.54,null,null,21.54,null,null,null,1,21.54,21.54,{"$f":"AVERAGE(INDIRECT($X$1&ROW()-$Y$4+1):X234)","v":21.38},0,0,{"$f":"IF(AND(AA233=0,AA234=1,SUM(INDIRECT($AA$1&ROW()-$AB$4):AA233)=0),1,0)","v":0},1,{"$f":"IF(AND(AC233=0,AC234=1,SUM(INDIRECT($AC$1&ROW()-AD$4):AC233)=0),1,0)","v":0},108.98,null,null,null,null,null,null,null,null,null,null,null,null,null,-2000,0,null,0,null,null,null,null,null,null,null,null,22.23]
["1972-05-26",{"$f":"VLOOKUP(A235,'input BCI'!$O$3:$R$5000,4)","v":21.22},null,null,21.22,null,null,null,null,null,null,null,null,0,21.22,null,null,21.22,null,null,null,1,21.22,21.22,{"$f":"AVERAGE(INDIRECT($X$1&ROW()-$Y$4+1):X235)","v":21.39},0,1,{"$f":"IF(AND(AA234=0,AA235=1,SUM(INDIRECT($AA$1&ROW()-$AB$4):AA234)=0),1,0)","v":0},0,{"$f":"IF(AND(AC234=0,AC235=1,SUM(INDIRECT($AC$1&ROW()-AD$4):AC234)=0),1,0)","v":0},110.66,null,null,null,null,null,null,null,null,null,null,null,null,null,-2000,0,null,0,null,null,null,null,null,null,null,null,22.23]
["1972-06-02",{"$f":"VLOOKUP(A236,'input BCI'!$O$3:$R$5000,4)","v":21.56},null,null,21.56,null,null,null,null,null,null,null,null,0,21.56,null,null,21.56,null,null,null,1,21.56,21.56,{"$f":"AVERAGE(INDIRECT($X$1&ROW()-$Y$4+1):X236)","v":21.82},0,1,{"$f":"IF(AND(AA235=0,AA236=1,SUM(INDIRECT($AA$1&ROW()-$AB$4):AA235)=0),1,0)","v":0},0,{"$f":"IF(AND(AC235=0,AC236=1,SUM(INDIRECT($AC$1&ROW()-AD$4):AC235)=0),1,0)","v":0},109.73,null,null,null,null,null,null,null,null,null,null,null,null,null,-2000,0,null,0,null,null,null,null,null,null,null,null,22.23]
["1972-06-09",{"$f":"VLOOKUP(A237,'input BCI'!$O$3:$R$5000,4)","v":22.08},null,null,22.08,null,null,null,null,null,null,null,null,0,22.08,null,null,22.08,null,null,null,1,22.08,22.08,{"$f":"AVERAGE(INDIRECT($X$1&ROW()-$Y$4+1):X237)","v":22.34},0,1,{"$f":"IF(AND(AA236=0,AA237=1,SUM(INDIRECT($AA$1&ROW()-$AB$4):AA236)=0),1,0)","v":0},0,{"$f":"IF(AND(AC236=0,AC237=1,SUM(INDIRECT($AC$1&ROW()-AD$4):AC236)=0),1,0)","v":0},106.86,null,null,null,null,null,null,null,null,null,null,null,null,null,-2000,0,null,0,null,null,null,null,null,null,null,null,22.23]
["1972-06-16",{"$f":"VLOOKUP(A238,'input BCI'!$O$3:$R$5000,4)","v":22.6},null,null,22.6,null,null,null,null,null,null,null,null,0,22.6,null,null,22.6,null,null,null,1,22.6,22.6,{"$f":"AVERAGE(INDIRECT($X$1&ROW()-$Y$4+1):X238)","v":22.75},1,1,{"$f":"IF(AND(AA237=0,AA238=1,SUM(INDIRECT($AA$1&ROW()-$AB$4):AA237)=0),1,0)","v":0},0,{"$f":"IF(AND(AC237=0,AC238=1,SUM(INDIRECT($AC$1&ROW()-AD$4):AC237)=0),1,0)","v":0},108.36,null,null,null,null,null,null,null,null,null,null,null,null,null,-2000,0,null,0,null,null,null,null,null,null,null,null,22.23]
["1972-06-23",{"$f":"VLOOKUP(A239,'input BCI'!$O$3:$R$5000,4)","v":22.9},null,null,22.9,null,null,null,null,null,null,null,null,0,22.9,null,null,22.9,null,null,null,1,22.9,22.9,{"$f":"AVERAGE(INDIRECT($X$1&ROW()-$Y$4+1):X239)","v":22.84},1,0,{"$f":"IF(AND(AA238=0,AA239=1,SUM(INDIRECT($AA$1&ROW()-$AB$4):AA238)=0),1,0)","v":0},1,{"$f":"IF(AND(AC238=0,AC239=1,SUM(INDIRECT($AC$1&ROW()-AD$4):AC238)=0),1,0)","v":0},108.27,null,null,null,null,null,null,null,null,null,null,null,null,null,-2000,0,null,0,null,null,null,null,null,null,null,null,22.23]
["1972-06-30",{"$f":"VLOOKUP(A240,'input BCI'!$O$3:$R$5000,4)","v":22.78},null,null,22.78,null,null,null,null,null,null,null,null,0,22.78,null,null,22.78,null,null,null,1,22.78,22.78,{"$f":"AVERAGE(INDIRECT($X$1&ROW()-$Y$4+1):X240)","v":22.67},1,0,{"$f":"IF(AND(AA239=0,AA240=1,SUM(INDIRECT($AA$1&ROW()-$AB$4):AA239)=0),1,0)","v":0},1,{"$f":"IF(AND(AC239=0,AC240=1,SUM(INDIRECT($AC$1&ROW()-AD$4):AC239)=0),1,0)","v":0},107.14,null,null,null,null,null,null,null,null,null,null,null,null,null,-2000,0,null,0,null,null,null,null,null,null,null,null,22.23]
["1972-07-07",{"$f":"VLOOKUP(A241,'input BCI'!$O$3:$R$5000,4)","v":22.56},null,null,22.56,null,null,null,null,null,null,null,null,0,22.56,null,null,22.56,null,null,null,1,22.56,22.56,{"$f":"AVERAGE(INDIRECT($X$1&ROW()-$Y$4+1):X241)","v":22.424999999999997},1,0,{"$f":"IF(AND(AA240=0,AA241=1,SUM(INDIRECT($AA$1&ROW()-$AB$4):AA240)=0),1,0)","v":0},1,{"$f":"IF(AND(AC240=0,AC241=1,SUM(INDIRECT($AC$1&ROW()-AD$4):AC240)=0),1,0)","v":0},108.69,null,null,null,null,null,null,null,null,null,null,null,null,null,-2000,0,null,0,null,null,null,null,null,null,null,null,22.23]
["1972-07-14",{"$f":"VLOOKUP(A242,'input BCI'!$O$3:$R$5000,4)","v":22.29},null,null,22.29,null,null,null,null,null,null,null,null,0,22.29,null,null,22.29,null,null,null,1,22.29,22.29,{"$f":"AVERAGE(INDIRECT($X$1&ROW()-$Y$4+1):X242)","v":21.865000000000002},1,0,{"$f":"IF(AND(AA241=0,AA242=1,SUM(INDIRECT($AA$1&ROW()-$AB$4):AA241)=0),1,0)","v":0},1,{"$f":"IF(AND(AC241=0,AC242=1,SUM(INDIRECT($AC$1&ROW()-AD$4):AC241)=0),1,0)","v":0},106.8,null,null,null,null,null,null,null,null,null,null,null,null,null,-2000,0,null,0,null,null,null,null,null,null,null,null,22.23]
["1972-07-21",{"$f":"VLOOKUP(A243,'input BCI'!$O$3:$R$5000,4)","v":21.44},null,null,21.44,null,null,null,null,null,null,null,null,0,21.44,null,null,21.44,null,null,null,1,21.44,21.44,{"$f":"AVERAGE(INDIRECT($X$1&ROW()-$Y$4+1):X243)","v":21.125},0,0,{"$f":"IF(AND(AA242=0,AA243=1,SUM(INDIRECT($AA$1&ROW()-$AB$4):AA242)=0),1,0)","v":0},1,{"$f":"IF(AND(AC242=0,AC243=1,SUM(INDIRECT($AC$1&ROW()-AD$4):AC242)=0),1,0)","v":0},106.66,null,null,null,null,null,null,null,null,null,null,null,null,null,-2000,0,null,0,null,null,null,null,null,null,null,null,22.23]
["1972-07-28",{"$f":"VLOOKUP(A244,'input BCI'!$O$3:$R$5000,4)","v":20.81},null,null,20.81,null,null,null,null,null,null,null,null,0,20.81,null,null,20.81,null,null,null,1,20.81,20.81,{"$f":"AVERAGE(INDIRECT($X$1&ROW()-$Y$4+1):X244)","v":20.594999999999999},0,0,{"$f":"IF(AND(AA243=0,AA244=1,SUM(INDIRECT($AA$1&ROW()-$AB$4):AA243)=0),1,0)","v":0},1,{"$f":"IF(AND(AC243=0,AC244=1,SUM(INDIRECT($AC$1&ROW()-AD$4):AC243)=0),1,0)","v":0},107.38,null,null,null,null,null,null,null,null,null,null,null,null,null,-2000,0,null,0,null,null,null,null,null,null,null,null,22.23]
["1972-08-04",{"$f":"VLOOKUP(A245,'input BCI'!$O$3:$R$5000,4)","v":20.38},null,null,20.38,null,null,null,null,null,null,null,null,0,20.38,null,null,20.38,null,null,null,1,20.38,20.38,{"$f":"AVERAGE(INDIRECT($X$1&ROW()-$Y$4+1):X245)","v":20.399999999999999},0,1,{"$f":"IF(AND(AA244=0,AA245=1,SUM(INDIRECT($AA$1&ROW()-$AB$4):AA244)=0),1,0)","v":0},0,{"$f":"IF(AND(AC244=0,AC245=1,SUM(INDIRECT($AC$1&ROW()-AD$4):AC244)=0),1,0)","v":0},110.43,null,null,null,null,null,null,null,null,null,null,null,null,null,-2000,0,null,0,null,null,null,null,null,null,null,null,22.23]
["1972-08-11",{"$f":"VLOOKUP(A246,'input BCI'!$O$3:$R$5000,4)","v":20.420000000000002},null,null,20.420000000000002,null,null,null,null,null,null,null,null,0,20.420000000000002,null,null,20.420000000000002,null,null,null,1,20.420000000000002,20.420000000000002,{"$f":"AVERAGE(INDIRECT($X$1&ROW()-$Y$4+1):X246)","v":20.880000000000003},0,1,{"$f":"IF(AND(AA245=0,AA246=1,SUM(INDIRECT($AA$1&ROW()-$AB$4):AA245)=0),1,0)","v":0},0,{"$f":"IF(AND(AC245=0,AC246=1,SUM(INDIRECT($AC$1&ROW()-AD$4):AC245)=0),1,0)","v":0},111.95,null,null,null,null,null,null,null,null,null,null,null,null,null,-2000,0,null,0,null,null,null,null,null,null,null,null,22.23]
["1972-08-18",{"$f":"VLOOKUP(A247,'input BCI'!$O$3:$R$5000,4)","v":21.34},null,null,21.34,null,null,null,null,null,null,null,null,0,21.34,null,null,21.34,null,null,null,1,21.34,21.34,{"$f":"AVERAGE(INDIRECT($X$1&ROW()-$Y$4+1):X247)","v":21.79},0,1,{"$f":"IF(AND(AA246=0,AA247=1,SUM(INDIRECT($AA$1&ROW()-$AB$4):AA246)=0),1,0)","v":0},0,{"$f":"IF(AND(AC246=0,AC247=1,SUM(INDIRECT($AC$1&ROW()-AD$4):AC246)=0),1,0)","v":0},111.76,null,null,null,null,null,null,null,null,null,null,null,null,null,-2000,0,null,0,null,null,null,null,null,null,null,null,22.23]
["1972-08-25",{"$f":"VLOOKUP(A248,'input BCI'!$O$3:$R$5000,4)","v":22.24},null,null,22.24,null,null,null,null,null,null,null,null,0,22.24,null,null,22.24,null,null,null,1,22.24,22.24,{"$f":"AVERAGE(INDIRECT($X$1&ROW()-$Y$4+1):X248)","v":22.619999999999997},1,1,{"$f":"IF(AND(AA247=0,AA248=1,SUM(INDIRECT($AA$1&ROW()-$AB$4):AA247)=0),1,0)","v":0},0,{"$f":"IF(AND(AC247=0,AC248=1,SUM(INDIRECT($AC$1&ROW()-AD$4):AC247)=0),1,0)","v":0},110.67,null,null,null,null,null,null,null,null,null,null,null,null,null,-2000,0,null,0,null,null,null,null,null,null,null,null,22.23]
["1972-09-01",{"$f":"VLOOKUP(A249,'input BCI'!$O$3:$R$5000,4)","v":23},null,null,23,null,null,null,null,null,null,null,null,0,23,null,null,23,null,null,null,1,23,23,{"$f":"AVERAGE(INDIRECT($X$1&ROW()-$Y$4+1):X249)","v":23.234999999999999},1,1,{"$f":"IF(AND(AA248=0,AA249=1,SUM(INDIRECT($AA$1&ROW()-$AB$4):AA248)=0),1,0)","v":0},0,{"$f":"IF(AND(AC248=0,AC249=1,SUM(INDIRECT($AC$1&ROW()-AD$4):AC248)=0),1,0)","v":0},111.51,null,null,null,null,null,null,null,null,null,null,null,null,null,-2000,0,null,0,null,null,null,null,null,null,null,null,22.23]
["1972-09-08",{"$f":"VLOOKUP(A250,'input BCI'!$O$3:$R$5000,4)","v":23.47},null,null,23.47,null,null,null,null,null,null,null,null,0,23.47,null,null,23.47,null,null,null,1,23.47,23.47,{"$f":"AVERAGE(INDIRECT($X$1&ROW()-$Y$4+1):X250)","v":23.365000000000002},1,0,{"$f":"IF(AND(AA249=0,AA250=1,SUM(INDIRECT($AA$1&ROW()-$AB$4):AA249)=0),1,0)","v":0},1,{"$f":"IF(AND(AC249=0,AC250=1,SUM(INDIRECT($AC$1&ROW()-AD$4):AC249)=0),1,0)","v":1},110.15,null,null,null,null,null,null,null,null,null,null,null,null,null,-2000,0,null,0,null,null,null,null,null,null,null,null,22.23]
["1972-09-15",{"$f":"VLOOKUP(A251,'input BCI'!$O$3:$R$5000,4)","v":23.26},null,null,23.26,null,null,null,null,null,null,null,null,0,23.26,null,null,23.26,null,null,null,1,23.26,23.26,{"$f":"AVERAGE(INDIRECT($X$1&ROW()-$Y$4+1):X251)","v":23},1,0,{"$f":"IF(AND(AA250=0,AA251=1,SUM(INDIRECT($AA$1&ROW()-$AB$4):AA250)=0),1,0)","v":0},1,{"$f":"IF(AND(AC250=0,AC251=1,SUM(INDIRECT($AC$1&ROW()-AD$4):AC250)=0),1,0)","v":0},108.81,null,null,null,null,null,null,null,null,null,null,null,null,null,-2000,0,null,0,null,null,null,null,null,null,null,null,22.23]
["1972-09-22",{"$f":"VLOOKUP(A252,'input BCI'!$O$3:$R$5000,4)","v":22.74},null,null,22.74,null,null,null,null,null,null,null,null,0,22.74,null,null,22.74,null,null,null,1,22.74,22.74,{"$f":"AVERAGE(INDIRECT($X$1&ROW()-$Y$4+1):X252)","v":22.744999999999997},1,1,{"$f":"IF(AND(AA251=0,AA252=1,SUM(INDIRECT($AA$1&ROW()-$AB$4):AA251)=0),1,0)","v":0},0,{"$f":"IF(AND(AC251=0,AC252=1,SUM(INDIRECT($AC$1&ROW()-AD$4):AC251)=0),1,0)","v":0},108.52,null,null,null,null,null,null,null,null,null,null,null,null,null,-2000,0,null,0,null,null,null,null,null,null,null,null,22.23]
["1972-09-29",{"$f":"VLOOKUP(A253,'input BCI'!$O$3:$R$5000,4)","v":22.75},null,null,22.75,null,null,null,null,null,null,null,null,0,22.75,null,null,22.75,null,null,null,1,22.75,22.75,{"$f":"AVERAGE(INDIRECT($X$1&ROW()-$Y$4+1):X253)","v":22.954999999999998},1,1,{"$f":"IF(AND(AA252=0,AA253=1,SUM(INDIRECT($AA$1&ROW()-$AB$4):AA252)=0),1,0)","v":0},0,{"$f":"IF(AND(AC252=0,AC253=1,SUM(INDIRECT($AC$1&ROW()-AD$4):AC252)=0),1,0)","v":0},110.55,null,null,null,null,null,null,null,null,null,null,null,null,null,-2000,0,null,0,null,null,null,null,null,null,null,null,22.23]
["1972-10-06",{"$f":"VLOOKUP(A254,'input BCI'!$O$3:$R$5000,4)","v":23.16},null,null,23.16,null,null,null,null,null,null,null,null,0,23.16,null,null,23.16,null,null,null,1,23.16,23.16,{"$f":"AVERAGE(INDIRECT($X$1&ROW()-$Y$4+1):X254)","v":23.58},1,1,{"$f":"IF(AND(AA253=0,AA254=1,SUM(INDIRECT($AA$1&ROW()-$AB$4):AA253)=0),1,0)","v":0},0,{"$f":"IF(AND(AC253=0,AC254=1,SUM(INDIRECT($AC$1&ROW()-AD$4):AC253)=0),1,0)","v":0},109.62,null,null,null,null,null,null,null,null,null,null,null,null,null,-2000,0,null,0,null,null,null,null,null,null,null,null,22.23]
["1972-10-13",{"$f":"VLOOKUP(A255,'input BCI'!$O$3:$R$5000,4)","v":24},null,null,24,null,null,null,null,null,null,null,null,0,24,null,null,24,null,null,null,1,24,24,{"$f":"AVERAGE(INDIRECT($X$1&ROW()-$Y$4+1):X255)","v":24.36},1,1,{"$f":"IF(AND(AA254=0,AA255=1,SUM(INDIRECT($AA$1&ROW()-$AB$4):AA254)=0),1,0)","v":0},0,{"$f":"IF(AND(AC254=0,AC255=1,SUM(INDIRECT($AC$1&ROW()-AD$4):AC254)=0),1,0)","v":0},107.92,null,null,null,null,null,null,null,null,null,null,null,null,null,-2000,0,null,0,null,null,null,null,null,null,null,null,22.23]
["1972-10-20",{"$f":"VLOOKUP(A256,'input BCI'!$O$3:$R$5000,4)","v":24.72},null,null,24.72,null,null,null,null,null,null,null,null,0,24.72,null,null,24.72,null,null,null,1,24.72,24.72,{"$f":"AVERAGE(INDIRECT($X$1&ROW()-$Y$4+1):X256)","v":24.945},1,1,{"$f":"IF(AND(AA255=0,AA256=1,SUM(INDIRECT($AA$1&ROW()-$AB$4):AA255)=0),1,0)","v":0},0,{"$f":"IF(AND(AC255=0,AC256=1,SUM(INDIRECT($AC$1&ROW()-AD$4):AC255)=0),1,0)","v":0},109.24,null,null,null,null,null,null,null,null,null,null,null,null,null,-2000,0,null,0,null,null,null,null,null,null,null,null,22.23]
["1972-10-27",{"$f":"VLOOKUP(A257,'input BCI'!$O$3:$R$5000,4)","v":25.17},null,null,25.17,null,null,null,null,null,null,null,null,0,25.17,null,null,25.17,null,null,null,1,25.17,25.17,{"$f":"AVERAGE(INDIRECT($X$1&ROW()-$Y$4+1):X257)","v":25.28},1,1,{"$f":"IF(AND(AA256=0,AA257=1,SUM(INDIRECT($AA$1&ROW()-$AB$4):AA256)=0),1,0)","v":0},0,{"$f":"IF(AND(AC256=0,AC257=1,SUM(INDIRECT($AC$1&ROW()-AD$4):AC256)=0),1,0)","v":0},110.62,null,null,null,null,null,null,null,null,null,null,null,null,null,-2000,0,null,0,null,null,null,null,null,null,null,null,22.23]
["1972-11-03",{"$f":"VLOOKUP(A258,'input BCI'!$O$3:$R$5000,4)","v":25.39},null,null,25.39,null,null,null,null,null,null,null,null,0,25.39,null,null,25.39,null,null,null,1,25.39,25.39,{"$f":"AVERAGE(INDIRECT($X$1&ROW()-$Y$4+1):X258)","v":25.57},1,1,{"$f":"IF(AND(AA257=0,AA258=1,SUM(INDIRECT($AA$1&ROW()-$AB$4):AA257)=0),1,0)","v":0},0,{"$f":"IF(AND(AC257=0,AC258=1,SUM(INDIRECT($AC$1&ROW()-AD$4):AC257)=0),1,0)","v":0},114.22,null,null,null,null,null,null,null,null,null,null,null,null,null,-2000,0,null,0,null,null,null,null,null,null,null,null,22.23]
["1972-11-10",{"$f":"VLOOKUP(A259,'input BCI'!$O$3:$R$5000,4)","v":25.75},null,null,25.75,null,null,null,null,null,null,null,null,0,25.75,null,null,25.75,null,null,null,1,25.75,25.75,{"$f":"AVERAGE(INDIRECT($X$1&ROW()-$Y$4+1):X259)","v":26.074999999999999},1,1,{"$f":"IF(AND(AA258=0,AA259=1,SUM(INDIRECT($AA$1&ROW()-$AB$4):AA258)=0),1,0)","v":0},0,{"$f":"IF(AND(AC258=0,AC259=1,SUM(INDIRECT($AC$1&ROW()-AD$4):AC258)=0),1,0)","v":0},113.73,null,null,null,null,null,null,null,null,null,null,null,null,null,-2000,0,null,0,null,null,null,null,null,null,null,null,22.23]
["1972-11-17",{"$f":"VLOOKUP(A260,'input BCI'!$O$3:$R$5000,4)","v":26.4},null,null,26.4,null,null,null,null,null,null,null,null,0,26.4,null,null,26.4,null,null,null,1,26.4,26.4,{"$f":"AVERAGE(INDIRECT($X$1&ROW()-$Y$4+1):X260)","v":26.619999999999997},1,1,{"$f":"IF(AND(AA259=0,AA260=1,SUM(INDIRECT($AA$1&ROW()-$AB$4):AA259)=0),1,0)","v":0},0,{"$f":"IF(AND(AC259=0,AC260=1,SUM(INDIRECT($AC$1&ROW()-AD$4):AC259)=0),1,0)","v":0},115.49,null,null,null,null,null,null,null,null,null,null,null,null,null,-2000,0,null,0,null,null,null,null,null,null,null,null,22.23]
["1972-11-24",{"$f":"VLOOKUP(A261,'input BCI'!$O$3:$R$5000,4)","v":26.84},null,null,26.84,null,null,null,null,null,null,null,null,0,26.84,null,null,26.84,null,null,null,1,26.84,26.84,{"$f":"AVERAGE(INDIRECT($X$1&ROW()-$Y$4+1):X261)","v":27.175000000000001},1,1,{"$f":"IF(AND(AA260=0,AA261=1,SUM(INDIRECT($AA$1&ROW()-$AB$4):AA260)=0),1,0)","v":0},0,{"$f":"IF(AND(AC260=0,AC261=1,SUM(INDIRECT($AC$1&ROW()-AD$4):AC260)=0),1,0)","v":0},117.27,null,null,null,null,null,null,null,null,null,null,null,null,null,-2000,0,null,0,null,null,null,null,null,null,null,null,22.23]
["1972-12-01",{"$f":"VLOOKUP(A262,'input BCI'!$O$3:$R$5000,4)","v":27.51},null,null,27.51,null,null,null,null,null,null,null,null,0,27.51,null,null,27.51,null,null,null,1,27.51,27.51,{"$f":"AVERAGE(INDIRECT($X$1&ROW()-$Y$4+1):X262)","v":27.76},1,1,{"$f":"IF(AND(AA261=0,AA262=1,SUM(INDIRECT($AA$1&ROW()-$AB$4):AA261)=0),1,0)","v":0},0,{"$f":"IF(AND(AC261=0,AC262=1,SUM(INDIRECT($AC$1&ROW()-AD$4):AC261)=0),1,0)","v":0},117.38,null,null,null,null,null,null,null,null,null,null,null,null,null,-2000,0,null,0,null,null,null,null,null,null,null,null,22.23]
["1972-12-08",{"$f":"VLOOKUP(A263,'input BCI'!$O$3:$R$5000,4)","v":28.01},null,null,28.01,null,null,null,null,null,null,null,null,0,28.01,null,null,28.01,null,null,null,1,28.01,28.01,{"$f":"AVERAGE(INDIRECT($X$1&ROW()-$Y$4+1):X263)","v":28.445},1,1,{"$f":"IF(AND(AA262=0,AA263=1,SUM(INDIRECT($AA$1&ROW()-$AB$4):AA262)=0),1,0)","v":0},0,{"$f":"IF(AND(AC262=0,AC263=1,SUM(INDIRECT($AC$1&ROW()-AD$4):AC262)=0),1,0)","v":0},118.86,null,null,null,null,null,null,null,null,null,null,null,null,null,-2000,0,null,0,null,null,null,null,null,null,null,null,22.23]
["1972-12-15",{"$f":"VLOOKUP(A264,'input BCI'!$O$3:$R$5000,4)","v":28.88},null,null,28.88,null,null,null,null,null,null,null,null,0,28.88,null,null,28.88,null,null,null,1,28.88,28.88,{"$f":"AVERAGE(INDIRECT($X$1&ROW()-$Y$4+1):X264)","v":29.22},1,1,{"$f":"IF(AND(AA263=0,AA264=1,SUM(INDIRECT($AA$1&ROW()-$AB$4):AA263)=0),1,0)","v":0},0,{"$f":"IF(AND(AC263=0,AC264=1,SUM(INDIRECT($AC$1&ROW()-AD$4):AC263)=0),1,0)","v":0},118.26,null,null,null,null,null,null,null,null,null,null,null,null,null,-2000,0,null,0,null,null,null,null,null,null,null,null,22.23]
["1972-12-22",{"$f":"VLOOKUP(A265,'input BCI'!$O$3:$R$5000,4)","v":29.56},null,null,29.56,null,null,null,null,null,null,null,null,0,29.56,null,null,29.56,null,null,null,1,29.56,29.56,{"$f":"AVERAGE(INDIRECT($X$1&ROW()-$Y$4+1):X265)","v":29.225000000000001},1,0,{"$f":"IF(AND(AA264=0,AA265=1,SUM(INDIRECT($AA$1&ROW()-$AB$4):AA264)=0),1,0)","v":0},1,{"$f":"IF(AND(AC264=0,AC265=1,SUM(INDIRECT($AC$1&ROW()-AD$4):AC264)=0),1,0)","v":1},115.83,null,null,null,null,null,null,null,null,null,null,null,null,null,-2000,0,null,0,null,null,null,null,null,null,null,null,22.23]
["1972-12-29",{"$f":"VLOOKUP(A266,'input BCI'!$O$3:$R$5000,4)","v":28.89},null,null,28.89,null,null,null,null,null,null,null,null,0,28.89,null,null,28.89,null,null,null,1,28.89,28.89,{"$f":"AVERAGE(INDIRECT($X$1&ROW()-$Y$4+1):X266)","v":28.505000000000003},1,0,{"$f":"IF(AND(AA265=0,AA266=1,SUM(INDIRECT($AA$1&ROW()-$AB$4):AA265)=0),1,0)","v":0},1,{"$f":"IF(AND(AC265=0,AC266=1,SUM(INDIRECT($AC$1&ROW()-AD$4):AC265)=0),1,0)","v":0},118.05,null,null,null,null,null,null,null,null,null,null,null,null,null,{"$f":"IF(ISNUMBER(AR266),2000,-2000)","v":-2000},0,null,0,null,null,null,null,null,null,null,null,22.23]
["1973-01-05",{"$f":"VLOOKUP(A267,'input BCI'!$O$3:$R$5000,4)","v":28.12},null,null,{"$f":"B267+$O$7","v":28.12},null,null,null,null,null,null,null,null,0,{"$f":"E267","v":28.12},null,null,28.12,null,null,null,1,{"$f":"R267","v":28.12},{"$f":"(W267+$X$4)","v":28.12},{"$f":"AVERAGE(INDIRECT($X$1&ROW()-$Y$4+1):X267)","v":27.594999999999999},{"$f":"IF(OR(X267=$I$5,X267>$I$5),1,0)","v":1},0,{"$f":"IF(AND(AA266=0,AA267=1,SUM(INDIRECT($AA$1&ROW()-$AB$4):AA266)=0),1,0)","v":0},1,{"$f":"IF(AND(AC266=0,AC267=1,SUM(INDIRECT($AC$1&ROW()-AD$4):AC266)=0),1,0)","v":0},119.87,null,null,null,null,null,null,null,null,null,null,null,null,null,-2000,0,null,0,null,null,null,null,null,null,null,null,{"$f":"$BE$2","v":22.23}]
["1973-01-12",{"$f":"VLOOKUP(A268,'input BCI'!$O$3:$R$5000,4)","v":27.07},null,null,27.07,null,null,null,null,null,null,null,null,0,27.07,null,null,27.07,null,null,null,{"$f":"V267","v":1},27.07,27.07,{"$f":"AVERAGE(INDIRECT($X$1&ROW()-$Y$4+1):X268)","v":26.634999999999998},1,0,{"$f":"IF(AND(AA267=0,AA268=1,SUM(INDIRECT($AA$1&ROW()-$AB$4):AA267)=0),1,0)","v":0},1,{"$f":"IF(AND(AC267=0,AC268=1,SUM(INDIRECT($AC$1&ROW()-AD$4):AC267)=0),1,0)","v":0},119.3,null,null,null,null,null,null,null,null,null,null,null,null,null,-2000,0,null,0,null,null,null,null,null,null,null,null,22.23]
["1973-01-19",{"$f":"VLOOKUP(A269,'input BCI'!$O$3:$R$5000,4)","v":26.2},null,null,26.2,null,null,null,null,null,null,null,null,0,26.2,null,null,26.2,null,null,null,1,26.2,26.2,{"$f":"AVERAGE(INDIRECT($X$1&ROW()-$Y$4+1):X269)","v":26.164999999999999},1,{"$f":"IF(Y269>X269,1,0)","v":0},{"$f":"IF(AND(AA268=0,AA269=1,SUM(INDIRECT($AA$1&ROW()-$AB$4):AA268)=0),1,0)","v":0},1,{"$f":"IF(AND(AC268=0,AC269=1,SUM(INDIRECT($AC$1&ROW()-AD$4):AC268)=0),1,0)","v":0},118.78,null,null,null,null,null,null,null,null,null,null,null,null,null,-2000,0,null,0,null,null,null,null,null,null,null,null,22.23]
["1973-01-26",{"$f":"VLOOKUP(A270,'input BCI'!$O$3:$R$5000,4)","v":26.13},null,null,26.13,null,null,null,null,null,null,null,null,0,26.13,null,null,26.13,null,null,null,1,26.13,26.13,{"$f":"AVERAGE(INDIRECT($X$1&ROW()-$Y$4+1):X270)","v":26.064999999999998},1,0,{"$f":"IF(AND(AA269=0,AA270=1,SUM(INDIRECT($AA$1&ROW()-$AB$4):AA269)=0),1,0)","v":0},{"$f":"IF(Y270<X270,1,0)","v":1},{"$f":"IF(AND(AC269=0,AC270=1,SUM(INDIRECT($AC$1&ROW()-AD$4):AC269)=0),1,0)","v":0},116.45,null,null,null,null,null,null,null,null,null,null,null,null,null,-2000,0,null,0,null,null,null,null,null,null,null,null,22.23]
["1973-02-02",{"$f":"VLOOKUP(A271,'input BCI'!$O$3:$R$5000,4)","v":26},null,null,26,null,null,null,null,null,null,null,null,0,26,null,null,26,null,null,null,1,26,26,{"$f":"AVERAGE(INDIRECT($X$1&ROW()-$Y$4+1):X271)","v":25.805},1,0,{"$f":"IF(AND(AA270=0,AA271=1,SUM(INDIRECT($AA$1&ROW()-$AB$4):AA270)=0),1,0)","v":0},1,{"$f":"IF(AND(AC270=0,AC271=1,SUM(INDIRECT($AC$1&ROW()-AD$4):AC270)=0),1,0)","v":0},114.35,null,null,null,null,null,null,null,null,null,null,null,null,null,-2000,0,null,0,null,null,null,null,null,null,null,null,22.23]
["1973-02-09",{"$f":"VLOOKUP(A272,'input BCI'!$O$3:$R$5000,4)","v":25.61},null,null,25.61,null,null,null,null,null,null,null,null,0,25.61,null,null,25.61,null,null,null,1,25.61,25.61,{"$f":"AVERAGE(INDIRECT($X$1&ROW()-$Y$4+1):X272)","v":25.46},1,0,{"$f":"IF(AND(AA271=0,AA272=1,SUM(INDIRECT($AA$1&ROW()-$AB$4):AA271)=0),1,0)","v":0},1,{"$f":"IF(AND(AC271=0,AC272=1,SUM(INDIRECT($AC$1&ROW()-AD$4):AC271)=0),1,0)","v":0},114.68,null,null,null,null,null,null,null,null,null,null,null,null,null,-2000,0,null,0,null,null,null,null,null,null,null,null,22.23]
["1973-02-16",{"$f":"VLOOKUP(A273,'input BCI'!$O$3:$R$5000,4)","v":25.31},null,null,25.31,null,null,null,null,null,null,null,null,0,25.31,null,null,25.31,null,null,null,1,25.31,25.31,{"$f":"AVERAGE(INDIRECT($X$1&ROW()-$Y$4+1):X273)","v":25.16},1,0,{"$f":"IF(AND(AA272=0,AA273=1,SUM(INDIRECT($AA$1&ROW()-$AB$4):AA272)=0),1,0)","v":0},1,{"$f":"IF(AND(AC272=0,AC273=1,SUM(INDIRECT($AC$1&ROW()-AD$4):AC272)=0),1,0)","v":0},114.98,null,null,null,null,null,null,null,null,null,null,null,null,null,-2000,0,null,0,null,null,null,null,null,null,null,null,22.23]
["1973-02-23",{"$f":"VLOOKUP(A274,'input BCI'!$O$3:$R$5000,4)","v":25.01},null,null,25.01,null,null,null,null,null,null,null,null,0,25.01,null,null,25.01,null,null,null,1,25.01,25.01,{"$f":"AVERAGE(INDIRECT($X$1&ROW()-$Y$4+1):X274)","v":24.73},1,0,{"$f":"IF(AND(AA273=0,AA274=1,SUM(INDIRECT($AA$1&ROW()-$AB$4):AA273)=0),1,0)","v":0},1,{"$f":"IF(AND(AC273=0,AC274=1,SUM(INDIRECT($AC$1&ROW()-AD$4):AC273)=0),1,0)","v":0},113.16,null,null,null,null,null,null,null,null,null,null,null,null,null,-2000,0,null,0,null,null,null,null,null,null,null,null,22.23]
["1973-03-02",{"$f":"VLOOKUP(A275,'input BCI'!$O$3:$R$5000,4)","v":24.45},null,null,24.45,null,null,null,null,null,null,null,null,0,24.45,null,null,24.45,null,null,null,1,24.45,24.45,{"$f":"AVERAGE(INDIRECT($X$1&ROW()-$Y$4+1):X275)","v":24.189999999999998},1,0,{"$f":"IF(AND(AA274=0,AA275=1,SUM(INDIRECT($AA$1&ROW()-$AB$4):AA274)=0),1,0)","v":0},1,{"$f":"IF(AND(AC274=0,AC275=1,SUM(INDIRECT($AC$1&ROW()-AD$4):AC274)=0),1,0)","v":0},112.28,null,null,null,null,null,null,null,null,null,null,null,null,null,-2000,0,null,0,null,null,null,null,null,null,null,null,22.23]
["1973-03-09",{"$f":"VLOOKUP(A276,'input BCI'!$O$3:$R$5000,4)","v":23.93},null,null,23.93,null,null,null,null,null,null,null,null,0,23.93,null,null,23.93,null,null,null,1,23.93,23.93,{"$f":"AVERAGE(INDIRECT($X$1&ROW()-$Y$4+1):X276)","v":23.7},1,0,{"$f":"IF(AND(AA275=0,AA276=1,SUM(INDIRECT($AA$1&ROW()-$AB$4):AA275)=0),1,0)","v":0},1,{"$f":"IF(AND(AC275=0,AC276=1,SUM(INDIRECT($AC$1&ROW()-AD$4):AC275)=0),1,0)","v":0},113.79,null,null,null,null,null,null,null,null,null,null,null,null,null,-2000,0,null,0,null,null,null,null,null,null,null,null,22.23]
["1973-03-16",{"$f":"VLOOKUP(A277,'input BCI'!$O$3:$R$5000,4)","v":23.47},null,null,23.47,null,null,null,null,null,null,null,null,0,23.47,null,null,23.47,null,null,null,1,23.47,23.47,{"$f":"AVERAGE(INDIRECT($X$1&ROW()-$Y$4+1):X277)","v":23.14},1,0,{"$f":"IF(AND(AA276=0,AA277=1,SUM(INDIRECT($AA$1&ROW()-$AB$4):AA276)=0),1,0)","v":0},1,{"$f":"IF(AND(AC276=0,AC277=1,SUM(INDIRECT($AC$1&ROW()-AD$4):AC276)=0),1,0)","v":0},113.54,null,null,null,null,null,null,null,null,null,null,null,null,null,-2000,0,null,0,null,null,null,null,null,null,null,null,22.23]
["1973-03-23",{"$f":"VLOOKUP(A278,'input BCI'!$O$3:$R$5000,4)","v":22.81},null,null,22.81,null,null,null,null,null,null,null,null,0,22.81,null,null,22.81,null,null,null,1,22.81,22.81,{"$f":"AVERAGE(INDIRECT($X$1&ROW()-$Y$4+1):X278)","v":22.32},1,0,{"$f":"IF(AND(AA277=0,AA278=1,SUM(INDIRECT($AA$1&ROW()-$AB$4):AA277)=0),1,0)","v":0},1,{"$f":"IF(AND(AC277=0,AC278=1,SUM(INDIRECT($AC$1&ROW()-AD$4):AC277)=0),1,0)","v":0},108.88,null,null,null,null,null,null,null,null,null,null,null,null,null,-2000,0,null,0,null,null,null,null,null,null,null,null,22.23]
["1973-03-30",{"$f":"VLOOKUP(A279,'input BCI'!$O$3:$R$5000,4)","v":21.83},null,null,21.83,null,null,null,null,null,null,null,null,0,21.83,null,null,21.83,null,null,null,1,21.83,21.83,{"$f":"AVERAGE(INDIRECT($X$1&ROW()-$Y$4+1):X279)","v":21.284999999999997},0,0,{"$f":"IF(AND(AA278=0,AA279=1,SUM(INDIRECT($AA$1&ROW()-$AB$4):AA278)=0),1,0)","v":0},1,{"$f":"IF(AND(AC278=0,AC279=1,SUM(INDIRECT($AC$1&ROW()-AD$4):AC278)=0),1,0)","v":0},111.52,null,null,null,null,null,null,null,null,null,null,null,null,null,-2000,0,null,0,null,null,null,null,null,null,null,null,22.23]
["1973-04-06",{"$f":"VLOOKUP(A280,'input BCI'!$O$3:$R$5000,4)","v":20.74},null,null,20.74,null,null,null,null,null,null,null,null,0,20.74,null,null,20.74,null,null,null,1,20.74,20.74,{"$f":"AVERAGE(INDIRECT($X$1&ROW()-$Y$4+1):X280)","v":20.104999999999997},0,0,{"$f":"IF(AND(AA279=0,AA280=1,SUM(INDIRECT($AA$1&ROW()-$AB$4):AA279)=0),1,0)","v":0},1,{"$f":"IF(AND(AC279=0,AC280=1,SUM(INDIRECT($AC$1&ROW()-AD$4):AC279)=0),1,0)","v":0},109.28,null,null,null,null,null,null,null,null,null,null,null,null,null,-2000,0,null,0,null,null,null,null,null,null,null,null,22.23]
["1973-04-13",{"$f":"VLOOKUP(A281,'input BCI'!$O$3:$R$5000,4)","v":19.47},null,null,19.47,null,null,null,null,null,null,null,null,0,19.47,null,null,{"$f":"O281*R$7","v":19.47},null,null,null,1,19.47,19.47,{"$f":"AVERAGE(INDIRECT($X$1&ROW()-$Y$4+1):X281)","v":18.979999999999997},0,0,{"$f":"IF(AND(AA280=0,AA281=1,SUM(INDIRECT($AA$1&ROW()-$AB$4):AA280)=0),1,0)","v":0},1,{"$f":"IF(AND(AC280=0,AC281=1,SUM(INDIRECT($AC$1&ROW()-AD$4):AC280)=0),1,0)","v":0},112.08,null,null,null,null,null,null,null,null,null,null,null,null,null,-2000,0,null,0,null,null,null,null,null,null,null,null,22.23]
["1973-04-20",{"$f":"VLOOKUP(A282,'input BCI'!$O$3:$R$5000,4)","v":18.489999999999998},null,null,18.489999999999998,null,null,null,null,null,null,null,null,0,18.489999999999998,null,null,18.489999999999998,null,null,null,1,18.489999999999998,18.489999999999998,{"$f":"AVERAGE(INDIRECT($X$1&ROW()-$Y$4+1):X282)","v":18.234999999999999},0,0,{"$f":"IF(AND(AA281=0,AA282=1,SUM(INDIRECT($AA$1&ROW()-$AB$4):AA281)=0),1,0)","v":0},1,{"$f":"IF(AND(AC281=0,AC282=1,SUM(INDIRECT($AC$1&ROW()-AD$4):AC281)=0),1,0)","v":0},112.17,null,null,null,null,null,null,null,null,null,null,null,null,null,-2000,0,null,0,null,null,null,null,null,null,null,null,22.23]
["1973-04-27",{"$f":"VLOOKUP(A283,'input BCI'!$O$3:$R$5000,4)","v":17.98},null,null,17.98,null,null,null,null,null,null,null,null,0,17.98,null,null,17.98,null,null,null,1,17.98,17.98,{"$f":"AVERAGE(INDIRECT($X$1&ROW()-$Y$4+1):X283)","v":17.52},0,0,{"$f":"IF(AND(AA282=0,AA283=1,SUM(INDIRECT($AA$1&ROW()-$AB$4):AA282)=0),1,0)","v":0},1,{"$f":"IF(AND(AC282=0,AC283=1,SUM(INDIRECT($AC$1&ROW()-AD$4):AC282)=0),1,0)","v":0},107.23,null,null,null,null,null,null,null,null,null,null,null,null,null,-2000,0,null,0,null,null,null,null,null,null,null,null,22.23]
["1973-05-04",{"$f":"VLOOKUP(A284,'input BCI'!$O$3:$R$5000,4)","v":17.059999999999999},null,null,17.059999999999999,null,null,null,null,null,null,null,null,0,17.059999999999999,null,null,17.059999999999999,null,null,null,1,17.059999999999999,17.059999999999999,{"$f":"AVERAGE(INDIRECT($X$1&ROW()-$Y$4+1):X284)","v":16.734999999999999},0,0,{"$f":"IF(AND(AA283=0,AA284=1,SUM(INDIRECT($AA$1&ROW()-$AB$4):AA283)=0),1,0)","v":0},1,{"$f":"IF(AND(AC283=0,AC284=1,SUM(INDIRECT($AC$1&ROW()-AD$4):AC283)=0),1,0)","v":0},111,null,null,null,null,null,null,null,null,null,null,null,null,null,-2000,0,null,0,null,null,null,null,null,null,null,null,22.23]
["1973-05-11",{"$f":"VLOOKUP(A285,'input BCI'!$O$3:$R$5000,4)","v":16.41},null,null,16.41,null,null,null,null,null,null,null,null,0,16.41,null,null,16.41,null,null,null,1,16.41,16.41,{"$f":"AVERAGE(INDIRECT($X$1&ROW()-$Y$4+1):X285)","v":15.855},0,0,{"$f":"IF(AND(AA284=0,AA285=1,SUM(INDIRECT($AA$1&ROW()-$AB$4):AA284)=0),1,0)","v":0},1,{"$f":"IF(AND(AC284=0,AC285=1,SUM(INDIRECT($AC$1&ROW()-AD$4):AC284)=0),1,0)","v":0},108.17,null,null,null,null,null,null,null,null,null,null,null,null,null,-2000,0,null,0,null,null,null,null,null,null,null,null,22.23]
["1973-05-18",{"$f":"VLOOKUP(A286,'input BCI'!$O$3:$R$5000,4)","v":15.3},null,null,15.3,null,null,null,null,null,null,null,null,0,15.3,null,null,15.3,null,null,null,1,15.3,15.3,{"$f":"AVERAGE(INDIRECT($X$1&ROW()-$Y$4+1):X286)","v":14.565000000000001},0,0,{"$f":"IF(AND(AA285=0,AA286=1,SUM(INDIRECT($AA$1&ROW()-$AB$4):AA285)=0),1,0)","v":0},1,{"$f":"IF(AND(AC285=0,AC286=1,SUM(INDIRECT($AC$1&ROW()-AD$4):AC285)=0),1,0)","v":0},103.86,null,null,null,null,null,null,null,null,null,null,null,null,null,-2000,0,null,0,null,null,null,null,null,null,null,null,22.23]
["1973-05-25",{"$f":"VLOOKUP(A287,'input BCI'!$O$3:$R$5000,4)","v":13.83},null,null,13.83,null,null,null,null,null,null,null,null,0,13.83,null,null,13.83,null,null,null,1,13.83,13.83,{"$f":"AVERAGE(INDIRECT($X$1&ROW()-$Y$4+1):X287)","v":13.4},0,0,{"$f":"IF(AND(AA286=0,AA287=1,SUM(INDIRECT($AA$1&ROW()-$AB$4):AA286)=0),1,0)","v":0},1,{"$f":"IF(AND(AC286=0,AC287=1,SUM(INDIRECT($AC$1&ROW()-AD$4):AC286)=0),1,0)","v":0},107.94,null,null,null,null,null,null,null,null,null,null,null,null,null,-2000,0,null,0,null,null,null,null,null,null,null,null,22.23]
["1973-06-01",{"$f":"VLOOKUP(A288,'input BCI'!$O$3:$R$5000,4)","v":12.97},null,null,12.97,null,null,null,null,null,null,null,null,0,12.97,null,null,12.97,null,null,null,1,12.97,12.97,{"$f":"AVERAGE(INDIRECT($X$1&ROW()-$Y$4+1):X288)","v":12.129999999999999},0,0,{"$f":"IF(AND(AA287=0,AA288=1,SUM(INDIRECT($AA$1&ROW()-$AB$4):AA287)=0),1,0)","v":0},1,{"$f":"IF(AND(AC287=0,AC288=1,SUM(INDIRECT($AC$1&ROW()-AD$4):AC287)=0),1,0)","v":0},103.93,null,null,null,null,null,null,null,null,null,null,null,null,null,-2000,0,null,0,null,null,null,null,null,null,null,null,22.23]
["1973-06-08",{"$f":"VLOOKUP(A289,'input BCI'!$O$3:$R$5000,4)","v":11.29},null,null,11.29,null,null,null,null,null,null,null,null,0,11.29,null,null,11.29,null,null,null,1,11.29,11.29,{"$f":"AVERAGE(INDIRECT($X$1&ROW()-$Y$4+1):X289)","v":10.77},0,0,{"$f":"IF(AND(AA288=0,AA289=1,SUM(INDIRECT($AA$1&ROW()-$AB$4):AA288)=0),1,0)","v":0},1,{"$f":"IF(AND(AC288=0,AC289=1,SUM(INDIRECT($AC$1&ROW()-AD$4):AC288)=0),1,0)","v":0},107.03,null,null,null,null,null,null,null,null,null,null,null,null,null,-2000,0,null,0,null,null,null,null,null,null,null,null,22.23]
["1973-06-15",{"$f":"VLOOKUP(A290,'input BCI'!$O$3:$R$5000,4)","v":10.25},null,null,10.25,null,null,null,null,null,null,null,null,0,10.25,null,null,10.25,null,null,null,1,10.25,10.25,{"$f":"AVERAGE(INDIRECT($X$1&ROW()-$Y$4+1):X290)","v":9.8000000000000007},0,0,{"$f":"IF(AND(AA289=0,AA290=1,SUM(INDIRECT($AA$1&ROW()-$AB$4):AA289)=0),1,0)","v":0},1,{"$f":"IF(AND(AC289=0,AC290=1,SUM(INDIRECT($AC$1&ROW()-AD$4):AC289)=0),1,0)","v":0},105.1,null,null,null,null,null,null,null,null,null,null,null,null,null,-2000,0,null,0,null,null,null,null,null,null,null,null,22.23]
["1973-06-22",{"$f":"VLOOKUP(A291,'input BCI'!$O$3:$R$5000,4)","v":9.35},null,null,9.35,null,null,null,null,null,null,null,null,0,9.35,null,null,9.35,null,null,null,1,9.35,9.35,{"$f":"AVERAGE(INDIRECT($X$1&ROW()-$Y$4+1):X291)","v":8.73},0,0,{"$f":"IF(AND(AA290=0,AA291=1,SUM(INDIRECT($AA$1&ROW()-$AB$4):AA290)=0),1,0)","v":0},1,{"$f":"IF(AND(AC290=0,AC291=1,SUM(INDIRECT($AC$1&ROW()-AD$4):AC290)=0),1,0)","v":0},103.7,null,null,null,null,null,null,null,null,null,null,null,null,null,-2000,0,null,0,null,null,null,null,null,null,null,null,22.23]
["1973-06-29",{"$f":"VLOOKUP(A292,'input BCI'!$O$3:$R$5000,4)","v":8.11},null,null,8.11,null,null,null,null,null,null,null,null,0,8.11,null,null,8.11,null,null,null,1,8.11,8.11,{"$f":"AVERAGE(INDIRECT($X$1&ROW()-$Y$4+1):X292)","v":7.7349999999999994},0,0,{"$f":"IF(AND(AA291=0,AA292=1,SUM(INDIRECT($AA$1&ROW()-$AB$4):AA291)=0),1,0)","v":0},1,{"$f":"IF(AND(AC291=0,AC292=1,SUM(INDIRECT($AC$1&ROW()-AD$4):AC291)=0),1,0)","v":0},104.26,null,null,null,null,null,null,null,null,null,null,null,null,null,-2000,0,null,0,null,null,null,null,null,null,null,null,22.23]
["1973-07-06",{"$f":"VLOOKUP(A293,'input BCI'!$O$3:$R$5000,4)","v":7.36},null,null,7.36,null,null,null,null,null,null,null,null,0,7.36,null,null,7.36,null,null,null,1,7.36,7.36,{"$f":"AVERAGE(INDIRECT($X$1&ROW()-$Y$4+1):X293)","v":6.8650000000000002},0,0,{"$f":"IF(AND(AA292=0,AA293=1,SUM(INDIRECT($AA$1&ROW()-$AB$4):AA292)=0),1,0)","v":0},1,{"$f":"IF(AND(AC292=0,AC293=1,SUM(INDIRECT($AC$1&ROW()-AD$4):AC292)=0),1,0)","v":0},101.28,null,null,null,null,null,null,null,null,null,null,null,null,null,-2000,0,null,0,null,null,null,null,null,null,null,null,22.23]
["1973-07-13",{"$f":"VLOOKUP(A294,'input BCI'!$O$3:$R$5000,4)","v":6.37},null,null,6.37,null,null,null,null,null,null,null,null,0,6.37,null,null,6.37,null,null,null,1,6.37,6.37,{"$f":"AVERAGE(INDIRECT($X$1&ROW()-$Y$4+1):X294)","v":6.1099999999999994},0,0,{"$f":"IF(AND(AA293=0,AA294=1,SUM(INDIRECT($AA$1&ROW()-$AB$4):AA293)=0),1,0)","v":0},1,{"$f":"IF(AND(AC293=0,AC294=1,SUM(INDIRECT($AC$1&ROW()-AD$4):AC293)=0),1,0)","v":0},104.09,null,null,null,null,null,null,null,null,null,null,null,null,null,-2000,0,null,0,null,null,null,null,null,null,null,null,22.23]
["1973-07-20",{"$f":"VLOOKUP(A295,'input BCI'!$O$3:$R$5000,4)","v":5.85},null,null,5.85,null,null,null,null,null,null,null,null,0,5.85,null,null,5.85,null,null,null,1,5.85,5.85,{"$f":"AVERAGE(INDIRECT($X$1&ROW()-$Y$4+1):X295)","v":5.82},0,0,{"$f":"IF(AND(AA294=0,AA295=1,SUM(INDIRECT($AA$1&ROW()-$AB$4):AA294)=0),1,0)","v":0},1,{"$f":"IF(AND(AC294=0,AC295=1,SUM(INDIRECT($AC$1&ROW()-AD$4):AC294)=0),1,0)","v":0},107.14,null,null,null,null,null,null,null,null,null,null,null,null,null,-2000,0,null,0,null,null,null,null,null,null,null,null,22.23]
["1973-07-27",{"$f":"VLOOKUP(A296,'input BCI'!$O$3:$R$5000,4)","v":5.79},null,null,5.79,null,null,null,null,null,null,null,null,0,5.79,null,null,5.79,null,null,null,1,5.79,5.79,{"$f":"AVERAGE(INDIRECT($X$1&ROW()-$Y$4+1):X296)","v":5.85},0,1,{"$f":"IF(AND(AA295=0,AA296=1,SUM(INDIRECT($AA$1&ROW()-$AB$4):AA295)=0),1,0)","v":1},0,{"$f":"IF(AND(AC295=0,AC296=1,SUM(INDIRECT($AC$1&ROW()-AD$4):AC295)=0),1,0)","v":0},109.59,null,null,null,null,null,null,null,null,null,null,null,null,null,-2000,0,null,0,null,null,null,null,null,null,null,null,22.23]
["1973-08-03",{"$f":"VLOOKUP(A297,'input BCI'!$O$3:$R$5000,4)","v":5.91},null,null,5.91,null,null,null,null,null,null,null,null,0,5.91,null,null,5.91,null,null,null,1,5.91,5.91,{"$f":"AVERAGE(INDIRECT($X$1&ROW()-$Y$4+1):X297)","v":5.835},0,0,{"$f":"IF(AND(AA296=0,AA297=1,SUM(INDIRECT($AA$1&ROW()-$AB$4):AA296)=0),1,0)","v":0},1,{"$f":"IF(AND(AC296=0,AC297=1,SUM(INDIRECT($AC$1&ROW()-AD$4):AC296)=0),1,0)","v":0},106.49,null,null,null,null,null,null,null,null,null,null,null,null,null,-2000,0,null,0,null,null,null,null,null,null,null,null,22.23]
["1973-08-10",{"$f":"VLOOKUP(A298,'input BCI'!$O$3:$R$5000,4)","v":5.76},null,null,5.76,null,null,null,null,null,null,null,null,0,5.76,null,null,5.76,null,null,null,1,5.76,5.76,{"$f":"AVERAGE(INDIRECT($X$1&ROW()-$Y$4+1):X298)","v":5.4049999999999994},0,0,{"$f":"IF(AND(AA297=0,AA298=1,SUM(INDIRECT($AA$1&ROW()-$AB$4):AA297)=0),1,0)","v":0},1,{"$f":"IF(AND(AC297=0,AC298=1,SUM(INDIRECT($AC$1&ROW()-AD$4):AC297)=0),1,0)","v":0},104.77,null,null,null,null,null,null,null,null,null,null,null,null,null,-2000,0,null,0,null,null,null,null,null,null,null,null,22.23]
["1973-08-17",{"$f":"VLOOKUP(A299,'input BCI'!$O$3:$R$5000,4)","v":5.05},null,null,5.05,null,null,null,null,null,null,null,null,0,5.05,null,null,5.05,null,null,null,1,5.05,5.05,{"$f":"AVERAGE(INDIRECT($X$1&ROW()-$Y$4+1):X299)","v":4.34},0,0,{"$f":"IF(AND(AA298=0,AA299=1,SUM(INDIRECT($AA$1&ROW()-$AB$4):AA298)=0),1,0)","v":0},1,{"$f":"IF(AND(AC298=0,AC299=1,SUM(INDIRECT($AC$1&ROW()-AD$4):AC298)=0),1,0)","v":0},102.31,null,null,null,null,null,null,null,null,null,null,null,null,null,-2000,0,null,0,null,null,null,null,null,null,null,null,22.23]
["1973-08-24",{"$f":"VLOOKUP(A300,'input BCI'!$O$3:$R$5000,4)","v":3.63},null,null,3.63,null,null,null,null,null,null,null,null,0,3.63,null,null,3.63,null,null,null,1,3.63,3.63,{"$f":"AVERAGE(INDIRECT($X$1&ROW()-$Y$4+1):X300)","v":2.8},0,0,{"$f":"IF(AND(AA299=0,AA300=1,SUM(INDIRECT($AA$1&ROW()-$AB$4):AA299)=0),1,0)","v":0},1,{"$f":"IF(AND(AC299=0,AC300=1,SUM(INDIRECT($AC$1&ROW()-AD$4):AC299)=0),1,0)","v":0},101.62,null,null,null,null,null,null,null,null,null,null,null,null,null,-2000,0,null,0,null,null,null,null,null,null,null,null,22.23]
["1973-08-31",{"$f":"VLOOKUP(A301,'input BCI'!$O$3:$R$5000,4)","v":1.97},null,null,1.97,null,null,null,null,null,null,null,null,0,1.97,null,null,1.97,null,null,null,1,1.97,1.97,{"$f":"AVERAGE(INDIRECT($X$1&ROW()-$Y$4+1):X301)","v":1.31},0,0,{"$f":"IF(AND(AA300=0,AA301=1,SUM(INDIRECT($AA$1&ROW()-$AB$4):AA300)=0),1,0)","v":0},1,{"$f":"IF(AND(AC300=0,AC301=1,SUM(INDIRECT($AC$1&ROW()-AD$4):AC300)=0),1,0)","v":0},104.25,null,null,null,null,null,null,null,null,null,null,null,null,null,-2000,0,null,0,null,null,null,null,null,null,null,null,22.23]
["1973-09-07",{"$f":"VLOOKUP(A302,'input BCI'!$O$3:$R$5000,4)","v":0.65},null,null,0.65,null,null,null,null,null,null,null,null,0,0.65,null,null,0.65,null,null,null,1,0.65,0.65,{"$f":"AVERAGE(INDIRECT($X$1&ROW()-$Y$4+1):X302)","v":0.16500000000000001},0,0,{"$f":"IF(AND(AA301=0,AA302=1,SUM(INDIRECT($AA$1&ROW()-$AB$4):AA301)=0),1,0)","v":0},1,{"$f":"IF(AND(AC301=0,AC302=1,SUM(INDIRECT($AC$1&ROW()-AD$4):AC301)=0),1,0)","v":0},104.76,null,null,null,null,null,null,null,null,null,null,null,null,null,-2000,0,null,0,null,null,null,null,null,null,null,null,22.23]
["1973-09-14",{"$f":"VLOOKUP(A303,'input BCI'!$O$3:$R$5000,4)","v":-0.32},null,null,-0.32,null,null,null,null,null,null,null,null,0,-0.32,null,null,-0.32,null,null,null,1,-0.32,-0.32,{"$f":"AVERAGE(INDIRECT($X$1&ROW()-$Y$4+1):X303)","v":-0.56000000000000005},0,0,{"$f":"IF(AND(AA302=0,AA303=1,SUM(INDIRECT($AA$1&ROW()-$AB$4):AA302)=0),1,0)","v":0},1,{"$f":"IF(AND(AC302=0,AC303=1,SUM(INDIRECT($AC$1&ROW()-AD$4):AC302)=0),1,0)","v":0},104.44,null,null,null,null,null,null,null,null,null,null,null,null,null,-2000,0,null,0,null,null,null,null,null,null,null,null,22.23]
["1973-09-21",{"$f":"VLOOKUP(A304,'input BCI'!$O$3:$R$5000,4)","v":-0.8},null,null,-0.8,null,null,null,null,null,null,null,null,0,-0.8,null,null,-0.8,null,null,null,1,-0.8,-0.8,{"$f":"AVERAGE(INDIRECT($X$1&ROW()-$Y$4+1):X304)","v":-0.84499999999999997},0,0,{"$f":"IF(AND(AA303=0,AA304=1,SUM(INDIRECT($AA$1&ROW()-$AB$4):AA303)=0),1,0)","v":0},1,{"$f":"IF(AND(AC303=0,AC304=1,SUM(INDIRECT($AC$1&ROW()-AD$4):AC303)=0),1,0)","v":0},107.2,null,null,null,null,null,null,null,null,null,null,null,null,null,-2000,0,null,0,null,null,null,null,null,null,null,null,22.23]
["1973-09-28",{"$f":"VLOOKUP(A305,'input BCI'!$O$3:$R$5000,4)","v":-0.89},null,null,-0.89,null,null,null,null,null,null,null,null,0,-0.89,null,null,-0.89,null,null,null,1,-0.89,-0.89,{"$f":"AVERAGE(INDIRECT($X$1&ROW()-$Y$4+1):X305)","v":-0.90500000000000003},0,0,{"$f":"IF(AND(AA304=0,AA305=1,SUM(INDIRECT($AA$1&ROW()-$AB$4):AA304)=0),1,0)","v":0},1,{"$f":"IF(AND(AC304=0,AC305=1,SUM(INDIRECT($AC$1&ROW()-AD$4):AC304)=0),1,0)","v":0},108.43,null,null,null,null,null,null,null,null,null,null,null,null,null,-2000,0,null,0,null,null,null,null,null,null,null,null,22.23]
["1973-10-05",{"$f":"VLOOKUP(A306,'input BCI'!$O$3:$R$5000,4)","v":-0.92},null,null,-0.92,null,null,null,null,null,null,null,null,0,-0.92,null,null,-0.92,null,null,null,1,-0.92,-0.92,{"$f":"AVERAGE(INDIRECT($X$1&ROW()-$Y$4+1):X306)","v":-0.83499999999999996},0,1,{"$f":"IF(AND(AA305=0,AA306=1,SUM(INDIRECT($AA$1&ROW()-$AB$4):AA305)=0),1,0)","v":1},0,{"$f":"IF(AND(AC305=0,AC306=1,SUM(INDIRECT($AC$1&ROW()-AD$4):AC305)=0),1,0)","v":0},109.85,null,null,null,null,null,null,null,null,null,null,null,null,null,-2000,0,null,0,null,null,null,null,null,null,null,null,22.23]
["1973-10-12",{"$f":"VLOOKUP(A307,'input BCI'!$O$3:$R$5000,4)","v":-0.75},null,null,-0.75,null,null,null,null,null,null,null,null,0,-0.75,null,null,-0.75,null,null,null,1,-0.75,-0.75,{"$f":"AVERAGE(INDIRECT($X$1&ROW()-$Y$4+1):X307)","v":-0.59},0,1,{"$f":"IF(AND(AA306=0,AA307=1,SUM(INDIRECT($AA$1&ROW()-$AB$4):AA306)=0),1,0)","v":0},0,{"$f":"IF(AND(AC306=0,AC307=1,SUM(INDIRECT($AC$1&ROW()-AD$4):AC306)=0),1,0)","v":0},111.44,null,null,null,null,null,null,null,null,null,null,null,null,null,-2000,0,null,0,null,null,null,null,null,null,null,null,22.23]
["1973-10-19",{"$f":"VLOOKUP(A308,'input BCI'!$O$3:$R$5000,4)","v":-0.43},null,null,-0.43,null,null,null,null,null,null,null,null,0,-0.43,null,null,-0.43,null,null,null,1,-0.43,-0.43,{"$f":"AVERAGE(INDIRECT($X$1&ROW()-$Y$4+1):X308)","v":-0.435},0,0,{"$f":"IF(AND(AA307=0,AA308=1,SUM(INDIRECT($AA$1&ROW()-$AB$4):AA307)=0),1,0)","v":0},1,{"$f":"IF(AND(AC307=0,AC308=1,SUM(INDIRECT($AC$1&ROW()-AD$4):AC307)=0),1,0)","v":0},110.22,null,null,null,null,null,null,null,null,null,null,null,null,null,-2000,0,null,0,null,null,null,null,null,null,null,null,22.23]
["1973-10-26",{"$f":"VLOOKUP(A309,'input BCI'!$O$3:$R$5000,4)","v":-0.44},null,null,-0.44,null,null,null,null,null,null,null,null,0,-0.44,null,null,-0.44,null,null,null,1,-0.44,-0.44,{"$f":"AVERAGE(INDIRECT($X$1&ROW()-$Y$4+1):X309)","v":-0.46499999999999997},0,0,{"$f":"IF(AND(AA308=0,AA309=1,SUM(INDIRECT($AA$1&ROW()-$AB$4):AA308)=0),1,0)","v":0},1,{"$f":"IF(AND(AC308=0,AC309=1,SUM(INDIRECT($AC$1&ROW()-AD$4):AC308)=0),1,0)","v":0},111.38,null,null,null,null,null,null,null,null,null,null,null,null,null,-2000,0,null,0,null,null,null,null,null,null,null,null,22.23]
["1973-11-02",{"$f":"VLOOKUP(A310,'input BCI'!$O$3:$R$5000,4)","v":-0.49},null,null,-0.49,null,null,null,null,null,null,null,null,0,-0.49,null,null,-0.49,null,null,null,1,-0.49,-0.49,{"$f":"AVERAGE(INDIRECT($X$1&ROW()-$Y$4+1):X310)","v":-0.76},0,0,{"$f":"IF(AND(AA309=0,AA310=1,SUM(INDIRECT($AA$1&ROW()-$AB$4):AA309)=0),1,0)","v":0},1,{"$f":"IF(AND(AC309=0,AC310=1,SUM(INDIRECT($AC$1&ROW()-AD$4):AC309)=0),1,0)","v":0},107.07,null,null,null,null,null,null,null,null,null,null,null,null,null,-2000,0,null,0,null,null,null,null,null,null,null,null,22.23]
["1973-11-09",{"$f":"VLOOKUP(A311,'input BCI'!$O$3:$R$5000,4)","v":-1.03},null,null,-1.03,null,null,null,null,null,null,null,null,0,-1.03,null,null,-1.03,null,null,null,1,-1.03,-1.03,{"$f":"AVERAGE(INDIRECT($X$1&ROW()-$Y$4+1):X311)","v":-1.4350000000000001},0,0,{"$f":"IF(AND(AA310=0,AA311=1,SUM(INDIRECT($AA$1&ROW()-$AB$4):AA310)=0),1,0)","v":0},1,{"$f":"IF(AND(AC310=0,AC311=1,SUM(INDIRECT($AC$1&ROW()-AD$4):AC310)=0),1,0)","v":0},105.3,null,null,null,null,null,null,null,null,null,null,null,null,null,-2000,0,null,0,null,null,null,null,null,null,null,null,22.23]
["1973-11-16",{"$f":"VLOOKUP(A312,'input BCI'!$O$3:$R$5000,4)","v":-1.84},null,null,-1.84,null,null,null,null,null,null,null,null,0,-1.84,null,null,-1.84,null,null,null,1,-1.84,-1.84,{"$f":"AVERAGE(INDIRECT($X$1&ROW()-$Y$4+1):X312)","v":-2.4050000000000002},0,0,{"$f":"IF(AND(AA311=0,AA312=1,SUM(INDIRECT($AA$1&ROW()-$AB$4):AA311)=0),1,0)","v":0},1,{"$f":"IF(AND(AC311=0,AC312=1,SUM(INDIRECT($AC$1&ROW()-AD$4):AC311)=0),1,0)","v":0},103.88,null,null,null,null,null,null,null,null,null,null,null,null,null,-2000,0,null,0,null,null,null,null,null,null,null,null,22.23]
["1973-11-23",{"$f":"VLOOKUP(A313,'input BCI'!$O$3:$R$5000,4)","v":-2.97},null,null,-2.97,null,null,null,null,null,null,null,null,0,-2.97,null,null,-2.97,null,null,null,1,-2.97,-2.97,{"$f":"AVERAGE(INDIRECT($X$1&ROW()-$Y$4+1):X313)","v":-3.7199999999999998},0,0,{"$f":"IF(AND(AA312=0,AA313=1,SUM(INDIRECT($AA$1&ROW()-$AB$4):AA312)=0),1,0)","v":0},1,{"$f":"IF(AND(AC312=0,AC313=1,SUM(INDIRECT($AC$1&ROW()-AD$4):AC312)=0),1,0)","v":0},99.44,null,null,null,null,null,null,null,null,null,null,null,null,null,-2000,0,null,0,null,null,null,null,null,null,null,null,22.23]
["1973-11-30",{"$f":"VLOOKUP(A314,'input BCI'!$O$3:$R$5000,4)","v":-4.47},null,null,-4.47,null,null,null,null,null,null,null,null,0,-4.47,null,null,-4.47,null,null,null,1,-4.47,-4.47,{"$f":"AVERAGE(INDIRECT($X$1&ROW()-$Y$4+1):X314)","v":-5.2549999999999999},0,0,{"$f":"IF(AND(AA313=0,AA314=1,SUM(INDIRECT($AA$1&ROW()-$AB$4):AA313)=0),1,0)","v":0},1,{"$f":"IF(AND(AC313=0,AC314=1,SUM(INDIRECT($AC$1&ROW()-AD$4):AC313)=0),1,0)","v":0},95.96,null,null,null,null,null,null,null,null,null,null,null,null,null,-2000,0,null,0,null,null,null,null,null,null,null,null,22.23]
["1973-12-07",{"$f":"VLOOKUP(A315,'input BCI'!$O$3:$R$5000,4)","v":-6.04},null,null,-6.04,null,null,null,null,null,null,null,null,1,-6.04,null,null,-6.04,null,null,null,1,-6.04,-6.04,{"$f":"AVERAGE(INDIRECT($X$1&ROW()-$Y$4+1):X315)","v":-6.59},0,0,{"$f":"IF(AND(AA314=0,AA315=1,SUM(INDIRECT($AA$1&ROW()-$AB$4):AA314)=0),1,0)","v":0},1,{"$f":"IF(AND(AC314=0,AC315=1,SUM(INDIRECT($AC$1&ROW()-AD$4):AC314)=0),1,0)","v":0},96.51,null,null,null,null,null,null,null,null,null,null,null,null,"1973-12-07",2000,1,null,0,null,null,null,null,null,null,null,null,22.23,null,null,null,{"$f":"MAX(BH215:BH315)","v":"00:00:00"},{"$f":"(BG315-BI315)/7","v":0}]
["1973-12-14",{"$f":"VLOOKUP(A316,'input BCI'!$O$3:$R$5000,4)","v":-7.14},null,null,-7.14,null,null,null,null,null,null,null,null,1,-7.14,null,null,-7.14,null,null,null,1,-7.14,-7.14,{"$f":"AVERAGE(INDIRECT($X$1&ROW()-$Y$4+1):X316)","v":-7.5250000000000004},0,0,{"$f":"IF(AND(AA315=0,AA316=1,SUM(INDIRECT($AA$1&ROW()-$AB$4):AA315)=0),1,0)","v":0},1,{"$f":"IF(AND(AC315=0,AC316=1,SUM(INDIRECT($AC$1&ROW()-AD$4):AC315)=0),1,0)","v":0},93.29,null,null,null,null,null,null,null,null,null,null,null,null,"1973-12-14",2000,1,null,0,null,null,null,null,null,null,null,null,22.23]
["1973-12-21",{"$f":"VLOOKUP(A317,'input BCI'!$O$3:$R$5000,4)","v":-7.91},null,null,-7.91,null,null,null,null,null,null,null,null,1,-7.91,null,null,-7.91,null,null,null,1,-7.91,-7.91,{"$f":"AVERAGE(INDIRECT($X$1&ROW()-$Y$4+1):X317)","v":-8.2100000000000009},0,0,{"$f":"IF(AND(AA316=0,AA317=1,SUM(INDIRECT($AA$1&ROW()-$AB$4):AA316)=0),1,0)","v":0},1,{"$f":"IF(AND(AC316=0,AC317=1,SUM(INDIRECT($AC$1&ROW()-AD$4):AC316)=0),1,0)","v":0},93.54,null,null,null,null,null,null,null,null,null,null,null,null,"1973-12-21",2000,1,null,0,null,null,null,null,null,null,null,null,22.23]
["1973-12-28",{"$f":"VLOOKUP(A318,'input BCI'!$O$3:$R$5000,4)","v":-8.51},null,null,-8.51,null,null,null,null,null,null,null,null,1,-8.51,null,null,-8.51,null,null,null,1,-8.51,-8.51,{"$f":"AVERAGE(INDIRECT($X$1&ROW()-$Y$4+1):X318)","v":-8.49},0,1,{"$f":"IF(AND(AA317=0,AA318=1,SUM(INDIRECT($AA$1&ROW()-$AB$4):AA317)=0),1,0)","v":1},0,{"$f":"IF(AND(AC317=0,AC318=1,SUM(INDIRECT($AC$1&ROW()-AD$4):AC317)=0),1,0)","v":0},97.54,null,null,null,null,null,null,null,null,null,null,null,null,"1973-12-28",2000,1,null,0,null,null,null,null,null,null,null,null,22.23]
["1974-01-04",{"$f":"VLOOKUP(A319,'input BCI'!$O$3:$R$5000,4)","v":-8.4700000000000006},null,null,-8.4700000000000006,null,null,null,null,null,null,null,null,1,-8.4700000000000006,null,null,-8.4700000000000006,null,null,null,1,-8.4700000000000006,-8.4700000000000006,{"$f":"AVERAGE(INDIRECT($X$1&ROW()-$Y$4+1):X319)","v":-8.58},0,0,{"$f":"IF(AND(AA318=0,AA319=1,SUM(INDIRECT($AA$1&ROW()-$AB$4):AA318)=0),1,0)","v":0},1,{"$f":"IF(AND(AC318=0,AC319=1,SUM(INDIRECT($AC$1&ROW()-AD$4):AC318)=0),1,0)","v":0},98.9,null,null,null,null,null,null,null,null,null,null,null,null,"1974-01-04",2000,1,null,0,null,null,null,null,null,null,null,null,22.23]
["1974-01-11",{"$f":"VLOOKUP(A320,'input BCI'!$O$3:$R$5000,4)","v":-8.69},null,null,-8.69,null,null,null,null,null,null,null,null,1,-8.69,null,null,-8.69,null,null,null,1,-8.69,-8.69,{"$f":"AVERAGE(INDIRECT($X$1&ROW()-$Y$4+1):X320)","v":-9.0500000000000007},0,0,{"$f":"IF(AND(AA319=0,AA320=1,SUM(INDIRECT($AA$1&ROW()-$AB$4):AA319)=0),1,0)","v":0},1,{"$f":"IF(AND(AC319=0,AC320=1,SUM(INDIRECT($AC$1&ROW()-AD$4):AC319)=0),1,0)","v":0},93.66,null,null,null,null,null,null,null,null,null,null,null,null,"1974-01-11",2000,1,null,0,null,null,null,null,null,null,null,null,22.23]
["1974-01-18",{"$f":"VLOOKUP(A321,'input BCI'!$O$3:$R$5000,4)","v":-9.41},null,null,-9.41,null,null,null,null,null,null,null,null,1,-9.41,null,null,-9.41,null,null,null,1,-9.41,-9.41,{"$f":"AVERAGE(INDIRECT($X$1&ROW()-$Y$4+1):X321)","v":-9.6349999999999998},0,0,{"$f":"IF(AND(AA320=0,AA321=1,SUM(INDIRECT($AA$1&ROW()-$AB$4):AA320)=0),1,0)","v":0},1,{"$f":"IF(AND(AC320=0,AC321=1,SUM(INDIRECT($AC$1&ROW()-AD$4):AC320)=0),1,0)","v":0},95.56,null,null,null,null,null,null,null,null,null,null,null,null,"1974-01-18",2000,1,null,0,null,null,null,null,null,null,null,null,22.23]
["1974-01-25",{"$f":"VLOOKUP(A322,'input BCI'!$O$3:$R$5000,4)","v":-9.86},null,null,-9.86,null,null,null,null,null,null,null,null,1,-9.86,null,null,-9.86,null,null,null,1,-9.86,-9.86,{"$f":"AVERAGE(INDIRECT($X$1&ROW()-$Y$4+1):X322)","v":-10.274999999999999},0,0,{"$f":"IF(AND(AA321=0,AA322=1,SUM(INDIRECT($AA$1&ROW()-$AB$4):AA321)=0),1,0)","v":0},1,{"$f":"IF(AND(AC321=0,AC322=1,SUM(INDIRECT($AC$1&ROW()-AD$4):AC321)=0),1,0)","v":0},96.63,null,null,null,null,null,null,null,null,null,null,null,null,"1974-01-25",2000,1,null,0,null,null,null,null,null,null,null,null,22.23]
["1974-02-01",{"$f":"VLOOKUP(A323,'input BCI'!$O$3:$R$5000,4)","v":-10.69},null,null,-10.69,null,null,null,null,null,null,null,null,1,-10.69,null,null,-10.69,null,null,null,1,-10.69,-10.69,{"$f":"AVERAGE(INDIRECT($X$1&ROW()-$Y$4+1):X323)","v":-11.215},0,0,{"$f":"IF(AND(AA322=0,AA323=1,SUM(INDIRECT($AA$1&ROW()-$AB$4):AA322)=0),1,0)","v":0},1,{"$f":"IF(AND(AC322=0,AC323=1,SUM(INDIRECT($AC$1&ROW()-AD$4):AC322)=0),1,0)","v":0},95.32,null,null,null,null,null,null,null,null,null,null,null,null,"1974-02-01",2000,1,null,0,null,null,null,null,null,null,null,null,22.23]
["1974-02-08",{"$f":"VLOOKUP(A324,'input BCI'!$O$3:$R$5000,4)","v":-11.74},null,null,-11.74,null,null,null,null,null,null,null,null,1,-11.74,null,null,-11.74,null,null,null,1,-11.74,-11.74,{"$f":"AVERAGE(INDIRECT($X$1&ROW()-$Y$4+1):X324)","v":-12.07},0,0,{"$f":"IF(AND(AA323=0,AA324=1,SUM(INDIRECT($AA$1&ROW()-$AB$4):AA323)=0),1,0)","v":0},1,{"$f":"IF(AND(AC323=0,AC324=1,SUM(INDIRECT($AC$1&ROW()-AD$4):AC323)=0),1,0)","v":0},92.33,null,null,null,null,null,null,null,null,null,null,null,null,"1974-02-08",2000,1,null,0,null,null,null,null,null,null,null,null,22.23]
["1974-02-15",{"$f":"VLOOKUP(A325,'input BCI'!$O$3:$R$5000,4)","v":-12.4},null,null,-12.4,null,null,null,null,null,null,null,null,1,-12.4,null,null,-12.4,null,null,null,1,-12.4,-12.4,{"$f":"AVERAGE(INDIRECT($X$1&ROW()-$Y$4+1):X325)","v":-12.775},0,0,{"$f":"IF(AND(AA324=0,AA325=1,SUM(INDIRECT($AA$1&ROW()-$AB$4):AA324)=0),1,0)","v":0},1,{"$f":"IF(AND(AC324=0,AC325=1,SUM(INDIRECT($AC$1&ROW()-AD$4):AC324)=0),1,0)","v":0},92.27,null,null,null,null,null,null,null,null,null,null,null,null,"1974-02-15",2000,1,null,0,null,null,null,null,null,null,null,null,22.23]
["1974-02-22",{"$f":"VLOOKUP(A326,'input BCI'!$O$3:$R$5000,4)","v":-13.15},null,null,-13.15,null,null,null,null,null,null,null,null,1,-13.15,null,null,-13.15,null,null,null,1,-13.15,-13.15,{"$f":"AVERAGE(INDIRECT($X$1&ROW()-$Y$4+1):X326)","v":-13.285},0,0,{"$f":"IF(AND(AA325=0,AA326=1,SUM(INDIRECT($AA$1&ROW()-$AB$4):AA325)=0),1,0)","v":0},1,{"$f":"IF(AND(AC325=0,AC326=1,SUM(INDIRECT($AC$1&ROW()-AD$4):AC325)=0),1,0)","v":0},95.39,null,null,null,null,null,null,null,null,null,null,null,null,"1974-02-22",2000,1,null,0,null,null,null,null,null,null,null,null,22.23]
["1974-03-01",{"$f":"VLOOKUP(A327,'input BCI'!$O$3:$R$5000,4)","v":-13.42},null,null,-13.42,null,null,null,null,null,null,null,null,1,-13.42,null,null,-13.42,null,null,null,1,-13.42,-13.42,{"$f":"AVERAGE(INDIRECT($X$1&ROW()-$Y$4+1):X327)","v":-13.36},0,1,{"$f":"IF(AND(AA326=0,AA327=1,SUM(INDIRECT($AA$1&ROW()-$AB$4):AA326)=0),1,0)","v":1},0,{"$f":"IF(AND(AC326=0,AC327=1,SUM(INDIRECT($AC$1&ROW()-AD$4):AC326)=0),1,0)","v":0},95.53,null,null,null,null,null,null,null,null,null,null,null,null,"1974-03-01",2000,1,null,0,null,null,null,null,null,null,null,null,22.23]
["1974-03-08",{"$f":"VLOOKUP(A328,'input BCI'!$O$3:$R$5000,4)","v":-13.3},null,null,-13.3,null,null,null,null,null,null,null,null,1,-13.3,null,null,-13.3,null,null,null,1,-13.3,-13.3,{"$f":"AVERAGE(INDIRECT($X$1&ROW()-$Y$4+1):X328)","v":-12.95},0,1,{"$f":"IF(AND(AA327=0,AA328=1,SUM(INDIRECT($AA$1&ROW()-$AB$4):AA327)=0),1,0)","v":0},0,{"$f":"IF(AND(AC327=0,AC328=1,SUM(INDIRECT($AC$1&ROW()-AD$4):AC327)=0),1,0)","v":0},97.78,null,null,null,null,null,null,null,null,null,null,null,null,"1974-03-08",2000,1,null,0,null,null,null,null,null,null,null,null,22.23]
["1974-03-15",{"$f":"VLOOKUP(A329,'input BCI'!$O$3:$R$5000,4)","v":-12.6},null,null,-12.6,null,null,null,null,null,null,null,null,1,-12.6,null,null,-12.6,null,null,null,1,-12.6,-12.6,{"$f":"AVERAGE(INDIRECT($X$1&ROW()-$Y$4+1):X329)","v":-12.23},0,1,{"$f":"IF(AND(AA328=0,AA329=1,SUM(INDIRECT($AA$1&ROW()-$AB$4):AA328)=0),1,0)","v":0},0,{"$f":"IF(AND(AC328=0,AC329=1,SUM(INDIRECT($AC$1&ROW()-AD$4):AC328)=0),1,0)","v":0},99.28,null,null,null,null,null,null,null,null,null,null,null,null,"1974-03-15",2000,1,null,0,null,null,null,null,null,null,null,null,22.23]
["1974-03-22",{"$f":"VLOOKUP(A330,'input BCI'!$O$3:$R$5000,4)","v":-11.86},null,null,-11.86,null,null,null,null,null,null,null,null,1,-11.86,null,null,-11.86,null,null,null,1,-11.86,-11.86,{"$f":"AVERAGE(INDIRECT($X$1&ROW()-$Y$4+1):X330)","v":-11.625},0,1,{"$f":"IF(AND(AA329=0,AA330=1,SUM(INDIRECT($AA$1&ROW()-$AB$4):AA329)=0),1,0)","v":0},0,{"$f":"IF(AND(AC329=0,AC330=1,SUM(INDIRECT($AC$1&ROW()-AD$4):AC329)=0),1,0)","v":0},97.27,null,null,null,null,null,null,null,null,null,null,null,null,"1974-03-22",{"$f":"IF(ISNUMBER(AR330),2000,-2000)","v":2000},1,null,0,null,null,null,null,null,null,null,null,22.23]
["1974-03-29",{"$f":"VLOOKUP(A331,'input BCI'!$O$3:$R$5000,4)","v":-11.39},null,null,{"$f":"B331+$O$7","v":-11.39},null,null,null,null,null,null,null,null,1,{"$f":"E331","v":-11.39},null,null,-11.39,null,null,null,1,{"$f":"R331","v":-11.39},{"$f":"(W331+$X$4)","v":-11.39},{"$f":"AVERAGE(INDIRECT($X$1&ROW()-$Y$4+1):X331)","v":-11.39},{"$f":"IF(OR(X331=$I$5,X331>$I$5),1,0)","v":0},0,{"$f":"IF(AND(AA330=0,AA331=1,SUM(INDIRECT($AA$1&ROW()-$AB$4):AA330)=0),1,0)","v":0},0,{"$f":"IF(AND(AC330=0,AC331=1,SUM(INDIRECT($AC$1&ROW()-AD$4):AC330)=0),1,0)","v":0},93.98,null,null,null,null,null,null,null,null,null,null,null,null,"1974-03-29",2000,1,null,0,null,null,null,null,null,null,null,null,{"$f":"$BE$2","v":22.23}]
["1974-04-05",{"$f":"VLOOKUP(A332,'input BCI'!$O$3:$R$5000,4)","v":-11.39},null,null,-11.39,null,null,null,null,null,null,null,null,1,-11.39,null,null,-11.39,null,null,null,{"$f":"V331","v":1},-11.39,-11.39,{"$f":"AVERAGE(INDIRECT($X$1&ROW()-$Y$4+1):X332)","v":-11.565000000000001},0,0,{"$f":"IF(AND(AA331=0,AA332=1,SUM(INDIRECT($AA$1&ROW()-$AB$4):AA331)=0),1,0)","v":0},1,{"$f":"IF(AND(AC331=0,AC332=1,SUM(INDIRECT($AC$1&ROW()-AD$4):AC331)=0),1,0)","v":1},93.01,null,null,null,null,null,null,null,null,null,null,null,null,"1974-04-05",2000,1,null,0,null,null,null,null,null,null,null,null,22.23]
["1974-04-12",{"$f":"VLOOKUP(A333,'input BCI'!$O$3:$R$5000,4)","v":-11.74},null,null,-11.74,null,null,null,null,null,null,null,null,1,-11.74,null,null,-11.74,null,null,null,1,-11.74,-11.74,{"$f":"AVERAGE(INDIRECT($X$1&ROW()-$Y$4+1):X333)","v":-11.885},0,{"$f":"IF(Y333>X333,1,0)","v":0},{"$f":"IF(AND(AA332=0,AA333=1,SUM(INDIRECT($AA$1&ROW()-$AB$4):AA332)=0),1,0)","v":0},1,{"$f":"IF(AND(AC332=0,AC333=1,SUM(INDIRECT($AC$1&ROW()-AD$4):AC332)=0),1,0)","v":0},92.12,null,null,null,null,null,null,null,null,null,null,null,null,"1974-04-12",2000,1,null,0,null,null,null,null,null,null,null,null,22.23]
["1974-04-19",{"$f":"VLOOKUP(A334,'input BCI'!$O$3:$R$5000,4)","v":-12.03},null,null,-12.03,null,null,null,null,null,null,null,null,1,-12.03,null,null,-12.03,null,null,null,1,-12.03,-12.03,{"$f":"AVERAGE(INDIRECT($X$1&ROW()-$Y$4+1):X334)","v":-12.045},0,0,{"$f":"IF(AND(AA333=0,AA334=1,SUM(INDIRECT($AA$1&ROW()-$AB$4):AA333)=0),1,0)","v":0},{"$f":"IF(Y334<X334,1,0)","v":1},{"$f":"IF(AND(AC333=0,AC334=1,SUM(INDIRECT($AC$1&ROW()-AD$4):AC333)=0),1,0)","v":0},93.75,null,null,null,null,null,null,null,null,null,null,null,null,"1974-04-19",2000,1,null,0,null,null,null,null,null,null,null,null,22.23]
["1974-04-26",{"$f":"VLOOKUP(A335,'input BCI'!$O$3:$R$5000,4)","v":-12.06},null,null,-12.06,null,null,null,null,null,null,null,null,1,-12.06,null,null,-12.06,null,null,null,1,-12.06,-12.06,{"$f":"AVERAGE(INDIRECT($X$1&ROW()-$Y$4+1):X335)","v":-11.98},0,1,{"$f":"IF(AND(AA334=0,AA335=1,SUM(INDIRECT($AA$1&ROW()-$AB$4):AA334)=0),1,0)","v":0},0,{"$f":"IF(AND(AC334=0,AC335=1,SUM(INDIRECT($AC$1&ROW()-AD$4):AC334)=0),1,0)","v":0},90.18,null,null,null,null,null,null,null,null,null,null,null,null,"1974-04-26",2000,1,null,0,null,null,null,null,null,null,null,null,22.23]
["1974-05-03",{"$f":"VLOOKUP(A336,'input BCI'!$O$3:$R$5000,4)","v":-11.9},null,null,-11.9,null,null,null,null,null,null,null,null,1,-11.9,null,null,-11.9,null,null,null,1,-11.9,-11.9,{"$f":"AVERAGE(INDIRECT($X$1&ROW()-$Y$4+1):X336)","v":-11.655000000000001},0,1,{"$f":"IF(AND(AA335=0,AA336=1,SUM(INDIRECT($AA$1&ROW()-$AB$4):AA335)=0),1,0)","v":0},0,{"$f":"IF(AND(AC335=0,AC336=1,SUM(INDIRECT($AC$1&ROW()-AD$4):AC335)=0),1,0)","v":0},91.29,null,null,null,null,null,null,null,null,null,null,null,null,"1974-05-03",2000,1,null,0,null,null,null,null,null,null,null,null,22.23]
["1974-05-10",{"$f":"VLOOKUP(A337,'input BCI'!$O$3:$R$5000,4)","v":-11.41},null,null,-11.41,null,null,null,null,null,null,null,null,1,-11.41,null,null,-11.41,null,null,null,1,-11.41,-11.41,{"$f":"AVERAGE(INDIRECT($X$1&ROW()-$Y$4+1):X337)","v":-11.14},0,1,{"$f":"IF(AND(AA336=0,AA337=1,SUM(INDIRECT($AA$1&ROW()-$AB$4):AA336)=0),1,0)","v":0},0,{"$f":"IF(AND(AC336=0,AC337=1,SUM(INDIRECT($AC$1&ROW()-AD$4):AC336)=0),1,0)","v":0},91.47,null,null,null,null,null,null,null,null,null,null,null,null,"1974-05-10",2000,1,null,0,null,null,null,null,null,null,null,null,22.23]
["1974-05-17",{"$f":"VLOOKUP(A338,'input BCI'!$O$3:$R$5000,4)","v":-10.87},null,null,-10.87,null,null,null,null,null,null,null,null,1,-10.87,null,null,-10.87,null,null,null,1,-10.87,-10.87,{"$f":"AVERAGE(INDIRECT($X$1&ROW()-$Y$4+1):X338)","v":-10.795},0,1,{"$f":"IF(AND(AA337=0,AA338=1,SUM(INDIRECT($AA$1&ROW()-$AB$4):AA337)=0),1,0)","v":0},0,{"$f":"IF(AND(AC337=0,AC338=1,SUM(INDIRECT($AC$1&ROW()-AD$4):AC337)=0),1,0)","v":0},88.21,null,null,null,null,null,null,null,null,null,null,null,null,"1974-05-17",2000,1,null,0,null,null,null,null,null,null,null,null,22.23]
["1974-05-24",{"$f":"VLOOKUP(A339,'input BCI'!$O$3:$R$5000,4)","v":-10.72},null,null,-10.72,null,null,null,null,null,null,null,null,1,-10.72,null,null,-10.72,null,null,null,1,-10.72,-10.72,{"$f":"AVERAGE(INDIRECT($X$1&ROW()-$Y$4+1):X339)","v":-10.629999999999999},0,1,{"$f":"IF(AND(AA338=0,AA339=1,SUM(INDIRECT($AA$1&ROW()-$AB$4):AA338)=0),1,0)","v":0},0,{"$f":"IF(AND(AC338=0,AC339=1,SUM(INDIRECT($AC$1&ROW()-AD$4):AC338)=0),1,0)","v":0},88.58,null,null,null,null,null,null,null,null,null,null,null,null,"1974-05-24",2000,1,null,0,null,null,null,null,null,null,null,null,22.23]
["1974-05-31",{"$f":"VLOOKUP(A340,'input BCI'!$O$3:$R$5000,4)","v":-10.54},null,null,-10.54,null,null,null,null,null,null,null,null,1,-10.54,null,null,-10.54,null,null,null,1,-10.54,-10.54,{"$f":"AVERAGE(INDIRECT($X$1&ROW()-$Y$4+1):X340)","v":-10.535},0,1,{"$f":"IF(AND(AA339=0,AA340=1,SUM(INDIRECT($AA$1&ROW()-$AB$4):AA339)=0),1,0)","v":0},0,{"$f":"IF(AND(AC339=0,AC340=1,SUM(INDIRECT($AC$1&ROW()-AD$4):AC339)=0),1,0)","v":0},87.28,null,null,null,null,null,null,null,null,null,null,null,null,"1974-05-31",2000,1,null,0,null,null,null,null,null,null,null,null,22.23]
["1974-06-07",{"$f":"VLOOKUP(A341,'input BCI'!$O$3:$R$5000,4)","v":-10.53},null,null,-10.53,null,null,null,null,null,null,null,null,1,-10.53,null,null,-10.53,null,null,null,1,-10.53,-10.53,{"$f":"AVERAGE(INDIRECT($X$1&ROW()-$Y$4+1):X341)","v":-10.379999999999999},0,1,{"$f":"IF(AND(AA340=0,AA341=1,SUM(INDIRECT($AA$1&ROW()-$AB$4):AA340)=0),1,0)","v":0},0,{"$f":"IF(AND(AC340=0,AC341=1,SUM(INDIRECT($AC$1&ROW()-AD$4):AC340)=0),1,0)","v":0},92.55,null,null,null,null,null,null,null,null,null,null,null,null,"1974-06-07",2000,1,null,0,null,null,null,null,null,null,null,null,22.23]
["1974-06-14",{"$f":"VLOOKUP(A342,'input BCI'!$O$3:$R$5000,4)","v":-10.23},null,null,-10.23,null,null,null,null,null,null,null,null,1,-10.23,null,null,-10.23,null,null,null,1,-10.23,-10.23,{"$f":"AVERAGE(INDIRECT($X$1&ROW()-$Y$4+1):X342)","v":-10.035},0,1,{"$f":"IF(AND(AA341=0,AA342=1,SUM(INDIRECT($AA$1&ROW()-$AB$4):AA341)=0),1,0)","v":0},0,{"$f":"IF(AND(AC341=0,AC342=1,SUM(INDIRECT($AC$1&ROW()-AD$4):AC341)=0),1,0)","v":0},91.3,null,null,null,null,null,null,null,null,null,null,null,null,"1974-06-14",2000,1,null,0,null,null,null,null,null,null,null,null,22.23]
["1974-06-21",{"$f":"VLOOKUP(A343,'input BCI'!$O$3:$R$5000,4)","v":-9.84},null,null,-9.84,null,null,null,null,null,null,null,null,1,-9.84,null,null,-9.84,null,null,null,1,-9.84,-9.84,{"$f":"AVERAGE(INDIRECT($X$1&ROW()-$Y$4+1):X343)","v":-9.6550000000000011},0,1,{"$f":"IF(AND(AA342=0,AA343=1,SUM(INDIRECT($AA$1&ROW()-$AB$4):AA342)=0),1,0)","v":0},0,{"$f":"IF(AND(AC342=0,AC343=1,SUM(INDIRECT($AC$1&ROW()-AD$4):AC342)=0),1,0)","v":0},87.46,null,null,null,null,null,null,null,null,null,null,null,null,"1974-06-21",2000,1,null,0,null,null,null,null,null,null,null,null,22.23]
["1974-06-28",{"$f":"VLOOKUP(A344,'input BCI'!$O$3:$R$5000,4)","v":-9.4700000000000006},null,null,-9.4700000000000006,null,null,null,null,null,null,null,null,1,-9.4700000000000006,null,null,-9.4700000000000006,null,null,null,1,-9.4700000000000006,-9.4700000000000006,{"$f":"AVERAGE(INDIRECT($X$1&ROW()-$Y$4+1):X344)","v":-9.4},0,1,{"$f":"IF(AND(AA343=0,AA344=1,SUM(INDIRECT($AA$1&ROW()-$AB$4):AA343)=0),1,0)","v":0},0,{"$f":"IF(AND(AC343=0,AC344=1,SUM(INDIRECT($AC$1&ROW()-AD$4):AC343)=0),1,0)","v":0},86,null,null,null,null,null,null,null,null,null,null,null,null,"1974-06-28",2000,1,null,0,null,null,null,null,null,null,null,null,22.23]
["1974-07-05",{"$f":"VLOOKUP(A345,'input BCI'!$O$3:$R$5000,4)","v":-9.33},null,null,-9.33,null,null,null,null,null,null,null,null,1,-9.33,null,null,{"$f":"O345*R$7","v":-9.33},null,null,null,1,-9.33,-9.33,{"$f":"AVERAGE(INDIRECT($X$1&ROW()-$Y$4+1):X345)","v":-9.6},0,0,{"$f":"IF(AND(AA344=0,AA345=1,SUM(INDIRECT($AA$1&ROW()-$AB$4):AA344)=0),1,0)","v":0},1,{"$f":"IF(AND(AC344=0,AC345=1,SUM(INDIRECT($AC$1&ROW()-AD$4):AC344)=0),1,0)","v":1},83.66,null,null,null,null,null,null,null,null,null,null,null,null,"1974-07-05",2000,1,null,0,null,null,null,null,null,null,null,null,22.23]
["1974-07-12",{"$f":"VLOOKUP(A346,'input BCI'!$O$3:$R$5000,4)","v":-9.8699999999999992},null,null,-9.8699999999999992,null,null,null,null,null,null,null,null,1,-9.8699999999999992,null,null,-9.8699999999999992,null,null,null,1,-9.8699999999999992,-9.8699999999999992,{"$f":"AVERAGE(INDIRECT($X$1&ROW()-$Y$4+1):X346)","v":-10.11},0,0,{"$f":"IF(AND(AA345=0,AA346=1,SUM(INDIRECT($AA$1&ROW()-$AB$4):AA345)=0),1,0)","v":0},1,{"$f":"IF(AND(AC345=0,AC346=1,SUM(INDIRECT($AC$1&ROW()-AD$4):AC345)=0),1,0)","v":0},83.15,null,null,null,null,null,null,null,null,null,null,null,null,"1974-07-12",2000,1,null,0,null,null,null,null,null,null,null,null,22.23]
["1974-07-19",{"$f":"VLOOKUP(A347,'input BCI'!$O$3:$R$5000,4)","v":-10.35},null,null,-10.35,null,null,null,null,null,null,null,null,1,-10.35,null,null,-10.35,null,null,null,1,-10.35,-10.35,{"$f":"AVERAGE(INDIRECT($X$1&ROW()-$Y$4+1):X347)","v":-10.39},0,0,{"$f":"IF(AND(AA346=0,AA347=1,SUM(INDIRECT($AA$1&ROW()-$AB$4):AA346)=0),1,0)","v":0},1,{"$f":"IF(AND(AC346=0,AC347=1,SUM(INDIRECT($AC$1&ROW()-AD$4):AC346)=0),1,0)","v":0},83.54,null,null,null,null,null,null,null,null,null,null,null,null,"1974-07-19",2000,1,null,0,null,null,null,null,null,null,null,null,22.23]
["1974-07-26",{"$f":"VLOOKUP(A348,'input BCI'!$O$3:$R$5000,4)","v":-10.43},null,null,-10.43,null,null,null,null,null,null,null,null,1,-10.43,null,null,-10.43,null,null,null,1,-10.43,-10.43,{"$f":"AVERAGE(INDIRECT($X$1&ROW()-$Y$4+1):X348)","v":-10.620000000000001},0,0,{"$f":"IF(AND(AA347=0,AA348=1,SUM(INDIRECT($AA$1&ROW()-$AB$4):AA347)=0),1,0)","v":0},1,{"$f":"IF(AND(AC347=0,AC348=1,SUM(INDIRECT($AC$1&ROW()-AD$4):AC347)=0),1,0)","v":0},82.4,null,null,null,null,null,null,null,null,null,null,null,null,"1974-07-26",2000,1,null,0,null,null,null,null,null,null,null,null,22.23]
["1974-08-02",{"$f":"VLOOKUP(A349,'input BCI'!$O$3:$R$5000,4)","v":-10.81},null,null,-10.81,null,null,null,null,null,null,null,null,1,-10.81,null,null,-10.81,null,null,null,1,-10.81,-10.81,{"$f":"AVERAGE(INDIRECT($X$1&ROW()-$Y$4+1):X349)","v":-10.965},0,0,{"$f":"IF(AND(AA348=0,AA349=1,SUM(INDIRECT($AA$1&ROW()-$AB$4):AA348)=0),1,0)","v":0},1,{"$f":"IF(AND(AC348=0,AC349=1,SUM(INDIRECT($AC$1&ROW()-AD$4):AC348)=0),1,0)","v":0},78.59,null,null,null,null,null,null,null,null,null,null,null,null,"1974-08-02",2000,1,null,0,null,null,null,null,null,null,null,null,22.23]
["1974-08-09",{"$f":"VLOOKUP(A350,'input BCI'!$O$3:$R$5000,4)","v":-11.12},null,null,-11.12,null,null,null,null,null,null,null,null,1,-11.12,null,null,-11.12,null,null,null,1,-11.12,-11.12,{"$f":"AVERAGE(INDIRECT($X$1&ROW()-$Y$4+1):X350)","v":-11.329999999999998},0,0,{"$f":"IF(AND(AA349=0,AA350=1,SUM(INDIRECT($AA$1&ROW()-$AB$4):AA349)=0),1,0)","v":0},1,{"$f":"IF(AND(AC349=0,AC350=1,SUM(INDIRECT($AC$1&ROW()-AD$4):AC349)=0),1,0)","v":0},80.86,null,null,null,null,null,null,null,null,null,null,null,null,"1974-08-09",2000,1,null,0,null,null,null,null,null,null,null,null,22.23]
["1974-08-16",{"$f":"VLOOKUP(A351,'input BCI'!$O$3:$R$5000,4)","v":-11.54},null,null,-11.54,null,null,null,null,null,null,null,null,1,-11.54,null,null,-11.54,null,null,null,1,-11.54,-11.54,{"$f":"AVERAGE(INDIRECT($X$1&ROW()-$Y$4+1):X351)","v":-12.2},0,0,{"$f":"IF(AND(AA350=0,AA351=1,SUM(INDIRECT($AA$1&ROW()-$AB$4):AA350)=0),1,0)","v":0},1,{"$f":"IF(AND(AC350=0,AC351=1,SUM(INDIRECT($AC$1&ROW()-AD$4):AC350)=0),1,0)","v":0},75.67,null,null,null,null,null,null,null,null,null,null,null,null,"1974-08-16",2000,1,null,0,null,null,null,null,null,null,null,null,22.23]
["1974-08-23",{"$f":"VLOOKUP(A352,'input BCI'!$O$3:$R$5000,4)","v":-12.86},null,null,-12.86,null,null,null,null,null,null,null,null,1,-12.86,null,null,-12.86,null,null,null,1,-12.86,-12.86,{"$f":"AVERAGE(INDIRECT($X$1&ROW()-$Y$4+1):X352)","v":-13.585000000000001},0,0,{"$f":"IF(AND(AA351=0,AA352=1,SUM(INDIRECT($AA$1&ROW()-$AB$4):AA351)=0),1,0)","v":0},1,{"$f":"IF(AND(AC351=0,AC352=1,SUM(INDIRECT($AC$1&ROW()-AD$4):AC351)=0),1,0)","v":0},71.55,null,null,null,null,null,null,null,null,null,null,null,null,"1974-08-23",2000,1,null,0,null,null,null,null,null,null,null,null,22.23]
["1974-08-30",{"$f":"VLOOKUP(A353,'input BCI'!$O$3:$R$5000,4)","v":-14.31},null,null,-14.31,null,null,null,null,null,null,null,null,1,-14.31,null,null,-14.31,null,null,null,1,-14.31,-14.31,{"$f":"AVERAGE(INDIRECT($X$1&ROW()-$Y$4+1):X353)","v":-15},0,0,{"$f":"IF(AND(AA352=0,AA353=1,SUM(INDIRECT($AA$1&ROW()-$AB$4):AA352)=0),1,0)","v":0},1,{"$f":"IF(AND(AC352=0,AC353=1,SUM(INDIRECT($AC$1&ROW()-AD$4):AC352)=0),1,0)","v":0},72.150000000000006,null,null,null,null,null,null,null,null,null,null,null,null,"1974-08-30",2000,1,null,0,null,null,null,null,null,null,null,null,22.23]
["1974-09-06",{"$f":"VLOOKUP(A354,'input BCI'!$O$3:$R$5000,4)","v":-15.69},null,null,-15.69,null,null,null,null,null,null,null,null,1,-15.69,null,null,-15.69,null,null,null,1,-15.69,-15.69,{"$f":"AVERAGE(INDIRECT($X$1&ROW()-$Y$4+1):X354)","v":-16.375},0,0,{"$f":"IF(AND(AA353=0,AA354=1,SUM(INDIRECT($AA$1&ROW()-$AB$4):AA353)=0),1,0)","v":0},1,{"$f":"IF(AND(AC353=0,AC354=1,SUM(INDIRECT($AC$1&ROW()-AD$4):AC353)=0),1,0)","v":0},71.42,null,null,null,null,null,null,null,null,null,null,null,null,"1974-09-06",2000,1,null,0,null,null,null,null,null,null,null,null,22.23]
["1974-09-13",{"$f":"VLOOKUP(A355,'input BCI'!$O$3:$R$5000,4)","v":-17.059999999999999},null,null,-17.059999999999999,null,null,null,null,null,null,null,null,1,-17.059999999999999,null,null,-17.059999999999999,null,null,null,1,-17.059999999999999,-17.059999999999999,{"$f":"AVERAGE(INDIRECT($X$1&ROW()-$Y$4+1):X355)","v":-17.7},0,0,{"$f":"IF(AND(AA354=0,AA355=1,SUM(INDIRECT($AA$1&ROW()-$AB$4):AA354)=0),1,0)","v":0},1,{"$f":"IF(AND(AC354=0,AC355=1,SUM(INDIRECT($AC$1&ROW()-AD$4):AC354)=0),1,0)","v":0},65.2,null,null,null,null,null,null,null,null,null,null,null,null,"1974-09-13",2000,1,null,0,null,null,null,null,null,null,null,null,22.23]
["1974-09-20",{"$f":"VLOOKUP(A356,'input BCI'!$O$3:$R$5000,4)","v":-18.34},null,null,-18.34,null,null,null,null,null,null,null,null,1,-18.34,null,null,-18.34,null,null,null,1,-18.34,-18.34,{"$f":"AVERAGE(INDIRECT($X$1&ROW()-$Y$4+1):X356)","v":-18.664999999999999},0,0,{"$f":"IF(AND(AA355=0,AA356=1,SUM(INDIRECT($AA$1&ROW()-$AB$4):AA355)=0),1,0)","v":0},1,{"$f":"IF(AND(AC355=0,AC356=1,SUM(INDIRECT($AC$1&ROW()-AD$4):AC355)=0),1,0)","v":0},70.14,null,null,null,null,null,null,null,null,null,null,null,null,"1974-09-20",2000,1,null,0,null,null,null,null,null,null,null,null,22.23]
["1974-09-27",{"$f":"VLOOKUP(A357,'input BCI'!$O$3:$R$5000,4)","v":-18.989999999999998},null,null,-18.989999999999998,null,null,null,null,null,null,null,null,1,-18.989999999999998,null,null,-18.989999999999998,null,null,null,1,-18.989999999999998,-18.989999999999998,{"$f":"AVERAGE(INDIRECT($X$1&ROW()-$Y$4+1):X357)","v":-19.555},0,0,{"$f":"IF(AND(AA356=0,AA357=1,SUM(INDIRECT($AA$1&ROW()-$AB$4):AA356)=0),1,0)","v":0},1,{"$f":"IF(AND(AC356=0,AC357=1,SUM(INDIRECT($AC$1&ROW()-AD$4):AC356)=0),1,0)","v":0},64.94,null,null,null,null,null,null,null,null,null,null,null,null,"1974-09-27",2000,1,null,0,null,null,null,null,null,null,null,null,22.23]
["1974-10-04",{"$f":"VLOOKUP(A358,'input BCI'!$O$3:$R$5000,4)","v":-20.12},null,null,-20.12,null,null,null,null,null,null,null,null,1,-20.12,null,null,-20.12,null,null,null,1,-20.12,-20.12,{"$f":"AVERAGE(INDIRECT($X$1&ROW()-$Y$4+1):X358)","v":-20.645000000000003},0,0,{"$f":"IF(AND(AA357=0,AA358=1,SUM(INDIRECT($AA$1&ROW()-$AB$4):AA357)=0),1,0)","v":0},1,{"$f":"IF(AND(AC357=0,AC358=1,SUM(INDIRECT($AC$1&ROW()-AD$4):AC357)=0),1,0)","v":0},62.34,null,null,null,null,null,null,null,null,null,null,null,null,"1974-10-04",2000,1,null,0,null,null,null,null,null,null,null,null,22.23]
["1974-10-11",{"$f":"VLOOKUP(A359,'input BCI'!$O$3:$R$5000,4)","v":-21.17},null,null,-21.17,null,null,null,null,null,null,null,null,1,-21.17,null,null,-21.17,null,null,null,1,-21.17,-21.17,{"$f":"AVERAGE(INDIRECT($X$1&ROW()-$Y$4+1):X359)","v":-21.01},0,1,{"$f":"IF(AND(AA358=0,AA359=1,SUM(INDIRECT($AA$1&ROW()-$AB$4):AA358)=0),1,0)","v":1},0,{"$f":"IF(AND(AC358=0,AC359=1,SUM(INDIRECT($AC$1&ROW()-AD$4):AC358)=0),1,0)","v":0},71.14,null,null,null,null,null,null,null,null,null,null,null,null,"1974-10-11",2000,1,null,0,null,null,null,null,null,null,null,null,22.23]
["1974-10-18",{"$f":"VLOOKUP(A360,'input BCI'!$O$3:$R$5000,4)","v":-20.85},null,null,-20.85,null,null,null,null,null,null,null,null,1,-20.85,null,null,-20.85,null,null,null,1,-20.85,-20.85,{"$f":"AVERAGE(INDIRECT($X$1&ROW()-$Y$4+1):X360)","v":-20.645000000000003},0,1,{"$f":"IF(AND(AA359=0,AA360=1,SUM(INDIRECT($AA$1&ROW()-$AB$4):AA359)=0),1,0)","v":0},0,{"$f":"IF(AND(AC359=0,AC360=1,SUM(INDIRECT($AC$1&ROW()-AD$4):AC359)=0),1,0)","v":0},72.28,null,null,null,null,null,null,null,null,null,null,null,null,"1974-10-18",2000,1,null,0,null,null,null,null,null,null,null,null,22.23]
["1974-10-25",{"$f":"VLOOKUP(A361,'input BCI'!$O$3:$R$5000,4)","v":-20.440000000000001},null,null,-20.440000000000001,null,null,null,null,null,null,null,null,1,-20.440000000000001,null,null,-20.440000000000001,null,null,null,1,-20.440000000000001,-20.440000000000001,{"$f":"AVERAGE(INDIRECT($X$1&ROW()-$Y$4+1):X361)","v":-20.020000000000003},0,1,{"$f":"IF(AND(AA360=0,AA361=1,SUM(INDIRECT($AA$1&ROW()-$AB$4):AA360)=0),1,0)","v":0},0,{"$f":"IF(AND(AC360=0,AC361=1,SUM(INDIRECT($AC$1&ROW()-AD$4):AC360)=0),1,0)","v":0},70.12,null,null,null,null,null,null,null,null,null,null,null,null,"1974-10-25",2000,1,null,0,null,null,null,null,null,null,null,null,22.23]
["1974-11-01",{"$f":"VLOOKUP(A362,'input BCI'!$O$3:$R$5000,4)","v":-19.600000000000001},null,null,-19.600000000000001,null,null,null,null,null,null,null,null,1,-19.600000000000001,null,null,-19.600000000000001,null,null,null,1,-19.600000000000001,-19.600000000000001,{"$f":"AVERAGE(INDIRECT($X$1&ROW()-$Y$4+1):X362)","v":-18.98},0,1,{"$f":"IF(AND(AA361=0,AA362=1,SUM(INDIRECT($AA$1&ROW()-$AB$4):AA361)=0),1,0)","v":0},0,{"$f":"IF(AND(AC361=0,AC362=1,SUM(INDIRECT($AC$1&ROW()-AD$4):AC361)=0),1,0)","v":0},73.88,null,null,null,null,null,null,null,null,null,null,null,null,"1974-11-01",2000,1,null,0,null,null,null,null,null,null,null,null,22.23]
["1974-11-08",{"$f":"VLOOKUP(A363,'input BCI'!$O$3:$R$5000,4)","v":-18.36},null,null,-18.36,null,null,null,null,null,null,null,null,1,-18.36,null,null,-18.36,null,null,null,1,-18.36,-18.36,{"$f":"AVERAGE(INDIRECT($X$1&ROW()-$Y$4+1):X363)","v":-18.189999999999998},0,1,{"$f":"IF(AND(AA362=0,AA363=1,SUM(INDIRECT($AA$1&ROW()-$AB$4):AA362)=0),1,0)","v":0},0,{"$f":"IF(AND(AC362=0,AC363=1,SUM(INDIRECT($AC$1&ROW()-AD$4):AC362)=0),1,0)","v":0},74.91,null,null,null,null,null,null,null,null,null,null,null,null,"1974-11-08",2000,1,null,0,null,null,null,null,null,null,null,null,22.23]
["1974-11-15",{"$f":"VLOOKUP(A364,'input BCI'!$O$3:$R$5000,4)","v":-18.02},null,null,-18.02,null,null,null,null,null,null,null,null,1,-18.02,null,null,-18.02,null,null,null,1,-18.02,-18.02,{"$f":"AVERAGE(INDIRECT($X$1&ROW()-$Y$4+1):X364)","v":-18.295000000000002},0,0,{"$f":"IF(AND(AA363=0,AA364=1,SUM(INDIRECT($AA$1&ROW()-$AB$4):AA363)=0),1,0)","v":0},1,{"$f":"IF(AND(AC363=0,AC364=1,SUM(INDIRECT($AC$1&ROW()-AD$4):AC363)=0),1,0)","v":1},71.91,null,null,null,null,null,null,null,null,null,null,null,null,"1974-11-15",2000,1,null,0,null,null,null,null,null,null,null,null,22.23]
["1974-11-22",{"$f":"VLOOKUP(A365,'input BCI'!$O$3:$R$5000,4)","v":-18.57},null,null,-18.57,null,null,null,null,null,null,null,null,1,-18.57,null,null,-18.57,null,null,null,1,-18.57,-18.57,{"$f":"AVERAGE(INDIRECT($X$1&ROW()-$Y$4+1):X365)","v":-19.064999999999998},0,0,{"$f":"IF(AND(AA364=0,AA365=1,SUM(INDIRECT($AA$1&ROW()-$AB$4):AA364)=0),1,0)","v":0},1,{"$f":"IF(AND(AC364=0,AC365=1,SUM(INDIRECT($AC$1&ROW()-AD$4):AC364)=0),1,0)","v":0},68.900000000000006,null,null,null,null,null,null,null,null,null,null,null,null,"1974-11-22",2000,1,null,0,null,null,null,null,null,null,null,null,22.23]
["1974-11-29",{"$f":"VLOOKUP(A366,'input BCI'!$O$3:$R$5000,4)","v":-19.559999999999999},null,null,-19.559999999999999,null,null,null,null,null,null,null,null,1,-19.559999999999999,null,null,-19.559999999999999,null,null,null,1,-19.559999999999999,-19.559999999999999,{"$f":"AVERAGE(INDIRECT($X$1&ROW()-$Y$4+1):X366)","v":-20.27},0,0,{"$f":"IF(AND(AA365=0,AA366=1,SUM(INDIRECT($AA$1&ROW()-$AB$4):AA365)=0),1,0)","v":0},1,{"$f":"IF(AND(AC365=0,AC366=1,SUM(INDIRECT($AC$1&ROW()-AD$4):AC365)=0),1,0)","v":0},69.97,null,null,null,null,null,null,null,null,null,null,null,null,"1974-11-29",2000,1,null,0,null,null,null,null,null,null,null,null,22.23]
["1974-12-06",{"$f":"VLOOKUP(A367,'input BCI'!$O$3:$R$5000,4)","v":-20.98},null,null,-20.98,null,null,null,null,null,null,null,null,1,-20.98,null,null,-20.98,null,null,null,1,-20.98,-20.98,{"$f":"AVERAGE(INDIRECT($X$1&ROW()-$Y$4+1):X367)","v":-22.07},0,0,{"$f":"IF(AND(AA366=0,AA367=1,SUM(INDIRECT($AA$1&ROW()-$AB$4):AA366)=0),1,0)","v":0},1,{"$f":"IF(AND(AC366=0,AC367=1,SUM(INDIRECT($AC$1&ROW()-AD$4):AC366)=0),1,0)","v":0},65.010000000000005,null,null,null,null,null,null,null,null,null,null,null,null,"1974-12-06",2000,1,null,0,null,null,null,null,null,null,null,null,22.23]
["1974-12-13",{"$f":"VLOOKUP(A368,'input BCI'!$O$3:$R$5000,4)","v":-23.16},null,null,-23.16,null,null,null,null,null,null,null,null,1,-23.16,null,null,-23.16,null,null,null,1,-23.16,-23.16,{"$f":"AVERAGE(INDIRECT($X$1&ROW()-$Y$4+1):X368)","v":-24.015000000000001},0,0,{"$f":"IF(AND(AA367=0,AA368=1,SUM(INDIRECT($AA$1&ROW()-$AB$4):AA367)=0),1,0)","v":0},1,{"$f":"IF(AND(AC367=0,AC368=1,SUM(INDIRECT($AC$1&ROW()-AD$4):AC367)=0),1,0)","v":0},67.069999999999993,null,null,null,null,null,null,null,null,null,null,null,null,"1974-12-13",2000,1,null,0,null,null,null,null,null,null,null,null,22.23]
["1974-12-20",{"$f":"VLOOKUP(A369,'input BCI'!$O$3:$R$5000,4)","v":-24.87},null,null,-24.87,null,null,null,null,null,null,null,null,1,-24.87,null,null,-24.87,null,null,null,1,-24.87,-24.87,{"$f":"AVERAGE(INDIRECT($X$1&ROW()-$Y$4+1):X369)","v":-25.520000000000003},0,0,{"$f":"IF(AND(AA368=0,AA369=1,SUM(INDIRECT($AA$1&ROW()-$AB$4):AA368)=0),1,0)","v":0},1,{"$f":"IF(AND(AC368=0,AC369=1,SUM(INDIRECT($AC$1&ROW()-AD$4):AC368)=0),1,0)","v":0},66.91,null,null,null,null,null,null,null,null,null,null,null,null,"1974-12-20",2000,1,null,0,null,null,null,null,null,null,null,null,22.23]
["1974-12-27",{"$f":"VLOOKUP(A370,'input BCI'!$O$3:$R$5000,4)","v":-26.17},null,null,-26.17,null,null,null,null,null,null,null,null,1,-26.17,null,null,-26.17,null,null,null,1,-26.17,-26.17,{"$f":"AVERAGE(INDIRECT($X$1&ROW()-$Y$4+1):X370)","v":-26.725000000000001},0,0,{"$f":"IF(AND(AA369=0,AA370=1,SUM(INDIRECT($AA$1&ROW()-$AB$4):AA369)=0),1,0)","v":0},1,{"$f":"IF(AND(AC369=0,AC370=1,SUM(INDIRECT($AC$1&ROW()-AD$4):AC369)=0),1,0)","v":0},67.14,null,null,null,null,null,null,null,null,null,null,null,null,"1974-12-27",2000,1,null,0,null,null,null,null,null,null,null,null,22.23]
["1975-01-03",{"$f":"VLOOKUP(A371,'input BCI'!$O$3:$R$5000,4)","v":-27.28},null,null,-27.28,null,null,null,null,null,null,null,null,1,-27.28,null,null,-27.28,null,null,null,1,-27.28,-27.28,{"$f":"AVERAGE(INDIRECT($X$1&ROW()-$Y$4+1):X371)","v":-27.34},0,0,{"$f":"IF(AND(AA370=0,AA371=1,SUM(INDIRECT($AA$1&ROW()-$AB$4):AA370)=0),1,0)","v":0},1,{"$f":"IF(AND(AC370=0,AC371=1,SUM(INDIRECT($AC$1&ROW()-AD$4):AC370)=0),1,0)","v":0},70.709999999999994,null,null,null,null,null,null,null,null,null,null,null,null,"1975-01-03",2000,1,null,0,null,null,null,null,null,null,null,null,22.23]
["1975-01-10",{"$f":"VLOOKUP(A372,'input BCI'!$O$3:$R$5000,4)","v":-27.4},null,null,-27.4,null,null,null,null,null,null,null,null,1,-27.4,null,null,-27.4,null,null,null,1,-27.4,-27.4,{"$f":"AVERAGE(INDIRECT($X$1&ROW()-$Y$4+1):X372)","v":-27.354999999999997},0,1,{"$f":"IF(AND(AA371=0,AA372=1,SUM(INDIRECT($AA$1&ROW()-$AB$4):AA371)=0),1,0)","v":1},0,{"$f":"IF(AND(AC371=0,AC372=1,SUM(INDIRECT($AC$1&ROW()-AD$4):AC371)=0),1,0)","v":0},72.61,null,null,null,null,null,null,null,null,null,null,null,null,"1975-01-10",2000,1,null,0,null,null,null,null,null,null,null,null,22.23]
["1975-01-17",{"$f":"VLOOKUP(A373,'input BCI'!$O$3:$R$5000,4)","v":-27.31},null,null,-27.31,null,null,null,null,null,null,null,null,1,-27.31,null,null,-27.31,null,null,null,1,-27.31,-27.31,{"$f":"AVERAGE(INDIRECT($X$1&ROW()-$Y$4+1):X373)","v":-27.16},0,1,{"$f":"IF(AND(AA372=0,AA373=1,SUM(INDIRECT($AA$1&ROW()-$AB$4):AA372)=0),1,0)","v":0},0,{"$f":"IF(AND(AC372=0,AC373=1,SUM(INDIRECT($AC$1&ROW()-AD$4):AC372)=0),1,0)","v":0},70.959999999999994,null,null,null,null,null,null,null,null,null,null,null,null,"1975-01-17",2000,1,null,0,null,null,null,null,null,null,null,null,22.23]
["1975-01-24",{"$f":"VLOOKUP(A374,'input BCI'!$O$3:$R$5000,4)","v":-27.01},null,null,-27.01,null,null,null,null,null,null,null,null,1,-27.01,null,null,-27.01,null,null,null,1,-27.01,-27.01,{"$f":"AVERAGE(INDIRECT($X$1&ROW()-$Y$4+1):X374)","v":-26.8},0,1,{"$f":"IF(AND(AA373=0,AA374=1,SUM(INDIRECT($AA$1&ROW()-$AB$4):AA373)=0),1,0)","v":0},0,{"$f":"IF(AND(AC373=0,AC374=1,SUM(INDIRECT($AC$1&ROW()-AD$4):AC373)=0),1,0)","v":0},72.98,null,null,null,null,null,null,null,null,null,null,null,null,"1975-01-24",2000,1,null,0,null,null,null,null,null,null,null,null,22.23]
["1975-01-31",{"$f":"VLOOKUP(A375,'input BCI'!$O$3:$R$5000,4)","v":-26.59},null,null,-26.59,null,null,null,null,null,null,null,null,1,-26.59,null,null,-26.59,null,null,null,1,-26.59,-26.59,{"$f":"AVERAGE(INDIRECT($X$1&ROW()-$Y$4+1):X375)","v":-26.355},0,1,{"$f":"IF(AND(AA374=0,AA375=1,SUM(INDIRECT($AA$1&ROW()-$AB$4):AA374)=0),1,0)","v":0},0,{"$f":"IF(AND(AC374=0,AC375=1,SUM(INDIRECT($AC$1&ROW()-AD$4):AC374)=0),1,0)","v":0},76.98,null,null,null,null,null,null,null,null,null,null,null,null,"1975-01-31",2000,1,null,0,null,null,null,null,null,null,null,null,22.23]
["1975-02-07",{"$f":"VLOOKUP(A376,'input BCI'!$O$3:$R$5000,4)","v":-26.12},null,null,-26.12,null,null,null,null,null,null,null,null,1,-26.12,null,null,-26.12,null,null,null,1,-26.12,-26.12,{"$f":"AVERAGE(INDIRECT($X$1&ROW()-$Y$4+1):X376)","v":-25.85},0,1,{"$f":"IF(AND(AA375=0,AA376=1,SUM(INDIRECT($AA$1&ROW()-$AB$4):AA375)=0),1,0)","v":0},0,{"$f":"IF(AND(AC375=0,AC376=1,SUM(INDIRECT($AC$1&ROW()-AD$4):AC375)=0),1,0)","v":0},78.63,null,null,null,null,null,null,null,null,null,null,null,null,"1975-02-07",2000,1,null,0,null,null,null,null,null,null,null,null,22.23]
["1975-02-14",{"$f":"VLOOKUP(A377,'input BCI'!$O$3:$R$5000,4)","v":-25.58},null,null,-25.58,null,null,null,null,null,null,null,null,1,-25.58,null,null,-25.58,null,null,null,1,-25.58,-25.58,{"$f":"AVERAGE(INDIRECT($X$1&ROW()-$Y$4+1):X377)","v":-25.174999999999997},0,1,{"$f":"IF(AND(AA376=0,AA377=1,SUM(INDIRECT($AA$1&ROW()-$AB$4):AA376)=0),1,0)","v":0},0,{"$f":"IF(AND(AC376=0,AC377=1,SUM(INDIRECT($AC$1&ROW()-AD$4):AC376)=0),1,0)","v":0},81.5,null,null,null,null,null,null,null,null,null,null,null,null,"1975-02-14",2000,1,null,0,null,null,null,null,null,null,null,null,22.23]
["1975-02-21",{"$f":"VLOOKUP(A378,'input BCI'!$O$3:$R$5000,4)","v":-24.77},null,null,-24.77,null,null,null,null,null,null,null,null,1,-24.77,null,null,-24.77,null,null,null,1,-24.77,-24.77,{"$f":"AVERAGE(INDIRECT($X$1&ROW()-$Y$4+1):X378)","v":-24.46},0,1,{"$f":"IF(AND(AA377=0,AA378=1,SUM(INDIRECT($AA$1&ROW()-$AB$4):AA377)=0),1,0)","v":0},0,{"$f":"IF(AND(AC377=0,AC378=1,SUM(INDIRECT($AC$1&ROW()-AD$4):AC377)=0),1,0)","v":0},82.62,null,null,null,null,null,null,null,null,null,null,null,null,"1975-02-21",2000,1,null,0,null,null,null,null,null,null,null,null,22.23]
["1975-02-28",{"$f":"VLOOKUP(A379,'input BCI'!$O$3:$R$5000,4)","v":-24.15},null,null,-24.15,null,null,null,null,null,null,null,null,1,-24.15,null,null,-24.15,null,null,null,1,-24.15,-24.15,{"$f":"AVERAGE(INDIRECT($X$1&ROW()-$Y$4+1):X379)","v":-23.924999999999997},0,1,{"$f":"IF(AND(AA378=0,AA379=1,SUM(INDIRECT($AA$1&ROW()-$AB$4):AA378)=0),1,0)","v":0},0,{"$f":"IF(AND(AC378=0,AC379=1,SUM(INDIRECT($AC$1&ROW()-AD$4):AC378)=0),1,0)","v":0},81.59,null,null,null,null,null,null,null,null,null,null,null,null,"1975-02-28",2000,1,null,0,null,null,null,null,null,null,null,null,22.23]
["1975-03-07",{"$f":"VLOOKUP(A380,'input BCI'!$O$3:$R$5000,4)","v":-23.7},null,null,-23.7,null,null,null,null,null,null,null,null,1,-23.7,null,null,-23.7,null,null,null,1,-23.7,-23.7,{"$f":"AVERAGE(INDIRECT($X$1&ROW()-$Y$4+1):X380)","v":-23.46},0,1,{"$f":"IF(AND(AA379=0,AA380=1,SUM(INDIRECT($AA$1&ROW()-$AB$4):AA379)=0),1,0)","v":0},0,{"$f":"IF(AND(AC379=0,AC380=1,SUM(INDIRECT($AC$1&ROW()-AD$4):AC379)=0),1,0)","v":0},84.3,null,null,null,null,null,null,null,null,null,null,null,null,"1975-03-07",2000,1,null,0,null,null,null,null,null,null,null,null,22.23]
["1975-03-14",{"$f":"VLOOKUP(A381,'input BCI'!$O$3:$R$5000,4)","v":-23.22},null,null,-23.22,null,null,null,null,null,null,null,null,1,-23.22,null,null,-23.22,null,null,null,1,-23.22,-23.22,{"$f":"AVERAGE(INDIRECT($X$1&ROW()-$Y$4+1):X381)","v":-23.064999999999998},0,1,{"$f":"IF(AND(AA380=0,AA381=1,SUM(INDIRECT($AA$1&ROW()-$AB$4):AA380)=0),1,0)","v":0},0,{"$f":"IF(AND(AC380=0,AC381=1,SUM(INDIRECT($AC$1&ROW()-AD$4):AC380)=0),1,0)","v":0},84.76,null,null,null,null,null,null,null,null,null,null,null,null,"1975-03-14",2000,1,null,0,null,null,null,null,null,null,null,null,22.23]
["1975-03-21",{"$f":"VLOOKUP(A382,'input BCI'!$O$3:$R$5000,4)","v":-22.91},null,null,-22.91,null,null,null,null,null,null,null,null,1,-22.91,null,null,-22.91,null,null,null,1,-22.91,-22.91,{"$f":"AVERAGE(INDIRECT($X$1&ROW()-$Y$4+1):X382)","v":-22.85},0,1,{"$f":"IF(AND(AA381=0,AA382=1,SUM(INDIRECT($AA$1&ROW()-$AB$4):AA381)=0),1,0)","v":0},0,{"$f":"IF(AND(AC381=0,AC382=1,SUM(INDIRECT($AC$1&ROW()-AD$4):AC381)=0),1,0)","v":0},83.39,null,null,null,null,null,null,null,null,null,null,null,null,"1975-03-21",2000,1,null,0,null,null,null,null,null,null,null,null,22.23]
["1975-03-28",{"$f":"VLOOKUP(A383,'input BCI'!$O$3:$R$5000,4)","v":-22.79},null,null,-22.79,null,null,null,null,null,null,null,null,1,-22.79,null,null,-22.79,null,null,null,1,-22.79,-22.79,{"$f":"AVERAGE(INDIRECT($X$1&ROW()-$Y$4+1):X383)","v":-22.72},0,1,{"$f":"IF(AND(AA382=0,AA383=1,SUM(INDIRECT($AA$1&ROW()-$AB$4):AA382)=0),1,0)","v":0},0,{"$f":"IF(AND(AC382=0,AC383=1,SUM(INDIRECT($AC$1&ROW()-AD$4):AC382)=0),1,0)","v":0},83.85,null,null,null,null,null,null,null,null,null,null,null,null,"1975-03-28",2000,1,null,0,null,null,null,null,null,null,null,null,22.23]
["1975-04-04",{"$f":"VLOOKUP(A384,'input BCI'!$O$3:$R$5000,4)","v":-22.65},null,null,-22.65,null,null,null,null,null,null,null,null,0,-22.65,null,null,-22.65,null,null,null,1,-22.65,-22.65,{"$f":"AVERAGE(INDIRECT($X$1&ROW()-$Y$4+1):X384)","v":-22.744999999999997},0,0,{"$f":"IF(AND(AA383=0,AA384=1,SUM(INDIRECT($AA$1&ROW()-$AB$4):AA383)=0),1,0)","v":0},1,{"$f":"IF(AND(AC383=0,AC384=1,SUM(INDIRECT($AC$1&ROW()-AD$4):AC383)=0),1,0)","v":1},80.88,null,null,null,null,null,null,null,null,null,null,null,null,null,-2000,0,null,0,null,null,null,null,null,null,null,null,22.23]
["1975-04-11",{"$f":"VLOOKUP(A385,'input BCI'!$O$3:$R$5000,4)","v":-22.84},null,null,-22.84,null,null,null,null,null,null,null,null,0,-22.84,null,null,-22.84,null,null,null,1,-22.84,-22.84,{"$f":"AVERAGE(INDIRECT($X$1&ROW()-$Y$4+1):X385)","v":-22.765000000000001},0,1,{"$f":"IF(AND(AA384=0,AA385=1,SUM(INDIRECT($AA$1&ROW()-$AB$4):AA384)=0),1,0)","v":0},0,{"$f":"IF(AND(AC384=0,AC385=1,SUM(INDIRECT($AC$1&ROW()-AD$4):AC384)=0),1,0)","v":0},84.18,null,null,null,null,null,null,null,null,null,null,null,null,null,-2000,0,null,0,null,null,null,null,null,null,null,null,22.23]
["1975-04-18",{"$f":"VLOOKUP(A386,'input BCI'!$O$3:$R$5000,4)","v":-22.69},null,null,-22.69,null,null,null,null,null,null,null,null,0,-22.69,null,null,-22.69,null,null,null,1,-22.69,-22.69,{"$f":"AVERAGE(INDIRECT($X$1&ROW()-$Y$4+1):X386)","v":-22.4},0,1,{"$f":"IF(AND(AA385=0,AA386=1,SUM(INDIRECT($AA$1&ROW()-$AB$4):AA385)=0),1,0)","v":0},0,{"$f":"IF(AND(AC385=0,AC386=1,SUM(INDIRECT($AC$1&ROW()-AD$4):AC385)=0),1,0)","v":0},86.3,null,null,null,null,null,null,null,null,null,null,null,null,null,-2000,0,null,0,null,null,null,null,null,null,null,null,22.23]
["1975-04-25",{"$f":"VLOOKUP(A387,'input BCI'!$O$3:$R$5000,4)","v":-22.11},null,null,-22.11,null,null,null,null,null,null,null,null,0,-22.11,null,null,-22.11,null,null,null,1,-22.11,-22.11,{"$f":"AVERAGE(INDIRECT($X$1&ROW()-$Y$4+1):X387)","v":-21.740000000000002},0,1,{"$f":"IF(AND(AA386=0,AA387=1,SUM(INDIRECT($AA$1&ROW()-$AB$4):AA386)=0),1,0)","v":0},0,{"$f":"IF(AND(AC386=0,AC387=1,SUM(INDIRECT($AC$1&ROW()-AD$4):AC386)=0),1,0)","v":0},86.62,null,null,null,null,null,null,null,null,null,null,null,null,null,-2000,0,null,0,null,null,null,null,null,null,null,null,22.23]
["1975-05-02",{"$f":"VLOOKUP(A388,'input BCI'!$O$3:$R$5000,4)","v":-21.37},null,null,-21.37,null,null,null,null,null,null,null,null,0,-21.37,null,null,-21.37,null,null,null,1,-21.37,-21.37,{"$f":"AVERAGE(INDIRECT($X$1&ROW()-$Y$4+1):X388)","v":-20.634999999999998},0,1,{"$f":"IF(AND(AA387=0,AA388=1,SUM(INDIRECT($AA$1&ROW()-$AB$4):AA387)=0),1,0)","v":0},0,{"$f":"IF(AND(AC387=0,AC388=1,SUM(INDIRECT($AC$1&ROW()-AD$4):AC387)=0),1,0)","v":0},89.22,null,null,null,null,null,null,null,null,null,null,null,null,null,-2000,0,null,0,null,null,null,null,null,null,null,null,22.23]
["1975-05-09",{"$f":"VLOOKUP(A389,'input BCI'!$O$3:$R$5000,4)","v":-19.899999999999999},null,null,-19.899999999999999,null,null,null,null,null,null,null,null,0,-19.899999999999999,null,null,-19.899999999999999,null,null,null,1,-19.899999999999999,-19.899999999999999,{"$f":"AVERAGE(INDIRECT($X$1&ROW()-$Y$4+1):X389)","v":-19.184999999999999},0,1,{"$f":"IF(AND(AA388=0,AA389=1,SUM(INDIRECT($AA$1&ROW()-$AB$4):AA388)=0),1,0)","v":0},0,{"$f":"IF(AND(AC388=0,AC389=1,SUM(INDIRECT($AC$1&ROW()-AD$4):AC388)=0),1,0)","v":0},90.53,null,null,null,null,null,null,null,null,null,null,null,null,null,-2000,0,null,0,null,null,null,null,null,null,null,null,22.23]
["1975-05-16",{"$f":"VLOOKUP(A390,'input BCI'!$O$3:$R$5000,4)","v":-18.47},null,null,-18.47,null,null,null,null,null,null,null,null,0,-18.47,null,null,-18.47,null,null,null,1,-18.47,-18.47,{"$f":"AVERAGE(INDIRECT($X$1&ROW()-$Y$4+1):X390)","v":-17.809999999999999},0,1,{"$f":"IF(AND(AA389=0,AA390=1,SUM(INDIRECT($AA$1&ROW()-$AB$4):AA389)=0),1,0)","v":0},0,{"$f":"IF(AND(AC389=0,AC390=1,SUM(INDIRECT($AC$1&ROW()-AD$4):AC389)=0),1,0)","v":0},90.43,null,null,null,null,null,null,null,null,null,null,null,null,null,-2000,0,null,0,null,null,null,null,null,null,null,null,22.23]
["1975-05-23",{"$f":"VLOOKUP(A391,'input BCI'!$O$3:$R$5000,4)","v":-17.149999999999999},null,null,-17.149999999999999,null,null,null,null,null,null,null,null,0,-17.149999999999999,null,null,-17.149999999999999,null,null,null,1,-17.149999999999999,-17.149999999999999,{"$f":"AVERAGE(INDIRECT($X$1&ROW()-$Y$4+1):X391)","v":-16.405000000000001},0,1,{"$f":"IF(AND(AA390=0,AA391=1,SUM(INDIRECT($AA$1&ROW()-$AB$4):AA390)=0),1,0)","v":0},0,{"$f":"IF(AND(AC390=0,AC391=1,SUM(INDIRECT($AC$1&ROW()-AD$4):AC390)=0),1,0)","v":0},90.58,null,null,null,null,null,null,null,null,null,null,null,null,null,-2000,0,null,0,null,null,null,null,null,null,null,null,22.23]
["1975-05-30",{"$f":"VLOOKUP(A392,'input BCI'!$O$3:$R$5000,4)","v":-15.66},null,null,-15.66,null,null,null,null,null,null,null,null,0,-15.66,null,null,-15.66,null,null,null,1,-15.66,-15.66,{"$f":"AVERAGE(INDIRECT($X$1&ROW()-$Y$4+1):X392)","v":-14.844999999999999},0,1,{"$f":"IF(AND(AA391=0,AA392=1,SUM(INDIRECT($AA$1&ROW()-$AB$4):AA391)=0),1,0)","v":0},0,{"$f":"IF(AND(AC391=0,AC392=1,SUM(INDIRECT($AC$1&ROW()-AD$4):AC391)=0),1,0)","v":0},91.15,null,null,null,null,null,null,null,null,null,null,null,null,null,-2000,0,null,0,null,null,null,null,null,null,null,null,22.23]
["1975-06-06",{"$f":"VLOOKUP(A393,'input BCI'!$O$3:$R$5000,4)","v":-14.03},null,null,-14.03,null,null,null,null,null,null,null,null,0,-14.03,null,null,-14.03,null,null,null,1,-14.03,-14.03,{"$f":"AVERAGE(INDIRECT($X$1&ROW()-$Y$4+1):X393)","v":-13.274999999999999},0,1,{"$f":"IF(AND(AA392=0,AA393=1,SUM(INDIRECT($AA$1&ROW()-$AB$4):AA392)=0),1,0)","v":0},0,{"$f":"IF(AND(AC392=0,AC393=1,SUM(INDIRECT($AC$1&ROW()-AD$4):AC392)=0),1,0)","v":0},92.48,null,null,null,null,null,null,null,null,null,null,null,null,null,-2000,0,null,0,null,null,null,null,null,null,null,null,22.23]
["1975-06-13",{"$f":"VLOOKUP(A394,'input BCI'!$O$3:$R$5000,4)","v":-12.52},null,null,-12.52,null,null,null,null,null,null,null,null,0,-12.52,null,null,-12.52,null,null,null,1,-12.52,-12.52,{"$f":"AVERAGE(INDIRECT($X$1&ROW()-$Y$4+1):X394)","v":-11.684999999999999},0,1,{"$f":"IF(AND(AA393=0,AA394=1,SUM(INDIRECT($AA$1&ROW()-$AB$4):AA393)=0),1,0)","v":0},0,{"$f":"IF(AND(AC393=0,AC394=1,SUM(INDIRECT($AC$1&ROW()-AD$4):AC393)=0),1,0)","v":0},90.52,null,null,null,null,null,null,null,null,null,null,null,null,null,{"$f":"IF(ISNUMBER(AR394),2000,-2000)","v":-2000},0,null,0,null,null,null,null,null,null,null,null,22.23]
["1975-06-20",{"$f":"VLOOKUP(A395,'input BCI'!$O$3:$R$5000,4)","v":-10.85},null,null,{"$f":"B395+$O$7","v":-10.85},null,null,null,null,null,null,null,null,0,{"$f":"E395","v":-10.85},null,null,-10.85,null,null,null,1,{"$f":"R395","v":-10.85},{"$f":"(W395+$X$4)","v":-10.85},{"$f":"AVERAGE(INDIRECT($X$1&ROW()-$Y$4+1):X395)","v":-9.9050000000000011},{"$f":"IF(OR(X395=$I$5,X395>$I$5),1,0)","v":0},1,{"$f":"IF(AND(AA394=0,AA395=1,SUM(INDIRECT($AA$1&ROW()-$AB$4):AA394)=0),1,0)","v":0},0,{"$f":"IF(AND(AC394=0,AC395=1,SUM(INDIRECT($AC$1&ROW()-AD$4):AC394)=0),1,0)","v":0},92.61,null,null,null,null,null,null,null,null,null,null,null,null,null,-2000,0,null,0,null,null,null,null,null,null,null,null,{"$f":"$BE$2","v":22.23}]
["1975-06-27",{"$f":"VLOOKUP(A396,'input BCI'!$O$3:$R$5000,4)","v":-8.9600000000000009},null,null,-8.9600000000000009,null,null,null,null,null,null,null,null,0,-8.9600000000000009,null,null,-8.9600000000000009,null,null,null,{"$f":"V395","v":1},-8.9600000000000009,-8.9600000000000009,{"$f":"AVERAGE(INDIRECT($X$1&ROW()-$Y$4+1):X396)","v":-8.0400000000000009},0,1,{"$f":"IF(AND(AA395=0,AA396=1,SUM(INDIRECT($AA$1&ROW()-$AB$4):AA395)=0),1,0)","v":0},0,{"$f":"IF(AND(AC395=0,AC396=1,SUM(INDIRECT($AC$1&ROW()-AD$4):AC395)=0),1,0)","v":0},94.81,null,null,null,null,null,null,null,null,null,null,null,null,null,-2000,0,null,0,null,null,null,null,null,null,null,null,22.23]
["1975-07-04",{"$f":"VLOOKUP(A397,'input BCI'!$O$3:$R$5000,4)","v":-7.12},null,null,-7.12,null,null,null,null,null,null,null,null,0,-7.12,null,null,-7.12,null,null,null,1,-7.12,-7.12,{"$f":"AVERAGE(INDIRECT($X$1&ROW()-$Y$4+1):X397)","v":-5.9849999999999994},0,{"$f":"IF(Y397>X397,1,0)","v":1},{"$f":"IF(AND(AA396=0,AA397=1,SUM(INDIRECT($AA$1&ROW()-$AB$4):AA396)=0),1,0)","v":0},0,{"$f":"IF(AND(AC396=0,AC397=1,SUM(INDIRECT($AC$1&ROW()-AD$4):AC396)=0),1,0)","v":0},94.36,null,null,null,null,null,null,null,null,null,null,null,null,null,-2000,0,null,0,null,null,null,null,null,null,null,null,22.23]
["1975-07-11",{"$f":"VLOOKUP(A398,'input BCI'!$O$3:$R$5000,4)","v":-4.8499999999999996},null,null,-4.8499999999999996,null,null,null,null,null,null,null,null,0,-4.8499999999999996,null,null,-4.8499999999999996,null,null,null,1,-4.8499999999999996,-4.8499999999999996,{"$f":"AVERAGE(INDIRECT($X$1&ROW()-$Y$4+1):X398)","v":-3.6799999999999997},0,1,{"$f":"IF(AND(AA397=0,AA398=1,SUM(INDIRECT($AA$1&ROW()-$AB$4):AA397)=0),1,0)","v":0},{"$f":"IF(Y398<X398,1,0)","v":0},{"$f":"IF(AND(AC397=0,AC398=1,SUM(INDIRECT($AC$1&ROW()-AD$4):AC397)=0),1,0)","v":0},94.66,null,null,null,null,null,null,null,null,null,null,null,null,null,-2000,0,null,0,null,null,null,null,null,null,null,null,22.23]
["1975-07-18",{"$f":"VLOOKUP(A399,'input BCI'!$O$3:$R$5000,4)","v":-2.5099999999999998},null,null,-2.5099999999999998,null,null,null,null,null,null,null,null,0,-2.5099999999999998,null,null,-2.5099999999999998,null,null,null,1,-2.5099999999999998,-2.5099999999999998,{"$f":"AVERAGE(INDIRECT($X$1&ROW()-$Y$4+1):X399)","v":-1.6099999999999999},0,1,{"$f":"IF(AND(AA398=0,AA399=1,SUM(INDIRECT($AA$1&ROW()-$AB$4):AA398)=0),1,0)","v":0},0,{"$f":"IF(AND(AC398=0,AC399=1,SUM(INDIRECT($AC$1&ROW()-AD$4):AC398)=0),1,0)","v":0},93.2,null,null,null,null,null,null,null,null,null,null,null,null,null,-2000,0,null,0,null,null,null,null,null,null,null,null,22.23]
["1975-07-25",{"$f":"VLOOKUP(A400,'input BCI'!$O$3:$R$5000,4)","v":-0.71},null,null,-0.71,null,null,null,null,null,null,null,null,0,-0.71,null,null,-0.71,null,null,null,1,-0.71,-0.71,{"$f":"AVERAGE(INDIRECT($X$1&ROW()-$Y$4+1):X400)","v":-0.31999999999999995},0,1,{"$f":"IF(AND(AA399=0,AA400=1,SUM(INDIRECT($AA$1&ROW()-$AB$4):AA399)=0),1,0)","v":0},0,{"$f":"IF(AND(AC399=0,AC400=1,SUM(INDIRECT($AC$1&ROW()-AD$4):AC399)=0),1,0)","v":0},89.29,null,null,null,null,null,null,null,null,null,null,null,null,null,-2000,0,null,0,null,null,null,null,null,null,null,null,22.23]
["1975-08-01",{"$f":"VLOOKUP(A401,'input BCI'!$O$3:$R$5000,4)","v":7.0000000000000007E-2},null,null,7.0000000000000007E-2,null,null,null,null,null,null,null,null,0,7.0000000000000007E-2,null,null,7.0000000000000007E-2,null,null,null,1,7.0000000000000007E-2,7.0000000000000007E-2,{"$f":"AVERAGE(INDIRECT($X$1&ROW()-$Y$4+1):X401)","v":0.15000000000000002},0,1,{"$f":"IF(AND(AA400=0,AA401=1,SUM(INDIRECT($AA$1&ROW()-$AB$4):AA400)=0),1,0)","v":0},0,{"$f":"IF(AND(AC400=0,AC401=1,SUM(INDIRECT($AC$1&ROW()-AD$4):AC400)=0),1,0)","v":0},87.99,null,null,null,null,null,null,null,null,null,null,null,null,null,-2000,0,null,0,null,null,null,null,null,null,null,null,22.23]
["1975-08-08",{"$f":"VLOOKUP(A402,'input BCI'!$O$3:$R$5000,4)","v":0.23},null,null,0.23,null,null,null,null,null,null,null,null,0,0.23,null,null,0.23,null,null,null,1,0.23,0.23,{"$f":"AVERAGE(INDIRECT($X$1&ROW()-$Y$4+1):X402)","v":0.23},0,0,{"$f":"IF(AND(AA401=0,AA402=1,SUM(INDIRECT($AA$1&ROW()-$AB$4):AA401)=0),1,0)","v":0},0,{"$f":"IF(AND(AC401=0,AC402=1,SUM(INDIRECT($AC$1&ROW()-AD$4):AC401)=0),1,0)","v":0},86.02,null,null,null,null,null,null,null,null,null,null,null,null,null,-2000,0,null,0,null,null,null,null,null,null,null,null,22.23]
["1975-08-15",{"$f":"VLOOKUP(A403,'input BCI'!$O$3:$R$5000,4)","v":0.23},null,null,0.23,null,null,null,null,null,null,null,null,0,0.23,null,null,0.23,null,null,null,1,0.23,0.23,{"$f":"AVERAGE(INDIRECT($X$1&ROW()-$Y$4+1):X403)","v":0.19},0,0,{"$f":"IF(AND(AA402=0,AA403=1,SUM(INDIRECT($AA$1&ROW()-$AB$4):AA402)=0),1,0)","v":0},1,{"$f":"IF(AND(AC402=0,AC403=1,SUM(INDIRECT($AC$1&ROW()-AD$4):AC402)=0),1,0)","v":1},86.36,null,null,null,null,null,null,null,null,null,null,null,null,null,-2000,0,null,0,null,null,null,null,null,null,null,null,22.23]
["1975-08-22",{"$f":"VLOOKUP(A404,'input BCI'!$O$3:$R$5000,4)","v":0.15},null,null,0.15,null,null,null,null,null,null,null,null,0,0.15,null,null,0.15,null,null,null,1,0.15,0.15,{"$f":"AVERAGE(INDIRECT($X$1&ROW()-$Y$4+1):X404)","v":0.41000000000000003},0,1,{"$f":"IF(AND(AA403=0,AA404=1,SUM(INDIRECT($AA$1&ROW()-$AB$4):AA403)=0),1,0)","v":0},0,{"$f":"IF(AND(AC403=0,AC404=1,SUM(INDIRECT($AC$1&ROW()-AD$4):AC403)=0),1,0)","v":0},84.28,null,null,null,null,null,null,null,null,null,null,null,null,null,-2000,0,null,0,null,null,null,null,null,null,null,null,22.23]
["1975-08-29",{"$f":"VLOOKUP(A405,'input BCI'!$O$3:$R$5000,4)","v":0.67},null,null,0.67,null,null,null,null,null,null,null,null,0,0.67,null,null,0.67,null,null,null,1,0.67,0.67,{"$f":"AVERAGE(INDIRECT($X$1&ROW()-$Y$4+1):X405)","v":1.19},0,1,{"$f":"IF(AND(AA404=0,AA405=1,SUM(INDIRECT($AA$1&ROW()-$AB$4):AA404)=0),1,0)","v":0},0,{"$f":"IF(AND(AC404=0,AC405=1,SUM(INDIRECT($AC$1&ROW()-AD$4):AC404)=0),1,0)","v":0},86.88,null,null,null,null,null,null,null,null,null,null,null,null,null,-2000,0,null,0,null,null,null,null,null,null,null,null,22.23]
["1975-09-05",{"$f":"VLOOKUP(A406,'input BCI'!$O$3:$R$5000,4)","v":1.71},null,null,1.71,null,null,null,null,null,null,null,null,0,1.71,null,null,1.71,null,null,null,1,1.71,1.71,{"$f":"AVERAGE(INDIRECT($X$1&ROW()-$Y$4+1):X406)","v":2.27},0,1,{"$f":"IF(AND(AA405=0,AA406=1,SUM(INDIRECT($AA$1&ROW()-$AB$4):AA405)=0),1,0)","v":0},0,{"$f":"IF(AND(AC405=0,AC406=1,SUM(INDIRECT($AC$1&ROW()-AD$4):AC405)=0),1,0)","v":0},85.62,null,null,null,null,null,null,null,null,null,null,null,null,null,-2000,0,null,0,null,null,null,null,null,null,null,null,22.23]
["1975-09-12",{"$f":"VLOOKUP(A407,'input BCI'!$O$3:$R$5000,4)","v":2.83},null,null,2.83,null,null,null,null,null,null,null,null,0,2.83,null,null,2.83,null,null,null,1,2.83,2.83,{"$f":"AVERAGE(INDIRECT($X$1&ROW()-$Y$4+1):X407)","v":3.24},0,1,{"$f":"IF(AND(AA406=0,AA407=1,SUM(INDIRECT($AA$1&ROW()-$AB$4):AA406)=0),1,0)","v":0},0,{"$f":"IF(AND(AC406=0,AC407=1,SUM(INDIRECT($AC$1&ROW()-AD$4):AC406)=0),1,0)","v":0},83.3,null,null,null,null,null,null,null,null,null,null,null,null,null,-2000,0,null,0,null,null,null,null,null,null,null,null,22.23]
["1975-09-19",{"$f":"VLOOKUP(A408,'input BCI'!$O$3:$R$5000,4)","v":3.65},null,null,3.65,null,null,null,null,null,null,null,null,0,3.65,null,null,3.65,null,null,null,1,3.65,3.65,{"$f":"AVERAGE(INDIRECT($X$1&ROW()-$Y$4+1):X408)","v":4.18},0,1,{"$f":"IF(AND(AA407=0,AA408=1,SUM(INDIRECT($AA$1&ROW()-$AB$4):AA407)=0),1,0)","v":0},0,{"$f":"IF(AND(AC407=0,AC408=1,SUM(INDIRECT($AC$1&ROW()-AD$4):AC407)=0),1,0)","v":0},85.88,null,null,null,null,null,null,null,null,null,null,null,null,null,-2000,0,null,0,null,null,null,null,null,null,null,null,22.23]
["1975-09-26",{"$f":"VLOOKUP(A409,'input BCI'!$O$3:$R$5000,4)","v":4.71},null,null,4.71,null,null,null,null,null,null,null,null,0,4.71,null,null,{"$f":"O409*R$7","v":4.71},null,null,null,1,4.71,4.71,{"$f":"AVERAGE(INDIRECT($X$1&ROW()-$Y$4+1):X409)","v":5.0299999999999994},0,1,{"$f":"IF(AND(AA408=0,AA409=1,SUM(INDIRECT($AA$1&ROW()-$AB$4):AA408)=0),1,0)","v":0},0,{"$f":"IF(AND(AC408=0,AC409=1,SUM(INDIRECT($AC$1&ROW()-AD$4):AC408)=0),1,0)","v":0},86.19,null,null,null,null,null,null,null,null,null,null,null,null,null,-2000,0,null,0,null,null,null,null,null,null,null,null,22.23]
["1975-10-03",{"$f":"VLOOKUP(A410,'input BCI'!$O$3:$R$5000,4)","v":5.35},null,null,5.35,null,null,null,null,null,null,null,null,0,5.35,null,null,5.35,null,null,null,1,5.35,5.35,{"$f":"AVERAGE(INDIRECT($X$1&ROW()-$Y$4+1):X410)","v":5.7149999999999999},0,1,{"$f":"IF(AND(AA409=0,AA410=1,SUM(INDIRECT($AA$1&ROW()-$AB$4):AA409)=0),1,0)","v":0},0,{"$f":"IF(AND(AC409=0,AC410=1,SUM(INDIRECT($AC$1&ROW()-AD$4):AC409)=0),1,0)","v":0},85.95,null,null,null,null,null,null,null,null,null,null,null,null,null,-2000,0,null,0,null,null,null,null,null,null,null,null,22.23]
["1975-10-10",{"$f":"VLOOKUP(A411,'input BCI'!$O$3:$R$5000,4)","v":6.08},null,null,6.08,null,null,null,null,null,null,null,null,0,6.08,null,null,6.08,null,null,null,1,6.08,6.08,{"$f":"AVERAGE(INDIRECT($X$1&ROW()-$Y$4+1):X411)","v":6.8049999999999997},0,1,{"$f":"IF(AND(AA410=0,AA411=1,SUM(INDIRECT($AA$1&ROW()-$AB$4):AA410)=0),1,0)","v":0},0,{"$f":"IF(AND(AC410=0,AC411=1,SUM(INDIRECT($AC$1&ROW()-AD$4):AC410)=0),1,0)","v":0},88.21,null,null,null,null,null,null,null,null,null,null,null,null,null,-2000,0,null,0,null,null,null,null,null,null,null,null,22.23]
["1975-10-17",{"$f":"VLOOKUP(A412,'input BCI'!$O$3:$R$5000,4)","v":7.53},null,null,7.53,null,null,null,null,null,null,null,null,0,7.53,null,null,7.53,null,null,null,1,7.53,7.53,{"$f":"AVERAGE(INDIRECT($X$1&ROW()-$Y$4+1):X412)","v":8.2949999999999999},0,1,{"$f":"IF(AND(AA411=0,AA412=1,SUM(INDIRECT($AA$1&ROW()-$AB$4):AA411)=0),1,0)","v":0},0,{"$f":"IF(AND(AC411=0,AC412=1,SUM(INDIRECT($AC$1&ROW()-AD$4):AC411)=0),1,0)","v":0},88.86,null,null,null,null,null,null,null,null,null,null,null,null,null,-2000,0,null,0,null,null,null,null,null,null,null,null,22.23]
["1975-10-24",{"$f":"VLOOKUP(A413,'input BCI'!$O$3:$R$5000,4)","v":9.06},null,null,9.06,null,null,null,null,null,null,null,null,0,9.06,null,null,9.06,null,null,null,1,9.06,9.06,{"$f":"AVERAGE(INDIRECT($X$1&ROW()-$Y$4+1):X413)","v":9.8650000000000002},0,1,{"$f":"IF(AND(AA412=0,AA413=1,SUM(INDIRECT($AA$1&ROW()-$AB$4):AA412)=0),1,0)","v":0},0,{"$f":"IF(AND(AC412=0,AC413=1,SUM(INDIRECT($AC$1&ROW()-AD$4):AC412)=0),1,0)","v":0},89.83,null,null,null,null,null,null,null,null,null,null,null,null,null,-2000,0,null,0,null,null,null,null,null,null,null,null,22.23]
["1975-10-31",{"$f":"VLOOKUP(A414,'input BCI'!$O$3:$R$5000,4)","v":10.67},null,null,10.67,null,null,null,null,null,null,null,null,0,10.67,null,null,10.67,null,null,null,1,10.67,10.67,{"$f":"AVERAGE(INDIRECT($X$1&ROW()-$Y$4+1):X414)","v":11.29},0,1,{"$f":"IF(AND(AA413=0,AA414=1,SUM(INDIRECT($AA$1&ROW()-$AB$4):AA413)=0),1,0)","v":0},0,{"$f":"IF(AND(AC413=0,AC414=1,SUM(INDIRECT($AC$1&ROW()-AD$4):AC413)=0),1,0)","v":0},89.04,null,null,null,null,null,null,null,null,null,null,null,null,null,-2000,0,null,0,null,null,null,null,null,null,null,null,22.23]
["1975-11-07",{"$f":"VLOOKUP(A415,'input BCI'!$O$3:$R$5000,4)","v":11.91},null,null,11.91,null,null,null,null,null,null,null,null,0,11.91,null,null,11.91,null,null,null,1,11.91,11.91,{"$f":"AVERAGE(INDIRECT($X$1&ROW()-$Y$4+1):X415)","v":12.495000000000001},0,1,{"$f":"IF(AND(AA414=0,AA415=1,SUM(INDIRECT($AA$1&ROW()-$AB$4):AA414)=0),1,0)","v":0},0,{"$f":"IF(AND(AC414=0,AC415=1,SUM(INDIRECT($AC$1&ROW()-AD$4):AC414)=0),1,0)","v":0},89.33,null,null,null,null,null,null,null,null,null,null,null,null,null,-2000,0,null,0,null,null,null,null,null,null,null,null,22.23]
["1975-11-14",{"$f":"VLOOKUP(A416,'input BCI'!$O$3:$R$5000,4)","v":13.08},null,null,13.08,null,null,null,null,null,null,null,null,0,13.08,null,null,13.08,null,null,null,1,13.08,13.08,{"$f":"AVERAGE(INDIRECT($X$1&ROW()-$Y$4+1):X416)","v":13.6},0,1,{"$f":"IF(AND(AA415=0,AA416=1,SUM(INDIRECT($AA$1&ROW()-$AB$4):AA415)=0),1,0)","v":0},0,{"$f":"IF(AND(AC415=0,AC416=1,SUM(INDIRECT($AC$1&ROW()-AD$4):AC415)=0),1,0)","v":0},90.97,null,null,null,null,null,null,null,null,null,null,null,null,null,-2000,0,null,0,null,null,null,null,null,null,null,null,22.23]
["1975-11-21",{"$f":"VLOOKUP(A417,'input BCI'!$O$3:$R$5000,4)","v":14.12},null,null,14.12,null,null,null,null,null,null,null,null,0,14.12,null,null,14.12,null,null,null,1,14.12,14.12,{"$f":"AVERAGE(INDIRECT($X$1&ROW()-$Y$4+1):X417)","v":14.76},0,1,{"$f":"IF(AND(AA416=0,AA417=1,SUM(INDIRECT($AA$1&ROW()-$AB$4):AA416)=0),1,0)","v":0},0,{"$f":"IF(AND(AC416=0,AC417=1,SUM(INDIRECT($AC$1&ROW()-AD$4):AC416)=0),1,0)","v":0},89.53,null,null,null,null,null,null,null,null,null,null,null,null,null,-2000,0,null,0,null,null,null,null,null,null,null,null,22.23]
["1975-11-28",{"$f":"VLOOKUP(A418,'input BCI'!$O$3:$R$5000,4)","v":15.4},null,null,15.4,null,null,null,null,null,null,null,null,0,15.4,null,null,15.4,null,null,null,1,15.4,15.4,{"$f":"AVERAGE(INDIRECT($X$1&ROW()-$Y$4+1):X418)","v":16.315000000000001},0,1,{"$f":"IF(AND(AA417=0,AA418=1,SUM(INDIRECT($AA$1&ROW()-$AB$4):AA417)=0),1,0)","v":0},0,{"$f":"IF(AND(AC417=0,AC418=1,SUM(INDIRECT($AC$1&ROW()-AD$4):AC417)=0),1,0)","v":0},91.24,null,null,null,null,null,null,null,null,null,null,null,null,null,-2000,0,null,0,null,null,null,null,null,null,null,null,22.23]
["1975-12-05",{"$f":"VLOOKUP(A419,'input BCI'!$O$3:$R$5000,4)","v":17.23},null,null,17.23,null,null,null,null,null,null,null,null,0,17.23,null,null,17.23,null,null,null,1,17.23,17.23,{"$f":"AVERAGE(INDIRECT($X$1&ROW()-$Y$4+1):X419)","v":17.91},0,1,{"$f":"IF(AND(AA418=0,AA419=1,SUM(INDIRECT($AA$1&ROW()-$AB$4):AA418)=0),1,0)","v":0},0,{"$f":"IF(AND(AC418=0,AC419=1,SUM(INDIRECT($AC$1&ROW()-AD$4):AC418)=0),1,0)","v":0},86.82,null,null,null,null,null,null,null,null,null,null,null,null,null,-2000,0,null,0,null,null,null,null,null,null,null,null,22.23]
["1975-12-12",{"$f":"VLOOKUP(A420,'input BCI'!$O$3:$R$5000,4)","v":18.59},null,null,18.59,null,null,null,null,null,null,null,null,0,18.59,null,null,18.59,null,null,null,1,18.59,18.59,{"$f":"AVERAGE(INDIRECT($X$1&ROW()-$Y$4+1):X420)","v":19.23},0,1,{"$f":"IF(AND(AA419=0,AA420=1,SUM(INDIRECT($AA$1&ROW()-$AB$4):AA419)=0),1,0)","v":0},0,{"$f":"IF(AND(AC419=0,AC420=1,SUM(INDIRECT($AC$1&ROW()-AD$4):AC419)=0),1,0)","v":0},87.83,null,null,null,null,null,null,null,null,null,null,null,null,null,-2000,0,null,0,null,null,null,null,null,null,null,null,22.23]
["1975-12-19",{"$f":"VLOOKUP(A421,'input BCI'!$O$3:$R$5000,4)","v":19.87},null,null,19.87,null,null,null,null,null,null,null,null,0,19.87,null,null,19.87,null,null,null,1,19.87,19.87,{"$f":"AVERAGE(INDIRECT($X$1&ROW()-$Y$4+1):X421)","v":20.450000000000003},0,1,{"$f":"IF(AND(AA420=0,AA421=1,SUM(INDIRECT($AA$1&ROW()-$AB$4):AA420)=0),1,0)","v":0},0,{"$f":"IF(AND(AC420=0,AC421=1,SUM(INDIRECT($AC$1&ROW()-AD$4):AC420)=0),1,0)","v":0},88.8,null,null,null,null,null,null,null,null,null,null,null,null,null,-2000,0,null,0,null,null,null,null,null,null,null,null,22.23]
["1975-12-26",{"$f":"VLOOKUP(A422,'input BCI'!$O$3:$R$5000,4)","v":21.03},null,null,21.03,null,null,null,null,null,null,null,null,0,21.03,null,null,21.03,null,null,null,1,21.03,21.03,{"$f":"AVERAGE(INDIRECT($X$1&ROW()-$Y$4+1):X422)","v":21.72},0,1,{"$f":"IF(AND(AA421=0,AA422=1,SUM(INDIRECT($AA$1&ROW()-$AB$4):AA421)=0),1,0)","v":0},0,{"$f":"IF(AND(AC421=0,AC422=1,SUM(INDIRECT($AC$1&ROW()-AD$4):AC421)=0),1,0)","v":0},90.25,null,null,null,null,null,null,null,null,null,null,null,null,null,-2000,0,null,0,null,null,null,null,null,null,null,null,22.23]
["1976-01-02",{"$f":"VLOOKUP(A423,'input BCI'!$O$3:$R$5000,4)","v":22.41},null,null,22.41,null,null,null,null,null,null,null,null,0,22.41,null,null,22.41,null,null,null,1,22.41,22.41,{"$f":"AVERAGE(INDIRECT($X$1&ROW()-$Y$4+1):X423)","v":23.55},1,1,{"$f":"IF(AND(AA422=0,AA423=1,SUM(INDIRECT($AA$1&ROW()-$AB$4):AA422)=0),1,0)","v":0},0,{"$f":"IF(AND(AC422=0,AC423=1,SUM(INDIRECT($AC$1&ROW()-AD$4):AC422)=0),1,0)","v":0},90.9,null,null,null,null,null,null,null,null,null,null,null,null,null,-2000,0,null,0,null,null,null,null,null,null,null,null,22.23]
["1976-01-09",{"$f":"VLOOKUP(A424,'input BCI'!$O$3:$R$5000,4)","v":24.69},null,null,24.69,null,null,null,null,null,null,null,null,0,24.69,null,null,24.69,null,null,null,1,24.69,24.69,{"$f":"AVERAGE(INDIRECT($X$1&ROW()-$Y$4+1):X424)","v":25.875},1,1,{"$f":"IF(AND(AA423=0,AA424=1,SUM(INDIRECT($AA$1&ROW()-$AB$4):AA423)=0),1,0)","v":0},0,{"$f":"IF(AND(AC423=0,AC424=1,SUM(INDIRECT($AC$1&ROW()-AD$4):AC423)=0),1,0)","v":0},94.95,null,null,null,null,null,null,null,null,null,null,null,null,null,-2000,0,null,0,null,null,null,null,null,null,null,null,22.23]
["1976-01-16",{"$f":"VLOOKUP(A425,'input BCI'!$O$3:$R$5000,4)","v":27.06},null,null,27.06,null,null,null,null,null,null,null,null,0,27.06,null,null,27.06,null,null,null,1,27.06,27.06,{"$f":"AVERAGE(INDIRECT($X$1&ROW()-$Y$4+1):X425)","v":28.35},1,1,{"$f":"IF(AND(AA424=0,AA425=1,SUM(INDIRECT($AA$1&ROW()-$AB$4):AA424)=0),1,0)","v":0},0,{"$f":"IF(AND(AC424=0,AC425=1,SUM(INDIRECT($AC$1&ROW()-AD$4):AC424)=0),1,0)","v":0},97,null,null,null,null,null,null,null,null,null,null,null,null,null,-2000,0,null,0,null,null,null,null,null,null,null,null,22.23]
["1976-01-23",{"$f":"VLOOKUP(A426,'input BCI'!$O$3:$R$5000,4)","v":29.64},null,null,29.64,null,null,null,null,null,null,null,null,0,29.64,null,null,29.64,null,null,null,1,29.64,29.64,{"$f":"AVERAGE(INDIRECT($X$1&ROW()-$Y$4+1):X426)","v":30.645},1,1,{"$f":"IF(AND(AA425=0,AA426=1,SUM(INDIRECT($AA$1&ROW()-$AB$4):AA425)=0),1,0)","v":0},0,{"$f":"IF(AND(AC425=0,AC426=1,SUM(INDIRECT($AC$1&ROW()-AD$4):AC425)=0),1,0)","v":0},99.21,null,null,null,null,null,null,null,null,null,null,null,null,null,-2000,0,null,0,null,null,null,null,null,null,null,null,22.23]
["1976-01-30",{"$f":"VLOOKUP(A427,'input BCI'!$O$3:$R$5000,4)","v":31.65},null,null,31.65,null,null,null,null,null,null,null,null,0,31.65,null,null,31.65,null,null,null,1,31.65,31.65,{"$f":"AVERAGE(INDIRECT($X$1&ROW()-$Y$4+1):X427)","v":32.435000000000002},1,1,{"$f":"IF(AND(AA426=0,AA427=1,SUM(INDIRECT($AA$1&ROW()-$AB$4):AA426)=0),1,0)","v":0},0,{"$f":"IF(AND(AC426=0,AC427=1,SUM(INDIRECT($AC$1&ROW()-AD$4):AC426)=0),1,0)","v":0},100.86,null,null,null,null,null,null,null,null,null,null,null,null,null,-2000,0,null,0,null,null,null,null,null,null,null,null,22.23]
["1976-02-06",{"$f":"VLOOKUP(A428,'input BCI'!$O$3:$R$5000,4)","v":33.22},null,null,33.22,null,null,null,null,null,null,null,null,0,33.22,null,null,33.22,null,null,null,1,33.22,33.22,{"$f":"AVERAGE(INDIRECT($X$1&ROW()-$Y$4+1):X428)","v":33.864999999999995},1,1,{"$f":"IF(AND(AA427=0,AA428=1,SUM(INDIRECT($AA$1&ROW()-$AB$4):AA427)=0),1,0)","v":0},0,{"$f":"IF(AND(AC427=0,AC428=1,SUM(INDIRECT($AC$1&ROW()-AD$4):AC427)=0),1,0)","v":0},99.46,null,null,null,null,null,null,null,null,null,null,null,null,null,-2000,0,null,0,null,null,null,null,null,null,null,null,22.23]
["1976-02-13",{"$f":"VLOOKUP(A429,'input BCI'!$O$3:$R$5000,4)","v":34.51},null,null,34.51,null,null,null,null,null,null,null,null,0,34.51,null,null,34.51,null,null,null,1,34.51,34.51,{"$f":"AVERAGE(INDIRECT($X$1&ROW()-$Y$4+1):X429)","v":34.840000000000003},1,1,{"$f":"IF(AND(AA428=0,AA429=1,SUM(INDIRECT($AA$1&ROW()-$AB$4):AA428)=0),1,0)","v":0},0,{"$f":"IF(AND(AC428=0,AC429=1,SUM(INDIRECT($AC$1&ROW()-AD$4):AC428)=0),1,0)","v":0},99.67,null,null,null,null,null,null,null,null,null,null,null,null,null,-2000,0,null,0,null,null,null,null,null,null,null,null,22.23]
["1976-02-20",{"$f":"VLOOKUP(A430,'input BCI'!$O$3:$R$5000,4)","v":35.17},null,null,35.17,null,null,null,null,null,null,null,null,0,35.17,null,null,35.17,null,null,null,1,35.17,35.17,{"$f":"AVERAGE(INDIRECT($X$1&ROW()-$Y$4+1):X430)","v":35.32},1,1,{"$f":"IF(AND(AA429=0,AA430=1,SUM(INDIRECT($AA$1&ROW()-$AB$4):AA429)=0),1,0)","v":0},0,{"$f":"IF(AND(AC429=0,AC430=1,SUM(INDIRECT($AC$1&ROW()-AD$4):AC429)=0),1,0)","v":0},102.1,null,null,null,null,null,null,null,null,null,null,null,null,null,-2000,0,null,0,null,null,null,null,null,null,null,null,22.23]
["1976-02-27",{"$f":"VLOOKUP(A431,'input BCI'!$O$3:$R$5000,4)","v":35.47},null,null,35.47,null,null,null,null,null,null,null,null,0,35.47,null,null,35.47,null,null,null,1,35.47,35.47,{"$f":"AVERAGE(INDIRECT($X$1&ROW()-$Y$4+1):X431)","v":35.134999999999998},1,0,{"$f":"IF(AND(AA430=0,AA431=1,SUM(INDIRECT($AA$1&ROW()-$AB$4):AA430)=0),1,0)","v":0},1,{"$f":"IF(AND(AC430=0,AC431=1,SUM(INDIRECT($AC$1&ROW()-AD$4):AC430)=0),1,0)","v":1},99.71,null,null,null,null,null,null,null,null,null,null,null,null,null,-2000,0,null,0,null,null,null,null,null,null,null,null,22.23]
["1976-03-05",{"$f":"VLOOKUP(A432,'input BCI'!$O$3:$R$5000,4)","v":34.799999999999997},null,null,34.799999999999997,null,null,null,null,null,null,null,null,0,34.799999999999997,null,null,34.799999999999997,null,null,null,1,34.799999999999997,34.799999999999997,{"$f":"AVERAGE(INDIRECT($X$1&ROW()-$Y$4+1):X432)","v":34.325000000000003},1,0,{"$f":"IF(AND(AA431=0,AA432=1,SUM(INDIRECT($AA$1&ROW()-$AB$4):AA431)=0),1,0)","v":0},1,{"$f":"IF(AND(AC431=0,AC432=1,SUM(INDIRECT($AC$1&ROW()-AD$4):AC431)=0),1,0)","v":0},99.11,null,null,null,null,null,null,null,null,null,null,null,null,null,-2000,0,null,0,null,null,null,null,null,null,null,null,22.23]
["1976-03-12",{"$f":"VLOOKUP(A433,'input BCI'!$O$3:$R$5000,4)","v":33.85},null,null,33.85,null,null,null,null,null,null,null,null,0,33.85,null,null,33.85,null,null,null,1,33.85,33.85,{"$f":"AVERAGE(INDIRECT($X$1&ROW()-$Y$4+1):X433)","v":33.36},1,0,{"$f":"IF(AND(AA432=0,AA433=1,SUM(INDIRECT($AA$1&ROW()-$AB$4):AA432)=0),1,0)","v":0},1,{"$f":"IF(AND(AC432=0,AC433=1,SUM(INDIRECT($AC$1&ROW()-AD$4):AC432)=0),1,0)","v":0},100.86,null,null,null,null,null,null,null,null,null,null,null,null,null,-2000,0,null,0,null,null,null,null,null,null,null,null,22.23]
["1976-03-19",{"$f":"VLOOKUP(A434,'input BCI'!$O$3:$R$5000,4)","v":32.869999999999997},null,null,32.869999999999997,null,null,null,null,null,null,null,null,0,32.869999999999997,null,null,32.869999999999997,null,null,null,1,32.869999999999997,32.869999999999997,{"$f":"AVERAGE(INDIRECT($X$1&ROW()-$Y$4+1):X434)","v":32.394999999999996},1,0,{"$f":"IF(AND(AA433=0,AA434=1,SUM(INDIRECT($AA$1&ROW()-$AB$4):AA433)=0),1,0)","v":0},1,{"$f":"IF(AND(AC433=0,AC434=1,SUM(INDIRECT($AC$1&ROW()-AD$4):AC433)=0),1,0)","v":0},100.58,null,null,null,null,null,null,null,null,null,null,null,null,null,-2000,0,null,0,null,null,null,null,null,null,null,null,22.23]
["1976-03-26",{"$f":"VLOOKUP(A435,'input BCI'!$O$3:$R$5000,4)","v":31.92},null,null,31.92,null,null,null,null,null,null,null,null,0,31.92,null,null,31.92,null,null,null,1,31.92,31.92,{"$f":"AVERAGE(INDIRECT($X$1&ROW()-$Y$4+1):X435)","v":31.765000000000001},1,0,{"$f":"IF(AND(AA434=0,AA435=1,SUM(INDIRECT($AA$1&ROW()-$AB$4):AA434)=0),1,0)","v":0},1,{"$f":"IF(AND(AC434=0,AC435=1,SUM(INDIRECT($AC$1&ROW()-AD$4):AC434)=0),1,0)","v":0},102.85,null,null,null,null,null,null,null,null,null,null,null,null,null,-2000,0,null,0,null,null,null,null,null,null,null,null,22.23]
["1976-04-02",{"$f":"VLOOKUP(A436,'input BCI'!$O$3:$R$5000,4)","v":31.61},null,null,31.61,null,null,null,null,null,null,null,null,0,31.61,null,null,31.61,null,null,null,1,31.61,31.61,{"$f":"AVERAGE(INDIRECT($X$1&ROW()-$Y$4+1):X436)","v":31.535},1,0,{"$f":"IF(AND(AA435=0,AA436=1,SUM(INDIRECT($AA$1&ROW()-$AB$4):AA435)=0),1,0)","v":0},1,{"$f":"IF(AND(AC435=0,AC436=1,SUM(INDIRECT($AC$1&ROW()-AD$4):AC435)=0),1,0)","v":0},102.25,null,null,null,null,null,null,null,null,null,null,null,null,null,-2000,0,null,0,null,null,null,null,null,null,null,null,22.23]
["1976-04-09",{"$f":"VLOOKUP(A437,'input BCI'!$O$3:$R$5000,4)","v":31.46},null,null,31.46,null,null,null,null,null,null,null,null,0,31.46,null,null,31.46,null,null,null,1,31.46,31.46,{"$f":"AVERAGE(INDIRECT($X$1&ROW()-$Y$4+1):X437)","v":31.204999999999998},1,0,{"$f":"IF(AND(AA436=0,AA437=1,SUM(INDIRECT($AA$1&ROW()-$AB$4):AA436)=0),1,0)","v":0},1,{"$f":"IF(AND(AC436=0,AC437=1,SUM(INDIRECT($AC$1&ROW()-AD$4):AC436)=0),1,0)","v":0},100.35,null,null,null,null,null,null,null,null,null,null,null,null,null,-2000,0,null,0,null,null,null,null,null,null,null,null,22.23]
["1976-04-16",{"$f":"VLOOKUP(A438,'input BCI'!$O$3:$R$5000,4)","v":30.95},null,null,30.95,null,null,null,null,null,null,null,null,0,30.95,null,null,30.95,null,null,null,1,30.95,30.95,{"$f":"AVERAGE(INDIRECT($X$1&ROW()-$Y$4+1):X438)","v":30.73},1,0,{"$f":"IF(AND(AA437=0,AA438=1,SUM(INDIRECT($AA$1&ROW()-$AB$4):AA437)=0),1,0)","v":0},1,{"$f":"IF(AND(AC437=0,AC438=1,SUM(INDIRECT($AC$1&ROW()-AD$4):AC437)=0),1,0)","v":0},100.67,null,null,null,null,null,null,null,null,null,null,null,null,null,-2000,0,null,0,null,null,null,null,null,null,null,null,22.23]
["1976-04-23",{"$f":"VLOOKUP(A439,'input BCI'!$O$3:$R$5000,4)","v":30.51},null,null,30.51,null,null,null,null,null,null,null,null,0,30.51,null,null,30.51,null,null,null,1,30.51,30.51,{"$f":"AVERAGE(INDIRECT($X$1&ROW()-$Y$4+1):X439)","v":30.035},1,0,{"$f":"IF(AND(AA438=0,AA439=1,SUM(INDIRECT($AA$1&ROW()-$AB$4):AA438)=0),1,0)","v":0},1,{"$f":"IF(AND(AC438=0,AC439=1,SUM(INDIRECT($AC$1&ROW()-AD$4):AC438)=0),1,0)","v":0},102.29,null,null,null,null,null,null,null,null,null,null,null,null,null,-2000,0,null,0,null,null,null,null,null,null,null,null,22.23]
["1976-04-30",{"$f":"VLOOKUP(A440,'input BCI'!$O$3:$R$5000,4)","v":29.56},null,null,29.56,null,null,null,null,null,null,null,null,0,29.56,null,null,29.56,null,null,null,1,29.56,29.56,{"$f":"AVERAGE(INDIRECT($X$1&ROW()-$Y$4+1):X440)","v":28.82},1,0,{"$f":"IF(AND(AA439=0,AA440=1,SUM(INDIRECT($AA$1&ROW()-$AB$4):AA439)=0),1,0)","v":0},1,{"$f":"IF(AND(AC439=0,AC440=1,SUM(INDIRECT($AC$1&ROW()-AD$4):AC439)=0),1,0)","v":0},101.64,null,null,null,null,null,null,null,null,null,null,null,null,null,-2000,0,null,0,null,null,null,null,null,null,null,null,22.23]
["1976-05-07",{"$f":"VLOOKUP(A441,'input BCI'!$O$3:$R$5000,4)","v":28.08},null,null,28.08,null,null,null,null,null,null,null,null,0,28.08,null,null,28.08,null,null,null,1,28.08,28.08,{"$f":"AVERAGE(INDIRECT($X$1&ROW()-$Y$4+1):X441)","v":27.484999999999999},1,0,{"$f":"IF(AND(AA440=0,AA441=1,SUM(INDIRECT($AA$1&ROW()-$AB$4):AA440)=0),1,0)","v":0},1,{"$f":"IF(AND(AC440=0,AC441=1,SUM(INDIRECT($AC$1&ROW()-AD$4):AC440)=0),1,0)","v":0},101.88,null,null,null,null,null,null,null,null,null,null,null,null,null,-2000,0,null,0,null,null,null,null,null,null,null,null,22.23]
["1976-05-14",{"$f":"VLOOKUP(A442,'input BCI'!$O$3:$R$5000,4)","v":26.89},null,null,26.89,null,null,null,null,null,null,null,null,0,26.89,null,null,26.89,null,null,null,1,26.89,26.89,{"$f":"AVERAGE(INDIRECT($X$1&ROW()-$Y$4+1):X442)","v":26.12},1,0,{"$f":"IF(AND(AA441=0,AA442=1,SUM(INDIRECT($AA$1&ROW()-$AB$4):AA441)=0),1,0)","v":0},1,{"$f":"IF(AND(AC441=0,AC442=1,SUM(INDIRECT($AC$1&ROW()-AD$4):AC441)=0),1,0)","v":0},101.34,null,null,null,null,null,null,null,null,null,null,null,null,null,-2000,0,null,0,null,null,null,null,null,null,null,null,22.23]
["1976-05-21",{"$f":"VLOOKUP(A443,'input BCI'!$O$3:$R$5000,4)","v":25.35},null,null,25.35,null,null,null,null,null,null,null,null,0,25.35,null,null,25.35,null,null,null,1,25.35,25.35,{"$f":"AVERAGE(INDIRECT($X$1&ROW()-$Y$4+1):X443)","v":24.675000000000001},1,0,{"$f":"IF(AND(AA442=0,AA443=1,SUM(INDIRECT($AA$1&ROW()-$AB$4):AA442)=0),1,0)","v":0},1,{"$f":"IF(AND(AC442=0,AC443=1,SUM(INDIRECT($AC$1&ROW()-AD$4):AC442)=0),1,0)","v":0},101.26,null,null,null,null,null,null,null,null,null,null,null,null,null,-2000,0,null,0,null,null,null,null,null,null,null,null,22.23]
["1976-05-28",{"$f":"VLOOKUP(A444,'input BCI'!$O$3:$R$5000,4)","v":24},null,null,24,null,null,null,null,null,null,null,null,0,24,null,null,24,null,null,null,1,24,24,{"$f":"AVERAGE(INDIRECT($X$1&ROW()-$Y$4+1):X444)","v":23.48},1,0,{"$f":"IF(AND(AA443=0,AA444=1,SUM(INDIRECT($AA$1&ROW()-$AB$4):AA443)=0),1,0)","v":0},1,{"$f":"IF(AND(AC443=0,AC444=1,SUM(INDIRECT($AC$1&ROW()-AD$4):AC443)=0),1,0)","v":0},100.18,null,null,null,null,null,null,null,null,null,null,null,null,null,-2000,0,null,0,null,null,null,null,null,null,null,null,22.23]
["1976-06-04",{"$f":"VLOOKUP(A445,'input BCI'!$O$3:$R$5000,4)","v":22.96},null,null,22.96,null,null,null,null,null,null,null,null,0,22.96,null,null,22.96,null,null,null,1,22.96,22.96,{"$f":"AVERAGE(INDIRECT($X$1&ROW()-$Y$4+1):X445)","v":22.47},1,0,{"$f":"IF(AND(AA444=0,AA445=1,SUM(INDIRECT($AA$1&ROW()-$AB$4):AA444)=0),1,0)","v":0},1,{"$f":"IF(AND(AC444=0,AC445=1,SUM(INDIRECT($AC$1&ROW()-AD$4):AC444)=0),1,0)","v":0},99.15,null,null,null,null,null,null,null,null,null,null,null,null,null,-2000,0,null,0,null,null,null,null,null,null,null,null,22.23]
["1976-06-11",{"$f":"VLOOKUP(A446,'input BCI'!$O$3:$R$5000,4)","v":21.98},null,null,21.98,null,null,null,null,null,null,null,null,0,21.98,null,null,21.98,null,null,null,1,21.98,21.98,{"$f":"AVERAGE(INDIRECT($X$1&ROW()-$Y$4+1):X446)","v":21.700000000000003},0,0,{"$f":"IF(AND(AA445=0,AA446=1,SUM(INDIRECT($AA$1&ROW()-$AB$4):AA445)=0),1,0)","v":0},1,{"$f":"IF(AND(AC445=0,AC446=1,SUM(INDIRECT($AC$1&ROW()-AD$4):AC445)=0),1,0)","v":0},100.92,null,null,null,null,null,null,null,null,null,null,null,null,null,-2000,0,null,0,null,null,null,null,null,null,null,null,22.23]
["1976-06-18",{"$f":"VLOOKUP(A447,'input BCI'!$O$3:$R$5000,4)","v":21.42},null,null,21.42,null,null,null,null,null,null,null,null,0,21.42,null,null,21.42,null,null,null,1,21.42,21.42,{"$f":"AVERAGE(INDIRECT($X$1&ROW()-$Y$4+1):X447)","v":21.35},0,0,{"$f":"IF(AND(AA446=0,AA447=1,SUM(INDIRECT($AA$1&ROW()-$AB$4):AA446)=0),1,0)","v":0},1,{"$f":"IF(AND(AC446=0,AC447=1,SUM(INDIRECT($AC$1&ROW()-AD$4):AC446)=0),1,0)","v":0},103.76,null,null,null,null,null,null,null,null,null,null,null,null,null,-2000,0,null,0,null,null,null,null,null,null,null,null,22.23]
["1976-06-25",{"$f":"VLOOKUP(A448,'input BCI'!$O$3:$R$5000,4)","v":21.28},null,null,21.28,null,null,null,null,null,null,null,null,0,21.28,null,null,21.28,null,null,null,1,21.28,21.28,{"$f":"AVERAGE(INDIRECT($X$1&ROW()-$Y$4+1):X448)","v":21.115000000000002},0,0,{"$f":"IF(AND(AA447=0,AA448=1,SUM(INDIRECT($AA$1&ROW()-$AB$4):AA447)=0),1,0)","v":0},1,{"$f":"IF(AND(AC447=0,AC448=1,SUM(INDIRECT($AC$1&ROW()-AD$4):AC447)=0),1,0)","v":0},103.72,null,null,null,null,null,null,null,null,null,null,null,null,null,-2000,0,null,0,null,null,null,null,null,null,null,null,22.23]
["1976-07-02",{"$f":"VLOOKUP(A449,'input BCI'!$O$3:$R$5000,4)","v":20.95},null,null,20.95,null,null,null,null,null,null,null,null,0,20.95,null,null,20.95,null,null,null,1,20.95,20.95,{"$f":"AVERAGE(INDIRECT($X$1&ROW()-$Y$4+1):X449)","v":20.685000000000002},0,0,{"$f":"IF(AND(AA448=0,AA449=1,SUM(INDIRECT($AA$1&ROW()-$AB$4):AA448)=0),1,0)","v":0},1,{"$f":"IF(AND(AC448=0,AC449=1,SUM(INDIRECT($AC$1&ROW()-AD$4):AC448)=0),1,0)","v":0},104.11,null,null,null,null,null,null,null,null,null,null,null,null,null,-2000,0,null,0,null,null,null,null,null,null,null,null,22.23]
["1976-07-09",{"$f":"VLOOKUP(A450,'input BCI'!$O$3:$R$5000,4)","v":20.420000000000002},null,null,20.420000000000002,null,null,null,null,null,null,null,null,0,20.420000000000002,null,null,20.420000000000002,null,null,null,1,20.420000000000002,20.420000000000002,{"$f":"AVERAGE(INDIRECT($X$1&ROW()-$Y$4+1):X450)","v":20.195},0,0,{"$f":"IF(AND(AA449=0,AA450=1,SUM(INDIRECT($AA$1&ROW()-$AB$4):AA449)=0),1,0)","v":0},1,{"$f":"IF(AND(AC449=0,AC450=1,SUM(INDIRECT($AC$1&ROW()-AD$4):AC449)=0),1,0)","v":0},104.98,null,null,null,null,null,null,null,null,null,null,null,null,null,-2000,0,null,0,null,null,null,null,null,null,null,null,22.23]
["1976-07-16",{"$f":"VLOOKUP(A451,'input BCI'!$O$3:$R$5000,4)","v":19.97},null,null,19.97,null,null,null,null,null,null,null,null,0,19.97,null,null,19.97,null,null,null,1,19.97,19.97,{"$f":"AVERAGE(INDIRECT($X$1&ROW()-$Y$4+1):X451)","v":19.504999999999999},0,0,{"$f":"IF(AND(AA450=0,AA451=1,SUM(INDIRECT($AA$1&ROW()-$AB$4):AA450)=0),1,0)","v":0},1,{"$f":"IF(AND(AC450=0,AC451=1,SUM(INDIRECT($AC$1&ROW()-AD$4):AC450)=0),1,0)","v":0},104.68,null,null,null,null,null,null,null,null,null,null,null,null,null,-2000,0,null,0,null,null,null,null,null,null,null,null,22.23]
["1976-07-23",{"$f":"VLOOKUP(A452,'input BCI'!$O$3:$R$5000,4)","v":19.04},null,null,19.04,null,null,null,null,null,null,null,null,0,19.04,null,null,19.04,null,null,null,1,19.04,19.04,{"$f":"AVERAGE(INDIRECT($X$1&ROW()-$Y$4+1):X452)","v":18.740000000000002},0,0,{"$f":"IF(AND(AA451=0,AA452=1,SUM(INDIRECT($AA$1&ROW()-$AB$4):AA451)=0),1,0)","v":0},1,{"$f":"IF(AND(AC451=0,AC452=1,SUM(INDIRECT($AC$1&ROW()-AD$4):AC451)=0),1,0)","v":0},104.06,null,null,null,null,null,null,null,null,null,null,null,null,null,-2000,0,null,0,null,null,null,null,null,null,null,null,22.23]
["1976-07-30",{"$f":"VLOOKUP(A453,'input BCI'!$O$3:$R$5000,4)","v":18.440000000000001},null,null,18.440000000000001,null,null,null,null,null,null,null,null,0,18.440000000000001,null,null,18.440000000000001,null,null,null,1,18.440000000000001,18.440000000000001,{"$f":"AVERAGE(INDIRECT($X$1&ROW()-$Y$4+1):X453)","v":18.259999999999998},0,0,{"$f":"IF(AND(AA452=0,AA453=1,SUM(INDIRECT($AA$1&ROW()-$AB$4):AA452)=0),1,0)","v":0},1,{"$f":"IF(AND(AC452=0,AC453=1,SUM(INDIRECT($AC$1&ROW()-AD$4):AC452)=0),1,0)","v":0},103.44,null,null,null,null,null,null,null,null,null,null,null,null,null,-2000,0,null,0,null,null,null,null,null,null,null,null,22.23]
["1976-08-06",{"$f":"VLOOKUP(A454,'input BCI'!$O$3:$R$5000,4)","v":18.079999999999998},null,null,18.079999999999998,null,null,null,null,null,null,null,null,0,18.079999999999998,null,null,18.079999999999998,null,null,null,1,18.079999999999998,18.079999999999998,{"$f":"AVERAGE(INDIRECT($X$1&ROW()-$Y$4+1):X454)","v":17.86},0,0,{"$f":"IF(AND(AA453=0,AA454=1,SUM(INDIRECT($AA$1&ROW()-$AB$4):AA453)=0),1,0)","v":0},1,{"$f":"IF(AND(AC453=0,AC454=1,SUM(INDIRECT($AC$1&ROW()-AD$4):AC453)=0),1,0)","v":0},103.79,null,null,null,null,null,null,null,null,null,null,null,null,null,-2000,0,null,0,null,null,null,null,null,null,null,null,22.23]
["1976-08-13",{"$f":"VLOOKUP(A455,'input BCI'!$O$3:$R$5000,4)","v":17.64},null,null,17.64,null,null,null,null,null,null,null,null,0,17.64,null,null,17.64,null,null,null,1,17.64,17.64,{"$f":"AVERAGE(INDIRECT($X$1&ROW()-$Y$4+1):X455)","v":17.545000000000002},0,0,{"$f":"IF(AND(AA454=0,AA455=1,SUM(INDIRECT($AA$1&ROW()-$AB$4):AA454)=0),1,0)","v":0},1,{"$f":"IF(AND(AC454=0,AC455=1,SUM(INDIRECT($AC$1&ROW()-AD$4):AC454)=0),1,0)","v":0},104.25,null,null,null,null,null,null,null,null,null,null,null,null,null,-2000,0,null,0,null,null,null,null,null,null,null,null,22.23]
["1976-08-20",{"$f":"VLOOKUP(A456,'input BCI'!$O$3:$R$5000,4)","v":17.45},null,null,17.45,null,null,null,null,null,null,null,null,0,17.45,null,null,17.45,null,null,null,1,17.45,17.45,{"$f":"AVERAGE(INDIRECT($X$1&ROW()-$Y$4+1):X456)","v":17.435000000000002},0,0,{"$f":"IF(AND(AA455=0,AA456=1,SUM(INDIRECT($AA$1&ROW()-$AB$4):AA455)=0),1,0)","v":0},1,{"$f":"IF(AND(AC455=0,AC456=1,SUM(INDIRECT($AC$1&ROW()-AD$4):AC455)=0),1,0)","v":0},102.37,null,null,null,null,null,null,null,null,null,null,null,null,null,-2000,0,null,0,null,null,null,null,null,null,null,null,22.23]
["1976-08-27",{"$f":"VLOOKUP(A457,'input BCI'!$O$3:$R$5000,4)","v":17.420000000000002},null,null,17.420000000000002,null,null,null,null,null,null,null,null,0,17.420000000000002,null,null,17.420000000000002,null,null,null,1,17.420000000000002,17.420000000000002,{"$f":"AVERAGE(INDIRECT($X$1&ROW()-$Y$4+1):X457)","v":17.520000000000003},0,1,{"$f":"IF(AND(AA456=0,AA457=1,SUM(INDIRECT($AA$1&ROW()-$AB$4):AA456)=0),1,0)","v":1},0,{"$f":"IF(AND(AC456=0,AC457=1,SUM(INDIRECT($AC$1&ROW()-AD$4):AC456)=0),1,0)","v":0},101.48,null,null,null,null,null,null,null,null,null,null,null,null,null,-2000,0,null,0,null,null,null,null,null,null,null,null,22.23]
["1976-09-03",{"$f":"VLOOKUP(A458,'input BCI'!$O$3:$R$5000,4)","v":17.62},null,null,17.62,null,null,null,null,null,null,null,null,0,17.62,null,null,17.62,null,null,null,1,17.62,17.62,{"$f":"AVERAGE(INDIRECT($X$1&ROW()-$Y$4+1):X458)","v":17.765000000000001},0,1,{"$f":"IF(AND(AA457=0,AA458=1,SUM(INDIRECT($AA$1&ROW()-$AB$4):AA457)=0),1,0)","v":0},0,{"$f":"IF(AND(AC457=0,AC458=1,SUM(INDIRECT($AC$1&ROW()-AD$4):AC457)=0),1,0)","v":0},104.3,null,null,null,null,null,null,null,null,null,null,null,null,null,{"$f":"IF(ISNUMBER(AR458),2000,-2000)","v":-2000},0,null,0,null,null,null,null,null,null,null,null,22.23]
["1976-09-10",{"$f":"VLOOKUP(A459,'input BCI'!$O$3:$R$5000,4)","v":17.91},null,null,{"$f":"B459+$O$7","v":17.91},null,null,null,null,null,null,null,null,0,{"$f":"E459","v":17.91},null,null,17.91,null,null,null,1,{"$f":"R459","v":17.91},{"$f":"(W459+$X$4)","v":17.91},{"$f":"AVERAGE(INDIRECT($X$1&ROW()-$Y$4+1):X459)","v":18.100000000000001},{"$f":"IF(OR(X459=$I$5,X459>$I$5),1,0)","v":0},1,{"$f":"IF(AND(AA458=0,AA459=1,SUM(INDIRECT($AA$1&ROW()-$AB$4):AA458)=0),1,0)","v":0},0,{"$f":"IF(AND(AC458=0,AC459=1,SUM(INDIRECT($AC$1&ROW()-AD$4):AC458)=0),1,0)","v":0},104.65,null,null,null,null,null,null,null,null,null,null,null,null,null,-2000,0,null,0,null,null,null,null,null,null,null,null,{"$f":"$BE$2","v":22.23}]
["1976-09-17",{"$f":"VLOOKUP(A460,'input BCI'!$O$3:$R$5000,4)","v":18.29},null,null,18.29,null,null,null,null,null,null,null,null,0,18.29,null,null,18.29,null,null,null,{"$f":"V459","v":1},18.29,18.29,{"$f":"AVERAGE(INDIRECT($X$1&ROW()-$Y$4+1):X460)","v":18.434999999999999},0,1,{"$f":"IF(AND(AA459=0,AA460=1,SUM(INDIRECT($AA$1&ROW()-$AB$4):AA459)=0),1,0)","v":0},0,{"$f":"IF(AND(AC459=0,AC460=1,SUM(INDIRECT($AC$1&ROW()-AD$4):AC459)=0),1,0)","v":0},106.27,null,null,null,null,null,null,null,null,null,null,null,null,null,-2000,0,null,0,null,null,null,null,null,null,null,null,22.23]
["1976-09-24",{"$f":"VLOOKUP(A461,'input BCI'!$O$3:$R$5000,4)","v":18.579999999999998},null,null,18.579999999999998,null,null,null,null,null,null,null,null,0,18.579999999999998,null,null,18.579999999999998,null,null,null,1,18.579999999999998,18.579999999999998,{"$f":"AVERAGE(INDIRECT($X$1&ROW()-$Y$4+1):X461)","v":18.484999999999999},0,{"$f":"IF(Y461>X461,1,0)","v":0},{"$f":"IF(AND(AA460=0,AA461=1,SUM(INDIRECT($AA$1&ROW()-$AB$4):AA460)=0),1,0)","v":0},1,{"$f":"IF(AND(AC460=0,AC461=1,SUM(INDIRECT($AC$1&ROW()-AD$4):AC460)=0),1,0)","v":0},106.8,null,null,null,null,null,null,null,null,null,null,null,null,null,-2000,0,null,0,null,null,null,null,null,null,null,null,22.23]
["1976-10-01",{"$f":"VLOOKUP(A462,'input BCI'!$O$3:$R$5000,4)","v":18.39},null,null,18.39,null,null,null,null,null,null,null,null,0,18.39,null,null,18.39,null,null,null,1,18.39,18.39,{"$f":"AVERAGE(INDIRECT($X$1&ROW()-$Y$4+1):X462)","v":17.950000000000003},0,0,{"$f":"IF(AND(AA461=0,AA462=1,SUM(INDIRECT($AA$1&ROW()-$AB$4):AA461)=0),1,0)","v":0},{"$f":"IF(Y462<X462,1,0)","v":1},{"$f":"IF(AND(AC461=0,AC462=1,SUM(INDIRECT($AC$1&ROW()-AD$4):AC461)=0),1,0)","v":0},104.17,null,null,null,null,null,null,null,null,null,null,null,null,null,-2000,0,null,0,null,null,null,null,null,null,null,null,22.23]
["1976-10-08",{"$f":"VLOOKUP(A463,'input BCI'!$O$3:$R$5000,4)","v":17.510000000000002},null,null,17.510000000000002,null,null,null,null,null,null,null,null,0,17.510000000000002,null,null,17.510000000000002,null,null,null,1,17.510000000000002,17.510000000000002,{"$f":"AVERAGE(INDIRECT($X$1&ROW()-$Y$4+1):X463)","v":16.855},0,0,{"$f":"IF(AND(AA462=0,AA463=1,SUM(INDIRECT($AA$1&ROW()-$AB$4):AA462)=0),1,0)","v":0},1,{"$f":"IF(AND(AC462=0,AC463=1,SUM(INDIRECT($AC$1&ROW()-AD$4):AC462)=0),1,0)","v":0},102.56,null,null,null,null,null,null,null,null,null,null,null,null,null,-2000,0,null,0,null,null,null,null,null,null,null,null,22.23]
["1976-10-15",{"$f":"VLOOKUP(A464,'input BCI'!$O$3:$R$5000,4)","v":16.2},null,null,16.2,null,null,null,null,null,null,null,null,0,16.2,null,null,16.2,null,null,null,1,16.2,16.2,{"$f":"AVERAGE(INDIRECT($X$1&ROW()-$Y$4+1):X464)","v":15.395},0,0,{"$f":"IF(AND(AA463=0,AA464=1,SUM(INDIRECT($AA$1&ROW()-$AB$4):AA463)=0),1,0)","v":0},1,{"$f":"IF(AND(AC463=0,AC464=1,SUM(INDIRECT($AC$1&ROW()-AD$4):AC463)=0),1,0)","v":0},100.88,null,null,null,null,null,null,null,null,null,null,null,null,null,-2000,0,null,0,null,null,null,null,null,null,null,null,22.23]
["1976-10-22",{"$f":"VLOOKUP(A465,'input BCI'!$O$3:$R$5000,4)","v":14.59},null,null,14.59,null,null,null,null,null,null,null,null,0,14.59,null,null,14.59,null,null,null,1,14.59,14.59,{"$f":"AVERAGE(INDIRECT($X$1&ROW()-$Y$4+1):X465)","v":14.02},0,0,{"$f":"IF(AND(AA464=0,AA465=1,SUM(INDIRECT($AA$1&ROW()-$AB$4):AA464)=0),1,0)","v":0},1,{"$f":"IF(AND(AC464=0,AC465=1,SUM(INDIRECT($AC$1&ROW()-AD$4):AC464)=0),1,0)","v":0},99.96,null,null,null,null,null,null,null,null,null,null,null,null,null,-2000,0,null,0,null,null,null,null,null,null,null,null,22.23]
["1976-10-29",{"$f":"VLOOKUP(A466,'input BCI'!$O$3:$R$5000,4)","v":13.45},null,null,13.45,null,null,null,null,null,null,null,null,0,13.45,null,null,13.45,null,null,null,1,13.45,13.45,{"$f":"AVERAGE(INDIRECT($X$1&ROW()-$Y$4+1):X466)","v":13.285},0,0,{"$f":"IF(AND(AA465=0,AA466=1,SUM(INDIRECT($AA$1&ROW()-$AB$4):AA465)=0),1,0)","v":0},1,{"$f":"IF(AND(AC465=0,AC466=1,SUM(INDIRECT($AC$1&ROW()-AD$4):AC465)=0),1,0)","v":0},102.9,null,null,null,null,null,null,null,null,null,null,null,null,null,-2000,0,null,0,null,null,null,null,null,null,null,null,22.23]
["1976-11-05",{"$f":"VLOOKUP(A467,'input BCI'!$O$3:$R$5000,4)","v":13.12},null,null,13.12,null,null,null,null,null,null,null,null,0,13.12,null,null,13.12,null,null,null,1,13.12,13.12,{"$f":"AVERAGE(INDIRECT($X$1&ROW()-$Y$4+1):X467)","v":12.989999999999998},0,0,{"$f":"IF(AND(AA466=0,AA467=1,SUM(INDIRECT($AA$1&ROW()-$AB$4):AA466)=0),1,0)","v":0},1,{"$f":"IF(AND(AC466=0,AC467=1,SUM(INDIRECT($AC$1&ROW()-AD$4):AC466)=0),1,0)","v":0},100.82,null,null,null,null,null,null,null,null,null,null,null,null,null,-2000,0,null,0,null,null,null,null,null,null,null,null,22.23]
["1976-11-12",{"$f":"VLOOKUP(A468,'input BCI'!$O$3:$R$5000,4)","v":12.86},null,null,12.86,null,null,null,null,null,null,null,null,0,12.86,null,null,12.86,null,null,null,1,12.86,12.86,{"$f":"AVERAGE(INDIRECT($X$1&ROW()-$Y$4+1):X468)","v":12.815},0,0,{"$f":"IF(AND(AA467=0,AA468=1,SUM(INDIRECT($AA$1&ROW()-$AB$4):AA467)=0),1,0)","v":0},1,{"$f":"IF(AND(AC467=0,AC468=1,SUM(INDIRECT($AC$1&ROW()-AD$4):AC467)=0),1,0)","v":0},99.24,null,null,null,null,null,null,null,null,null,null,null,null,null,-2000,0,null,0,null,null,null,null,null,null,null,null,22.23]
["1976-11-19",{"$f":"VLOOKUP(A469,'input BCI'!$O$3:$R$5000,4)","v":12.77},null,null,12.77,null,null,null,null,null,null,null,null,0,12.77,null,null,12.77,null,null,null,1,12.77,12.77,{"$f":"AVERAGE(INDIRECT($X$1&ROW()-$Y$4+1):X469)","v":12.835000000000001},0,1,{"$f":"IF(AND(AA468=0,AA469=1,SUM(INDIRECT($AA$1&ROW()-$AB$4):AA468)=0),1,0)","v":1},0,{"$f":"IF(AND(AC468=0,AC469=1,SUM(INDIRECT($AC$1&ROW()-AD$4):AC468)=0),1,0)","v":0},101.92,null,null,null,null,null,null,null,null,null,null,null,null,null,-2000,0,null,0,null,null,null,null,null,null,null,null,22.23]
["1976-11-26",{"$f":"VLOOKUP(A470,'input BCI'!$O$3:$R$5000,4)","v":12.9},null,null,12.9,null,null,null,null,null,null,null,null,0,12.9,null,null,12.9,null,null,null,1,12.9,12.9,{"$f":"AVERAGE(INDIRECT($X$1&ROW()-$Y$4+1):X470)","v":12.879999999999999},0,0,{"$f":"IF(AND(AA469=0,AA470=1,SUM(INDIRECT($AA$1&ROW()-$AB$4):AA469)=0),1,0)","v":0},1,{"$f":"IF(AND(AC469=0,AC470=1,SUM(INDIRECT($AC$1&ROW()-AD$4):AC469)=0),1,0)","v":0},103.15,null,null,null,null,null,null,null,null,null,null,null,null,null,-2000,0,null,0,null,null,null,null,null,null,null,null,22.23]
["1976-12-03",{"$f":"VLOOKUP(A471,'input BCI'!$O$3:$R$5000,4)","v":12.86},null,null,12.86,null,null,null,null,null,null,null,null,0,12.86,null,null,12.86,null,null,null,1,12.86,12.86,{"$f":"AVERAGE(INDIRECT($X$1&ROW()-$Y$4+1):X471)","v":13.085000000000001},0,1,{"$f":"IF(AND(AA470=0,AA471=1,SUM(INDIRECT($AA$1&ROW()-$AB$4):AA470)=0),1,0)","v":0},0,{"$f":"IF(AND(AC470=0,AC471=1,SUM(INDIRECT($AC$1&ROW()-AD$4):AC470)=0),1,0)","v":0},102.76,null,null,null,null,null,null,null,null,null,null,null,null,null,-2000,0,null,0,null,null,null,null,null,null,null,null,22.23]
["1976-12-10",{"$f":"VLOOKUP(A472,'input BCI'!$O$3:$R$5000,4)","v":13.31},null,null,13.31,null,null,null,null,null,null,null,null,0,13.31,null,null,13.31,null,null,null,1,13.31,13.31,{"$f":"AVERAGE(INDIRECT($X$1&ROW()-$Y$4+1):X472)","v":13.72},0,1,{"$f":"IF(AND(AA471=0,AA472=1,SUM(INDIRECT($AA$1&ROW()-$AB$4):AA471)=0),1,0)","v":0},0,{"$f":"IF(AND(AC471=0,AC472=1,SUM(INDIRECT($AC$1&ROW()-AD$4):AC471)=0),1,0)","v":0},104.7,null,null,null,null,null,null,null,null,null,null,null,null,null,-2000,0,null,0,null,null,null,null,null,null,null,null,22.23]
["1976-12-17",{"$f":"VLOOKUP(A473,'input BCI'!$O$3:$R$5000,4)","v":14.13},null,null,14.13,null,null,null,null,null,null,null,null,0,14.13,null,null,{"$f":"O473*R$7","v":14.13},null,null,null,1,14.13,14.13,{"$f":"AVERAGE(INDIRECT($X$1&ROW()-$Y$4+1):X473)","v":14.36},0,1,{"$f":"IF(AND(AA472=0,AA473=1,SUM(INDIRECT($AA$1&ROW()-$AB$4):AA472)=0),1,0)","v":0},0,{"$f":"IF(AND(AC472=0,AC473=1,SUM(INDIRECT($AC$1&ROW()-AD$4):AC472)=0),1,0)","v":0},104.26,null,null,null,null,null,null,null,null,null,null,null,null,null,-2000,0,null,0,null,null,null,null,null,null,null,null,22.23]
["1976-12-24",{"$f":"VLOOKUP(A474,'input BCI'!$O$3:$R$5000,4)","v":14.59},null,null,14.59,null,null,null,null,null,null,null,null,0,14.59,null,null,14.59,null,null,null,1,14.59,14.59,{"$f":"AVERAGE(INDIRECT($X$1&ROW()-$Y$4+1):X474)","v":15.02},0,1,{"$f":"IF(AND(AA473=0,AA474=1,SUM(INDIRECT($AA$1&ROW()-$AB$4):AA473)=0),1,0)","v":0},0,{"$f":"IF(AND(AC473=0,AC474=1,SUM(INDIRECT($AC$1&ROW()-AD$4):AC473)=0),1,0)","v":0},104.84,null,null,null,null,null,null,null,null,null,null,null,null,null,-2000,0,null,0,null,null,null,null,null,null,null,null,22.23]
["1976-12-31",{"$f":"VLOOKUP(A475,'input BCI'!$O$3:$R$5000,4)","v":15.45},null,null,15.45,null,null,null,null,null,null,null,null,0,15.45,null,null,15.45,null,null,null,1,15.45,15.45,{"$f":"AVERAGE(INDIRECT($X$1&ROW()-$Y$4+1):X475)","v":15.955},0,1,{"$f":"IF(AND(AA474=0,AA475=1,SUM(INDIRECT($AA$1&ROW()-$AB$4):AA474)=0),1,0)","v":0},0,{"$f":"IF(AND(AC474=0,AC475=1,SUM(INDIRECT($AC$1&ROW()-AD$4):AC474)=0),1,0)","v":0},107.46,null,null,null,null,null,null,null,null,null,null,null,null,null,-2000,0,null,0,null,null,null,null,null,null,null,null,22.23]
["1977-01-07",{"$f":"VLOOKUP(A476,'input BCI'!$O$3:$R$5000,4)","v":16.46},null,null,16.46,null,null,null,null,null,null,null,null,0,16.46,null,null,16.46,null,null,null,1,16.46,16.46,{"$f":"AVERAGE(INDIRECT($X$1&ROW()-$Y$4+1):X476)","v":16.829999999999998},0,1,{"$f":"IF(AND(AA475=0,AA476=1,SUM(INDIRECT($AA$1&ROW()-$AB$4):AA475)=0),1,0)","v":0},0,{"$f":"IF(AND(AC475=0,AC476=1,SUM(INDIRECT($AC$1&ROW()-AD$4):AC475)=0),1,0)","v":0},105.01,null,null,null,null,null,null,null,null,null,null,null,null,null,-2000,0,null,0,null,null,null,null,null,null,null,null,22.23]
["1977-01-14",{"$f":"VLOOKUP(A477,'input BCI'!$O$3:$R$5000,4)","v":17.2},null,null,17.2,null,null,null,null,null,null,null,null,0,17.2,null,null,17.2,null,null,null,1,17.2,17.2,{"$f":"AVERAGE(INDIRECT($X$1&ROW()-$Y$4+1):X477)","v":17.615000000000002},0,1,{"$f":"IF(AND(AA476=0,AA477=1,SUM(INDIRECT($AA$1&ROW()-$AB$4):AA476)=0),1,0)","v":0},0,{"$f":"IF(AND(AC476=0,AC477=1,SUM(INDIRECT($AC$1&ROW()-AD$4):AC476)=0),1,0)","v":0},104.01,null,null,null,null,null,null,null,null,null,null,null,null,null,-2000,0,null,0,null,null,null,null,null,null,null,null,22.23]
["1977-01-21",{"$f":"VLOOKUP(A478,'input BCI'!$O$3:$R$5000,4)","v":18.03},null,null,18.03,null,null,null,null,null,null,null,null,0,18.03,null,null,18.03,null,null,null,1,18.03,18.03,{"$f":"AVERAGE(INDIRECT($X$1&ROW()-$Y$4+1):X478)","v":18.170000000000002},0,1,{"$f":"IF(AND(AA477=0,AA478=1,SUM(INDIRECT($AA$1&ROW()-$AB$4):AA477)=0),1,0)","v":0},0,{"$f":"IF(AND(AC477=0,AC478=1,SUM(INDIRECT($AC$1&ROW()-AD$4):AC477)=0),1,0)","v":0},103.32,null,null,null,null,null,null,null,null,null,null,null,null,null,-2000,0,null,0,null,null,null,null,null,null,null,null,22.23]
["1977-01-28",{"$f":"VLOOKUP(A479,'input BCI'!$O$3:$R$5000,4)","v":18.309999999999999},null,null,18.309999999999999,null,null,null,null,null,null,null,null,0,18.309999999999999,null,null,18.309999999999999,null,null,null,1,18.309999999999999,18.309999999999999,{"$f":"AVERAGE(INDIRECT($X$1&ROW()-$Y$4+1):X479)","v":18.204999999999998},0,0,{"$f":"IF(AND(AA478=0,AA479=1,SUM(INDIRECT($AA$1&ROW()-$AB$4):AA478)=0),1,0)","v":0},1,{"$f":"IF(AND(AC478=0,AC479=1,SUM(INDIRECT($AC$1&ROW()-AD$4):AC478)=0),1,0)","v":1},101.93,null,null,null,null,null,null,null,null,null,null,null,null,null,-2000,0,null,0,null,null,null,null,null,null,null,null,22.23]
["1977-02-04",{"$f":"VLOOKUP(A480,'input BCI'!$O$3:$R$5000,4)","v":18.100000000000001},null,null,18.100000000000001,null,null,null,null,null,null,null,null,0,18.100000000000001,null,null,18.100000000000001,null,null,null,1,18.100000000000001,18.100000000000001,{"$f":"AVERAGE(INDIRECT($X$1&ROW()-$Y$4+1):X480)","v":17.954999999999998},0,0,{"$f":"IF(AND(AA479=0,AA480=1,SUM(INDIRECT($AA$1&ROW()-$AB$4):AA479)=0),1,0)","v":0},1,{"$f":"IF(AND(AC479=0,AC480=1,SUM(INDIRECT($AC$1&ROW()-AD$4):AC479)=0),1,0)","v":0},101.88,null,null,null,null,null,null,null,null,null,null,null,null,null,-2000,0,null,0,null,null,null,null,null,null,null,null,22.23]
["1977-02-11",{"$f":"VLOOKUP(A481,'input BCI'!$O$3:$R$5000,4)","v":17.809999999999999},null,null,17.809999999999999,null,null,null,null,null,null,null,null,0,17.809999999999999,null,null,17.809999999999999,null,null,null,1,17.809999999999999,17.809999999999999,{"$f":"AVERAGE(INDIRECT($X$1&ROW()-$Y$4+1):X481)","v":17.475000000000001},0,0,{"$f":"IF(AND(AA480=0,AA481=1,SUM(INDIRECT($AA$1&ROW()-$AB$4):AA480)=0),1,0)","v":0},1,{"$f":"IF(AND(AC480=0,AC481=1,SUM(INDIRECT($AC$1&ROW()-AD$4):AC480)=0),1,0)","v":0},100.22,null,null,null,null,null,null,null,null,null,null,null,null,null,-2000,0,null,0,null,null,null,null,null,null,null,null,22.23]
["1977-02-18",{"$f":"VLOOKUP(A482,'input BCI'!$O$3:$R$5000,4)","v":17.14},null,null,17.14,null,null,null,null,null,null,null,null,0,17.14,null,null,17.14,null,null,null,1,17.14,17.14,{"$f":"AVERAGE(INDIRECT($X$1&ROW()-$Y$4+1):X482)","v":16.82},0,0,{"$f":"IF(AND(AA481=0,AA482=1,SUM(INDIRECT($AA$1&ROW()-$AB$4):AA481)=0),1,0)","v":0},1,{"$f":"IF(AND(AC481=0,AC482=1,SUM(INDIRECT($AC$1&ROW()-AD$4):AC481)=0),1,0)","v":0},100.49,null,null,null,null,null,null,null,null,null,null,null,null,null,-2000,0,null,0,null,null,null,null,null,null,null,null,22.23]
["1977-02-25",{"$f":"VLOOKUP(A483,'input BCI'!$O$3:$R$5000,4)","v":16.5},null,null,16.5,null,null,null,null,null,null,null,null,0,16.5,null,null,16.5,null,null,null,1,16.5,16.5,{"$f":"AVERAGE(INDIRECT($X$1&ROW()-$Y$4+1):X483)","v":16.399999999999999},0,0,{"$f":"IF(AND(AA482=0,AA483=1,SUM(INDIRECT($AA$1&ROW()-$AB$4):AA482)=0),1,0)","v":0},1,{"$f":"IF(AND(AC482=0,AC483=1,SUM(INDIRECT($AC$1&ROW()-AD$4):AC482)=0),1,0)","v":0},99.48,null,null,null,null,null,null,null,null,null,null,null,null,null,-2000,0,null,0,null,null,null,null,null,null,null,null,22.23]
["1977-03-04",{"$f":"VLOOKUP(A484,'input BCI'!$O$3:$R$5000,4)","v":16.3},null,null,16.3,null,null,null,null,null,null,null,null,0,16.3,null,null,16.3,null,null,null,1,16.3,16.3,{"$f":"AVERAGE(INDIRECT($X$1&ROW()-$Y$4+1):X484)","v":16.414999999999999},0,1,{"$f":"IF(AND(AA483=0,AA484=1,SUM(INDIRECT($AA$1&ROW()-$AB$4):AA483)=0),1,0)","v":0},0,{"$f":"IF(AND(AC483=0,AC484=1,SUM(INDIRECT($AC$1&ROW()-AD$4):AC483)=0),1,0)","v":0},101.2,null,null,null,null,null,null,null,null,null,null,null,null,null,-2000,0,null,0,null,null,null,null,null,null,null,null,22.23]
["1977-03-11",{"$f":"VLOOKUP(A485,'input BCI'!$O$3:$R$5000,4)","v":16.53},null,null,16.53,null,null,null,null,null,null,null,null,0,16.53,null,null,16.53,null,null,null,1,16.53,16.53,{"$f":"AVERAGE(INDIRECT($X$1&ROW()-$Y$4+1):X485)","v":16.96},0,1,{"$f":"IF(AND(AA484=0,AA485=1,SUM(INDIRECT($AA$1&ROW()-$AB$4):AA484)=0),1,0)","v":0},0,{"$f":"IF(AND(AC484=0,AC485=1,SUM(INDIRECT($AC$1&ROW()-AD$4):AC484)=0),1,0)","v":0},100.65,null,null,null,null,null,null,null,null,null,null,null,null,null,-2000,0,null,0,null,null,null,null,null,null,null,null,22.23]
["1977-03-18",{"$f":"VLOOKUP(A486,'input BCI'!$O$3:$R$5000,4)","v":17.39},null,null,17.39,null,null,null,null,null,null,null,null,0,17.39,null,null,17.39,null,null,null,1,17.39,17.39,{"$f":"AVERAGE(INDIRECT($X$1&ROW()-$Y$4+1):X486)","v":17.884999999999998},0,1,{"$f":"IF(AND(AA485=0,AA486=1,SUM(INDIRECT($AA$1&ROW()-$AB$4):AA485)=0),1,0)","v":0},0,{"$f":"IF(AND(AC485=0,AC486=1,SUM(INDIRECT($AC$1&ROW()-AD$4):AC485)=0),1,0)","v":0},101.86,null,null,null,null,null,null,null,null,null,null,null,null,null,-2000,0,null,0,null,null,null,null,null,null,null,null,22.23]
["1977-03-25",{"$f":"VLOOKUP(A487,'input BCI'!$O$3:$R$5000,4)","v":18.38},null,null,18.38,null,null,null,null,null,null,null,null,0,18.38,null,null,18.38,null,null,null,1,18.38,18.38,{"$f":"AVERAGE(INDIRECT($X$1&ROW()-$Y$4+1):X487)","v":18.604999999999997},0,1,{"$f":"IF(AND(AA486=0,AA487=1,SUM(INDIRECT($AA$1&ROW()-$AB$4):AA486)=0),1,0)","v":0},0,{"$f":"IF(AND(AC486=0,AC487=1,SUM(INDIRECT($AC$1&ROW()-AD$4):AC486)=0),1,0)","v":0},99.06,null,null,null,null,null,null,null,null,null,null,null,null,null,-2000,0,null,0,null,null,null,null,null,null,null,null,22.23]
["1977-04-01",{"$f":"VLOOKUP(A488,'input BCI'!$O$3:$R$5000,4)","v":18.829999999999998},null,null,18.829999999999998,null,null,null,null,null,null,null,null,0,18.829999999999998,null,null,18.829999999999998,null,null,null,1,18.829999999999998,18.829999999999998,{"$f":"AVERAGE(INDIRECT($X$1&ROW()-$Y$4+1):X488)","v":18.864999999999998},0,1,{"$f":"IF(AND(AA487=0,AA488=1,SUM(INDIRECT($AA$1&ROW()-$AB$4):AA487)=0),1,0)","v":0},0,{"$f":"IF(AND(AC487=0,AC488=1,SUM(INDIRECT($AC$1&ROW()-AD$4):AC487)=0),1,0)","v":0},99.21,null,null,null,null,null,null,null,null,null,null,null,null,null,-2000,0,null,0,null,null,null,null,null,null,null,null,22.23]
["1977-04-08",{"$f":"VLOOKUP(A489,'input BCI'!$O$3:$R$5000,4)","v":18.899999999999999},null,null,18.899999999999999,null,null,null,null,null,null,null,null,0,18.899999999999999,null,null,18.899999999999999,null,null,null,1,18.899999999999999,18.899999999999999,{"$f":"AVERAGE(INDIRECT($X$1&ROW()-$Y$4+1):X489)","v":18.884999999999998},0,0,{"$f":"IF(AND(AA488=0,AA489=1,SUM(INDIRECT($AA$1&ROW()-$AB$4):AA488)=0),1,0)","v":0},1,{"$f":"IF(AND(AC488=0,AC489=1,SUM(INDIRECT($AC$1&ROW()-AD$4):AC488)=0),1,0)","v":1},98.35,null,null,null,null,null,null,null,null,null,null,null,null,null,-2000,0,null,0,null,null,null,null,null,null,null,null,22.23]
["1977-04-15",{"$f":"VLOOKUP(A490,'input BCI'!$O$3:$R$5000,4)","v":18.87},null,null,18.87,null,null,null,null,null,null,null,null,0,18.87,null,null,18.87,null,null,null,1,18.87,18.87,{"$f":"AVERAGE(INDIRECT($X$1&ROW()-$Y$4+1):X490)","v":18.865000000000002},0,0,{"$f":"IF(AND(AA489=0,AA490=1,SUM(INDIRECT($AA$1&ROW()-$AB$4):AA489)=0),1,0)","v":0},1,{"$f":"IF(AND(AC489=0,AC490=1,SUM(INDIRECT($AC$1&ROW()-AD$4):AC489)=0),1,0)","v":0},101.04,null,null,null,null,null,null,null,null,null,null,null,null,null,-2000,0,null,0,null,null,null,null,null,null,null,null,22.23]
["1977-04-22",{"$f":"VLOOKUP(A491,'input BCI'!$O$3:$R$5000,4)","v":18.86},null,null,18.86,null,null,null,null,null,null,null,null,0,18.86,null,null,18.86,null,null,null,1,18.86,18.86,{"$f":"AVERAGE(INDIRECT($X$1&ROW()-$Y$4+1):X491)","v":18.91},0,1,{"$f":"IF(AND(AA490=0,AA491=1,SUM(INDIRECT($AA$1&ROW()-$AB$4):AA490)=0),1,0)","v":0},0,{"$f":"IF(AND(AC490=0,AC491=1,SUM(INDIRECT($AC$1&ROW()-AD$4):AC490)=0),1,0)","v":0},98.44,null,null,null,null,null,null,null,null,null,null,null,null,null,-2000,0,null,0,null,null,null,null,null,null,null,null,22.23]
["1977-04-29",{"$f":"VLOOKUP(A492,'input BCI'!$O$3:$R$5000,4)","v":18.96},null,null,18.96,null,null,null,null,null,null,null,null,0,18.96,null,null,18.96,null,null,null,1,18.96,18.96,{"$f":"AVERAGE(INDIRECT($X$1&ROW()-$Y$4+1):X492)","v":19.16},0,1,{"$f":"IF(AND(AA491=0,AA492=1,SUM(INDIRECT($AA$1&ROW()-$AB$4):AA491)=0),1,0)","v":0},0,{"$f":"IF(AND(AC491=0,AC492=1,SUM(INDIRECT($AC$1&ROW()-AD$4):AC491)=0),1,0)","v":0},98.44,null,null,null,null,null,null,null,null,null,null,null,null,null,-2000,0,null,0,null,null,null,null,null,null,null,null,22.23]
["1977-05-06",{"$f":"VLOOKUP(A493,'input BCI'!$O$3:$R$5000,4)","v":19.36},null,null,19.36,null,null,null,null,null,null,null,null,0,19.36,null,null,19.36,null,null,null,1,19.36,19.36,{"$f":"AVERAGE(INDIRECT($X$1&ROW()-$Y$4+1):X493)","v":19.545000000000002},0,1,{"$f":"IF(AND(AA492=0,AA493=1,SUM(INDIRECT($AA$1&ROW()-$AB$4):AA492)=0),1,0)","v":0},0,{"$f":"IF(AND(AC492=0,AC493=1,SUM(INDIRECT($AC$1&ROW()-AD$4):AC492)=0),1,0)","v":0},99.49,null,null,null,null,null,null,null,null,null,null,null,null,null,-2000,0,null,0,null,null,null,null,null,null,null,null,22.23]
["1977-05-13",{"$f":"VLOOKUP(A494,'input BCI'!$O$3:$R$5000,4)","v":19.73},null,null,19.73,null,null,null,null,null,null,null,null,0,19.73,null,null,19.73,null,null,null,1,19.73,19.73,{"$f":"AVERAGE(INDIRECT($X$1&ROW()-$Y$4+1):X494)","v":19.93},0,1,{"$f":"IF(AND(AA493=0,AA494=1,SUM(INDIRECT($AA$1&ROW()-$AB$4):AA493)=0),1,0)","v":0},0,{"$f":"IF(AND(AC493=0,AC494=1,SUM(INDIRECT($AC$1&ROW()-AD$4):AC493)=0),1,0)","v":0},99.03,null,null,null,null,null,null,null,null,null,null,null,null,null,-2000,0,null,0,null,null,null,null,null,null,null,null,22.23]
["1977-05-20",{"$f":"VLOOKUP(A495,'input BCI'!$O$3:$R$5000,4)","v":20.13},null,null,20.13,null,null,null,null,null,null,null,null,0,20.13,null,null,20.13,null,null,null,1,20.13,20.13,{"$f":"AVERAGE(INDIRECT($X$1&ROW()-$Y$4+1):X495)","v":20.164999999999999},0,1,{"$f":"IF(AND(AA494=0,AA495=1,SUM(INDIRECT($AA$1&ROW()-$AB$4):AA494)=0),1,0)","v":0},0,{"$f":"IF(AND(AC494=0,AC495=1,SUM(INDIRECT($AC$1&ROW()-AD$4):AC494)=0),1,0)","v":0},99.45,null,null,null,null,null,null,null,null,null,null,null,null,null,-2000,0,null,0,null,null,null,null,null,null,null,null,22.23]
["1977-05-27",{"$f":"VLOOKUP(A496,'input BCI'!$O$3:$R$5000,4)","v":20.2},null,null,20.2,null,null,null,null,null,null,null,null,0,20.2,null,null,20.2,null,null,null,1,20.2,20.2,{"$f":"AVERAGE(INDIRECT($X$1&ROW()-$Y$4+1):X496)","v":19.875},0,0,{"$f":"IF(AND(AA495=0,AA496=1,SUM(INDIRECT($AA$1&ROW()-$AB$4):AA495)=0),1,0)","v":0},1,{"$f":"IF(AND(AC495=0,AC496=1,SUM(INDIRECT($AC$1&ROW()-AD$4):AC495)=0),1,0)","v":1},96.27,null,null,null,null,null,null,null,null,null,null,null,null,null,-2000,0,null,0,null,null,null,null,null,null,null,null,22.23]
["1977-06-03",{"$f":"VLOOKUP(A497,'input BCI'!$O$3:$R$5000,4)","v":19.55},null,null,19.55,null,null,null,null,null,null,null,null,0,19.55,null,null,19.55,null,null,null,1,19.55,19.55,{"$f":"AVERAGE(INDIRECT($X$1&ROW()-$Y$4+1):X497)","v":19.155000000000001},0,0,{"$f":"IF(AND(AA496=0,AA497=1,SUM(INDIRECT($AA$1&ROW()-$AB$4):AA496)=0),1,0)","v":0},1,{"$f":"IF(AND(AC496=0,AC497=1,SUM(INDIRECT($AC$1&ROW()-AD$4):AC496)=0),1,0)","v":0},97.69,null,null,null,null,null,null,null,null,null,null,null,null,null,-2000,0,null,0,null,null,null,null,null,null,null,null,22.23]
["1977-06-10",{"$f":"VLOOKUP(A498,'input BCI'!$O$3:$R$5000,4)","v":18.760000000000002},null,null,18.760000000000002,null,null,null,null,null,null,null,null,0,18.760000000000002,null,null,18.760000000000002,null,null,null,1,18.760000000000002,18.760000000000002,{"$f":"AVERAGE(INDIRECT($X$1&ROW()-$Y$4+1):X498)","v":18.340000000000003},0,0,{"$f":"IF(AND(AA497=0,AA498=1,SUM(INDIRECT($AA$1&ROW()-$AB$4):AA497)=0),1,0)","v":0},1,{"$f":"IF(AND(AC497=0,AC498=1,SUM(INDIRECT($AC$1&ROW()-AD$4):AC497)=0),1,0)","v":0},98.46,null,null,null,null,null,null,null,null,null,null,null,null,null,-2000,0,null,0,null,null,null,null,null,null,null,null,22.23]
["1977-06-17",{"$f":"VLOOKUP(A499,'input BCI'!$O$3:$R$5000,4)","v":17.920000000000002},null,null,17.920000000000002,null,null,null,null,null,null,null,null,0,17.920000000000002,null,null,17.920000000000002,null,null,null,1,17.920000000000002,17.920000000000002,{"$f":"AVERAGE(INDIRECT($X$1&ROW()-$Y$4+1):X499)","v":17.810000000000002},0,0,{"$f":"IF(AND(AA498=0,AA499=1,SUM(INDIRECT($AA$1&ROW()-$AB$4):AA498)=0),1,0)","v":0},1,{"$f":"IF(AND(AC498=0,AC499=1,SUM(INDIRECT($AC$1&ROW()-AD$4):AC498)=0),1,0)","v":0},99.97,null,null,null,null,null,null,null,null,null,null,null,null,null,-2000,0,null,0,null,null,null,null,null,null,null,null,22.23]
["1977-06-24",{"$f":"VLOOKUP(A500,'input BCI'!$O$3:$R$5000,4)","v":17.7},null,null,17.7,null,null,null,null,null,null,null,null,0,17.7,null,null,17.7,null,null,null,1,17.7,17.7,{"$f":"AVERAGE(INDIRECT($X$1&ROW()-$Y$4+1):X500)","v":17.835000000000001},0,1,{"$f":"IF(AND(AA499=0,AA500=1,SUM(INDIRECT($AA$1&ROW()-$AB$4):AA499)=0),1,0)","v":0},0,{"$f":"IF(AND(AC499=0,AC500=1,SUM(INDIRECT($AC$1&ROW()-AD$4):AC499)=0),1,0)","v":0},101.19,null,null,null,null,null,null,null,null,null,null,null,null,null,-2000,0,null,0,null,null,null,null,null,null,null,null,22.23]
["1977-07-01",{"$f":"VLOOKUP(A501,'input BCI'!$O$3:$R$5000,4)","v":17.97},null,null,17.97,null,null,null,null,null,null,null,null,0,17.97,null,null,17.97,null,null,null,1,17.97,17.97,{"$f":"AVERAGE(INDIRECT($X$1&ROW()-$Y$4+1):X501)","v":18},0,1,{"$f":"IF(AND(AA500=0,AA501=1,SUM(INDIRECT($AA$1&ROW()-$AB$4):AA500)=0),1,0)","v":0},0,{"$f":"IF(AND(AC500=0,AC501=1,SUM(INDIRECT($AC$1&ROW()-AD$4):AC500)=0),1,0)","v":0},100.1,null,null,null,null,null,null,null,null,null,null,null,null,null,-2000,0,null,0,null,null,null,null,null,null,null,null,22.23]
["1977-08-05",{"$f":"VLOOKUP(A506,'input BCI'!$O$3:$R$5000,4)","v":17.829999999999998},null,null,17.829999999999998,null,null,null,null,null,null,null,null,0,17.829999999999998,null,null,17.829999999999998,null,null,null,1,17.829999999999998,17.829999999999998,{"$f":"AVERAGE(INDIRECT($X$1&ROW()-$Y$4+1):X506)","v":17.659999999999997},0,0,{"$f":"IF(AND(AA505=0,AA506=1,SUM(INDIRECT($AA$1&ROW()-$AB$4):AA505)=0),1,0)","v":0},1,{"$f":"IF(AND(AC505=0,AC506=1,SUM(INDIRECT($AC$1&ROW()-AD$4):AC505)=0),1,0)","v":0},98.76,null,null,null,null,null,null,null,null,null,null,null,null,null,-2000,0,null,0,null,null,null,null,null,null,null,null,22.23]
["1977-08-26",{"$f":"VLOOKUP(A509,'input BCI'!$O$3:$R$5000,4)","v":15.92},null,null,15.92,null,null,null,null,null,null,null,null,0,15.92,null,null,15.92,null,null,null,1,15.92,15.92,{"$f":"AVERAGE(INDIRECT($X$1&ROW()-$Y$4+1):X509)","v":15.469999999999999},0,0,{"$f":"IF(AND(AA508=0,AA509=1,SUM(INDIRECT($AA$1&ROW()-$AB$4):AA508)=0),1,0)","v":0},1,{"$f":"IF(AND(AC508=0,AC509=1,SUM(INDIRECT($AC$1&ROW()-AD$4):AC508)=0),1,0)","v":0},96.06,null,null,null,null,null,null,null,null,null,null,null,null,null,-2000,0,null,0,null,null,null,null,null,null,null,null,22.23]
["1977-09-09",{"$f":"VLOOKUP(A511,'input BCI'!$O$3:$R$5000,4)","v":14.29},null,null,14.29,null,null,null,null,null,null,null,null,0,14.29,null,null,14.29,null,null,null,1,14.29,14.29,{"$f":"AVERAGE(INDIRECT($X$1&ROW()-$Y$4+1):X511)","v":13.954999999999998},0,0,{"$f":"IF(AND(AA510=0,AA511=1,SUM(INDIRECT($AA$1&ROW()-$AB$4):AA510)=0),1,0)","v":0},1,{"$f":"IF(AND(AC510=0,AC511=1,SUM(INDIRECT($AC$1&ROW()-AD$4):AC510)=0),1,0)","v":0},96.37,null,null,null,null,null,null,null,null,null,null,null,null,null,-2000,0,null,0,null,null,null,null,null,null,null,null,22.23]
["1977-10-14",{"$f":"VLOOKUP(A516,'input BCI'!$O$3:$R$5000,4)","v":12.99},null,null,12.99,null,null,null,null,null,null,null,null,0,12.99,null,null,12.99,null,null,null,1,12.99,12.99,{"$f":"AVERAGE(INDIRECT($X$1&ROW()-$Y$4+1):X516)","v":13.015000000000001},0,1,{"$f":"IF(AND(AA515=0,AA516=1,SUM(INDIRECT($AA$1&ROW()-$AB$4):AA515)=0),1,0)","v":0},0,{"$f":"IF(AND(AC515=0,AC516=1,SUM(INDIRECT($AC$1&ROW()-AD$4):AC515)=0),1,0)","v":0},93.56,null,null,null,null,null,null,null,null,null,null,null,null,null,-2000,0,null,0,null,null,null,null,null,null,null,null,22.23]
["1977-11-18",{"$f":"VLOOKUP(A521,'input BCI'!$O$3:$R$5000,4)","v":12.64},null,null,12.64,null,null,null,null,null,null,null,null,0,12.64,null,null,12.64,null,null,null,1,12.64,12.64,{"$f":"AVERAGE(INDIRECT($X$1&ROW()-$Y$4+1):X521)","v":12.850000000000001},0,1,{"$f":"IF(AND(AA520=0,AA521=1,SUM(INDIRECT($AA$1&ROW()-$AB$4):AA520)=0),1,0)","v":0},0,{"$f":"IF(AND(AC520=0,AC521=1,SUM(INDIRECT($AC$1&ROW()-AD$4):AC520)=0),1,0)","v":0},95.33,null,null,null,null,null,null,null,null,null,null,null,null,null,-2000,0,null,0,null,null,null,null,null,null,null,null,22.23]
["1977-12-16",{"$f":"VLOOKUP(A525,'input BCI'!$O$3:$R$5000,4)","v":12.97},null,null,12.97,null,null,null,null,null,null,null,null,0,12.97,null,null,12.97,null,null,null,1,12.97,12.97,{"$f":"AVERAGE(INDIRECT($X$1&ROW()-$Y$4+1):X525)","v":12.75},0,{"$f":"IF(Y525>X525,1,0)","v":0},{"$f":"IF(AND(AA524=0,AA525=1,SUM(INDIRECT($AA$1&ROW()-$AB$4):AA524)=0),1,0)","v":0},1,{"$f":"IF(AND(AC524=0,AC525=1,SUM(INDIRECT($AC$1&ROW()-AD$4):AC524)=0),1,0)","v":0},93.4,null,null,null,null,null,null,null,null,null,null,null,null,null,-2000,0,null,0,null,null,null,null,null,null,null,null,22.23]
["1977-12-23",{"$f":"VLOOKUP(A526,'input BCI'!$O$3:$R$5000,4)","v":12.53},null,null,12.53,null,null,null,null,null,null,null,null,0,12.53,null,null,12.53,null,null,null,1,12.53,12.53,{"$f":"AVERAGE(INDIRECT($X$1&ROW()-$Y$4+1):X526)","v":12.36},0,0,{"$f":"IF(AND(AA525=0,AA526=1,SUM(INDIRECT($AA$1&ROW()-$AB$4):AA525)=0),1,0)","v":0},{"$f":"IF(Y526<X526,1,0)","v":1},{"$f":"IF(AND(AC525=0,AC526=1,SUM(INDIRECT($AC$1&ROW()-AD$4):AC525)=0),1,0)","v":0},94.69,null,null,null,null,null,null,null,null,null,null,null,null,null,-2000,0,null,0,null,null,null,null,null,null,null,null,22.23]
["1978-01-20",{"$f":"VLOOKUP(A530,'input BCI'!$O$3:$R$5000,4)","v":12.14},null,null,12.14,null,null,null,null,null,null,null,null,0,12.14,null,null,12.14,null,null,null,1,12.14,12.14,{"$f":"AVERAGE(INDIRECT($X$1&ROW()-$Y$4+1):X530)","v":11.984999999999999},0,0,{"$f":"IF(AND(AA529=0,AA530=1,SUM(INDIRECT($AA$1&ROW()-$AB$4):AA529)=0),1,0)","v":0},1,{"$f":"IF(AND(AC529=0,AC530=1,SUM(INDIRECT($AC$1&ROW()-AD$4):AC529)=0),1,0)","v":0},89.89,null,null,null,null,null,null,null,null,null,null,null,null,null,-2000,0,null,0,null,null,null,null,null,null,null,null,22.23]
["1978-02-24",{"$f":"VLOOKUP(A535,'input BCI'!$O$3:$R$5000,4)","v":9.15},null,null,9.15,null,null,null,null,null,null,null,null,0,9.15,null,null,9.15,null,null,null,1,9.15,9.15,{"$f":"AVERAGE(INDIRECT($X$1&ROW()-$Y$4+1):X535)","v":8.6649999999999991},0,0,{"$f":"IF(AND(AA534=0,AA535=1,SUM(INDIRECT($AA$1&ROW()-$AB$4):AA534)=0),1,0)","v":0},1,{"$f":"IF(AND(AC534=0,AC535=1,SUM(INDIRECT($AC$1&ROW()-AD$4):AC534)=0),1,0)","v":0},88.49,null,null,null,null,null,null,null,null,null,null,null,null,null,-2000,0,null,0,null,null,null,null,null,null,null,null,22.23]
["1978-03-17",{"$f":"VLOOKUP(A538,'input BCI'!$O$3:$R$5000,4)","v":6.31},null,null,6.31,null,null,null,null,null,null,null,null,0,6.31,null,null,6.31,null,null,null,1,6.31,6.31,{"$f":"AVERAGE(INDIRECT($X$1&ROW()-$Y$4+1):X538)","v":6.2949999999999999},0,0,{"$f":"IF(AND(AA537=0,AA538=1,SUM(INDIRECT($AA$1&ROW()-$AB$4):AA537)=0),1,0)","v":0},1,{"$f":"IF(AND(AC537=0,AC538=1,SUM(INDIRECT($AC$1&ROW()-AD$4):AC537)=0),1,0)","v":0},90.2,null,null,null,null,null,null,null,null,null,null,null,null,null,-2000,0,null,0,null,null,null,null,null,null,null,null,22.23]
["1978-03-31",{"$f":"VLOOKUP(A540,'input BCI'!$O$3:$R$5000,4)","v":6.42},null,null,6.42,null,null,null,null,null,null,null,null,0,6.42,null,null,6.42,null,null,null,1,6.42,6.42,{"$f":"AVERAGE(INDIRECT($X$1&ROW()-$Y$4+1):X540)","v":6.54},0,1,{"$f":"IF(AND(AA539=0,AA540=1,SUM(INDIRECT($AA$1&ROW()-$AB$4):AA539)=0),1,0)","v":0},0,{"$f":"IF(AND(AC539=0,AC540=1,SUM(INDIRECT($AC$1&ROW()-AD$4):AC539)=0),1,0)","v":0},89.21,null,null,null,null,null,null,null,null,null,null,null,null,null,-2000,0,null,0,null,null,null,null,null,null,null,null,22.23]
["1978-05-05",{"$f":"VLOOKUP(A545,'input BCI'!$O$3:$R$5000,4)","v":10.94},null,null,10.94,null,null,null,null,null,null,null,null,0,10.94,null,null,10.94,null,null,null,1,10.94,10.94,{"$f":"AVERAGE(INDIRECT($X$1&ROW()-$Y$4+1):X545)","v":11.925000000000001},0,1,{"$f":"IF(AND(AA544=0,AA545=1,SUM(INDIRECT($AA$1&ROW()-$AB$4):AA544)=0),1,0)","v":0},0,{"$f":"IF(AND(AC544=0,AC545=1,SUM(INDIRECT($AC$1&ROW()-AD$4):AC544)=0),1,0)","v":0},96.53,null,null,null,null,null,null,null,null,null,null,null,null,null,-2000,0,null,0,null,null,null,null,null,null,null,null,22.23]
["1978-06-09",{"$f":"VLOOKUP(A550,'input BCI'!$O$3:$R$5000,4)","v":18.170000000000002},null,null,18.170000000000002,null,null,null,null,null,null,null,null,0,18.170000000000002,null,null,18.170000000000002,null,null,null,1,18.170000000000002,18.170000000000002,{"$f":"AVERAGE(INDIRECT($X$1&ROW()-$Y$4+1):X550)","v":18.555},0,1,{"$f":"IF(AND(AA549=0,AA550=1,SUM(INDIRECT($AA$1&ROW()-$AB$4):AA549)=0),1,0)","v":0},0,{"$f":"IF(AND(AC549=0,AC550=1,SUM(INDIRECT($AC$1&ROW()-AD$4):AC549)=0),1,0)","v":0},99.93,null,null,null,null,null,null,null,null,null,null,null,null,null,-2000,0,null,0,null,null,null,null,null,null,null,null,22.23]
["1978-07-07",{"$f":"VLOOKUP(A554,'input BCI'!$O$3:$R$5000,4)","v":18.670000000000002},null,null,18.670000000000002,null,null,null,null,null,null,null,null,0,18.670000000000002,null,null,18.670000000000002,null,null,null,1,18.670000000000002,18.670000000000002,{"$f":"AVERAGE(INDIRECT($X$1&ROW()-$Y$4+1):X554)","v":18.255000000000003},0,0,{"$f":"IF(AND(AA553=0,AA554=1,SUM(INDIRECT($AA$1&ROW()-$AB$4):AA553)=0),1,0)","v":0},1,{"$f":"IF(AND(AC553=0,AC554=1,SUM(INDIRECT($AC$1&ROW()-AD$4):AC553)=0),1,0)","v":0},94.89,null,null,null,null,null,null,null,null,null,null,null,null,null,-2000,0,null,0,null,null,null,null,null,null,null,null,22.23]
["1978-07-14",{"$f":"VLOOKUP(A555,'input BCI'!$O$3:$R$5000,4)","v":17.84},null,null,17.84,null,null,null,null,null,null,null,null,0,17.84,null,null,17.84,null,null,null,1,17.84,17.84,{"$f":"AVERAGE(INDIRECT($X$1&ROW()-$Y$4+1):X555)","v":17.545000000000002},0,0,{"$f":"IF(AND(AA554=0,AA555=1,SUM(INDIRECT($AA$1&ROW()-$AB$4):AA554)=0),1,0)","v":0},1,{"$f":"IF(AND(AC554=0,AC555=1,SUM(INDIRECT($AC$1&ROW()-AD$4):AC554)=0),1,0)","v":0},97.58,null,null,null,null,null,null,null,null,null,null,null,null,null,-2000,0,null,0,null,null,null,null,null,null,null,null,22.23]
["1978-08-11",{"$f":"VLOOKUP(A559,'input BCI'!$O$3:$R$5000,4)","v":17.73},null,null,17.73,null,null,null,null,null,null,null,null,0,17.73,null,null,17.73,null,null,null,1,17.73,17.73,{"$f":"AVERAGE(INDIRECT($X$1&ROW()-$Y$4+1):X559)","v":17.895},0,1,{"$f":"IF(AND(AA558=0,AA559=1,SUM(INDIRECT($AA$1&ROW()-$AB$4):AA558)=0),1,0)","v":0},0,{"$f":"IF(AND(AC558=0,AC559=1,SUM(INDIRECT($AC$1&ROW()-AD$4):AC558)=0),1,0)","v":0},103.96,null,null,null,null,null,null,null,null,null,null,null,null,null,-2000,0,null,0,null,null,null,null,null,null,null,null,22.23]
["1978-09-15",{"$f":"VLOOKUP(A564,'input BCI'!$O$3:$R$5000,4)","v":16.48},null,null,16.48,null,null,null,null,null,null,null,null,0,16.48,null,null,16.48,null,null,null,1,16.48,16.48,{"$f":"AVERAGE(INDIRECT($X$1&ROW()-$Y$4+1):X564)","v":16.234999999999999},0,0,{"$f":"IF(AND(AA563=0,AA564=1,SUM(INDIRECT($AA$1&ROW()-$AB$4):AA563)=0),1,0)","v":0},1,{"$f":"IF(AND(AC563=0,AC564=1,SUM(INDIRECT($AC$1&ROW()-AD$4):AC563)=0),1,0)","v":0},104.12,null,null,null,null,null,null,null,null,null,null,null,null,null,-2000,0,null,0,null,null,null,null,null,null,null,null,22.23]
["1978-10-06",{"$f":"VLOOKUP(A567,'input BCI'!$O$3:$R$5000,4)","v":15.25},null,null,15.25,null,null,null,null,null,null,null,null,0,15.25,null,null,15.25,null,null,null,1,15.25,15.25,{"$f":"AVERAGE(INDIRECT($X$1&ROW()-$Y$4+1):X567)","v":15.07},0,0,{"$f":"IF(AND(AA566=0,AA567=1,SUM(INDIRECT($AA$1&ROW()-$AB$4):AA566)=0),1,0)","v":0},1,{"$f":"IF(AND(AC566=0,AC567=1,SUM(INDIRECT($AC$1&ROW()-AD$4):AC566)=0),1,0)","v":0},103.52,null,null,null,null,null,null,null,null,null,null,null,null,null,-2000,0,null,0,null,null,null,null,null,null,null,null,22.23]
["1978-10-20",{"$f":"VLOOKUP(A569,'input BCI'!$O$3:$R$5000,4)","v":14.59},null,null,14.59,null,null,null,null,null,null,null,null,0,14.59,null,null,14.59,null,null,null,1,14.59,14.59,{"$f":"AVERAGE(INDIRECT($X$1&ROW()-$Y$4+1):X569)","v":14.29},0,0,{"$f":"IF(AND(AA568=0,AA569=1,SUM(INDIRECT($AA$1&ROW()-$AB$4):AA568)=0),1,0)","v":0},1,{"$f":"IF(AND(AC568=0,AC569=1,SUM(INDIRECT($AC$1&ROW()-AD$4):AC568)=0),1,0)","v":0},97.95,null,null,null,null,null,null,null,null,null,null,null,null,null,-2000,0,null,0,null,null,null,null,null,null,null,null,22.23]
["1978-11-24",{"$f":"VLOOKUP(A574,'input BCI'!$O$3:$R$5000,4)","v":10.71},null,null,10.71,null,null,null,null,null,null,null,null,0,10.71,null,null,10.71,null,null,null,1,10.71,10.71,{"$f":"AVERAGE(INDIRECT($X$1&ROW()-$Y$4+1):X574)","v":10.855},0,1,{"$f":"IF(AND(AA573=0,AA574=1,SUM(INDIRECT($AA$1&ROW()-$AB$4):AA573)=0),1,0)","v":1},0,{"$f":"IF(AND(AC573=0,AC574=1,SUM(INDIRECT($AC$1&ROW()-AD$4):AC573)=0),1,0)","v":0},95.79,null,null,null,null,null,null,null,null,null,null,null,null,null,-2000,0,null,0,null,null,null,null,null,null,null,null,22.23]
["1978-12-15",{"$f":"VLOOKUP(A577,'input BCI'!$O$3:$R$5000,4)","v":11.3},null,null,11.3,null,null,null,null,null,null,null,null,0,11.3,null,null,11.3,null,null,null,1,11.3,11.3,{"$f":"AVERAGE(INDIRECT($X$1&ROW()-$Y$4+1):X577)","v":11.21},0,0,{"$f":"IF(AND(AA576=0,AA577=1,SUM(INDIRECT($AA$1&ROW()-$AB$4):AA576)=0),1,0)","v":0},1,{"$f":"IF(AND(AC576=0,AC577=1,SUM(INDIRECT($AC$1&ROW()-AD$4):AC576)=0),1,0)","v":0},95.33,null,null,null,null,null,null,null,null,null,null,null,null,null,-2000,0,null,0,null,null,null,null,null,null,null,null,22.23]
["1979-01-26",{"$f":"VLOOKUP(A583,'input BCI'!$O$3:$R$5000,4)","v":9},null,null,9,null,null,null,null,null,null,null,null,0,9,null,null,9,null,null,null,1,9,9,{"$f":"AVERAGE(INDIRECT($X$1&ROW()-$Y$4+1):X583)","v":8.875},0,0,{"$f":"IF(AND(AA582=0,AA583=1,SUM(INDIRECT($AA$1&ROW()-$AB$4):AA582)=0),1,0)","v":0},1,{"$f":"IF(AND(AC582=0,AC583=1,SUM(INDIRECT($AC$1&ROW()-AD$4):AC582)=0),1,0)","v":0},101.86,null,null,null,null,null,null,null,null,null,null,null,null,null,-2000,0,null,0,null,null,null,null,null,null,null,null,22.23]
["1979-02-02",{"$f":"VLOOKUP(A584,'input BCI'!$O$3:$R$5000,4)","v":8.75},null,null,8.75,null,null,null,null,null,null,null,null,0,8.75,null,null,8.75,null,null,null,1,8.75,8.75,{"$f":"AVERAGE(INDIRECT($X$1&ROW()-$Y$4+1):X584)","v":8.3350000000000009},0,0,{"$f":"IF(AND(AA583=0,AA584=1,SUM(INDIRECT($AA$1&ROW()-$AB$4):AA583)=0),1,0)","v":0},1,{"$f":"IF(AND(AC583=0,AC584=1,SUM(INDIRECT($AC$1&ROW()-AD$4):AC583)=0),1,0)","v":0},99.5,null,null,null,null,null,null,null,null,null,null,null,null,null,-2000,0,null,0,null,null,null,null,null,null,null,null,22.23]
["1979-03-02",{"$f":"VLOOKUP(A588,'input BCI'!$O$3:$R$5000,4)","v":5.19},null,null,5.19,null,null,null,null,null,null,null,null,0,5.19,null,null,5.19,null,null,null,{"$f":"V587","v":1},5.19,5.19,{"$f":"AVERAGE(INDIRECT($X$1&ROW()-$Y$4+1):X588)","v":4.6550000000000002},0,0,{"$f":"IF(AND(AA587=0,AA588=1,SUM(INDIRECT($AA$1&ROW()-$AB$4):AA587)=0),1,0)","v":0},1,{"$f":"IF(AND(AC587=0,AC588=1,SUM(INDIRECT($AC$1&ROW()-AD$4):AC587)=0),1,0)","v":0},96.97,null,null,null,null,null,null,null,null,null,null,null,null,null,-2000,0,null,0,null,null,null,null,null,null,null,null,22.23]
["1979-04-06",{"$f":"VLOOKUP(A593,'input BCI'!$O$3:$R$5000,4)","v":2.23},null,null,2.23,null,null,null,null,null,null,null,null,0,2.23,null,null,2.23,null,null,null,1,2.23,2.23,{"$f":"AVERAGE(INDIRECT($X$1&ROW()-$Y$4+1):X593)","v":2.25},0,1,{"$f":"IF(AND(AA592=0,AA593=1,SUM(INDIRECT($AA$1&ROW()-$AB$4):AA592)=0),1,0)","v":1},0,{"$f":"IF(AND(AC592=0,AC593=1,SUM(INDIRECT($AC$1&ROW()-AD$4):AC592)=0),1,0)","v":0},103.18,null,null,null,null,null,null,null,null,null,null,null,null,null,-2000,0,null,0,null,null,null,null,null,null,null,null,22.23]
["1979-04-27",{"$f":"VLOOKUP(A596,'input BCI'!$O$3:$R$5000,4)","v":1.88},null,null,1.88,null,null,null,null,null,null,null,null,0,1.88,null,null,1.88,null,null,null,1,1.88,1.88,{"$f":"AVERAGE(INDIRECT($X$1&ROW()-$Y$4+1):X596)","v":1.97},0,1,{"$f":"IF(AND(AA595=0,AA596=1,SUM(INDIRECT($AA$1&ROW()-$AB$4):AA595)=0),1,0)","v":0},0,{"$f":"IF(AND(AC595=0,AC596=1,SUM(INDIRECT($AC$1&ROW()-AD$4):AC595)=0),1,0)","v":0},101.8,null,null,null,null,null,null,null,null,null,null,null,null,null,-2000,0,null,0,null,null,null,null,null,null,null,null,22.23]
["1979-05-11",{"$f":"VLOOKUP(A598,'input BCI'!$O$3:$R$5000,4)","v":2.13},null,null,2.13,null,null,null,null,null,null,null,null,0,2.13,null,null,2.13,null,null,null,1,2.13,2.13,{"$f":"AVERAGE(INDIRECT($X$1&ROW()-$Y$4+1):X598)","v":2.2999999999999998},0,1,{"$f":"IF(AND(AA597=0,AA598=1,SUM(INDIRECT($AA$1&ROW()-$AB$4):AA597)=0),1,0)","v":0},0,{"$f":"IF(AND(AC597=0,AC598=1,SUM(INDIRECT($AC$1&ROW()-AD$4):AC597)=0),1,0)","v":0},98.52,null,null,null,null,null,null,null,null,null,null,null,null,null,-2000,0,null,0,null,null,null,null,null,null,null,null,22.23]
["1979-06-22",{"$f":"VLOOKUP(A604,'input BCI'!$O$3:$R$5000,4)","v":4.45},null,null,4.45,null,null,null,null,null,null,null,null,0,4.45,null,null,4.45,null,null,null,1,4.45,4.45,{"$f":"AVERAGE(INDIRECT($X$1&ROW()-$Y$4+1):X604)","v":4.585},0,1,{"$f":"IF(AND(AA603=0,AA604=1,SUM(INDIRECT($AA$1&ROW()-$AB$4):AA603)=0),1,0)","v":0},0,{"$f":"IF(AND(AC603=0,AC604=1,SUM(INDIRECT($AC$1&ROW()-AD$4):AC603)=0),1,0)","v":0},102.64,null,null,null,null,null,null,null,null,null,null,null,null,null,-2000,0,null,0,null,null,null,null,null,null,null,null,22.23]
["1979-07-13",{"$f":"VLOOKUP(A607,'input BCI'!$O$3:$R$5000,4)","v":5.03},null,null,5.03,null,null,null,null,null,null,null,null,0,5.03,null,null,5.03,null,null,null,1,5.03,5.03,{"$f":"AVERAGE(INDIRECT($X$1&ROW()-$Y$4+1):X607)","v":4.82},0,0,{"$f":"IF(AND(AA606=0,AA607=1,SUM(INDIRECT($AA$1&ROW()-$AB$4):AA606)=0),1,0)","v":0},1,{"$f":"IF(AND(AC606=0,AC607=1,SUM(INDIRECT($AC$1&ROW()-AD$4):AC606)=0),1,0)","v":1},102.32,null,null,null,null,null,null,null,null,null,null,null,null,null,-2000,0,null,0,null,null,null,null,null,null,null,null,22.23]
["1979-08-17",{"$f":"VLOOKUP(A612,'input BCI'!$O$3:$R$5000,4)","v":2.59},null,null,2.59,null,null,null,null,null,null,null,null,0,2.59,null,null,2.59,null,null,null,1,2.59,2.59,{"$f":"AVERAGE(INDIRECT($X$1&ROW()-$Y$4+1):X612)","v":2.63},0,1,{"$f":"IF(AND(AA611=0,AA612=1,SUM(INDIRECT($AA$1&ROW()-$AB$4):AA611)=0),1,0)","v":0},0,{"$f":"IF(AND(AC611=0,AC612=1,SUM(INDIRECT($AC$1&ROW()-AD$4):AC611)=0),1,0)","v":0},108.3,null,null,null,null,null,null,null,null,null,null,null,null,null,-2000,0,null,0,null,null,null,null,null,null,null,null,22.23]
["1979-08-24",{"$f":"VLOOKUP(A613,'input BCI'!$O$3:$R$5000,4)","v":2.67},null,null,2.67,null,null,null,null,null,null,null,null,0,2.67,null,null,2.67,null,null,null,1,2.67,2.67,{"$f":"AVERAGE(INDIRECT($X$1&ROW()-$Y$4+1):X613)","v":2.6749999999999998},0,1,{"$f":"IF(AND(AA612=0,AA613=1,SUM(INDIRECT($AA$1&ROW()-$AB$4):AA612)=0),1,0)","v":0},0,{"$f":"IF(AND(AC612=0,AC613=1,SUM(INDIRECT($AC$1&ROW()-AD$4):AC612)=0),1,0)","v":0},108.6,null,null,null,null,null,null,null,null,null,null,null,null,null,-2000,0,null,0,null,null,null,null,null,null,null,null,22.23]
["1979-09-21",{"$f":"VLOOKUP(A617,'input BCI'!$O$3:$R$5000,4)","v":2.34},null,null,2.34,null,null,null,null,null,null,null,null,0,2.34,null,null,2.34,null,null,null,1,2.34,2.34,{"$f":"AVERAGE(INDIRECT($X$1&ROW()-$Y$4+1):X617)","v":2.44},0,1,{"$f":"IF(AND(AA616=0,AA617=1,SUM(INDIRECT($AA$1&ROW()-$AB$4):AA616)=0),1,0)","v":0},0,{"$f":"IF(AND(AC616=0,AC617=1,SUM(INDIRECT($AC$1&ROW()-AD$4):AC616)=0),1,0)","v":0},110.47,null,null,null,null,null,null,null,null,null,null,null,null,null,-2000,0,null,0,null,null,null,null,null,null,null,null,22.23]
["1979-10-26",{"$f":"VLOOKUP(A622,'input BCI'!$O$3:$R$5000,4)","v":1.72},null,null,1.72,null,null,null,null,null,null,null,null,0,1.72,null,null,1.72,null,null,null,1,1.72,1.72,{"$f":"AVERAGE(INDIRECT($X$1&ROW()-$Y$4+1):X622)","v":1.095},0,0,{"$f":"IF(AND(AA621=0,AA622=1,SUM(INDIRECT($AA$1&ROW()-$AB$4):AA621)=0),1,0)","v":0},1,{"$f":"IF(AND(AC621=0,AC622=1,SUM(INDIRECT($AC$1&ROW()-AD$4):AC621)=0),1,0)","v":0},100.57,null,null,null,null,null,null,null,null,null,null,null,null,null,-2000,0,null,0,null,null,null,null,null,null,null,null,22.23]
["1979-11-16",{"$f":"VLOOKUP(A625,'input BCI'!$O$3:$R$5000,4)","v":-1.59},null,null,-1.59,null,null,null,null,null,null,null,null,0,-1.59,null,null,-1.59,null,null,null,1,-1.59,-1.59,{"$f":"AVERAGE(INDIRECT($X$1&ROW()-$Y$4+1):X625)","v":-1.645},0,0,{"$f":"IF(AND(AA624=0,AA625=1,SUM(INDIRECT($AA$1&ROW()-$AB$4):AA624)=0),1,0)","v":0},1,{"$f":"IF(AND(AC624=0,AC625=1,SUM(INDIRECT($AC$1&ROW()-AD$4):AC624)=0),1,0)","v":0},103.79,null,null,null,null,null,null,null,null,null,null,null,null,null,-2000,0,null,0,null,null,null,null,null,null,null,null,22.23]
["1979-11-30",{"$f":"VLOOKUP(A627,'input BCI'!$O$3:$R$5000,4)","v":-1.98},null,null,-1.98,null,null,null,null,null,null,null,null,0,-1.98,null,null,-1.98,null,null,null,1,-1.98,-1.98,{"$f":"AVERAGE(INDIRECT($X$1&ROW()-$Y$4+1):X627)","v":-2.15},0,0,{"$f":"IF(AND(AA626=0,AA627=1,SUM(INDIRECT($AA$1&ROW()-$AB$4):AA626)=0),1,0)","v":0},1,{"$f":"IF(AND(AC626=0,AC627=1,SUM(INDIRECT($AC$1&ROW()-AD$4):AC626)=0),1,0)","v":0},106.16,null,null,null,null,null,null,null,null,null,null,null,null,null,-2000,0,null,0,null,null,null,null,null,null,null,null,22.23]
["1980-01-11",{"$f":"VLOOKUP(A633,'input BCI'!$O$3:$R$5000,4)","v":-5.56},null,null,-5.56,null,null,null,null,null,null,null,null,0,-5.56,null,null,-5.56,null,null,null,1,-5.56,-5.56,{"$f":"AVERAGE(INDIRECT($X$1&ROW()-$Y$4+1):X633)","v":-5.9149999999999991},0,0,{"$f":"IF(AND(AA632=0,AA633=1,SUM(INDIRECT($AA$1&ROW()-$AB$4):AA632)=0),1,0)","v":0},1,{"$f":"IF(AND(AC632=0,AC633=1,SUM(INDIRECT($AC$1&ROW()-AD$4):AC632)=0),1,0)","v":0},109.92,null,null,null,null,null,null,null,null,null,null,null,null,null,-2000,0,null,0,null,null,null,null,null,null,null,null,22.23]
["1980-02-01",{"$f":"VLOOKUP(A636,'input BCI'!$O$3:$R$5000,4)","v":-6.56},null,null,-6.56,null,null,null,null,null,null,null,null,1,-6.56,null,null,-6.56,null,null,null,1,-6.56,-6.56,{"$f":"AVERAGE(INDIRECT($X$1&ROW()-$Y$4+1):X636)","v":-6.5649999999999995},0,0,{"$f":"IF(AND(AA635=0,AA636=1,SUM(INDIRECT($AA$1&ROW()-$AB$4):AA635)=0),1,0)","v":0},1,{"$f":"IF(AND(AC635=0,AC636=1,SUM(INDIRECT($AC$1&ROW()-AD$4):AC635)=0),1,0)","v":0},115.12,null,null,null,null,null,null,null,null,null,null,null,null,"1980-02-01",2000,1,null,0,null,null,null,null,null,null,null,null,22.23]
["1980-03-07",{"$f":"VLOOKUP(A641,'input BCI'!$O$3:$R$5000,4)","v":-7.89},null,null,-7.89,null,null,null,null,null,null,null,null,1,-7.89,null,null,-7.89,null,null,null,1,-7.89,-7.89,{"$f":"AVERAGE(INDIRECT($X$1&ROW()-$Y$4+1):X641)","v":-8.35},0,0,{"$f":"IF(AND(AA640=0,AA641=1,SUM(INDIRECT($AA$1&ROW()-$AB$4):AA640)=0),1,0)","v":0},1,{"$f":"IF(AND(AC640=0,AC641=1,SUM(INDIRECT($AC$1&ROW()-AD$4):AC640)=0),1,0)","v":0},106.9,null,null,null,null,null,null,null,null,null,null,null,null,"1980-03-07",2000,1,null,0,null,null,null,null,null,null,null,null,22.23]
["1980-03-14",{"$f":"VLOOKUP(A642,'input BCI'!$O$3:$R$5000,4)","v":-8.81},null,null,-8.81,null,null,null,null,null,null,null,null,1,-8.81,null,null,-8.81,null,null,null,1,-8.81,-8.81,{"$f":"AVERAGE(INDIRECT($X$1&ROW()-$Y$4+1):X642)","v":-9.3350000000000009},0,0,{"$f":"IF(AND(AA641=0,AA642=1,SUM(INDIRECT($AA$1&ROW()-$AB$4):AA641)=0),1,0)","v":0},1,{"$f":"IF(AND(AC641=0,AC642=1,SUM(INDIRECT($AC$1&ROW()-AD$4):AC641)=0),1,0)","v":0},105.43,null,null,null,null,null,null,null,null,null,null,null,null,"1980-03-14",2000,1,null,0,null,null,null,null,null,null,null,null,22.23]
["1980-04-11",{"$f":"VLOOKUP(A646,'input BCI'!$O$3:$R$5000,4)","v":-13.86},null,null,-13.86,null,null,null,null,null,null,null,null,1,-13.86,null,null,-13.86,null,null,null,1,-13.86,-13.86,{"$f":"AVERAGE(INDIRECT($X$1&ROW()-$Y$4+1):X646)","v":-14.26},0,0,{"$f":"IF(AND(AA645=0,AA646=1,SUM(INDIRECT($AA$1&ROW()-$AB$4):AA645)=0),1,0)","v":0},1,{"$f":"IF(AND(AC645=0,AC646=1,SUM(INDIRECT($AC$1&ROW()-AD$4):AC645)=0),1,0)","v":0},103.79,null,null,null,null,null,null,null,null,null,null,null,null,"1980-04-11",2000,1,null,0,null,null,null,null,null,null,null,null,22.23]
["1980-05-16",{"$f":"VLOOKUP(A651,'input BCI'!$O$3:$R$5000,4)","v":-17.82},null,null,{"$f":"B651+$O$7","v":-17.82},null,null,null,null,null,null,null,null,1,{"$f":"E651","v":-17.82},null,null,-17.82,null,null,null,1,{"$f":"R651","v":-17.82},{"$f":"(W651+$X$4)","v":-17.82},{"$f":"AVERAGE(INDIRECT($X$1&ROW()-$Y$4+1):X651)","v":-18.259999999999998},{"$f":"IF(OR(X651=$I$5,X651>$I$5),1,0)","v":0},0,{"$f":"IF(AND(AA650=0,AA651=1,SUM(INDIRECT($AA$1&ROW()-$AB$4):AA650)=0),1,0)","v":0},1,{"$f":"IF(AND(AC650=0,AC651=1,SUM(INDIRECT($AC$1&ROW()-AD$4):AC650)=0),1,0)","v":0},107.35,null,null,null,null,null,null,null,null,null,null,null,null,"1980-05-16",2000,1,null,0,null,null,null,null,null,null,null,null,{"$f":"$BE$2","v":22.23}]
["1980-06-13",{"$f":"VLOOKUP(A655,'input BCI'!$O$3:$R$5000,4)","v":-22.22},null,null,-22.22,null,null,null,null,null,null,null,null,1,-22.22,null,null,-22.22,null,null,null,1,-22.22,-22.22,{"$f":"AVERAGE(INDIRECT($X$1&ROW()-$Y$4+1):X655)","v":-22.715},0,0,{"$f":"IF(AND(AA654=0,AA655=1,SUM(INDIRECT($AA$1&ROW()-$AB$4):AA654)=0),1,0)","v":0},1,{"$f":"IF(AND(AC654=0,AC655=1,SUM(INDIRECT($AC$1&ROW()-AD$4):AC654)=0),1,0)","v":0},115.81,null,null,null,null,null,null,null,null,null,null,null,null,"1980-06-13",2000,1,null,0,null,null,null,null,null,null,null,null,22.23]
["1980-06-20",{"$f":"VLOOKUP(A656,'input BCI'!$O$3:$R$5000,4)","v":-23.21},null,null,-23.21,null,null,null,null,null,null,null,null,1,-23.21,null,null,-23.21,null,null,null,1,-23.21,-23.21,{"$f":"AVERAGE(INDIRECT($X$1&ROW()-$Y$4+1):X656)","v":-23.285},0,0,{"$f":"IF(AND(AA655=0,AA656=1,SUM(INDIRECT($AA$1&ROW()-$AB$4):AA655)=0),1,0)","v":0},1,{"$f":"IF(AND(AC655=0,AC656=1,SUM(INDIRECT($AC$1&ROW()-AD$4):AC655)=0),1,0)","v":0},114.06,null,null,null,null,null,null,null,null,null,null,null,null,"1980-06-20",2000,1,null,0,null,null,null,null,null,null,null,null,22.23]
["1980-08-01",{"$f":"VLOOKUP(A662,'input BCI'!$O$3:$R$5000,4)","v":-17.77},null,null,-17.77,null,null,null,null,null,null,null,null,0,-17.77,null,null,-17.77,null,null,null,1,-17.77,-17.77,{"$f":"AVERAGE(INDIRECT($X$1&ROW()-$Y$4+1):X662)","v":-17},0,1,{"$f":"IF(AND(AA661=0,AA662=1,SUM(INDIRECT($AA$1&ROW()-$AB$4):AA661)=0),1,0)","v":0},0,{"$f":"IF(AND(AC661=0,AC662=1,SUM(INDIRECT($AC$1&ROW()-AD$4):AC661)=0),1,0)","v":0},121.21,null,null,null,null,null,null,null,null,null,null,null,null,null,-2000,0,null,0,null,null,null,null,null,null,null,null,22.23]
["1980-08-22",{"$f":"VLOOKUP(A665,'input BCI'!$O$3:$R$5000,4)","v":-13.07},null,null,-13.07,null,null,null,null,null,null,null,null,0,-13.07,null,null,{"$f":"O665*R$7","v":-13.07},null,null,null,1,-13.07,-13.07,{"$f":"AVERAGE(INDIRECT($X$1&ROW()-$Y$4+1):X665)","v":-12.275},0,1,{"$f":"IF(AND(AA664=0,AA665=1,SUM(INDIRECT($AA$1&ROW()-$AB$4):AA664)=0),1,0)","v":0},0,{"$f":"IF(AND(AC664=0,AC665=1,SUM(INDIRECT($AC$1&ROW()-AD$4):AC664)=0),1,0)","v":0},126.02,null,null,null,null,null,null,null,null,null,null,null,null,null,-2000,0,null,0,null,null,null,null,null,null,null,null,22.23]
["1980-09-26",{"$f":"VLOOKUP(A670,'input BCI'!$O$3:$R$5000,4)","v":-4.87},null,null,-4.87,null,null,null,null,null,null,null,null,0,-4.87,null,null,-4.87,null,null,null,1,-4.87,-4.87,{"$f":"AVERAGE(INDIRECT($X$1&ROW()-$Y$4+1):X670)","v":-4.1749999999999998},0,1,{"$f":"IF(AND(AA669=0,AA670=1,SUM(INDIRECT($AA$1&ROW()-$AB$4):AA669)=0),1,0)","v":0},0,{"$f":"IF(AND(AC669=0,AC670=1,SUM(INDIRECT($AC$1&ROW()-AD$4):AC669)=0),1,0)","v":0},126.35,null,null,null,null,null,null,null,null,null,null,null,null,null,-2000,0,null,0,null,null,null,null,null,null,null,null,22.23]
["1980-10-03",{"$f":"VLOOKUP(A671,'input BCI'!$O$3:$R$5000,4)","v":-3.48},null,null,-3.48,null,null,null,null,null,null,null,null,0,-3.48,null,null,-3.48,null,null,null,1,-3.48,-3.48,{"$f":"AVERAGE(INDIRECT($X$1&ROW()-$Y$4+1):X671)","v":-2.7},0,1,{"$f":"IF(AND(AA670=0,AA671=1,SUM(INDIRECT($AA$1&ROW()-$AB$4):AA670)=0),1,0)","v":0},0,{"$f":"IF(AND(AC670=0,AC671=1,SUM(INDIRECT($AC$1&ROW()-AD$4):AC670)=0),1,0)","v":0},129.33000000000001,null,null,null,null,null,null,null,null,null,null,null,null,null,-2000,0,null,0,null,null,null,null,null,null,null,null,22.23]
["1980-10-31",{"$f":"VLOOKUP(A675,'input BCI'!$O$3:$R$5000,4)","v":1.58},null,null,1.58,null,null,null,null,null,null,null,null,0,1.58,null,null,1.58,null,null,null,1,1.58,1.58,{"$f":"AVERAGE(INDIRECT($X$1&ROW()-$Y$4+1):X675)","v":1.78},0,1,{"$f":"IF(AND(AA674=0,AA675=1,SUM(INDIRECT($AA$1&ROW()-$AB$4):AA674)=0),1,0)","v":0},0,{"$f":"IF(AND(AC674=0,AC675=1,SUM(INDIRECT($AC$1&ROW()-AD$4):AC674)=0),1,0)","v":0},127.47,null,null,null,null,null,null,null,null,null,null,null,null,null,-2000,0,null,0,null,null,null,null,null,null,null,null,22.23]
["1980-12-05",{"$f":"VLOOKUP(A680,'input BCI'!$O$3:$R$5000,4)","v":6.08},null,null,6.08,null,null,null,null,null,null,null,null,0,6.08,null,null,6.08,null,null,null,1,6.08,6.08,{"$f":"AVERAGE(INDIRECT($X$1&ROW()-$Y$4+1):X680)","v":6.415},0,1,{"$f":"IF(AND(AA679=0,AA680=1,SUM(INDIRECT($AA$1&ROW()-$AB$4):AA679)=0),1,0)","v":0},0,{"$f":"IF(AND(AC679=0,AC680=1,SUM(INDIRECT($AC$1&ROW()-AD$4):AC679)=0),1,0)","v":0},134.03,null,null,null,null,null,null,null,null,null,null,null,null,null,-2000,0,null,0,null,null,null,null,null,null,null,null,22.23]
["1981-01-02",{"$f":"VLOOKUP(A684,'input BCI'!$O$3:$R$5000,4)","v":6.85},null,null,6.85,null,null,null,null,null,null,null,null,0,6.85,null,null,6.85,null,null,null,1,6.85,6.85,{"$f":"AVERAGE(INDIRECT($X$1&ROW()-$Y$4+1):X684)","v":7.22},0,1,{"$f":"IF(AND(AA683=0,AA684=1,SUM(INDIRECT($AA$1&ROW()-$AB$4):AA683)=0),1,0)","v":0},0,{"$f":"IF(AND(AC683=0,AC684=1,SUM(INDIRECT($AC$1&ROW()-AD$4):AC683)=0),1,0)","v":0},136.34,null,null,null,null,null,null,null,null,null,null,null,null,null,-2000,0,null,0,null,null,null,null,null,null,null,null,22.23]
["1981-01-09",{"$f":"VLOOKUP(A685,'input BCI'!$O$3:$R$5000,4)","v":7.59},null,null,7.59,null,null,null,null,null,null,null,null,0,7.59,null,null,7.59,null,null,null,1,7.59,7.59,{"$f":"AVERAGE(INDIRECT($X$1&ROW()-$Y$4+1):X685)","v":7.9},0,1,{"$f":"IF(AND(AA684=0,AA685=1,SUM(INDIRECT($AA$1&ROW()-$AB$4):AA684)=0),1,0)","v":0},0,{"$f":"IF(AND(AC684=0,AC685=1,SUM(INDIRECT($AC$1&ROW()-AD$4):AC684)=0),1,0)","v":0},133.47999999999999,null,null,null,null,null,null,null,null,null,null,null,null,null,-2000,0,null,0,null,null,null,null,null,null,null,null,22.23]
["1981-02-20",{"$f":"VLOOKUP(A691,'input BCI'!$O$3:$R$5000,4)","v":6.32},null,null,6.32,null,null,null,null,null,null,null,null,0,6.32,null,null,6.32,null,null,null,1,6.32,6.32,{"$f":"AVERAGE(INDIRECT($X$1&ROW()-$Y$4+1):X691)","v":6.0350000000000001},0,0,{"$f":"IF(AND(AA690=0,AA691=1,SUM(INDIRECT($AA$1&ROW()-$AB$4):AA690)=0),1,0)","v":0},1,{"$f":"IF(AND(AC690=0,AC691=1,SUM(INDIRECT($AC$1&ROW()-AD$4):AC690)=0),1,0)","v":0},126.58,null,null,null,null,null,null,null,null,null,null,null,null,null,-2000,0,null,0,null,null,null,null,null,null,null,null,22.23]
["1981-03-13",{"$f":"VLOOKUP(A694,'input BCI'!$O$3:$R$5000,4)","v":5.21},null,null,5.21,null,null,null,null,null,null,null,null,0,5.21,null,null,5.21,null,null,null,1,5.21,5.21,{"$f":"AVERAGE(INDIRECT($X$1&ROW()-$Y$4+1):X694)","v":5.2799999999999994},0,1,{"$f":"IF(AND(AA693=0,AA694=1,SUM(INDIRECT($AA$1&ROW()-$AB$4):AA693)=0),1,0)","v":0},0,{"$f":"IF(AND(AC693=0,AC694=1,SUM(INDIRECT($AC$1&ROW()-AD$4):AC693)=0),1,0)","v":0},133.11000000000001,null,null,null,null,null,null,null,null,null,null,null,null,null,-2000,0,null,0,null,null,null,null,null,null,null,null,22.23]
["1981-04-17",{"$f":"VLOOKUP(A699,'input BCI'!$O$3:$R$5000,4)","v":7},null,null,7,null,null,null,null,null,null,null,null,0,7,null,null,7,null,null,null,1,7,7,{"$f":"AVERAGE(INDIRECT($X$1&ROW()-$Y$4+1):X699)","v":7},0,0,{"$f":"IF(AND(AA698=0,AA699=1,SUM(INDIRECT($AA$1&ROW()-$AB$4):AA698)=0),1,0)","v":0},0,{"$f":"IF(AND(AC698=0,AC699=1,SUM(INDIRECT($AC$1&ROW()-AD$4):AC698)=0),1,0)","v":0},134.69999999999999,null,null,null,null,null,null,null,null,null,null,null,null,null,-2000,0,null,0,null,null,null,null,null,null,null,null,22.23]
["1981-05-01",{"$f":"VLOOKUP(A701,'input BCI'!$O$3:$R$5000,4)","v":6.85},null,null,6.85,null,null,null,null,null,null,null,null,0,6.85,null,null,6.85,null,null,null,1,6.85,6.85,{"$f":"AVERAGE(INDIRECT($X$1&ROW()-$Y$4+1):X701)","v":6.585},0,0,{"$f":"IF(AND(AA700=0,AA701=1,SUM(INDIRECT($AA$1&ROW()-$AB$4):AA700)=0),1,0)","v":0},1,{"$f":"IF(AND(AC700=0,AC701=1,SUM(INDIRECT($AC$1&ROW()-AD$4):AC700)=0),1,0)","v":0},132.72,null,null,null,null,null,null,null,null,null,null,null,null,null,-2000,0,null,0,null,null,null,null,null,null,null,null,22.23]
["1981-05-22",{"$f":"VLOOKUP(A704,'input BCI'!$O$3:$R$5000,4)","v":4.74},null,null,4.74,null,null,null,null,null,null,null,null,0,4.74,null,null,4.74,null,null,null,1,4.74,4.74,{"$f":"AVERAGE(INDIRECT($X$1&ROW()-$Y$4+1):X704)","v":4.25},0,0,{"$f":"IF(AND(AA703=0,AA704=1,SUM(INDIRECT($AA$1&ROW()-$AB$4):AA703)=0),1,0)","v":0},1,{"$f":"IF(AND(AC703=0,AC704=1,SUM(INDIRECT($AC$1&ROW()-AD$4):AC703)=0),1,0)","v":0},131.33000000000001,null,null,null,null,null,null,null,null,null,null,null,null,null,-2000,0,null,0,null,null,null,null,null,null,null,null,22.23]
["1981-06-19",{"$f":"VLOOKUP(A708,'input BCI'!$O$3:$R$5000,4)","v":1.28},null,null,1.28,null,null,null,null,null,null,null,null,0,1.28,null,null,1.28,null,null,null,1,1.28,1.28,{"$f":"AVERAGE(INDIRECT($X$1&ROW()-$Y$4+1):X708)","v":0.88},0,0,{"$f":"IF(AND(AA707=0,AA708=1,SUM(INDIRECT($AA$1&ROW()-$AB$4):AA707)=0),1,0)","v":0},1,{"$f":"IF(AND(AC707=0,AC708=1,SUM(INDIRECT($AC$1&ROW()-AD$4):AC707)=0),1,0)","v":0},132.27000000000001,null,null,null,null,null,null,null,null,null,null,null,null,null,-2000,0,null,0,null,null,null,null,null,null,null,null,22.23]
["1981-07-24",{"$f":"VLOOKUP(A713,'input BCI'!$O$3:$R$5000,4)","v":-2.78},null,null,-2.78,null,null,null,null,null,null,null,null,0,-2.78,null,null,-2.78,null,null,null,1,-2.78,-2.78,{"$f":"AVERAGE(INDIRECT($X$1&ROW()-$Y$4+1):X713)","v":-3.2450000000000001},0,0,{"$f":"IF(AND(AA712=0,AA713=1,SUM(INDIRECT($AA$1&ROW()-$AB$4):AA712)=0),1,0)","v":0},1,{"$f":"IF(AND(AC712=0,AC713=1,SUM(INDIRECT($AC$1&ROW()-AD$4):AC712)=0),1,0)","v":0},128.46,null,null,null,null,null,null,null,null,null,null,null,null,null,-2000,0,null,0,null,null,null,null,null,null,null,null,22.23]
["1981-07-31",{"$f":"VLOOKUP(A714,'input BCI'!$O$3:$R$5000,4)","v":-3.71},null,null,-3.71,null,null,null,null,null,null,null,null,0,-3.71,null,null,-3.71,null,null,null,1,-3.71,-3.71,{"$f":"AVERAGE(INDIRECT($X$1&ROW()-$Y$4+1):X714)","v":-3.98},0,0,{"$f":"IF(AND(AA713=0,AA714=1,SUM(INDIRECT($AA$1&ROW()-$AB$4):AA713)=0),1,0)","v":0},1,{"$f":"IF(AND(AC713=0,AC714=1,SUM(INDIRECT($AC$1&ROW()-AD$4):AC713)=0),1,0)","v":0},130.91999999999999,null,null,null,null,null,null,null,null,null,null,null,null,null,{"$f":"IF(ISNUMBER(AR714),2000,-2000)","v":-2000},0,null,0,null,null,null,null,null,null,null,null,22.23]
["1981-09-11",{"$f":"VLOOKUP(A720,'input BCI'!$O$3:$R$5000,4)","v":-9.36},null,null,-9.36,null,null,null,null,null,null,null,null,1,-9.36,null,null,-9.36,null,null,null,1,-9.36,-9.36,{"$f":"AVERAGE(INDIRECT($X$1&ROW()-$Y$4+1):X720)","v":-9.86},0,0,{"$f":"IF(AND(AA719=0,AA720=1,SUM(INDIRECT($AA$1&ROW()-$AB$4):AA719)=0),1,0)","v":0},1,{"$f":"IF(AND(AC719=0,AC720=1,SUM(INDIRECT($AC$1&ROW()-AD$4):AC719)=0),1,0)","v":0},121.61,null,null,null,null,null,null,null,null,null,null,null,null,"1981-09-11",2000,1,null,0,null,null,null,null,null,null,null,null,22.23]
["1981-10-02",{"$f":"VLOOKUP(A723,'input BCI'!$O$3:$R$5000,4)","v":-12.53},null,null,-12.53,null,null,null,null,null,null,null,null,1,-12.53,null,null,-12.53,null,null,null,1,-12.53,-12.53,{"$f":"AVERAGE(INDIRECT($X$1&ROW()-$Y$4+1):X723)","v":-12.914999999999999},0,0,{"$f":"IF(AND(AA722=0,AA723=1,SUM(INDIRECT($AA$1&ROW()-$AB$4):AA722)=0),1,0)","v":0},1,{"$f":"IF(AND(AC722=0,AC723=1,SUM(INDIRECT($AC$1&ROW()-AD$4):AC722)=0),1,0)","v":0},119.36,null,null,null,null,null,null,null,null,null,null,null,null,"1981-10-02",2000,1,null,0,null,null,null,null,null,null,null,null,22.23]
["1981-11-06",{"$f":"VLOOKUP(A728,'input BCI'!$O$3:$R$5000,4)","v":-15.43},null,null,-15.43,null,null,null,null,null,null,null,null,1,-15.43,null,null,-15.43,null,null,null,1,-15.43,-15.43,{"$f":"AVERAGE(INDIRECT($X$1&ROW()-$Y$4+1):X728)","v":-15.68},0,0,{"$f":"IF(AND(AA727=0,AA728=1,SUM(INDIRECT($AA$1&ROW()-$AB$4):AA727)=0),1,0)","v":0},1,{"$f":"IF(AND(AC727=0,AC728=1,SUM(INDIRECT($AC$1&ROW()-AD$4):AC727)=0),1,0)","v":0},122.67,null,null,null,null,null,null,null,null,null,null,null,null,"1981-11-06",2000,1,null,0,null,null,null,null,null,null,null,null,22.23]
["1981-11-20",{"$f":"VLOOKUP(A730,'input BCI'!$O$3:$R$5000,4)","v":-16.54},null,null,-16.54,null,null,null,null,null,null,null,null,1,-16.54,null,null,-16.54,null,null,null,1,-16.54,-16.54,{"$f":"AVERAGE(INDIRECT($X$1&ROW()-$Y$4+1):X730)","v":-16.645},0,0,{"$f":"IF(AND(AA729=0,AA730=1,SUM(INDIRECT($AA$1&ROW()-$AB$4):AA729)=0),1,0)","v":0},1,{"$f":"IF(AND(AC729=0,AC730=1,SUM(INDIRECT($AC$1&ROW()-AD$4):AC729)=0),1,0)","v":0},121.71,null,null,null,null,null,null,null,null,null,null,null,null,"1981-11-20",2000,1,null,0,null,null,null,null,null,null,null,null,22.23]
["1981-12-11",{"$f":"VLOOKUP(A733,'input BCI'!$O$3:$R$5000,4)","v":-16.850000000000001},null,null,-16.850000000000001,null,null,null,null,null,null,null,null,1,-16.850000000000001,null,null,-16.850000000000001,null,null,null,1,-16.850000000000001,-16.850000000000001,{"$f":"AVERAGE(INDIRECT($X$1&ROW()-$Y$4+1):X733)","v":-16.815000000000001},0,1,{"$f":"IF(AND(AA732=0,AA733=1,SUM(INDIRECT($AA$1&ROW()-$AB$4):AA732)=0),1,0)","v":0},0,{"$f":"IF(AND(AC732=0,AC733=1,SUM(INDIRECT($AC$1&ROW()-AD$4):AC732)=0),1,0)","v":0},124.93,null,null,null,null,null,null,null,null,null,null,null,null,"1981-12-11",2000,1,null,0,null,null,null,null,null,null,null,null,22.23]
["1982-01-08",{"$f":"VLOOKUP(A737,'input BCI'!$O$3:$R$5000,4)","v":-17},null,null,-17,null,null,null,null,null,null,null,null,1,-17,null,null,-17,null,null,null,1,-17,-17,{"$f":"AVERAGE(INDIRECT($X$1&ROW()-$Y$4+1):X737)","v":-17.079999999999998},0,0,{"$f":"IF(AND(AA736=0,AA737=1,SUM(INDIRECT($AA$1&ROW()-$AB$4):AA736)=0),1,0)","v":0},1,{"$f":"IF(AND(AC736=0,AC737=1,SUM(INDIRECT($AC$1&ROW()-AD$4):AC736)=0),1,0)","v":0},119.55,null,null,null,null,null,null,null,null,null,null,null,null,"1982-01-08",2000,1,null,0,null,null,null,null,null,null,null,null,22.23]
["1982-02-12",{"$f":"VLOOKUP(A742,'input BCI'!$O$3:$R$5000,4)","v":-15.44},null,null,-15.44,null,null,null,null,null,null,null,null,1,-15.44,null,null,-15.44,null,null,null,1,-15.44,-15.44,{"$f":"AVERAGE(INDIRECT($X$1&ROW()-$Y$4+1):X742)","v":-15.11},0,1,{"$f":"IF(AND(AA741=0,AA742=1,SUM(INDIRECT($AA$1&ROW()-$AB$4):AA741)=0),1,0)","v":0},0,{"$f":"IF(AND(AC741=0,AC742=1,SUM(INDIRECT($AC$1&ROW()-AD$4):AC741)=0),1,0)","v":0},114.38,null,null,null,null,null,null,null,null,null,null,null,null,"1982-02-12",2000,1,null,0,null,null,null,null,null,null,null,null,22.23]
["1982-02-19",{"$f":"VLOOKUP(A743,'input BCI'!$O$3:$R$5000,4)","v":-14.78},null,null,-14.78,null,null,null,null,null,null,null,null,1,-14.78,null,null,-14.78,null,null,null,1,-14.78,-14.78,{"$f":"AVERAGE(INDIRECT($X$1&ROW()-$Y$4+1):X743)","v":-14.754999999999999},0,1,{"$f":"IF(AND(AA742=0,AA743=1,SUM(INDIRECT($AA$1&ROW()-$AB$4):AA742)=0),1,0)","v":0},0,{"$f":"IF(AND(AC742=0,AC743=1,SUM(INDIRECT($AC$1&ROW()-AD$4):AC742)=0),1,0)","v":0},113.22,null,null,null,null,null,null,null,null,null,null,null,null,"1982-02-19",2000,1,null,0,null,null,null,null,null,null,null,null,22.23]
["1982-04-02",{"$f":"VLOOKUP(A749,'input BCI'!$O$3:$R$5000,4)","v":-17.989999999999998},null,null,-17.989999999999998,null,null,null,null,null,null,null,null,1,-17.989999999999998,null,null,-17.989999999999998,null,null,null,1,-17.989999999999998,-17.989999999999998,{"$f":"AVERAGE(INDIRECT($X$1&ROW()-$Y$4+1):X749)","v":-17.86},0,1,{"$f":"IF(AND(AA748=0,AA749=1,SUM(INDIRECT($AA$1&ROW()-$AB$4):AA748)=0),1,0)","v":0},0,{"$f":"IF(AND(AC748=0,AC749=1,SUM(INDIRECT($AC$1&ROW()-AD$4):AC748)=0),1,0)","v":0},115.12,null,null,null,null,null,null,null,null,null,null,null,null,"1982-04-02",2000,1,null,0,null,null,null,null,null,null,null,null,22.23]
["1982-04-23",{"$f":"VLOOKUP(A752,'input BCI'!$O$3:$R$5000,4)","v":-17.100000000000001},null,null,-17.100000000000001,null,null,null,null,null,null,null,null,1,-17.100000000000001,null,null,-17.100000000000001,null,null,null,1,-17.100000000000001,-17.100000000000001,{"$f":"AVERAGE(INDIRECT($X$1&ROW()-$Y$4+1):X752)","v":-16.945},0,1,{"$f":"IF(AND(AA751=0,AA752=1,SUM(INDIRECT($AA$1&ROW()-$AB$4):AA751)=0),1,0)","v":0},0,{"$f":"IF(AND(AC751=0,AC752=1,SUM(INDIRECT($AC$1&ROW()-AD$4):AC751)=0),1,0)","v":0},118.64,null,null,null,null,null,null,null,null,null,null,null,null,"1982-04-23",2000,1,null,0,null,null,null,null,null,null,null,null,22.23]
["1982-05-28",{"$f":"VLOOKUP(A757,'input BCI'!$O$3:$R$5000,4)","v":-16.23},null,null,-16.23,null,null,null,null,null,null,null,null,1,-16.23,null,null,-16.23,null,null,null,1,-16.23,-16.23,{"$f":"AVERAGE(INDIRECT($X$1&ROW()-$Y$4+1):X757)","v":-16.475000000000001},0,0,{"$f":"IF(AND(AA756=0,AA757=1,SUM(INDIRECT($AA$1&ROW()-$AB$4):AA756)=0),1,0)","v":0},1,{"$f":"IF(AND(AC756=0,AC757=1,SUM(INDIRECT($AC$1&ROW()-AD$4):AC756)=0),1,0)","v":0},111.88,null,null,null,null,null,null,null,null,null,null,null,null,"1982-05-28",2000,1,null,0,null,null,null,null,null,null,null,null,22.23]
["1982-06-11",{"$f":"VLOOKUP(A759,'input BCI'!$O$3:$R$5000,4)","v":-17.41},null,null,-17.41,null,null,null,null,null,null,null,null,1,-17.41,null,null,-17.41,null,null,null,1,-17.41,-17.41,{"$f":"AVERAGE(INDIRECT($X$1&ROW()-$Y$4+1):X759)","v":-17.734999999999999},0,0,{"$f":"IF(AND(AA758=0,AA759=1,SUM(INDIRECT($AA$1&ROW()-$AB$4):AA758)=0),1,0)","v":0},1,{"$f":"IF(AND(AC758=0,AC759=1,SUM(INDIRECT($AC$1&ROW()-AD$4):AC758)=0),1,0)","v":0},111.24,null,null,null,null,null,null,null,null,null,null,null,null,"1982-06-11",2000,1,null,0,null,null,null,null,null,null,null,null,22.23]
["1982-07-02",{"$f":"VLOOKUP(A762,'input BCI'!$O$3:$R$5000,4)","v":-18.22},null,null,-18.22,null,null,null,null,null,null,null,null,1,-18.22,null,null,-18.22,null,null,null,1,-18.22,-18.22,{"$f":"AVERAGE(INDIRECT($X$1&ROW()-$Y$4+1):X762)","v":-17.979999999999997},0,1,{"$f":"IF(AND(AA761=0,AA762=1,SUM(INDIRECT($AA$1&ROW()-$AB$4):AA761)=0),1,0)","v":0},0,{"$f":"IF(AND(AC761=0,AC762=1,SUM(INDIRECT($AC$1&ROW()-AD$4):AC761)=0),1,0)","v":0},107.65,null,null,null,null,null,null,null,null,null,null,null,null,"1982-07-02",2000,1,null,0,null,null,null,null,null,null,null,null,22.23]
["1982-07-30",{"$f":"VLOOKUP(A766,'input BCI'!$O$3:$R$5000,4)","v":-15.01},null,null,-15.01,null,null,null,null,null,null,null,null,1,-15.01,null,null,-15.01,null,null,null,1,-15.01,-15.01,{"$f":"AVERAGE(INDIRECT($X$1&ROW()-$Y$4+1):X766)","v":-14.79},0,1,{"$f":"IF(AND(AA765=0,AA766=1,SUM(INDIRECT($AA$1&ROW()-$AB$4):AA765)=0),1,0)","v":0},0,{"$f":"IF(AND(AC765=0,AC766=1,SUM(INDIRECT($AC$1&ROW()-AD$4):AC765)=0),1,0)","v":0},107.09,null,null,null,null,null,null,null,null,null,null,null,null,"1982-07-30",2000,1,null,0,null,null,null,null,null,null,null,null,22.23]
["1982-09-03",{"$f":"VLOOKUP(A771,'input BCI'!$O$3:$R$5000,4)","v":-12.72},null,null,-12.72,null,null,null,null,null,null,null,null,1,-12.72,null,null,-12.72,null,null,null,1,-12.72,-12.72,{"$f":"AVERAGE(INDIRECT($X$1&ROW()-$Y$4+1):X771)","v":-11.81},0,1,{"$f":"IF(AND(AA770=0,AA771=1,SUM(INDIRECT($AA$1&ROW()-$AB$4):AA770)=0),1,0)","v":0},0,{"$f":"IF(AND(AC770=0,AC771=1,SUM(INDIRECT($AC$1&ROW()-AD$4):AC770)=0),1,0)","v":0},122.68,null,null,null,null,null,null,null,null,null,null,null,null,"1982-09-03",2000,1,null,0,null,null,null,null,null,null,null,null,22.23]
["1982-09-10",{"$f":"VLOOKUP(A772,'input BCI'!$O$3:$R$5000,4)","v":-10.9},null,null,-10.9,null,null,null,null,null,null,null,null,1,-10.9,null,null,-10.9,null,null,null,1,-10.9,-10.9,{"$f":"AVERAGE(INDIRECT($X$1&ROW()-$Y$4+1):X772)","v":-10},0,1,{"$f":"IF(AND(AA771=0,AA772=1,SUM(INDIRECT($AA$1&ROW()-$AB$4):AA771)=0),1,0)","v":0},0,{"$f":"IF(AND(AC771=0,AC772=1,SUM(INDIRECT($AC$1&ROW()-AD$4):AC771)=0),1,0)","v":0},120.97,null,null,null,null,null,null,null,null,null,null,null,null,"1982-09-10",2000,1,null,0,null,null,null,null,null,null,null,null,22.23]
["1982-10-08",{"$f":"VLOOKUP(A776,'input BCI'!$O$3:$R$5000,4)","v":-6.62},null,null,-6.62,null,null,null,null,null,null,null,null,1,-6.62,null,null,-6.62,null,null,null,1,-6.62,-6.62,{"$f":"AVERAGE(INDIRECT($X$1&ROW()-$Y$4+1):X776)","v":-6.0250000000000004},0,1,{"$f":"IF(AND(AA775=0,AA776=1,SUM(INDIRECT($AA$1&ROW()-$AB$4):AA775)=0),1,0)","v":0},0,{"$f":"IF(AND(AC775=0,AC776=1,SUM(INDIRECT($AC$1&ROW()-AD$4):AC775)=0),1,0)","v":0},131.05000000000001,null,null,null,null,null,null,null,null,null,null,null,null,"1982-10-08",2000,1,null,0,null,null,null,null,null,null,null,null,22.23]
["1982-11-12",{"$f":"VLOOKUP(A781,'input BCI'!$O$3:$R$5000,4)","v":2.02},null,null,2.02,null,null,null,null,null,null,null,null,1,2.02,null,null,2.02,null,null,null,1,2.02,2.02,{"$f":"AVERAGE(INDIRECT($X$1&ROW()-$Y$4+1):X781)","v":2.7850000000000001},0,{"$f":"IF(Y781>X781,1,0)","v":1},{"$f":"IF(AND(AA780=0,AA781=1,SUM(INDIRECT($AA$1&ROW()-$AB$4):AA780)=0),1,0)","v":0},0,{"$f":"IF(AND(AC780=0,AC781=1,SUM(INDIRECT($AC$1&ROW()-AD$4):AC780)=0),1,0)","v":0},139.53,null,null,null,null,null,null,null,null,null,null,null,null,"1982-11-12",2000,1,null,0,null,null,null,null,null,null,null,null,22.23]
["1982-11-26",{"$f":"VLOOKUP(A783,'input BCI'!$O$3:$R$5000,4)","v":4.3600000000000003},null,null,4.3600000000000003,null,null,null,null,null,null,null,null,1,4.3600000000000003,null,null,4.3600000000000003,null,null,null,1,4.3600000000000003,4.3600000000000003,{"$f":"AVERAGE(INDIRECT($X$1&ROW()-$Y$4+1):X783)","v":4.6100000000000003},0,1,{"$f":"IF(AND(AA782=0,AA783=1,SUM(INDIRECT($AA$1&ROW()-$AB$4):AA782)=0),1,0)","v":0},0,{"$f":"IF(AND(AC782=0,AC783=1,SUM(INDIRECT($AC$1&ROW()-AD$4):AC782)=0),1,0)","v":0},134.88,null,null,null,null,null,null,null,null,null,null,null,null,"1982-11-26",2000,1,null,0,null,null,null,null,null,null,null,null,22.23]
["1982-12-17",{"$f":"VLOOKUP(A786,'input BCI'!$O$3:$R$5000,4)","v":6.03},null,null,6.03,null,null,null,null,null,null,null,null,0,6.03,null,null,6.03,null,null,null,1,6.03,6.03,{"$f":"AVERAGE(INDIRECT($X$1&ROW()-$Y$4+1):X786)","v":6.4649999999999999},0,1,{"$f":"IF(AND(AA785=0,AA786=1,SUM(INDIRECT($AA$1&ROW()-$AB$4):AA785)=0),1,0)","v":0},0,{"$f":"IF(AND(AC785=0,AC786=1,SUM(INDIRECT($AC$1&ROW()-AD$4):AC785)=0),1,0)","v":0},137.49,null,null,null,null,null,null,null,null,null,null,null,null,null,-2000,0,null,0,null,null,null,null,null,null,null,null,22.23]
["1983-01-21",{"$f":"VLOOKUP(A791,'input BCI'!$O$3:$R$5000,4)","v":15.55},null,null,15.55,null,null,null,null,null,null,null,null,0,15.55,null,null,15.55,null,null,null,1,15.55,15.55,{"$f":"AVERAGE(INDIRECT($X$1&ROW()-$Y$4+1):X791)","v":16.509999999999998},0,1,{"$f":"IF(AND(AA790=0,AA791=1,SUM(INDIRECT($AA$1&ROW()-$AB$4):AA790)=0),1,0)","v":0},0,{"$f":"IF(AND(AC790=0,AC791=1,SUM(INDIRECT($AC$1&ROW()-AD$4):AC790)=0),1,0)","v":0},143.85,null,null,null,null,null,null,null,null,null,null,null,null,null,-2000,0,null,0,null,null,null,null,null,null,null,null,22.23]
["1983-02-18",{"$f":"VLOOKUP(A795,'input BCI'!$O$3:$R$5000,4)","v":20.69},null,null,20.69,null,null,null,null,null,null,null,null,0,20.69,null,null,20.69,null,null,null,1,20.69,20.69,{"$f":"AVERAGE(INDIRECT($X$1&ROW()-$Y$4+1):X795)","v":21.035},0,1,{"$f":"IF(AND(AA794=0,AA795=1,SUM(INDIRECT($AA$1&ROW()-$AB$4):AA794)=0),1,0)","v":0},0,{"$f":"IF(AND(AC794=0,AC795=1,SUM(INDIRECT($AC$1&ROW()-AD$4):AC794)=0),1,0)","v":0},148,null,null,null,null,null,null,null,null,null,null,null,null,null,-2000,0,null,0,null,null,null,null,null,null,null,null,22.23]
["1983-03-25",{"$f":"VLOOKUP(A800,'input BCI'!$O$3:$R$5000,4)","v":25.95},null,null,25.95,null,null,null,null,null,null,null,null,0,25.95,null,null,25.95,null,null,null,1,25.95,25.95,{"$f":"AVERAGE(INDIRECT($X$1&ROW()-$Y$4+1):X800)","v":26.155000000000001},1,1,{"$f":"IF(AND(AA799=0,AA800=1,SUM(INDIRECT($AA$1&ROW()-$AB$4):AA799)=0),1,0)","v":0},0,{"$f":"IF(AND(AC799=0,AC800=1,SUM(INDIRECT($AC$1&ROW()-AD$4):AC799)=0),1,0)","v":0},152.66999999999999,null,null,null,null,null,null,null,null,null,null,null,null,null,-2000,0,null,0,null,null,null,null,null,null,null,null,22.23]
["1983-04-01",{"$f":"VLOOKUP(A801,'input BCI'!$O$3:$R$5000,4)","v":26.36},null,null,26.36,null,null,null,null,null,null,null,null,0,26.36,null,null,26.36,null,null,null,1,26.36,26.36,{"$f":"AVERAGE(INDIRECT($X$1&ROW()-$Y$4+1):X801)","v":26.32},1,0,{"$f":"IF(AND(AA800=0,AA801=1,SUM(INDIRECT($AA$1&ROW()-$AB$4):AA800)=0),1,0)","v":0},1,{"$f":"IF(AND(AC800=0,AC801=1,SUM(INDIRECT($AC$1&ROW()-AD$4):AC800)=0),1,0)","v":1},152.96,null,null,null,null,null,null,null,null,null,null,null,null,null,-2000,0,null,0,null,null,null,null,null,null,null,null,22.23]
["1983-04-29",{"$f":"VLOOKUP(A805,'input BCI'!$O$3:$R$5000,4)","v":26.85},null,null,26.85,null,null,null,null,null,null,null,null,0,26.85,null,null,26.85,null,null,null,1,26.85,26.85,{"$f":"AVERAGE(INDIRECT($X$1&ROW()-$Y$4+1):X805)","v":27.26},1,1,{"$f":"IF(AND(AA804=0,AA805=1,SUM(INDIRECT($AA$1&ROW()-$AB$4):AA804)=0),1,0)","v":0},0,{"$f":"IF(AND(AC804=0,AC805=1,SUM(INDIRECT($AC$1&ROW()-AD$4):AC804)=0),1,0)","v":0},164.43,null,null,null,null,null,null,null,null,null,null,null,null,null,-2000,0,null,0,null,null,null,null,null,null,null,null,22.23]
["1983-06-03",{"$f":"VLOOKUP(A810,'input BCI'!$O$3:$R$5000,4)","v":30.79},null,null,30.79,null,null,null,null,null,null,null,null,0,30.79,null,null,30.79,null,null,null,1,30.79,30.79,{"$f":"AVERAGE(INDIRECT($X$1&ROW()-$Y$4+1):X810)","v":31.085000000000001},1,1,{"$f":"IF(AND(AA809=0,AA810=1,SUM(INDIRECT($AA$1&ROW()-$AB$4):AA809)=0),1,0)","v":0},0,{"$f":"IF(AND(AC809=0,AC810=1,SUM(INDIRECT($AC$1&ROW()-AD$4):AC809)=0),1,0)","v":0},164.42,null,null,null,null,null,null,null,null,null,null,null,null,null,-2000,0,null,0,null,null,null,null,null,null,null,null,22.23]
["1983-06-17",{"$f":"VLOOKUP(A812,'input BCI'!$O$3:$R$5000,4)","v":32.06},null,null,32.06,null,null,null,null,null,null,null,null,0,32.06,null,null,32.06,null,null,null,1,32.06,32.06,{"$f":"AVERAGE(INDIRECT($X$1&ROW()-$Y$4+1):X812)","v":32.435000000000002},1,1,{"$f":"IF(AND(AA811=0,AA812=1,SUM(INDIRECT($AA$1&ROW()-$AB$4):AA811)=0),1,0)","v":0},0,{"$f":"IF(AND(AC811=0,AC812=1,SUM(INDIRECT($AC$1&ROW()-AD$4):AC811)=0),1,0)","v":0},169.13,null,null,null,null,null,null,null,null,null,null,null,null,null,-2000,0,null,0,null,null,null,null,null,null,null,null,22.23]
["1983-07-08",{"$f":"VLOOKUP(A815,'input BCI'!$O$3:$R$5000,4)","v":34.17},null,null,34.17,null,null,null,null,null,null,null,null,0,34.17,null,null,34.17,null,null,null,1,34.17,34.17,{"$f":"AVERAGE(INDIRECT($X$1&ROW()-$Y$4+1):X815)","v":34.534999999999997},1,1,{"$f":"IF(AND(AA814=0,AA815=1,SUM(INDIRECT($AA$1&ROW()-$AB$4):AA814)=0),1,0)","v":0},0,{"$f":"IF(AND(AC814=0,AC815=1,SUM(INDIRECT($AC$1&ROW()-AD$4):AC814)=0),1,0)","v":0},167.08,null,null,null,null,null,null,null,null,null,null,null,null,null,-2000,0,null,0,null,null,null,null,null,null,null,null,22.23]
["1983-08-12",{"$f":"VLOOKUP(A820,'input BCI'!$O$3:$R$5000,4)","v":34.96},null,null,34.96,null,null,null,null,null,null,null,null,0,34.96,null,null,34.96,null,null,null,1,34.96,34.96,{"$f":"AVERAGE(INDIRECT($X$1&ROW()-$Y$4+1):X820)","v":34.775000000000006},1,0,{"$f":"IF(AND(AA819=0,AA820=1,SUM(INDIRECT($AA$1&ROW()-$AB$4):AA819)=0),1,0)","v":0},1,{"$f":"IF(AND(AC819=0,AC820=1,SUM(INDIRECT($AC$1&ROW()-AD$4):AC819)=0),1,0)","v":0},162.16,null,null,null,null,null,null,null,null,null,null,null,null,null,-2000,0,null,0,null,null,null,null,null,null,null,null,22.23]
["1983-09-09",{"$f":"VLOOKUP(A824,'input BCI'!$O$3:$R$5000,4)","v":31.64},null,null,31.64,null,null,null,null,null,null,null,null,0,31.64,null,null,31.64,null,null,null,1,31.64,31.64,{"$f":"AVERAGE(INDIRECT($X$1&ROW()-$Y$4+1):X824)","v":31.055},1,0,{"$f":"IF(AND(AA823=0,AA824=1,SUM(INDIRECT($AA$1&ROW()-$AB$4):AA823)=0),1,0)","v":0},1,{"$f":"IF(AND(AC823=0,AC824=1,SUM(INDIRECT($AC$1&ROW()-AD$4):AC823)=0),1,0)","v":0},166.92,null,null,null,null,null,null,null,null,null,null,null,null,null,-2000,0,null,0,null,null,null,null,null,null,null,null,22.23]
["1983-10-14",{"$f":"VLOOKUP(A829,'input BCI'!$O$3:$R$5000,4)","v":27.98},null,null,27.98,null,null,null,null,null,null,null,null,0,27.98,null,null,27.98,null,null,null,1,27.98,27.98,{"$f":"AVERAGE(INDIRECT($X$1&ROW()-$Y$4+1):X829)","v":27.795000000000002},1,0,{"$f":"IF(AND(AA828=0,AA829=1,SUM(INDIRECT($AA$1&ROW()-$AB$4):AA828)=0),1,0)","v":0},1,{"$f":"IF(AND(AC828=0,AC829=1,SUM(INDIRECT($AC$1&ROW()-AD$4):AC828)=0),1,0)","v":0},169.86,null,null,null,null,null,null,null,null,null,null,null,null,null,-2000,0,null,0,null,null,null,null,null,null,null,null,22.23]
["1983-10-21",{"$f":"VLOOKUP(A830,'input BCI'!$O$3:$R$5000,4)","v":27.61},null,null,27.61,null,null,null,null,null,null,null,null,0,27.61,null,null,27.61,null,null,null,1,27.61,27.61,{"$f":"AVERAGE(INDIRECT($X$1&ROW()-$Y$4+1):X830)","v":27.46},1,0,{"$f":"IF(AND(AA829=0,AA830=1,SUM(INDIRECT($AA$1&ROW()-$AB$4):AA829)=0),1,0)","v":0},1,{"$f":"IF(AND(AC829=0,AC830=1,SUM(INDIRECT($AC$1&ROW()-AD$4):AC829)=0),1,0)","v":0},165.95,null,null,null,null,null,null,null,null,null,null,null,null,null,-2000,0,null,0,null,null,null,null,null,null,null,null,22.23]
["1983-11-18",{"$f":"VLOOKUP(A834,'input BCI'!$O$3:$R$5000,4)","v":26.87},null,null,26.87,null,null,null,null,null,null,null,null,0,26.87,null,null,26.87,null,null,null,1,26.87,26.87,{"$f":"AVERAGE(INDIRECT($X$1&ROW()-$Y$4+1):X834)","v":26.91},1,1,{"$f":"IF(AND(AA833=0,AA834=1,SUM(INDIRECT($AA$1&ROW()-$AB$4):AA833)=0),1,0)","v":0},0,{"$f":"IF(AND(AC833=0,AC834=1,SUM(INDIRECT($AC$1&ROW()-AD$4):AC833)=0),1,0)","v":0},165.09,null,null,null,null,null,null,null,null,null,null,null,null,null,-2000,0,null,0,null,null,null,null,null,null,null,null,22.23]
["1983-12-23",{"$f":"VLOOKUP(A839,'input BCI'!$O$3:$R$5000,4)","v":26.14},null,null,26.14,null,null,null,null,null,null,null,null,0,26.14,null,null,26.14,null,null,null,1,26.14,26.14,{"$f":"AVERAGE(INDIRECT($X$1&ROW()-$Y$4+1):X839)","v":25.925000000000001},1,0,{"$f":"IF(AND(AA838=0,AA839=1,SUM(INDIRECT($AA$1&ROW()-$AB$4):AA838)=0),1,0)","v":0},1,{"$f":"IF(AND(AC838=0,AC839=1,SUM(INDIRECT($AC$1&ROW()-AD$4):AC838)=0),1,0)","v":0},163.22,null,null,null,null,null,null,null,null,null,null,null,null,null,-2000,0,null,0,null,null,null,null,null,null,null,null,22.23]
["1984-01-06",{"$f":"VLOOKUP(A841,'input BCI'!$O$3:$R$5000,4)","v":25.32},null,null,25.32,null,null,null,null,null,null,null,null,0,25.32,null,null,25.32,null,null,null,1,25.32,25.32,{"$f":"AVERAGE(INDIRECT($X$1&ROW()-$Y$4+1):X841)","v":25.36},1,1,{"$f":"IF(AND(AA840=0,AA841=1,SUM(INDIRECT($AA$1&ROW()-$AB$4):AA840)=0),1,0)","v":0},0,{"$f":"IF(AND(AC840=0,AC841=1,SUM(INDIRECT($AC$1&ROW()-AD$4):AC840)=0),1,0)","v":0},169.28,null,null,null,null,null,null,null,null,null,null,null,null,null,-2000,0,null,0,null,null,null,null,null,null,null,null,22.23]
["1984-01-27",{"$f":"VLOOKUP(A844,'input BCI'!$O$3:$R$5000,4)","v":26.7},null,null,26.7,null,null,null,null,null,null,null,null,0,26.7,null,null,26.7,null,null,null,{"$f":"V843","v":1},26.7,26.7,{"$f":"AVERAGE(INDIRECT($X$1&ROW()-$Y$4+1):X844)","v":27.225000000000001},1,1,{"$f":"IF(AND(AA843=0,AA844=1,SUM(INDIRECT($AA$1&ROW()-$AB$4):AA843)=0),1,0)","v":0},0,{"$f":"IF(AND(AC843=0,AC844=1,SUM(INDIRECT($AC$1&ROW()-AD$4):AC843)=0),1,0)","v":0},163.94,null,null,null,null,null,null,null,null,null,null,null,null,null,-2000,0,null,0,null,null,null,null,null,null,null,null,22.23]
["1984-03-02",{"$f":"VLOOKUP(A849,'input BCI'!$O$3:$R$5000,4)","v":26.78},null,null,26.78,null,null,null,null,null,null,null,null,0,26.78,null,null,26.78,null,null,null,1,26.78,26.78,{"$f":"AVERAGE(INDIRECT($X$1&ROW()-$Y$4+1):X849)","v":26.270000000000003},1,0,{"$f":"IF(AND(AA848=0,AA849=1,SUM(INDIRECT($AA$1&ROW()-$AB$4):AA848)=0),1,0)","v":0},1,{"$f":"IF(AND(AC848=0,AC849=1,SUM(INDIRECT($AC$1&ROW()-AD$4):AC848)=0),1,0)","v":0},159.24,null,null,null,null,null,null,null,null,null,null,null,null,null,-2000,0,null,0,null,null,null,null,null,null,null,null,22.23]
["1984-04-06",{"$f":"VLOOKUP(A854,'input BCI'!$O$3:$R$5000,4)","v":22.38},null,null,22.38,null,null,null,null,null,null,null,null,0,22.38,null,null,22.38,null,null,null,1,22.38,22.38,{"$f":"AVERAGE(INDIRECT($X$1&ROW()-$Y$4+1):X854)","v":22.08},1,0,{"$f":"IF(AND(AA853=0,AA854=1,SUM(INDIRECT($AA$1&ROW()-$AB$4):AA853)=0),1,0)","v":0},1,{"$f":"IF(AND(AC853=0,AC854=1,SUM(INDIRECT($AC$1&ROW()-AD$4):AC853)=0),1,0)","v":0},155.47999999999999,null,null,null,null,null,null,null,null,null,null,null,null,null,-2000,0,null,0,null,null,null,null,null,null,null,null,22.23]
["1984-05-04",{"$f":"VLOOKUP(A858,'input BCI'!$O$3:$R$5000,4)","v":19.78},null,null,19.78,null,null,null,null,null,null,null,null,0,19.78,null,null,19.78,null,null,null,1,19.78,19.78,{"$f":"AVERAGE(INDIRECT($X$1&ROW()-$Y$4+1):X858)","v":19.48},0,0,{"$f":"IF(AND(AA857=0,AA858=1,SUM(INDIRECT($AA$1&ROW()-$AB$4):AA857)=0),1,0)","v":0},1,{"$f":"IF(AND(AC857=0,AC858=1,SUM(INDIRECT($AC$1&ROW()-AD$4):AC857)=0),1,0)","v":0},159.11000000000001,null,null,null,null,null,null,null,null,null,null,null,null,null,-2000,0,null,0,null,null,null,null,null,null,null,null,22.23]
["1984-05-11",{"$f":"VLOOKUP(A859,'input BCI'!$O$3:$R$5000,4)","v":19.18},null,null,19.18,null,null,null,null,null,null,null,null,0,19.18,null,null,19.18,null,null,null,1,19.18,19.18,{"$f":"AVERAGE(INDIRECT($X$1&ROW()-$Y$4+1):X859)","v":18.734999999999999},0,0,{"$f":"IF(AND(AA858=0,AA859=1,SUM(INDIRECT($AA$1&ROW()-$AB$4):AA858)=0),1,0)","v":0},1,{"$f":"IF(AND(AC858=0,AC859=1,SUM(INDIRECT($AC$1&ROW()-AD$4):AC858)=0),1,0)","v":0},158.49,null,null,null,null,null,null,null,null,null,null,null,null,null,-2000,0,null,0,null,null,null,null,null,null,null,null,22.23]
["1984-06-08",{"$f":"VLOOKUP(A863,'input BCI'!$O$3:$R$5000,4)","v":15.35},null,null,15.35,null,null,null,null,null,null,null,null,0,15.35,null,null,15.35,null,null,null,1,15.35,15.35,{"$f":"AVERAGE(INDIRECT($X$1&ROW()-$Y$4+1):X863)","v":15.09},0,0,{"$f":"IF(AND(AA862=0,AA863=1,SUM(INDIRECT($AA$1&ROW()-$AB$4):AA862)=0),1,0)","v":0},1,{"$f":"IF(AND(AC862=0,AC863=1,SUM(INDIRECT($AC$1&ROW()-AD$4):AC862)=0),1,0)","v":0},155.16999999999999,null,null,null,null,null,null,null,null,null,null,null,null,null,-2000,0,null,0,null,null,null,null,null,null,null,null,22.23]
["1984-07-13",{"$f":"VLOOKUP(A868,'input BCI'!$O$3:$R$5000,4)","v":13.46},null,null,13.46,null,null,null,null,null,null,null,null,0,13.46,null,null,13.46,null,null,null,1,13.46,13.46,{"$f":"AVERAGE(INDIRECT($X$1&ROW()-$Y$4+1):X868)","v":13.27},0,0,{"$f":"IF(AND(AA867=0,AA868=1,SUM(INDIRECT($AA$1&ROW()-$AB$4):AA867)=0),1,0)","v":0},1,{"$f":"IF(AND(AC867=0,AC868=1,SUM(INDIRECT($AC$1&ROW()-AD$4):AC867)=0),1,0)","v":0},150.88,null,null,null,null,null,null,null,null,null,null,null,null,null,-2000,0,null,0,null,null,null,null,null,null,null,null,22.23]
["1984-07-27",{"$f":"VLOOKUP(A870,'input BCI'!$O$3:$R$5000,4)","v":12.56},null,null,12.56,null,null,null,null,null,null,null,null,0,12.56,null,null,12.56,null,null,null,1,12.56,12.56,{"$f":"AVERAGE(INDIRECT($X$1&ROW()-$Y$4+1):X870)","v":12.425000000000001},0,0,{"$f":"IF(AND(AA869=0,AA870=1,SUM(INDIRECT($AA$1&ROW()-$AB$4):AA869)=0),1,0)","v":0},1,{"$f":"IF(AND(AC869=0,AC870=1,SUM(INDIRECT($AC$1&ROW()-AD$4):AC869)=0),1,0)","v":0},151.19,null,null,null,null,null,null,null,null,null,null,null,null,null,-2000,0,null,0,null,null,null,null,null,null,null,null,22.23]
["1984-08-17",{"$f":"VLOOKUP(A873,'input BCI'!$O$3:$R$5000,4)","v":13.63},null,null,13.63,null,null,null,null,null,null,null,null,0,13.63,null,null,13.63,null,null,null,1,13.63,13.63,{"$f":"AVERAGE(INDIRECT($X$1&ROW()-$Y$4+1):X873)","v":14.085000000000001},0,1,{"$f":"IF(AND(AA872=0,AA873=1,SUM(INDIRECT($AA$1&ROW()-$AB$4):AA872)=0),1,0)","v":0},0,{"$f":"IF(AND(AC872=0,AC873=1,SUM(INDIRECT($AC$1&ROW()-AD$4):AC872)=0),1,0)","v":0},164.14,null,null,null,null,null,null,null,null,null,null,null,null,null,-2000,0,null,0,null,null,null,null,null,null,null,null,22.23]
["1984-09-21",{"$f":"VLOOKUP(A878,'input BCI'!$O$3:$R$5000,4)","v":13.1},null,null,13.1,null,null,null,null,null,null,null,null,0,13.1,null,null,13.1,null,null,null,1,13.1,13.1,{"$f":"AVERAGE(INDIRECT($X$1&ROW()-$Y$4+1):X878)","v":12.629999999999999},0,0,{"$f":"IF(AND(AA877=0,AA878=1,SUM(INDIRECT($AA$1&ROW()-$AB$4):AA877)=0),1,0)","v":0},1,{"$f":"IF(AND(AC877=0,AC878=1,SUM(INDIRECT($AC$1&ROW()-AD$4):AC877)=0),1,0)","v":0},165.67,null,null,null,null,null,null,null,null,null,null,null,null,null,-2000,0,null,0,null,null,null,null,null,null,null,null,22.23]
["1984-10-26",{"$f":"VLOOKUP(A883,'input BCI'!$O$3:$R$5000,4)","v":7.98},null,null,7.98,null,null,null,null,null,null,null,null,0,7.98,null,null,7.98,null,null,null,1,7.98,7.98,{"$f":"AVERAGE(INDIRECT($X$1&ROW()-$Y$4+1):X883)","v":7.8350000000000009},0,0,{"$f":"IF(AND(AA882=0,AA883=1,SUM(INDIRECT($AA$1&ROW()-$AB$4):AA882)=0),1,0)","v":0},1,{"$f":"IF(AND(AC882=0,AC883=1,SUM(INDIRECT($AC$1&ROW()-AD$4):AC882)=0),1,0)","v":0},165.29,null,null,null,null,null,null,null,null,null,null,null,null,null,-2000,0,null,0,null,null,null,null,null,null,null,null,22.23]
["1984-11-23",{"$f":"VLOOKUP(A887,'input BCI'!$O$3:$R$5000,4)","v":8.67},null,null,8.67,null,null,null,null,null,null,null,null,0,8.67,null,null,8.67,null,null,null,1,8.67,8.67,{"$f":"AVERAGE(INDIRECT($X$1&ROW()-$Y$4+1):X887)","v":8.7050000000000001},0,1,{"$f":"IF(AND(AA886=0,AA887=1,SUM(INDIRECT($AA$1&ROW()-$AB$4):AA886)=0),1,0)","v":0},0,{"$f":"IF(AND(AC886=0,AC887=1,SUM(INDIRECT($AC$1&ROW()-AD$4):AC886)=0),1,0)","v":0},166.92,null,null,null,null,null,null,null,null,null,null,null,null,null,-2000,0,null,0,null,null,null,null,null,null,null,null,22.23]
["1984-12-14",{"$f":"VLOOKUP(A890,'input BCI'!$O$3:$R$5000,4)","v":8.52},null,null,8.52,null,null,null,null,null,null,null,null,0,8.52,null,null,8.52,null,null,null,1,8.52,8.52,{"$f":"AVERAGE(INDIRECT($X$1&ROW()-$Y$4+1):X890)","v":8.6050000000000004},0,1,{"$f":"IF(AND(AA889=0,AA890=1,SUM(INDIRECT($AA$1&ROW()-$AB$4):AA889)=0),1,0)","v":0},0,{"$f":"IF(AND(AC889=0,AC890=1,SUM(INDIRECT($AC$1&ROW()-AD$4):AC889)=0),1,0)","v":0},162.69,null,null,null,null,null,null,null,null,null,null,null,null,null,-2000,0,null,0,null,null,null,null,null,null,null,null,22.23]
["1984-12-28",{"$f":"VLOOKUP(A892,'input BCI'!$O$3:$R$5000,4)","v":8.59},null,null,8.59,null,null,null,null,null,null,null,null,0,8.59,null,null,8.59,null,null,null,1,8.59,8.59,{"$f":"AVERAGE(INDIRECT($X$1&ROW()-$Y$4+1):X892)","v":8.5399999999999991},0,0,{"$f":"IF(AND(AA891=0,AA892=1,SUM(INDIRECT($AA$1&ROW()-$AB$4):AA891)=0),1,0)","v":0},1,{"$f":"IF(AND(AC891=0,AC892=1,SUM(INDIRECT($AC$1&ROW()-AD$4):AC891)=0),1,0)","v":0},166.26,null,null,null,null,null,null,null,null,null,null,null,null,null,-2000,0,null,0,null,null,null,null,null,null,null,null,22.23]
["1985-02-01",{"$f":"VLOOKUP(A897,'input BCI'!$O$3:$R$5000,4)","v":8.17},null,null,8.17,null,null,null,null,null,null,null,null,0,8.17,null,null,8.17,null,null,null,1,8.17,8.17,{"$f":"AVERAGE(INDIRECT($X$1&ROW()-$Y$4+1):X897)","v":8.5350000000000001},0,1,{"$f":"IF(AND(AA896=0,AA897=1,SUM(INDIRECT($AA$1&ROW()-$AB$4):AA896)=0),1,0)","v":0},0,{"$f":"IF(AND(AC896=0,AC897=1,SUM(INDIRECT($AC$1&ROW()-AD$4):AC896)=0),1,0)","v":0},178.63,null,null,null,null,null,null,null,null,null,null,null,null,null,-2000,0,null,0,null,null,null,null,null,null,null,null,22.23]
["1985-02-22",{"$f":"VLOOKUP(A900,'input BCI'!$O$3:$R$5000,4)","v":9.7799999999999994},null,null,9.7799999999999994,null,null,null,null,null,null,null,null,0,9.7799999999999994,null,null,9.7799999999999994,null,null,null,1,9.7799999999999994,9.7799999999999994,{"$f":"AVERAGE(INDIRECT($X$1&ROW()-$Y$4+1):X900)","v":9.73},0,0,{"$f":"IF(AND(AA899=0,AA900=1,SUM(INDIRECT($AA$1&ROW()-$AB$4):AA899)=0),1,0)","v":0},1,{"$f":"IF(AND(AC899=0,AC900=1,SUM(INDIRECT($AC$1&ROW()-AD$4):AC899)=0),1,0)","v":1},179.36,null,null,null,null,null,null,null,null,null,null,null,null,null,-2000,0,null,0,null,null,null,null,null,null,null,null,22.23]
["1985-03-08",{"$f":"VLOOKUP(A902,'input BCI'!$O$3:$R$5000,4)","v":9.7799999999999994},null,null,9.7799999999999994,null,null,null,null,null,null,null,null,0,9.7799999999999994,null,null,9.7799999999999994,null,null,null,1,9.7799999999999994,9.7799999999999994,{"$f":"AVERAGE(INDIRECT($X$1&ROW()-$Y$4+1):X902)","v":9.8550000000000004},0,1,{"$f":"IF(AND(AA901=0,AA902=1,SUM(INDIRECT($AA$1&ROW()-$AB$4):AA901)=0),1,0)","v":0},0,{"$f":"IF(AND(AC901=0,AC902=1,SUM(INDIRECT($AC$1&ROW()-AD$4):AC901)=0),1,0)","v":0},179.1,null,null,null,null,null,null,null,null,null,null,null,null,null,-2000,0,null,0,null,null,null,null,null,null,null,null,22.23]
["1985-04-12",{"$f":"VLOOKUP(A907,'input BCI'!$O$3:$R$5000,4)","v":11.19},null,null,{"$f":"B907+$O$7","v":11.19},null,null,null,null,null,null,null,null,0,{"$f":"E907","v":11.19},null,null,11.19,null,null,null,1,{"$f":"R907","v":11.19},{"$f":"(W907+$X$4)","v":11.19},{"$f":"AVERAGE(INDIRECT($X$1&ROW()-$Y$4+1):X907)","v":11.495000000000001},{"$f":"IF(OR(X907=$I$5,X907>$I$5),1,0)","v":0},1,{"$f":"IF(AND(AA906=0,AA907=1,SUM(INDIRECT($AA$1&ROW()-$AB$4):AA906)=0),1,0)","v":0},0,{"$f":"IF(AND(AC906=0,AC907=1,SUM(INDIRECT($AC$1&ROW()-AD$4):AC906)=0),1,0)","v":0},180.54,null,null,null,null,null,null,null,null,null,null,null,null,null,-2000,0,null,0,null,null,null,null,null,null,null,null,{"$f":"$BE$2","v":22.23}]
["1985-05-17",{"$f":"VLOOKUP(A912,'input BCI'!$O$3:$R$5000,4)","v":11.95},null,null,11.95,null,null,null,null,null,null,null,null,0,11.95,null,null,11.95,null,null,null,1,11.95,11.95,{"$f":"AVERAGE(INDIRECT($X$1&ROW()-$Y$4+1):X912)","v":12.105},0,1,{"$f":"IF(AND(AA911=0,AA912=1,SUM(INDIRECT($AA$1&ROW()-$AB$4):AA911)=0),1,0)","v":0},0,{"$f":"IF(AND(AC911=0,AC912=1,SUM(INDIRECT($AC$1&ROW()-AD$4):AC911)=0),1,0)","v":0},187.42,null,null,null,null,null,null,null,null,null,null,null,null,null,-2000,0,null,0,null,null,null,null,null,null,null,null,22.23]
["1985-06-14",{"$f":"VLOOKUP(A916,'input BCI'!$O$3:$R$5000,4)","v":12.5},null,null,12.5,null,null,null,null,null,null,null,null,0,12.5,null,null,12.5,null,null,null,1,12.5,12.5,{"$f":"AVERAGE(INDIRECT($X$1&ROW()-$Y$4+1):X916)","v":12.2},0,0,{"$f":"IF(AND(AA915=0,AA916=1,SUM(INDIRECT($AA$1&ROW()-$AB$4):AA915)=0),1,0)","v":0},1,{"$f":"IF(AND(AC915=0,AC916=1,SUM(INDIRECT($AC$1&ROW()-AD$4):AC915)=0),1,0)","v":0},187.1,null,null,null,null,null,null,null,null,null,null,null,null,null,-2000,0,null,0,null,null,null,null,null,null,null,null,22.23]
["1985-07-05",{"$f":"VLOOKUP(A919,'input BCI'!$O$3:$R$5000,4)","v":12.17},null,null,12.17,null,null,null,null,null,null,null,null,0,12.17,null,null,12.17,null,null,null,1,12.17,12.17,{"$f":"AVERAGE(INDIRECT($X$1&ROW()-$Y$4+1):X919)","v":12.5},0,1,{"$f":"IF(AND(AA918=0,AA919=1,SUM(INDIRECT($AA$1&ROW()-$AB$4):AA918)=0),1,0)","v":0},0,{"$f":"IF(AND(AC918=0,AC919=1,SUM(INDIRECT($AC$1&ROW()-AD$4):AC918)=0),1,0)","v":0},192.52,null,null,null,null,null,null,null,null,null,null,null,null,null,-2000,0,null,0,null,null,null,null,null,null,null,null,22.23]
["1985-07-19",{"$f":"VLOOKUP(A921,'input BCI'!$O$3:$R$5000,4)","v":13.63},null,null,13.63,null,null,null,null,null,null,null,null,0,13.63,null,null,{"$f":"O921*R$7","v":13.63},null,null,null,1,13.63,13.63,{"$f":"AVERAGE(INDIRECT($X$1&ROW()-$Y$4+1):X921)","v":13.875},0,1,{"$f":"IF(AND(AA920=0,AA921=1,SUM(INDIRECT($AA$1&ROW()-$AB$4):AA920)=0),1,0)","v":0},0,{"$f":"IF(AND(AC920=0,AC921=1,SUM(INDIRECT($AC$1&ROW()-AD$4):AC920)=0),1,0)","v":0},195.13,null,null,null,null,null,null,null,null,null,null,null,null,null,-2000,0,null,0,null,null,null,null,null,null,null,null,22.23]
["1985-08-23",{"$f":"VLOOKUP(A926,'input BCI'!$O$3:$R$5000,4)","v":14.38},null,null,14.38,null,null,null,null,null,null,null,null,0,14.38,null,null,14.38,null,null,null,1,14.38,14.38,{"$f":"AVERAGE(INDIRECT($X$1&ROW()-$Y$4+1):X926)","v":14.315000000000001},0,0,{"$f":"IF(AND(AA925=0,AA926=1,SUM(INDIRECT($AA$1&ROW()-$AB$4):AA925)=0),1,0)","v":0},1,{"$f":"IF(AND(AC925=0,AC926=1,SUM(INDIRECT($AC$1&ROW()-AD$4):AC925)=0),1,0)","v":0},187.17,null,null,null,null,null,null,null,null,null,null,null,null,null,-2000,0,null,0,null,null,null,null,null,null,null,null,22.23]
["1985-09-13",{"$f":"VLOOKUP(A929,'input BCI'!$O$3:$R$5000,4)","v":14.1},null,null,14.1,null,null,null,null,null,null,null,null,0,14.1,null,null,14.1,null,null,null,1,14.1,14.1,{"$f":"AVERAGE(INDIRECT($X$1&ROW()-$Y$4+1):X929)","v":13.969999999999999},0,0,{"$f":"IF(AND(AA928=0,AA929=1,SUM(INDIRECT($AA$1&ROW()-$AB$4):AA928)=0),1,0)","v":0},1,{"$f":"IF(AND(AC928=0,AC929=1,SUM(INDIRECT($AC$1&ROW()-AD$4):AC928)=0),1,0)","v":0},182.91,null,null,null,null,null,null,null,null,null,null,null,null,null,-2000,0,null,0,null,null,null,null,null,null,null,null,22.23]
["1985-09-27",{"$f":"VLOOKUP(A931,'input BCI'!$O$3:$R$5000,4)","v":13.29},null,null,13.29,null,null,null,null,null,null,null,null,0,13.29,null,null,13.29,null,null,null,1,13.29,13.29,{"$f":"AVERAGE(INDIRECT($X$1&ROW()-$Y$4+1):X931)","v":13.004999999999999},0,0,{"$f":"IF(AND(AA930=0,AA931=1,SUM(INDIRECT($AA$1&ROW()-$AB$4):AA930)=0),1,0)","v":0},1,{"$f":"IF(AND(AC930=0,AC931=1,SUM(INDIRECT($AC$1&ROW()-AD$4):AC930)=0),1,0)","v":0},181.29,null,null,null,null,null,null,null,null,null,null,null,null,null,-2000,0,null,0,null,null,null,null,null,null,null,null,22.23]
["1985-11-01",{"$f":"VLOOKUP(A936,'input BCI'!$O$3:$R$5000,4)","v":11},null,null,11,null,null,null,null,null,null,null,null,0,11,null,null,11,null,null,null,1,11,11,{"$f":"AVERAGE(INDIRECT($X$1&ROW()-$Y$4+1):X936)","v":10.85},0,0,{"$f":"IF(AND(AA935=0,AA936=1,SUM(INDIRECT($AA$1&ROW()-$AB$4):AA935)=0),1,0)","v":0},1,{"$f":"IF(AND(AC935=0,AC936=1,SUM(INDIRECT($AC$1&ROW()-AD$4):AC935)=0),1,0)","v":0},191.53,null,null,null,null,null,null,null,null,null,null,null,null,null,-2000,0,null,0,null,null,null,null,null,null,null,null,22.23]
["1985-12-06",{"$f":"VLOOKUP(A941,'input BCI'!$O$3:$R$5000,4)","v":10.94},null,null,10.94,null,null,null,null,null,null,null,null,0,10.94,null,null,10.94,null,null,null,1,10.94,10.94,{"$f":"AVERAGE(INDIRECT($X$1&ROW()-$Y$4+1):X941)","v":11.074999999999999},0,1,{"$f":"IF(AND(AA940=0,AA941=1,SUM(INDIRECT($AA$1&ROW()-$AB$4):AA940)=0),1,0)","v":0},0,{"$f":"IF(AND(AC940=0,AC941=1,SUM(INDIRECT($AC$1&ROW()-AD$4):AC940)=0),1,0)","v":0},202.99,null,null,null,null,null,null,null,null,null,null,null,null,null,-2000,0,null,0,null,null,null,null,null,null,null,null,22.23]
["1986-01-03",{"$f":"VLOOKUP(A945,'input BCI'!$O$3:$R$5000,4)","v":12.1},null,null,12.1,null,null,null,null,null,null,null,null,0,12.1,null,null,12.1,null,null,null,1,12.1,12.1,{"$f":"AVERAGE(INDIRECT($X$1&ROW()-$Y$4+1):X945)","v":12.48},0,1,{"$f":"IF(AND(AA944=0,AA945=1,SUM(INDIRECT($AA$1&ROW()-$AB$4):AA944)=0),1,0)","v":0},0,{"$f":"IF(AND(AC944=0,AC945=1,SUM(INDIRECT($AC$1&ROW()-AD$4):AC944)=0),1,0)","v":0},210.88,null,null,null,null,null,null,null,null,null,null,null,null,null,-2000,0,null,0,null,null,null,null,null,null,null,null,22.23]
["1986-01-24",{"$f":"VLOOKUP(A948,'input BCI'!$O$3:$R$5000,4)","v":13.45},null,null,13.45,null,null,null,null,null,null,null,null,0,13.45,null,null,13.45,null,null,null,1,13.45,13.45,{"$f":"AVERAGE(INDIRECT($X$1&ROW()-$Y$4+1):X948)","v":13.37},0,0,{"$f":"IF(AND(AA947=0,AA948=1,SUM(INDIRECT($AA$1&ROW()-$AB$4):AA947)=0),1,0)","v":0},1,{"$f":"IF(AND(AC947=0,AC948=1,SUM(INDIRECT($AC$1&ROW()-AD$4):AC947)=0),1,0)","v":1},206.43,null,null,null,null,null,null,null,null,null,null,null,null,null,-2000,0,null,0,null,null,null,null,null,null,null,null,22.23]
["1986-02-07",{"$f":"VLOOKUP(A950,'input BCI'!$O$3:$R$5000,4)","v":13.18},null,null,13.18,null,null,null,null,null,null,null,null,0,13.18,null,null,13.18,null,null,null,1,13.18,13.18,{"$f":"AVERAGE(INDIRECT($X$1&ROW()-$Y$4+1):X950)","v":13.414999999999999},0,1,{"$f":"IF(AND(AA949=0,AA950=1,SUM(INDIRECT($AA$1&ROW()-$AB$4):AA949)=0),1,0)","v":0},0,{"$f":"IF(AND(AC949=0,AC950=1,SUM(INDIRECT($AC$1&ROW()-AD$4):AC949)=0),1,0)","v":0},214.56,null,null,null,null,null,null,null,null,null,null,null,null,null,-2000,0,null,0,null,null,null,null,null,null,null,null,22.23]
["1986-03-14",{"$f":"VLOOKUP(A955,'input BCI'!$O$3:$R$5000,4)","v":15.47},null,null,15.47,null,null,null,null,null,null,null,null,0,15.47,null,null,15.47,null,null,null,1,15.47,15.47,{"$f":"AVERAGE(INDIRECT($X$1&ROW()-$Y$4+1):X955)","v":15.620000000000001},0,1,{"$f":"IF(AND(AA954=0,AA955=1,SUM(INDIRECT($AA$1&ROW()-$AB$4):AA954)=0),1,0)","v":0},0,{"$f":"IF(AND(AC954=0,AC955=1,SUM(INDIRECT($AC$1&ROW()-AD$4):AC954)=0),1,0)","v":0},236.55,null,null,null,null,null,null,null,null,null,null,null,null,null,-2000,0,null,0,null,null,null,null,null,null,null,null,22.23]
["1986-04-04",{"$f":"VLOOKUP(A958,'input BCI'!$O$3:$R$5000,4)","v":16.07},null,null,16.07,null,null,null,null,null,null,null,null,0,16.07,null,null,16.07,null,null,null,1,16.07,16.07,{"$f":"AVERAGE(INDIRECT($X$1&ROW()-$Y$4+1):X958)","v":15.86},0,0,{"$f":"IF(AND(AA957=0,AA958=1,SUM(INDIRECT($AA$1&ROW()-$AB$4):AA957)=0),1,0)","v":0},1,{"$f":"IF(AND(AC957=0,AC958=1,SUM(INDIRECT($AC$1&ROW()-AD$4):AC957)=0),1,0)","v":1},228.69,null,null,null,null,null,null,null,null,null,null,null,null,null,-2000,0,null,0,null,null,null,null,null,null,null,null,22.23]
["1986-04-18",{"$f":"VLOOKUP(A960,'input BCI'!$O$3:$R$5000,4)","v":15.15},null,null,15.15,null,null,null,null,null,null,null,null,0,15.15,null,null,15.15,null,null,null,1,15.15,15.15,{"$f":"AVERAGE(INDIRECT($X$1&ROW()-$Y$4+1):X960)","v":15.04},0,0,{"$f":"IF(AND(AA959=0,AA960=1,SUM(INDIRECT($AA$1&ROW()-$AB$4):AA959)=0),1,0)","v":0},1,{"$f":"IF(AND(AC959=0,AC960=1,SUM(INDIRECT($AC$1&ROW()-AD$4):AC959)=0),1,0)","v":0},242.38,null,null,null,null,null,null,null,null,null,null,null,null,null,-2000,0,null,0,null,null,null,null,null,null,null,null,22.23]
["1986-05-23",{"$f":"VLOOKUP(A965,'input BCI'!$O$3:$R$5000,4)","v":16.260000000000002},null,null,16.260000000000002,null,null,null,null,null,null,null,null,0,16.260000000000002,null,null,16.260000000000002,null,null,null,1,16.260000000000002,16.260000000000002,{"$f":"AVERAGE(INDIRECT($X$1&ROW()-$Y$4+1):X965)","v":16.255000000000003},0,0,{"$f":"IF(AND(AA964=0,AA965=1,SUM(INDIRECT($AA$1&ROW()-$AB$4):AA964)=0),1,0)","v":0},1,{"$f":"IF(AND(AC964=0,AC965=1,SUM(INDIRECT($AC$1&ROW()-AD$4):AC964)=0),1,0)","v":0},241.35,null,null,null,null,null,null,null,null,null,null,null,null,null,-2000,0,null,0,null,null,null,null,null,null,null,null,22.23]
["1986-06-20",{"$f":"VLOOKUP(A969,'input BCI'!$O$3:$R$5000,4)","v":16.32},null,null,16.32,null,null,null,null,null,null,null,null,0,16.32,null,null,16.32,null,null,null,1,16.32,16.32,{"$f":"AVERAGE(INDIRECT($X$1&ROW()-$Y$4+1):X969)","v":16.14},0,0,{"$f":"IF(AND(AA968=0,AA969=1,SUM(INDIRECT($AA$1&ROW()-$AB$4):AA968)=0),1,0)","v":0},1,{"$f":"IF(AND(AC968=0,AC969=1,SUM(INDIRECT($AC$1&ROW()-AD$4):AC968)=0),1,0)","v":0},247.58,null,null,null,null,null,null,null,null,null,null,null,null,null,-2000,0,null,0,null,null,null,null,null,null,null,null,22.23]
["1986-07-25",{"$f":"VLOOKUP(A974,'input BCI'!$O$3:$R$5000,4)","v":13.17},null,null,13.17,null,null,null,null,null,null,null,null,0,13.17,null,null,13.17,null,null,null,1,13.17,13.17,{"$f":"AVERAGE(INDIRECT($X$1&ROW()-$Y$4+1):X974)","v":12.629999999999999},0,0,{"$f":"IF(AND(AA973=0,AA974=1,SUM(INDIRECT($AA$1&ROW()-$AB$4):AA973)=0),1,0)","v":0},{"$f":"IF(Y974<X974,1,0)","v":1},{"$f":"IF(AND(AC973=0,AC974=1,SUM(INDIRECT($AC$1&ROW()-AD$4):AC973)=0),1,0)","v":0},240.22,null,null,null,null,null,null,null,null,null,null,null,null,null,-2000,0,null,0,null,null,null,null,null,null,null,null,22.23]
["1986-08-01",{"$f":"VLOOKUP(A975,'input BCI'!$O$3:$R$5000,4)","v":12.09},null,null,12.09,null,null,null,null,null,null,null,null,0,12.09,null,null,12.09,null,null,null,1,12.09,12.09,{"$f":"AVERAGE(INDIRECT($X$1&ROW()-$Y$4+1):X975)","v":11.545},0,0,{"$f":"IF(AND(AA974=0,AA975=1,SUM(INDIRECT($AA$1&ROW()-$AB$4):AA974)=0),1,0)","v":0},1,{"$f":"IF(AND(AC974=0,AC975=1,SUM(INDIRECT($AC$1&ROW()-AD$4):AC974)=0),1,0)","v":0},234.91,null,null,null,null,null,null,null,null,null,null,null,null,null,-2000,0,null,0,null,null,null,null,null,null,null,null,22.23]
["1986-08-29",{"$f":"VLOOKUP(A979,'input BCI'!$O$3:$R$5000,4)","v":10.28},null,null,10.28,null,null,null,null,null,null,null,null,0,10.28,null,null,10.28,null,null,null,1,10.28,10.28,{"$f":"AVERAGE(INDIRECT($X$1&ROW()-$Y$4+1):X979)","v":10.309999999999999},0,1,{"$f":"IF(AND(AA978=0,AA979=1,SUM(INDIRECT($AA$1&ROW()-$AB$4):AA978)=0),1,0)","v":1},0,{"$f":"IF(AND(AC978=0,AC979=1,SUM(INDIRECT($AC$1&ROW()-AD$4):AC978)=0),1,0)","v":0},252.93,null,null,null,null,null,null,null,null,null,null,null,null,null,-2000,0,null,0,null,null,null,null,null,null,null,null,22.23]
["1986-10-03",{"$f":"VLOOKUP(A984,'input BCI'!$O$3:$R$5000,4)","v":6.46},null,null,6.46,null,null,null,null,null,null,null,null,0,6.46,null,null,6.46,null,null,null,1,6.46,6.46,{"$f":"AVERAGE(INDIRECT($X$1&ROW()-$Y$4+1):X984)","v":5.82},0,0,{"$f":"IF(AND(AA983=0,AA984=1,SUM(INDIRECT($AA$1&ROW()-$AB$4):AA983)=0),1,0)","v":0},1,{"$f":"IF(AND(AC983=0,AC984=1,SUM(INDIRECT($AC$1&ROW()-AD$4):AC983)=0),1,0)","v":0},233.71,null,null,null,null,null,null,null,null,null,null,null,null,null,-2000,0,null,0,null,null,null,null,null,null,null,null,22.23]
["1986-10-24",{"$f":"VLOOKUP(A987,'input BCI'!$O$3:$R$5000,4)","v":4.12},null,null,4.12,null,null,null,null,null,null,null,null,0,4.12,null,null,4.12,null,null,null,1,4.12,4.12,{"$f":"AVERAGE(INDIRECT($X$1&ROW()-$Y$4+1):X987)","v":4.43},0,1,{"$f":"IF(AND(AA986=0,AA987=1,SUM(INDIRECT($AA$1&ROW()-$AB$4):AA986)=0),1,0)","v":0},0,{"$f":"IF(AND(AC986=0,AC987=1,SUM(INDIRECT($AC$1&ROW()-AD$4):AC986)=0),1,0)","v":0},238.26,null,null,null,null,null,null,null,null,null,null,null,null,null,-2000,0,null,0,null,null,null,null,null,null,null,null,22.23]
["1986-11-07",{"$f":"VLOOKUP(A989,'input BCI'!$O$3:$R$5000,4)","v":5.92},null,null,5.92,null,null,null,null,null,null,null,null,0,5.92,null,null,5.92,null,null,null,1,5.92,5.92,{"$f":"AVERAGE(INDIRECT($X$1&ROW()-$Y$4+1):X989)","v":6.7799999999999994},0,1,{"$f":"IF(AND(AA988=0,AA989=1,SUM(INDIRECT($AA$1&ROW()-$AB$4):AA988)=0),1,0)","v":0},0,{"$f":"IF(AND(AC988=0,AC989=1,SUM(INDIRECT($AC$1&ROW()-AD$4):AC988)=0),1,0)","v":0},245.77,null,null,null,null,null,null,null,null,null,null,null,null,null,-2000,0,null,0,null,null,null,null,null,null,null,null,22.23]
["1986-12-12",{"$f":"VLOOKUP(A994,'input BCI'!$O$3:$R$5000,4)","v":10.24},null,null,10.24,null,null,null,null,null,null,null,null,0,10.24,null,null,10.24,null,null,null,1,10.24,10.24,{"$f":"AVERAGE(INDIRECT($X$1&ROW()-$Y$4+1):X994)","v":10.015000000000001},0,0,{"$f":"IF(AND(AA993=0,AA994=1,SUM(INDIRECT($AA$1&ROW()-$AB$4):AA993)=0),1,0)","v":0},1,{"$f":"IF(AND(AC993=0,AC994=1,SUM(INDIRECT($AC$1&ROW()-AD$4):AC993)=0),1,0)","v":0},247.35,null,null,null,null,null,null,null,null,null,null,null,null,null,-2000,0,null,0,null,null,null,null,null,null,null,null,22.23]
["1987-01-09",{"$f":"VLOOKUP(A998,'input BCI'!$O$3:$R$5000,4)","v":9.35},null,null,9.35,null,null,null,null,null,null,null,null,0,9.35,null,null,9.35,null,null,null,1,9.35,9.35,{"$f":"AVERAGE(INDIRECT($X$1&ROW()-$Y$4+1):X998)","v":9.7149999999999999},0,1,{"$f":"IF(AND(AA997=0,AA998=1,SUM(INDIRECT($AA$1&ROW()-$AB$4):AA997)=0),1,0)","v":0},0,{"$f":"IF(AND(AC997=0,AC998=1,SUM(INDIRECT($AC$1&ROW()-AD$4):AC997)=0),1,0)","v":0},258.73,null,null,null,null,null,null,null,null,null,null,null,null,null,-2000,0,null,0,null,null,null,null,null,null,null,null,22.23]
["1987-02-13",{"$f":"VLOOKUP(A1003,'input BCI'!$O$3:$R$5000,4)","v":16.46},null,null,16.46,null,null,null,null,null,null,null,null,0,16.46,null,null,16.46,null,null,null,1,16.46,16.46,{"$f":"AVERAGE(INDIRECT($X$1&ROW()-$Y$4+1):X1003)","v":17.105},0,1,{"$f":"IF(AND(AA1002=0,AA1003=1,SUM(INDIRECT($AA$1&ROW()-$AB$4):AA1002)=0),1,0)","v":0},0,{"$f":"IF(AND(AC1002=0,AC1003=1,SUM(INDIRECT($AC$1&ROW()-AD$4):AC1002)=0),1,0)","v":0},279.7,null,null,null,null,null,null,null,null,null,null,null,null,null,-2000,0,null,0,null,null,null,null,null,null,null,null,22.23]
["1987-02-20",{"$f":"VLOOKUP(A1004,'input BCI'!$O$3:$R$5000,4)","v":17.75},null,null,17.75,null,null,null,null,null,null,null,null,0,17.75,null,null,17.75,null,null,null,1,17.75,17.75,{"$f":"AVERAGE(INDIRECT($X$1&ROW()-$Y$4+1):X1004)","v":17.935000000000002},0,1,{"$f":"IF(AND(AA1003=0,AA1004=1,SUM(INDIRECT($AA$1&ROW()-$AB$4):AA1003)=0),1,0)","v":0},0,{"$f":"IF(AND(AC1003=0,AC1004=1,SUM(INDIRECT($AC$1&ROW()-AD$4):AC1003)=0),1,0)","v":0},285.48,null,null,null,null,null,null,null,null,null,null,null,null,null,-2000,0,null,0,null,null,null,null,null,null,null,null,22.23]
["1987-03-20",{"$f":"VLOOKUP(A1008,'input BCI'!$O$3:$R$5000,4)","v":17.45},null,null,17.45,null,null,null,null,null,null,null,null,0,17.45,null,null,17.45,null,null,null,1,17.45,17.45,{"$f":"AVERAGE(INDIRECT($X$1&ROW()-$Y$4+1):X1008)","v":17.454999999999998},0,1,{"$f":"IF(AND(AA1007=0,AA1008=1,SUM(INDIRECT($AA$1&ROW()-$AB$4):AA1007)=0),1,0)","v":0},0,{"$f":"IF(AND(AC1007=0,AC1008=1,SUM(INDIRECT($AC$1&ROW()-AD$4):AC1007)=0),1,0)","v":0},298.17,null,null,null,null,null,null,null,null,null,null,null,null,null,-2000,0,null,0,null,null,null,null,null,null,null,null,22.23]
["1987-04-24",{"$f":"VLOOKUP(A1013,'input BCI'!$O$3:$R$5000,4)","v":17.25},null,null,17.25,null,null,null,null,null,null,null,null,0,17.25,null,null,17.25,null,null,null,1,17.25,17.25,{"$f":"AVERAGE(INDIRECT($X$1&ROW()-$Y$4+1):X1013)","v":16.96},0,0,{"$f":"IF(AND(AA1012=0,AA1013=1,SUM(INDIRECT($AA$1&ROW()-$AB$4):AA1012)=0),1,0)","v":0},1,{"$f":"IF(AND(AC1012=0,AC1013=1,SUM(INDIRECT($AC$1&ROW()-AD$4):AC1012)=0),1,0)","v":0},281.52,null,null,null,null,null,null,null,null,null,null,null,null,null,-2000,0,null,0,null,null,null,null,null,null,null,null,22.23]
["1987-05-15",{"$f":"VLOOKUP(A1016,'input BCI'!$O$3:$R$5000,4)","v":16.61},null,null,16.61,null,null,null,null,null,null,null,null,0,16.61,null,null,16.61,null,null,null,1,16.61,16.61,{"$f":"AVERAGE(INDIRECT($X$1&ROW()-$Y$4+1):X1016)","v":16.585000000000001},0,0,{"$f":"IF(AND(AA1015=0,AA1016=1,SUM(INDIRECT($AA$1&ROW()-$AB$4):AA1015)=0),1,0)","v":0},1,{"$f":"IF(AND(AC1015=0,AC1016=1,SUM(INDIRECT($AC$1&ROW()-AD$4):AC1015)=0),1,0)","v":0},287.43,null,null,null,null,null,null,null,null,null,null,null,null,null,-2000,0,null,0,null,null,null,null,null,null,null,null,22.23]
["1987-05-29",{"$f":"VLOOKUP(A1018,'input BCI'!$O$3:$R$5000,4)","v":16.86},null,null,16.86,null,null,null,null,null,null,null,null,0,16.86,null,null,16.86,null,null,null,1,16.86,16.86,{"$f":"AVERAGE(INDIRECT($X$1&ROW()-$Y$4+1):X1018)","v":17.09},0,1,{"$f":"IF(AND(AA1017=0,AA1018=1,SUM(INDIRECT($AA$1&ROW()-$AB$4):AA1017)=0),1,0)","v":0},0,{"$f":"IF(AND(AC1017=0,AC1018=1,SUM(INDIRECT($AC$1&ROW()-AD$4):AC1017)=0),1,0)","v":0},290.10000000000002,null,null,null,null,null,null,null,null,null,null,null,null,null,-2000,0,null,0,null,null,null,null,null,null,null,null,22.23]
["1987-07-10",{"$f":"VLOOKUP(A1024,'input BCI'!$O$3:$R$5000,4)","v":18.84},null,null,18.84,null,null,null,null,null,null,null,null,0,18.84,null,null,18.84,null,null,null,1,18.84,18.84,{"$f":"AVERAGE(INDIRECT($X$1&ROW()-$Y$4+1):X1024)","v":18.59},0,0,{"$f":"IF(AND(AA1023=0,AA1024=1,SUM(INDIRECT($AA$1&ROW()-$AB$4):AA1023)=0),1,0)","v":0},1,{"$f":"IF(AND(AC1023=0,AC1024=1,SUM(INDIRECT($AC$1&ROW()-AD$4):AC1023)=0),1,0)","v":0},307.63,null,null,null,null,null,null,null,null,null,null,null,null,null,-2000,0,null,0,null,null,null,null,null,null,null,null,22.23]
["1987-07-31",{"$f":"VLOOKUP(A1027,'input BCI'!$O$3:$R$5000,4)","v":18.16},null,null,18.16,null,null,null,null,null,null,null,null,0,18.16,null,null,18.16,null,null,null,1,18.16,18.16,{"$f":"AVERAGE(INDIRECT($X$1&ROW()-$Y$4+1):X1027)","v":18.29},0,1,{"$f":"IF(AND(AA1026=0,AA1027=1,SUM(INDIRECT($AA$1&ROW()-$AB$4):AA1026)=0),1,0)","v":0},0,{"$f":"IF(AND(AC1026=0,AC1027=1,SUM(INDIRECT($AC$1&ROW()-AD$4):AC1026)=0),1,0)","v":0},317.57,null,null,null,null,null,null,null,null,null,null,null,null,null,-2000,0,null,0,null,null,null,null,null,null,null,null,22.23]
["1987-09-04",{"$f":"VLOOKUP(A1032,'input BCI'!$O$3:$R$5000,4)","v":19.46},null,null,19.46,null,null,null,null,null,null,null,null,0,19.46,null,null,19.46,null,null,null,1,19.46,19.46,{"$f":"AVERAGE(INDIRECT($X$1&ROW()-$Y$4+1):X1032)","v":19.305},0,0,{"$f":"IF(AND(AA1031=0,AA1032=1,SUM(INDIRECT($AA$1&ROW()-$AB$4):AA1031)=0),1,0)","v":0},1,{"$f":"IF(AND(AC1031=0,AC1032=1,SUM(INDIRECT($AC$1&ROW()-AD$4):AC1031)=0),1,0)","v":1},316.7,null,null,null,null,null,null,null,null,null,null,null,null,null,-2000,0,null,0,null,null,null,null,null,null,null,null,22.23]
["1987-09-11",{"$f":"VLOOKUP(A1033,'input BCI'!$O$3:$R$5000,4)","v":19.149999999999999},null,null,19.149999999999999,null,null,null,null,null,null,null,null,0,19.149999999999999,null,null,19.149999999999999,null,null,null,1,19.149999999999999,19.149999999999999,{"$f":"AVERAGE(INDIRECT($X$1&ROW()-$Y$4+1):X1033)","v":19.085000000000001},0,0,{"$f":"IF(AND(AA1032=0,AA1033=1,SUM(INDIRECT($AA$1&ROW()-$AB$4):AA1032)=0),1,0)","v":0},1,{"$f":"IF(AND(AC1032=0,AC1033=1,SUM(INDIRECT($AC$1&ROW()-AD$4):AC1032)=0),1,0)","v":0},321.98,null,null,null,null,null,null,null,null,null,null,null,null,null,-2000,0,null,0,null,null,null,null,null,null,null,null,22.23]
["1987-10-09",{"$f":"VLOOKUP(A1037,'input BCI'!$O$3:$R$5000,4)","v":17.32},null,null,17.32,null,null,null,null,null,null,null,null,0,17.32,null,null,17.32,null,null,null,1,17.32,17.32,{"$f":"AVERAGE(INDIRECT($X$1&ROW()-$Y$4+1):X1037)","v":16.95},0,{"$f":"IF(Y1037>X1037,1,0)","v":0},{"$f":"IF(AND(AA1036=0,AA1037=1,SUM(INDIRECT($AA$1&ROW()-$AB$4):AA1036)=0),1,0)","v":0},1,{"$f":"IF(AND(AC1036=0,AC1037=1,SUM(INDIRECT($AC$1&ROW()-AD$4):AC1036)=0),1,0)","v":0},311.05,null,null,null,null,null,null,null,null,null,null,null,null,null,-2000,0,null,0,null,null,null,null,null,null,null,null,22.23]
["1987-11-13",{"$f":"VLOOKUP(A1042,'input BCI'!$O$3:$R$5000,4)","v":10.039999999999999},null,null,10.039999999999999,null,null,null,null,null,null,null,null,0,10.039999999999999,null,null,10.039999999999999,null,null,null,1,10.039999999999999,10.039999999999999,{"$f":"AVERAGE(INDIRECT($X$1&ROW()-$Y$4+1):X1042)","v":9.9049999999999994},0,0,{"$f":"IF(AND(AA1041=0,AA1042=1,SUM(INDIRECT($AA$1&ROW()-$AB$4):AA1041)=0),1,0)","v":0},1,{"$f":"IF(AND(AC1041=0,AC1042=1,SUM(INDIRECT($AC$1&ROW()-AD$4):AC1041)=0),1,0)","v":0},245.64,null,null,null,null,null,null,null,null,null,null,null,null,null,-2000,0,null,0,null,null,null,null,null,null,null,null,22.23]
["1987-12-04",{"$f":"VLOOKUP(A1045,'input BCI'!$O$3:$R$5000,4)","v":8.9600000000000009},null,null,8.9600000000000009,null,null,null,null,null,null,null,null,0,8.9600000000000009,null,null,8.9600000000000009,null,null,null,1,8.9600000000000009,8.9600000000000009,{"$f":"AVERAGE(INDIRECT($X$1&ROW()-$Y$4+1):X1045)","v":8.2200000000000006},0,0,{"$f":"IF(AND(AA1044=0,AA1045=1,SUM(INDIRECT($AA$1&ROW()-$AB$4):AA1044)=0),1,0)","v":0},1,{"$f":"IF(AND(AC1044=0,AC1045=1,SUM(INDIRECT($AC$1&ROW()-AD$4):AC1044)=0),1,0)","v":0},223.87,null,null,null,null,null,null,null,null,null,null,null,null,null,-2000,0,null,0,null,null,null,null,null,null,null,null,22.23]
["1987-12-18",{"$f":"VLOOKUP(A1047,'input BCI'!$O$3:$R$5000,4)","v":6.46},null,null,6.46,null,null,null,null,null,null,null,null,0,6.46,null,null,6.46,null,null,null,1,6.46,6.46,{"$f":"AVERAGE(INDIRECT($X$1&ROW()-$Y$4+1):X1047)","v":6.3650000000000002},0,0,{"$f":"IF(AND(AA1046=0,AA1047=1,SUM(INDIRECT($AA$1&ROW()-$AB$4):AA1046)=0),1,0)","v":0},1,{"$f":"IF(AND(AC1046=0,AC1047=1,SUM(INDIRECT($AC$1&ROW()-AD$4):AC1046)=0),1,0)","v":0},249.14,null,null,null,null,null,null,null,null,null,null,null,null,null,-2000,0,null,0,null,null,null,null,null,null,null,null,22.23]
["1988-01-29",{"$f":"VLOOKUP(A1053,'input BCI'!$O$3:$R$5000,4)","v":5.08},null,null,5.08,null,null,null,null,null,null,null,null,0,5.08,null,null,5.08,null,null,null,1,5.08,5.08,{"$f":"AVERAGE(INDIRECT($X$1&ROW()-$Y$4+1):X1053)","v":4.75},0,0,{"$f":"IF(AND(AA1052=0,AA1053=1,SUM(INDIRECT($AA$1&ROW()-$AB$4):AA1052)=0),1,0)","v":0},1,{"$f":"IF(AND(AC1052=0,AC1053=1,SUM(INDIRECT($AC$1&ROW()-AD$4):AC1052)=0),1,0)","v":0},257.07,null,null,null,null,null,null,null,null,null,null,null,null,null,-2000,0,null,0,null,null,null,null,null,null,null,null,22.23]
["1988-02-19",{"$f":"VLOOKUP(A1056,'input BCI'!$O$3:$R$5000,4)","v":3.73},null,null,3.73,null,null,null,null,null,null,null,null,0,3.73,null,null,3.73,null,null,null,1,3.73,3.73,{"$f":"AVERAGE(INDIRECT($X$1&ROW()-$Y$4+1):X1056)","v":3.87},0,1,{"$f":"IF(AND(AA1055=0,AA1056=1,SUM(INDIRECT($AA$1&ROW()-$AB$4):AA1055)=0),1,0)","v":0},0,{"$f":"IF(AND(AC1055=0,AC1056=1,SUM(INDIRECT($AC$1&ROW()-AD$4):AC1055)=0),1,0)","v":0},261.61,null,null,null,null,null,null,null,null,null,null,null,null,null,-2000,0,null,0,null,null,null,null,null,null,null,null,22.23]
["1988-03-25",{"$f":"VLOOKUP(A1061,'input BCI'!$O$3:$R$5000,4)","v":6.38},null,null,6.38,null,null,null,null,null,null,null,null,0,6.38,null,null,6.38,null,null,null,1,6.38,6.38,{"$f":"AVERAGE(INDIRECT($X$1&ROW()-$Y$4+1):X1061)","v":6.5150000000000006},0,1,{"$f":"IF(AND(AA1060=0,AA1061=1,SUM(INDIRECT($AA$1&ROW()-$AB$4):AA1060)=0),1,0)","v":0},0,{"$f":"IF(AND(AC1060=0,AC1061=1,SUM(INDIRECT($AC$1&ROW()-AD$4):AC1060)=0),1,0)","v":0},258.51,null,null,null,null,null,null,null,null,null,null,null,null,null,-2000,0,null,0,null,null,null,null,null,null,null,null,22.23]
["1988-04-01",{"$f":"VLOOKUP(A1062,'input BCI'!$O$3:$R$5000,4)","v":6.65},null,null,6.65,null,null,null,null,null,null,null,null,0,6.65,null,null,6.65,null,null,null,1,6.65,6.65,{"$f":"AVERAGE(INDIRECT($X$1&ROW()-$Y$4+1):X1062)","v":6.8150000000000004},0,1,{"$f":"IF(AND(AA1061=0,AA1062=1,SUM(INDIRECT($AA$1&ROW()-$AB$4):AA1061)=0),1,0)","v":0},0,{"$f":"IF(AND(AC1061=0,AC1062=1,SUM(INDIRECT($AC$1&ROW()-AD$4):AC1061)=0),1,0)","v":0},258.89,null,null,null,null,null,null,null,null,null,null,null,null,null,-2000,0,null,0,null,null,null,null,null,null,null,null,22.23]
["1988-04-29",{"$f":"VLOOKUP(A1066,'input BCI'!$O$3:$R$5000,4)","v":9.06},null,null,9.06,null,null,null,null,null,null,null,null,0,9.06,null,null,9.06,null,null,null,1,9.06,9.06,{"$f":"AVERAGE(INDIRECT($X$1&ROW()-$Y$4+1):X1066)","v":9.3000000000000007},0,1,{"$f":"IF(AND(AA1065=0,AA1066=1,SUM(INDIRECT($AA$1&ROW()-$AB$4):AA1065)=0),1,0)","v":0},0,{"$f":"IF(AND(AC1065=0,AC1066=1,SUM(INDIRECT($AC$1&ROW()-AD$4):AC1065)=0),1,0)","v":0},261.33,null,null,null,null,null,null,null,null,null,null,null,null,null,-2000,0,null,0,null,null,null,null,null,null,null,null,22.23]
["1988-05-20",{"$f":"VLOOKUP(A1069,'input BCI'!$O$3:$R$5000,4)","v":9.48},null,null,9.48,null,null,null,null,null,null,null,null,0,9.48,null,null,9.48,null,null,null,1,9.48,9.48,{"$f":"AVERAGE(INDIRECT($X$1&ROW()-$Y$4+1):X1069)","v":9.4400000000000013},0,0,{"$f":"IF(AND(AA1068=0,AA1069=1,SUM(INDIRECT($AA$1&ROW()-$AB$4):AA1068)=0),1,0)","v":0},1,{"$f":"IF(AND(AC1068=0,AC1069=1,SUM(INDIRECT($AC$1&ROW()-AD$4):AC1068)=0),1,0)","v":0},253.02,null,null,null,null,null,null,null,null,null,null,null,null,null,-2000,0,null,0,null,null,null,null,null,null,null,null,22.23]
["1988-07-01",{"$f":"VLOOKUP(A1075,'input BCI'!$O$3:$R$5000,4)","v":12.61},null,null,12.61,null,null,null,null,null,null,null,null,0,12.61,null,null,12.61,null,null,null,1,12.61,12.61,{"$f":"AVERAGE(INDIRECT($X$1&ROW()-$Y$4+1):X1075)","v":12.765000000000001},0,1,{"$f":"IF(AND(AA1074=0,AA1075=1,SUM(INDIRECT($AA$1&ROW()-$AB$4):AA1074)=0),1,0)","v":0},0,{"$f":"IF(AND(AC1074=0,AC1075=1,SUM(INDIRECT($AC$1&ROW()-AD$4):AC1074)=0),1,0)","v":0},271.77999999999997,null,null,null,null,null,null,null,null,null,null,null,null,null,-2000,0,null,0,null,null,null,null,null,null,null,null,22.23]
["1988-07-08",{"$f":"VLOOKUP(A1076,'input BCI'!$O$3:$R$5000,4)","v":12.92},null,null,12.92,null,null,null,null,null,null,null,null,0,12.92,null,null,12.92,null,null,null,1,12.92,12.92,{"$f":"AVERAGE(INDIRECT($X$1&ROW()-$Y$4+1):X1076)","v":12.879999999999999},0,0,{"$f":"IF(AND(AA1075=0,AA1076=1,SUM(INDIRECT($AA$1&ROW()-$AB$4):AA1075)=0),1,0)","v":0},1,{"$f":"IF(AND(AC1075=0,AC1076=1,SUM(INDIRECT($AC$1&ROW()-AD$4):AC1075)=0),1,0)","v":1},270.02999999999997,null,null,null,null,null,null,null,null,null,null,null,null,null,-2000,0,null,0,null,null,null,null,null,null,null,null,22.23]
["1988-08-19",{"$f":"VLOOKUP(A1082,'input BCI'!$O$3:$R$5000,4)","v":11.84},null,null,11.84,null,null,null,null,null,null,null,null,0,11.84,null,null,11.84,null,null,null,1,11.84,11.84,{"$f":"AVERAGE(INDIRECT($X$1&ROW()-$Y$4+1):X1082)","v":11.615},0,0,{"$f":"IF(AND(AA1081=0,AA1082=1,SUM(INDIRECT($AA$1&ROW()-$AB$4):AA1081)=0),1,0)","v":0},1,{"$f":"IF(AND(AC1081=0,AC1082=1,SUM(INDIRECT($AC$1&ROW()-AD$4):AC1081)=0),1,0)","v":0},260.24,null,null,null,null,null,null,null,null,null,null,null,null,null,-2000,0,null,0,null,null,null,null,null,null,null,null,22.23]
["1988-09-09",{"$f":"VLOOKUP(A1085,'input BCI'!$O$3:$R$5000,4)","v":10.14},null,null,10.14,null,null,null,null,null,null,null,null,0,10.14,null,null,10.14,null,null,null,1,10.14,10.14,{"$f":"AVERAGE(INDIRECT($X$1&ROW()-$Y$4+1):X1085)","v":10.06},0,0,{"$f":"IF(AND(AA1084=0,AA1085=1,SUM(INDIRECT($AA$1&ROW()-$AB$4):AA1084)=0),1,0)","v":0},1,{"$f":"IF(AND(AC1084=0,AC1085=1,SUM(INDIRECT($AC$1&ROW()-AD$4):AC1084)=0),1,0)","v":0},266.83999999999997,null,null,null,null,null,null,null,null,null,null,null,null,null,-2000,0,null,0,null,null,null,null,null,null,null,null,22.23]
["1988-10-14",{"$f":"VLOOKUP(A1090,'input BCI'!$O$3:$R$5000,4)","v":11.19},null,null,11.19,null,null,null,null,null,null,null,null,0,11.19,null,null,11.19,null,null,null,1,11.19,11.19,{"$f":"AVERAGE(INDIRECT($X$1&ROW()-$Y$4+1):X1090)","v":11.44},0,1,{"$f":"IF(AND(AA1089=0,AA1090=1,SUM(INDIRECT($AA$1&ROW()-$AB$4):AA1089)=0),1,0)","v":0},0,{"$f":"IF(AND(AC1089=0,AC1090=1,SUM(INDIRECT($AC$1&ROW()-AD$4):AC1089)=0),1,0)","v":0},275.5,null,null,null,null,null,null,null,null,null,null,null,null,null,-2000,0,null,0,null,null,null,null,null,null,null,null,22.23]
["1988-10-21",{"$f":"VLOOKUP(A1091,'input BCI'!$O$3:$R$5000,4)","v":11.69},null,null,11.69,null,null,null,null,null,null,null,null,0,11.69,null,null,11.69,null,null,null,1,11.69,11.69,{"$f":"AVERAGE(INDIRECT($X$1&ROW()-$Y$4+1):X1091)","v":12.149999999999999},0,1,{"$f":"IF(AND(AA1090=0,AA1091=1,SUM(INDIRECT($AA$1&ROW()-$AB$4):AA1090)=0),1,0)","v":0},0,{"$f":"IF(AND(AC1090=0,AC1091=1,SUM(INDIRECT($AC$1&ROW()-AD$4):AC1090)=0),1,0)","v":0},283.66000000000003,null,null,null,null,null,null,null,null,null,null,null,null,null,-2000,0,null,0,null,null,null,null,null,null,null,null,22.23]
["1988-11-18",{"$f":"VLOOKUP(A1095,'input BCI'!$O$3:$R$5000,4)","v":13.41},null,null,13.41,null,null,null,null,null,null,null,null,0,13.41,null,null,13.41,null,null,null,1,13.41,13.41,{"$f":"AVERAGE(INDIRECT($X$1&ROW()-$Y$4+1):X1095)","v":13.120000000000001},0,0,{"$f":"IF(AND(AA1094=0,AA1095=1,SUM(INDIRECT($AA$1&ROW()-$AB$4):AA1094)=0),1,0)","v":0},1,{"$f":"IF(AND(AC1094=0,AC1095=1,SUM(INDIRECT($AC$1&ROW()-AD$4):AC1094)=0),1,0)","v":1},266.45,null,null,null,null,null,null,null,null,null,null,null,null,null,-2000,0,null,0,null,null,null,null,null,null,null,null,22.23]
["1988-12-16",{"$f":"VLOOKUP(A1099,'input BCI'!$O$3:$R$5000,4)","v":12.06},null,null,{"$f":"B1099+$O$7","v":12.06},null,null,null,null,null,null,null,null,0,{"$f":"E1099","v":12.06},null,null,12.06,null,null,null,1,{"$f":"R1099","v":12.06},{"$f":"(W1099+$X$4)","v":12.06},{"$f":"AVERAGE(INDIRECT($X$1&ROW()-$Y$4+1):X1099)","v":12.074999999999999},{"$f":"IF(OR(X1099=$I$5,X1099>$I$5),1,0)","v":0},1,{"$f":"IF(AND(AA1098=0,AA1099=1,SUM(INDIRECT($AA$1&ROW()-$AB$4):AA1098)=0),1,0)","v":0},0,{"$f":"IF(AND(AC1098=0,AC1099=1,SUM(INDIRECT($AC$1&ROW()-AD$4):AC1098)=0),1,0)","v":0},276.29000000000002,null,null,null,null,null,null,null,null,null,null,null,null,null,-2000,0,null,0,null,null,null,null,null,null,null,null,{"$f":"$BE$2","v":22.23}]
["1989-01-20",{"$f":"VLOOKUP(A1104,'input BCI'!$O$3:$R$5000,4)","v":8.8000000000000007},null,null,8.8000000000000007,null,null,null,null,null,null,null,null,0,8.8000000000000007,null,null,8.8000000000000007,null,null,null,1,8.8000000000000007,8.8000000000000007,{"$f":"AVERAGE(INDIRECT($X$1&ROW()-$Y$4+1):X1104)","v":8.66},0,0,{"$f":"IF(AND(AA1103=0,AA1104=1,SUM(INDIRECT($AA$1&ROW()-$AB$4):AA1103)=0),1,0)","v":0},1,{"$f":"IF(AND(AC1103=0,AC1104=1,SUM(INDIRECT($AC$1&ROW()-AD$4):AC1103)=0),1,0)","v":0},286.63,null,null,null,null,null,null,null,null,null,null,null,null,null,-2000,0,null,0,null,null,null,null,null,null,null,null,22.23]
["1989-01-27",{"$f":"VLOOKUP(A1105,'input BCI'!$O$3:$R$5000,4)","v":8.52},null,null,8.52,null,null,null,null,null,null,null,null,0,8.52,null,null,8.52,null,null,null,1,8.52,8.52,{"$f":"AVERAGE(INDIRECT($X$1&ROW()-$Y$4+1):X1105)","v":8.6950000000000003},0,1,{"$f":"IF(AND(AA1104=0,AA1105=1,SUM(INDIRECT($AA$1&ROW()-$AB$4):AA1104)=0),1,0)","v":0},0,{"$f":"IF(AND(AC1104=0,AC1105=1,SUM(INDIRECT($AC$1&ROW()-AD$4):AC1104)=0),1,0)","v":0},293.82,null,null,null,null,null,null,null,null,null,null,null,null,null,-2000,0,null,0,null,null,null,null,null,null,null,null,22.23]
["1989-03-10",{"$f":"VLOOKUP(A1111,'input BCI'!$O$3:$R$5000,4)","v":8.98},null,null,8.98,null,null,null,null,null,null,null,null,0,8.98,null,null,8.98,null,null,null,1,8.98,8.98,{"$f":"AVERAGE(INDIRECT($X$1&ROW()-$Y$4+1):X1111)","v":8.9550000000000001},0,0,{"$f":"IF(AND(AA1110=0,AA1111=1,SUM(INDIRECT($AA$1&ROW()-$AB$4):AA1110)=0),1,0)","v":0},1,{"$f":"IF(AND(AC1110=0,AC1111=1,SUM(INDIRECT($AC$1&ROW()-AD$4):AC1110)=0),1,0)","v":0},292.88,null,null,null,null,null,null,null,null,null,null,null,null,null,-2000,0,null,0,null,null,null,null,null,null,null,null,22.23]
["1989-03-31",{"$f":"VLOOKUP(A1114,'input BCI'!$O$3:$R$5000,4)","v":8.36},null,null,8.36,null,null,null,null,null,null,null,null,0,8.36,null,null,8.36,null,null,null,1,8.36,8.36,{"$f":"AVERAGE(INDIRECT($X$1&ROW()-$Y$4+1):X1114)","v":8.0250000000000004},0,0,{"$f":"IF(AND(AA1113=0,AA1114=1,SUM(INDIRECT($AA$1&ROW()-$AB$4):AA1113)=0),1,0)","v":0},1,{"$f":"IF(AND(AC1113=0,AC1114=1,SUM(INDIRECT($AC$1&ROW()-AD$4):AC1113)=0),1,0)","v":0},294.87,null,null,null,null,null,null,null,null,null,null,null,null,null,-2000,0,null,0,null,null,null,null,null,null,null,null,22.23]
["1989-05-05",{"$f":"VLOOKUP(A1119,'input BCI'!$O$3:$R$5000,4)","v":5.74},null,null,5.74,null,null,null,null,null,null,null,null,0,5.74,null,null,5.74,null,null,null,1,5.74,5.74,{"$f":"AVERAGE(INDIRECT($X$1&ROW()-$Y$4+1):X1119)","v":5.63},0,0,{"$f":"IF(AND(AA1118=0,AA1119=1,SUM(INDIRECT($AA$1&ROW()-$AB$4):AA1118)=0),1,0)","v":0},1,{"$f":"IF(AND(AC1118=0,AC1119=1,SUM(INDIRECT($AC$1&ROW()-AD$4):AC1118)=0),1,0)","v":0},307.61,null,null,null,null,null,null,null,null,null,null,null,null,null,-2000,0,null,0,null,null,null,null,null,null,null,null,22.23]
["1989-05-12",{"$f":"VLOOKUP(A1120,'input BCI'!$O$3:$R$5000,4)","v":5.52},null,null,5.52,null,null,null,null,null,null,null,null,0,5.52,null,null,5.52,null,null,null,1,5.52,5.52,{"$f":"AVERAGE(INDIRECT($X$1&ROW()-$Y$4+1):X1120)","v":5.4249999999999998},0,0,{"$f":"IF(AND(AA1119=0,AA1120=1,SUM(INDIRECT($AA$1&ROW()-$AB$4):AA1119)=0),1,0)","v":0},1,{"$f":"IF(AND(AC1119=0,AC1120=1,SUM(INDIRECT($AC$1&ROW()-AD$4):AC1119)=0),1,0)","v":0},313.83999999999997,null,null,null,null,null,null,null,null,null,null,null,null,null,-2000,0,null,0,null,null,null,null,null,null,null,null,22.23]
["1989-06-09",{"$f":"VLOOKUP(A1124,'input BCI'!$O$3:$R$5000,4)","v":6.01},null,null,6.01,null,null,null,null,null,null,null,null,0,6.01,null,null,6.01,null,null,null,1,6.01,6.01,{"$f":"AVERAGE(INDIRECT($X$1&ROW()-$Y$4+1):X1124)","v":6.24},0,1,{"$f":"IF(AND(AA1123=0,AA1124=1,SUM(INDIRECT($AA$1&ROW()-$AB$4):AA1123)=0),1,0)","v":0},0,{"$f":"IF(AND(AC1123=0,AC1124=1,SUM(INDIRECT($AC$1&ROW()-AD$4):AC1123)=0),1,0)","v":0},326.69,null,null,null,null,null,null,null,null,null,null,null,null,null,-2000,0,null,0,null,null,null,null,null,null,null,null,22.23]
["1989-07-07",{"$f":"VLOOKUP(A1128,'input BCI'!$O$3:$R$5000,4)","v":7.31},null,null,7.31,null,null,null,null,null,null,null,null,0,7.31,null,null,7.31,null,null,null,1,7.31,7.31,{"$f":"AVERAGE(INDIRECT($X$1&ROW()-$Y$4+1):X1128)","v":7.4550000000000001},0,1,{"$f":"IF(AND(AA1127=0,AA1128=1,SUM(INDIRECT($AA$1&ROW()-$AB$4):AA1127)=0),1,0)","v":0},0,{"$f":"IF(AND(AC1127=0,AC1128=1,SUM(INDIRECT($AC$1&ROW()-AD$4):AC1127)=0),1,0)","v":0},324.91000000000003,null,null,null,null,null,null,null,null,null,null,null,null,null,-2000,0,null,0,null,null,null,null,null,null,null,null,22.23]
["1989-08-11",{"$f":"VLOOKUP(A1133,'input BCI'!$O$3:$R$5000,4)","v":8.66},null,null,8.66,null,null,null,null,null,null,null,null,0,8.66,null,null,8.66,null,null,null,1,8.66,8.66,{"$f":"AVERAGE(INDIRECT($X$1&ROW()-$Y$4+1):X1133)","v":8.6449999999999996},0,0,{"$f":"IF(AND(AA1132=0,AA1133=1,SUM(INDIRECT($AA$1&ROW()-$AB$4):AA1132)=0),1,0)","v":0},1,{"$f":"IF(AND(AC1132=0,AC1133=1,SUM(INDIRECT($AC$1&ROW()-AD$4):AC1132)=0),1,0)","v":0},344.74,null,null,null,null,null,null,null,null,null,null,null,null,null,-2000,0,null,0,null,null,null,null,null,null,null,null,22.23]
["1989-08-18",{"$f":"VLOOKUP(A1134,'input BCI'!$O$3:$R$5000,4)","v":8.6300000000000008},null,null,8.6300000000000008,null,null,null,null,null,null,null,null,0,8.6300000000000008,null,null,8.6300000000000008,null,null,null,1,8.6300000000000008,8.6300000000000008,{"$f":"AVERAGE(INDIRECT($X$1&ROW()-$Y$4+1):X1134)","v":8.6050000000000004},0,0,{"$f":"IF(AND(AA1133=0,AA1134=1,SUM(INDIRECT($AA$1&ROW()-$AB$4):AA1133)=0),1,0)","v":0},1,{"$f":"IF(AND(AC1133=0,AC1134=1,SUM(INDIRECT($AC$1&ROW()-AD$4):AC1133)=0),1,0)","v":0},346.03,null,null,null,null,null,null,null,null,null,null,null,null,null,-2000,0,null,0,null,null,null,null,null,null,null,null,22.23]
["1989-09-29",{"$f":"VLOOKUP(A1140,'input BCI'!$O$3:$R$5000,4)","v":10.09},null,null,10.09,null,null,null,null,null,null,null,null,0,10.09,null,null,10.09,null,null,null,1,10.09,10.09,{"$f":"AVERAGE(INDIRECT($X$1&ROW()-$Y$4+1):X1140)","v":9.8650000000000002},0,0,{"$f":"IF(AND(AA1139=0,AA1140=1,SUM(INDIRECT($AA$1&ROW()-$AB$4):AA1139)=0),1,0)","v":0},1,{"$f":"IF(AND(AC1139=0,AC1140=1,SUM(INDIRECT($AC$1&ROW()-AD$4):AC1139)=0),1,0)","v":0},349.15,null,null,null,null,null,null,null,null,null,null,null,null,null,-2000,0,null,0,null,null,null,null,null,null,null,null,22.23]
["1989-10-20",{"$f":"VLOOKUP(A1143,'input BCI'!$O$3:$R$5000,4)","v":8.64},null,null,8.64,null,null,null,null,null,null,null,null,0,8.64,null,null,8.64,null,null,null,1,8.64,8.64,{"$f":"AVERAGE(INDIRECT($X$1&ROW()-$Y$4+1):X1143)","v":8.1449999999999996},0,0,{"$f":"IF(AND(AA1142=0,AA1143=1,SUM(INDIRECT($AA$1&ROW()-$AB$4):AA1142)=0),1,0)","v":0},1,{"$f":"IF(AND(AC1142=0,AC1143=1,SUM(INDIRECT($AC$1&ROW()-AD$4):AC1142)=0),1,0)","v":0},347.16,null,null,null,null,null,null,null,null,null,null,null,null,null,-2000,0,null,0,null,null,null,null,null,null,null,null,22.23]
["1989-11-17",{"$f":"VLOOKUP(A1147,'input BCI'!$O$3:$R$5000,4)","v":4.05},null,null,4.05,null,null,null,null,null,null,null,null,0,4.05,null,null,4.05,null,null,null,1,4.05,4.05,{"$f":"AVERAGE(INDIRECT($X$1&ROW()-$Y$4+1):X1147)","v":3.8},0,0,{"$f":"IF(AND(AA1146=0,AA1147=1,SUM(INDIRECT($AA$1&ROW()-$AB$4):AA1146)=0),1,0)","v":0},1,{"$f":"IF(AND(AC1146=0,AC1147=1,SUM(INDIRECT($AC$1&ROW()-AD$4):AC1146)=0),1,0)","v":0},341.61,null,null,null,null,null,null,null,null,null,null,null,null,null,-2000,0,null,0,null,null,null,null,null,null,null,null,22.23]
["1989-11-24",{"$f":"VLOOKUP(A1148,'input BCI'!$O$3:$R$5000,4)","v":3.55},null,null,3.55,null,null,null,null,null,null,null,null,0,3.55,null,null,3.55,null,null,null,1,3.55,3.55,{"$f":"AVERAGE(INDIRECT($X$1&ROW()-$Y$4+1):X1148)","v":3.53},0,0,{"$f":"IF(AND(AA1147=0,AA1148=1,SUM(INDIRECT($AA$1&ROW()-$AB$4):AA1147)=0),1,0)","v":0},1,{"$f":"IF(AND(AC1147=0,AC1148=1,SUM(INDIRECT($AC$1&ROW()-AD$4):AC1147)=0),1,0)","v":0},343.97,null,null,null,null,null,null,null,null,null,null,null,null,null,-2000,0,null,0,null,null,null,null,null,null,null,null,22.23]
["1989-12-29",{"$f":"VLOOKUP(A1153,'input BCI'!$O$3:$R$5000,4)","v":4.34},null,null,4.34,null,null,null,null,null,null,null,null,0,4.34,null,null,4.34,null,null,null,1,4.34,4.34,{"$f":"AVERAGE(INDIRECT($X$1&ROW()-$Y$4+1):X1153)","v":4.55},0,1,{"$f":"IF(AND(AA1152=0,AA1153=1,SUM(INDIRECT($AA$1&ROW()-$AB$4):AA1152)=0),1,0)","v":0},0,{"$f":"IF(AND(AC1152=0,AC1153=1,SUM(INDIRECT($AC$1&ROW()-AD$4):AC1152)=0),1,0)","v":0},353.4,null,null,null,null,null,null,null,null,null,null,null,null,null,-2000,0,null,0,null,null,null,null,null,null,null,null,22.23]
["1990-01-26",{"$f":"VLOOKUP(A1157,'input BCI'!$O$3:$R$5000,4)","v":4.21},null,null,4.21,null,null,null,null,null,null,null,null,0,4.21,null,null,4.21,null,null,null,1,4.21,4.21,{"$f":"AVERAGE(INDIRECT($X$1&ROW()-$Y$4+1):X1157)","v":3.4699999999999998},0,0,{"$f":"IF(AND(AA1156=0,AA1157=1,SUM(INDIRECT($AA$1&ROW()-$AB$4):AA1156)=0),1,0)","v":0},1,{"$f":"IF(AND(AC1156=0,AC1157=1,SUM(INDIRECT($AC$1&ROW()-AD$4):AC1156)=0),1,0)","v":0},325.8,null,null,null,null,null,null,null,null,null,null,null,null,null,-2000,0,null,0,null,null,null,null,null,null,null,null,22.23]
["1990-03-02",{"$f":"VLOOKUP(A1162,'input BCI'!$O$3:$R$5000,4)","v":0.41},null,null,0.41,null,null,null,null,null,null,null,null,0,0.41,null,null,0.41,null,null,null,1,0.41,0.41,{"$f":"AVERAGE(INDIRECT($X$1&ROW()-$Y$4+1):X1162)","v":0.39},0,0,{"$f":"IF(AND(AA1161=0,AA1162=1,SUM(INDIRECT($AA$1&ROW()-$AB$4):AA1161)=0),1,0)","v":0},1,{"$f":"IF(AND(AC1161=0,AC1162=1,SUM(INDIRECT($AC$1&ROW()-AD$4):AC1161)=0),1,0)","v":0},335.54,null,null,null,null,null,null,null,null,null,null,null,null,null,{"$f":"IF(ISNUMBER(AR1162),2000,-2000)","v":-2000},0,null,0,null,null,null,null,null,null,null,null,22.23]
["1990-03-09",{"$f":"VLOOKUP(A1163,'input BCI'!$O$3:$R$5000,4)","v":0.37},null,null,{"$f":"B1163+$O$7","v":0.37},null,null,null,null,null,null,null,null,0,{"$f":"E1163","v":0.37},null,null,0.37,null,null,null,1,{"$f":"R1163","v":0.37},{"$f":"(W1163+$X$4)","v":0.37},{"$f":"AVERAGE(INDIRECT($X$1&ROW()-$Y$4+1):X1163)","v":0.37},{"$f":"IF(OR(X1163=$I$5,X1163>$I$5),1,0)","v":0},0,{"$f":"IF(AND(AA1162=0,AA1163=1,SUM(INDIRECT($AA$1&ROW()-$AB$4):AA1162)=0),1,0)","v":0},0,{"$f":"IF(AND(AC1162=0,AC1163=1,SUM(INDIRECT($AC$1&ROW()-AD$4):AC1162)=0),1,0)","v":0},337.93,null,null,null,null,null,null,null,null,null,null,null,null,null,-2000,0,null,0,null,null,null,null,null,null,null,null,{"$f":"$BE$2","v":22.23}]
["1990-04-20",{"$f":"VLOOKUP(A1169,'input BCI'!$O$3:$R$5000,4)","v":0.12},null,null,0.12,null,null,null,null,null,null,null,null,0,0.12,null,null,0.12,null,null,null,1,0.12,0.12,{"$f":"AVERAGE(INDIRECT($X$1&ROW()-$Y$4+1):X1169)","v":-0.1},0,0,{"$f":"IF(AND(AA1168=0,AA1169=1,SUM(INDIRECT($AA$1&ROW()-$AB$4):AA1168)=0),1,0)","v":0},1,{"$f":"IF(AND(AC1168=0,AC1169=1,SUM(INDIRECT($AC$1&ROW()-AD$4):AC1168)=0),1,0)","v":0},335.12,null,null,null,null,null,null,null,null,null,null,null,null,null,-2000,0,null,0,null,null,null,null,null,null,null,null,22.23]
["1990-05-11",{"$f":"VLOOKUP(A1172,'input BCI'!$O$3:$R$5000,4)","v":-1.29},null,null,-1.29,null,null,null,null,null,null,null,null,0,-1.29,null,null,-1.29,null,null,null,1,-1.29,-1.29,{"$f":"AVERAGE(INDIRECT($X$1&ROW()-$Y$4+1):X1172)","v":-1.385},0,0,{"$f":"IF(AND(AA1171=0,AA1172=1,SUM(INDIRECT($AA$1&ROW()-$AB$4):AA1171)=0),1,0)","v":0},1,{"$f":"IF(AND(AC1171=0,AC1172=1,SUM(INDIRECT($AC$1&ROW()-AD$4):AC1171)=0),1,0)","v":0},352,null,null,null,null,null,null,null,null,null,null,null,null,null,-2000,0,null,0,null,null,null,null,null,null,null,null,22.23]
["1990-05-25",{"$f":"VLOOKUP(A1174,'input BCI'!$O$3:$R$5000,4)","v":-1.01},null,null,-1.01,null,null,null,null,null,null,null,null,0,-1.01,null,null,-1.01,null,null,null,1,-1.01,-1.01,{"$f":"AVERAGE(INDIRECT($X$1&ROW()-$Y$4+1):X1174)","v":-0.76500000000000001},0,1,{"$f":"IF(AND(AA1173=0,AA1174=1,SUM(INDIRECT($AA$1&ROW()-$AB$4):AA1173)=0),1,0)","v":0},0,{"$f":"IF(AND(AC1173=0,AC1174=1,SUM(INDIRECT($AC$1&ROW()-AD$4):AC1173)=0),1,0)","v":0},354.58,null,null,null,null,null,null,null,null,null,null,null,null,null,-2000,0,null,0,null,null,null,null,null,null,null,null,22.23]
["1990-06-15",{"$f":"VLOOKUP(A1177,'input BCI'!$O$3:$R$5000,4)","v":-0.22},null,null,-0.22,null,null,null,null,null,null,null,null,0,-0.22,null,null,{"$f":"O1177*R$7","v":-0.22},null,null,null,1,-0.22,-0.22,{"$f":"AVERAGE(INDIRECT($X$1&ROW()-$Y$4+1):X1177)","v":-0.40499999999999997},0,0,{"$f":"IF(AND(AA1176=0,AA1177=1,SUM(INDIRECT($AA$1&ROW()-$AB$4):AA1176)=0),1,0)","v":0},1,{"$f":"IF(AND(AC1176=0,AC1177=1,SUM(INDIRECT($AC$1&ROW()-AD$4):AC1176)=0),1,0)","v":0},362.91,null,null,null,null,null,null,null,null,null,null,null,null,null,-2000,0,null,0,null,null,null,null,null,null,null,null,22.23]
["1990-07-20",{"$f":"VLOOKUP(A1182,'input BCI'!$O$3:$R$5000,4)","v":-1.65},null,null,-1.65,null,null,null,null,null,null,null,null,0,-1.65,null,null,-1.65,null,null,null,1,-1.65,-1.65,{"$f":"AVERAGE(INDIRECT($X$1&ROW()-$Y$4+1):X1182)","v":-1.7050000000000001},0,0,{"$f":"IF(AND(AA1181=0,AA1182=1,SUM(INDIRECT($AA$1&ROW()-$AB$4):AA1181)=0),1,0)","v":0},1,{"$f":"IF(AND(AC1181=0,AC1182=1,SUM(INDIRECT($AC$1&ROW()-AD$4):AC1181)=0),1,0)","v":0},361.61,null,null,null,null,null,null,null,null,null,null,null,null,null,-2000,0,null,0,null,null,null,null,null,null,null,null,22.23]
["1990-08-17",{"$f":"VLOOKUP(A1186,'input BCI'!$O$3:$R$5000,4)","v":-2.72},null,null,-2.72,null,null,null,null,null,null,null,null,1,-2.72,null,null,-2.72,null,null,null,1,-2.72,-2.72,{"$f":"AVERAGE(INDIRECT($X$1&ROW()-$Y$4+1):X1186)","v":-3.0550000000000002},0,0,{"$f":"IF(AND(AA1185=0,AA1186=1,SUM(INDIRECT($AA$1&ROW()-$AB$4):AA1185)=0),1,0)","v":0},1,{"$f":"IF(AND(AC1185=0,AC1186=1,SUM(INDIRECT($AC$1&ROW()-AD$4):AC1185)=0),1,0)","v":0},327.83,null,null,null,null,null,null,null,null,null,null,null,null,"1990-08-17",2000,1,null,0,null,null,null,null,null,null,null,null,22.23]
["1990-09-21",{"$f":"VLOOKUP(A1191,'input BCI'!$O$3:$R$5000,4)","v":-6.2},null,null,-6.2,null,null,null,null,null,null,null,null,1,-6.2,null,null,-6.2,null,null,null,1,-6.2,-6.2,{"$f":"AVERAGE(INDIRECT($X$1&ROW()-$Y$4+1):X1191)","v":-6.3949999999999996},0,0,{"$f":"IF(AND(AA1190=0,AA1191=1,SUM(INDIRECT($AA$1&ROW()-$AB$4):AA1190)=0),1,0)","v":0},1,{"$f":"IF(AND(AC1190=0,AC1191=1,SUM(INDIRECT($AC$1&ROW()-AD$4):AC1190)=0),1,0)","v":0},311.32,null,null,null,null,null,null,null,null,null,null,null,null,"1990-09-21",2000,1,null,0,null,null,null,null,null,null,null,null,22.23]
["1990-09-28",{"$f":"VLOOKUP(A1192,'input BCI'!$O$3:$R$5000,4)","v":-6.59},null,null,-6.59,null,null,null,null,null,null,null,null,1,-6.59,null,null,-6.59,null,null,null,1,-6.59,-6.59,{"$f":"AVERAGE(INDIRECT($X$1&ROW()-$Y$4+1):X1192)","v":-6.8049999999999997},0,0,{"$f":"IF(AND(AA1191=0,AA1192=1,SUM(INDIRECT($AA$1&ROW()-$AB$4):AA1191)=0),1,0)","v":0},1,{"$f":"IF(AND(AC1191=0,AC1192=1,SUM(INDIRECT($AC$1&ROW()-AD$4):AC1191)=0),1,0)","v":0},306.05,null,null,null,null,null,null,null,null,null,null,null,null,"1990-09-28",2000,1,null,0,null,null,null,null,null,null,null,null,22.23]
["1990-11-09",{"$f":"VLOOKUP(A1198,'input BCI'!$O$3:$R$5000,4)","v":-9.19},null,null,-9.19,null,null,null,null,null,null,null,null,1,-9.19,null,null,-9.19,null,null,null,1,-9.19,-9.19,{"$f":"AVERAGE(INDIRECT($X$1&ROW()-$Y$4+1):X1198)","v":-9.3249999999999993},0,0,{"$f":"IF(AND(AA1197=0,AA1198=1,SUM(INDIRECT($AA$1&ROW()-$AB$4):AA1197)=0),1,0)","v":0},1,{"$f":"IF(AND(AC1197=0,AC1198=1,SUM(INDIRECT($AC$1&ROW()-AD$4):AC1197)=0),1,0)","v":0},313.74,null,null,null,null,null,null,null,null,null,null,null,null,"1990-11-09",2000,1,null,0,null,null,null,null,null,null,null,null,22.23]
["1990-11-30",{"$f":"VLOOKUP(A1201,'input BCI'!$O$3:$R$5000,4)","v":-10.25},null,null,-10.25,null,null,null,null,null,null,null,null,1,-10.25,null,null,-10.25,null,null,null,1,-10.25,-10.25,{"$f":"AVERAGE(INDIRECT($X$1&ROW()-$Y$4+1):X1201)","v":-10.425000000000001},0,0,{"$f":"IF(AND(AA1200=0,AA1201=1,SUM(INDIRECT($AA$1&ROW()-$AB$4):AA1200)=0),1,0)","v":0},1,{"$f":"IF(AND(AC1200=0,AC1201=1,SUM(INDIRECT($AC$1&ROW()-AD$4):AC1200)=0),1,0)","v":0},322.22000000000003,null,null,null,null,null,null,null,null,null,null,null,null,"1990-11-30",2000,1,null,0,null,null,null,null,null,null,null,null,22.23]
["1990-12-14",{"$f":"VLOOKUP(A1203,'input BCI'!$O$3:$R$5000,4)","v":-10.84},null,null,-10.84,null,null,null,null,null,null,null,null,1,-10.84,null,null,-10.84,null,null,null,1,-10.84,-10.84,{"$f":"AVERAGE(INDIRECT($X$1&ROW()-$Y$4+1):X1203)","v":-11.025},0,0,{"$f":"IF(AND(AA1202=0,AA1203=1,SUM(INDIRECT($AA$1&ROW()-$AB$4):AA1202)=0),1,0)","v":0},1,{"$f":"IF(AND(AC1202=0,AC1203=1,SUM(INDIRECT($AC$1&ROW()-AD$4):AC1202)=0),1,0)","v":0},326.82,null,null,null,null,null,null,null,null,null,null,null,null,"1990-12-14",2000,1,null,0,null,null,null,null,null,null,null,null,22.23]
["1991-01-04",{"$f":"VLOOKUP(A1206,'input BCI'!$O$3:$R$5000,4)","v":-10.65},null,null,-10.65,null,null,null,null,null,null,null,null,1,-10.65,null,null,-10.65,null,null,null,1,-10.65,-10.65,{"$f":"AVERAGE(INDIRECT($X$1&ROW()-$Y$4+1):X1206)","v":-10.61},0,1,{"$f":"IF(AND(AA1205=0,AA1206=1,SUM(INDIRECT($AA$1&ROW()-$AB$4):AA1205)=0),1,0)","v":0},0,{"$f":"IF(AND(AC1205=0,AC1206=1,SUM(INDIRECT($AC$1&ROW()-AD$4):AC1205)=0),1,0)","v":0},321,null,null,null,null,null,null,null,null,null,null,null,null,"1991-01-04",2000,1,null,0,null,null,null,null,null,null,null,null,22.23]
["1991-02-08",{"$f":"VLOOKUP(A1211,'input BCI'!$O$3:$R$5000,4)","v":-9.59},null,null,-9.59,null,null,null,null,null,null,null,null,1,-9.59,null,null,-9.59,null,null,null,1,-9.59,-9.59,{"$f":"AVERAGE(INDIRECT($X$1&ROW()-$Y$4+1):X1211)","v":-9.2100000000000009},0,1,{"$f":"IF(AND(AA1210=0,AA1211=1,SUM(INDIRECT($AA$1&ROW()-$AB$4):AA1210)=0),1,0)","v":0},0,{"$f":"IF(AND(AC1210=0,AC1211=1,SUM(INDIRECT($AC$1&ROW()-AD$4):AC1210)=0),1,0)","v":0},359.35,null,null,null,null,null,null,null,null,null,null,null,null,"1991-02-08",2000,1,null,0,null,null,null,null,null,null,null,null,22.23]
["1991-03-08",{"$f":"VLOOKUP(A1215,'input BCI'!$O$3:$R$5000,4)","v":-8.83},null,null,-8.83,null,null,null,null,null,null,null,null,1,-8.83,null,null,-8.83,null,null,null,1,-8.83,-8.83,{"$f":"AVERAGE(INDIRECT($X$1&ROW()-$Y$4+1):X1215)","v":-9.1550000000000011},0,0,{"$f":"IF(AND(AA1214=0,AA1215=1,SUM(INDIRECT($AA$1&ROW()-$AB$4):AA1214)=0),1,0)","v":0},1,{"$f":"IF(AND(AC1214=0,AC1215=1,SUM(INDIRECT($AC$1&ROW()-AD$4):AC1214)=0),1,0)","v":0},374.95,null,null,null,null,null,null,null,null,null,null,null,null,"1991-03-08",2000,1,null,0,null,null,null,null,null,null,null,null,22.23]
["1991-04-12",{"$f":"VLOOKUP(A1220,'input BCI'!$O$3:$R$5000,4)","v":-9.3000000000000007},null,null,-9.3000000000000007,null,null,null,null,null,null,null,null,0,-9.3000000000000007,null,null,-9.3000000000000007,null,null,null,1,-9.3000000000000007,-9.3000000000000007,{"$f":"AVERAGE(INDIRECT($X$1&ROW()-$Y$4+1):X1220)","v":-8.7550000000000008},0,1,{"$f":"IF(AND(AA1219=0,AA1220=1,SUM(INDIRECT($AA$1&ROW()-$AB$4):AA1219)=0),1,0)","v":0},0,{"$f":"IF(AND(AC1219=0,AC1220=1,SUM(INDIRECT($AC$1&ROW()-AD$4):AC1219)=0),1,0)","v":0},380.4,null,null,null,null,null,null,null,null,null,null,null,null,null,-2000,0,null,0,null,null,null,null,null,null,null,null,22.23]
["1991-04-19",{"$f":"VLOOKUP(A1221,'input BCI'!$O$3:$R$5000,4)","v":-8.2100000000000009},null,null,-8.2100000000000009,null,null,null,null,null,null,null,null,0,-8.2100000000000009,null,null,-8.2100000000000009,null,null,null,1,-8.2100000000000009,-8.2100000000000009,{"$f":"AVERAGE(INDIRECT($X$1&ROW()-$Y$4+1):X1221)","v":-7.69},0,1,{"$f":"IF(AND(AA1220=0,AA1221=1,SUM(INDIRECT($AA$1&ROW()-$AB$4):AA1220)=0),1,0)","v":0},0,{"$f":"IF(AND(AC1220=0,AC1221=1,SUM(INDIRECT($AC$1&ROW()-AD$4):AC1220)=0),1,0)","v":0},384.2,null,null,null,null,null,null,null,null,null,null,null,null,null,-2000,0,null,0,null,null,null,null,null,null,null,null,22.23]
["1991-05-31",{"$f":"VLOOKUP(A1227,'input BCI'!$O$3:$R$5000,4)","v":-4.55},null,null,{"$f":"B1227+$O$7","v":-4.55},null,null,null,null,null,null,null,null,0,{"$f":"E1227","v":-4.55},null,null,-4.55,null,null,null,1,{"$f":"R1227","v":-4.55},{"$f":"(W1227+$X$4)","v":-4.55},{"$f":"AVERAGE(INDIRECT($X$1&ROW()-$Y$4+1):X1227)","v":-4.22},{"$f":"IF(OR(X1227=$I$5,X1227>$I$5),1,0)","v":0},1,{"$f":"IF(AND(AA1226=0,AA1227=1,SUM(INDIRECT($AA$1&ROW()-$AB$4):AA1226)=0),1,0)","v":0},0,{"$f":"IF(AND(AC1226=0,AC1227=1,SUM(INDIRECT($AC$1&ROW()-AD$4):AC1226)=0),1,0)","v":0},389.83,null,null,null,null,null,null,null,null,null,null,null,null,null,-2000,0,null,0,null,null,null,null,null,null,null,null,{"$f":"$BE$2","v":22.23}]
["1991-06-21",{"$f":"VLOOKUP(A1230,'input BCI'!$O$3:$R$5000,4)","v":-2.69},null,null,-2.69,null,null,null,null,null,null,null,null,0,-2.69,null,null,-2.69,null,null,null,1,-2.69,-2.69,{"$f":"AVERAGE(INDIRECT($X$1&ROW()-$Y$4+1):X1230)","v":-2.4699999999999998},0,1,{"$f":"IF(AND(AA1229=0,AA1230=1,SUM(INDIRECT($AA$1&ROW()-$AB$4):AA1229)=0),1,0)","v":0},{"$f":"IF(Y1230<X1230,1,0)","v":0},{"$f":"IF(AND(AC1229=0,AC1230=1,SUM(INDIRECT($AC$1&ROW()-AD$4):AC1229)=0),1,0)","v":0},377.75,null,null,null,null,null,null,null,null,null,null,null,null,null,-2000,0,null,0,null,null,null,null,null,null,null,null,22.23]
["1991-07-05",{"$f":"VLOOKUP(A1232,'input BCI'!$O$3:$R$5000,4)","v":-1.88},null,null,-1.88,null,null,null,null,null,null,null,null,0,-1.88,null,null,-1.88,null,null,null,1,-1.88,-1.88,{"$f":"AVERAGE(INDIRECT($X$1&ROW()-$Y$4+1):X1232)","v":-1.5149999999999999},0,1,{"$f":"IF(AND(AA1231=0,AA1232=1,SUM(INDIRECT($AA$1&ROW()-$AB$4):AA1231)=0),1,0)","v":0},0,{"$f":"IF(AND(AC1231=0,AC1232=1,SUM(INDIRECT($AC$1&ROW()-AD$4):AC1231)=0),1,0)","v":0},374.08,null,null,null,null,null,null,null,null,null,null,null,null,null,-2000,0,null,0,null,null,null,null,null,null,null,null,22.23]
["1991-07-26",{"$f":"VLOOKUP(A1235,'input BCI'!$O$3:$R$5000,4)","v":0.74},null,null,0.74,null,null,null,null,null,null,null,null,0,0.74,null,null,0.74,null,null,null,1,0.74,0.74,{"$f":"AVERAGE(INDIRECT($X$1&ROW()-$Y$4+1):X1235)","v":1.26},0,1,{"$f":"IF(AND(AA1234=0,AA1235=1,SUM(INDIRECT($AA$1&ROW()-$AB$4):AA1234)=0),1,0)","v":0},0,{"$f":"IF(AND(AC1234=0,AC1235=1,SUM(INDIRECT($AC$1&ROW()-AD$4):AC1234)=0),1,0)","v":0},380.93,null,null,null,null,null,null,null,null,null,null,null,null,null,-2000,0,null,0,null,null,null,null,null,null,null,null,22.23]
["1991-08-30",{"$f":"VLOOKUP(A1240,'input BCI'!$O$3:$R$5000,4)","v":4.43},null,null,4.43,null,null,null,null,null,null,null,null,0,4.43,null,null,4.43,null,null,null,1,4.43,4.43,{"$f":"AVERAGE(INDIRECT($X$1&ROW()-$Y$4+1):X1240)","v":4.6549999999999994},0,1,{"$f":"IF(AND(AA1239=0,AA1240=1,SUM(INDIRECT($AA$1&ROW()-$AB$4):AA1239)=0),1,0)","v":0},0,{"$f":"IF(AND(AC1239=0,AC1240=1,SUM(INDIRECT($AC$1&ROW()-AD$4):AC1239)=0),1,0)","v":0},396.47,null,null,null,null,null,null,null,null,null,null,null,null,null,-2000,0,null,0,null,null,null,null,null,null,null,null,22.23]
["1991-09-27",{"$f":"VLOOKUP(A1244,'input BCI'!$O$3:$R$5000,4)","v":5.61},null,null,5.61,null,null,null,null,null,null,null,null,0,5.61,null,null,5.61,null,null,null,1,5.61,5.61,{"$f":"AVERAGE(INDIRECT($X$1&ROW()-$Y$4+1):X1244)","v":5.6750000000000007},0,1,{"$f":"IF(AND(AA1243=0,AA1244=1,SUM(INDIRECT($AA$1&ROW()-$AB$4):AA1243)=0),1,0)","v":0},0,{"$f":"IF(AND(AC1243=0,AC1244=1,SUM(INDIRECT($AC$1&ROW()-AD$4):AC1243)=0),1,0)","v":0},385.89,null,null,null,null,null,null,null,null,null,null,null,null,null,-2000,0,null,0,null,null,null,null,null,null,null,null,22.23]
["1991-11-01",{"$f":"VLOOKUP(A1249,'input BCI'!$O$3:$R$5000,4)","v":6.39},null,null,6.39,null,null,null,null,null,null,null,null,0,6.39,null,null,6.39,null,null,null,1,6.39,6.39,{"$f":"AVERAGE(INDIRECT($X$1&ROW()-$Y$4+1):X1249)","v":6.4249999999999998},0,1,{"$f":"IF(AND(AA1248=0,AA1249=1,SUM(INDIRECT($AA$1&ROW()-$AB$4):AA1248)=0),1,0)","v":0},0,{"$f":"IF(AND(AC1248=0,AC1249=1,SUM(INDIRECT($AC$1&ROW()-AD$4):AC1248)=0),1,0)","v":0},391.32,null,null,null,null,null,null,null,null,null,null,null,null,null,-2000,0,null,0,null,null,null,null,null,null,null,null,22.23]
["1991-11-22",{"$f":"VLOOKUP(A1252,'input BCI'!$O$3:$R$5000,4)","v":6},null,null,6,null,null,null,null,null,null,null,null,0,6,null,null,6,null,null,null,1,6,6,{"$f":"AVERAGE(INDIRECT($X$1&ROW()-$Y$4+1):X1252)","v":5.87},0,0,{"$f":"IF(AND(AA1251=0,AA1252=1,SUM(INDIRECT($AA$1&ROW()-$AB$4):AA1251)=0),1,0)","v":0},1,{"$f":"IF(AND(AC1251=0,AC1252=1,SUM(INDIRECT($AC$1&ROW()-AD$4):AC1251)=0),1,0)","v":0},376.14,null,null,null,null,null,null,null,null,null,null,null,null,null,-2000,0,null,0,null,null,null,null,null,null,null,null,22.23]
["1991-12-06",{"$f":"VLOOKUP(A1254,'input BCI'!$O$3:$R$5000,4)","v":5.82},null,null,5.82,null,null,null,null,null,null,null,null,0,5.82,null,null,5.82,null,null,null,1,5.82,5.82,{"$f":"AVERAGE(INDIRECT($X$1&ROW()-$Y$4+1):X1254)","v":5.82},0,0,{"$f":"IF(AND(AA1253=0,AA1254=1,SUM(INDIRECT($AA$1&ROW()-$AB$4):AA1253)=0),1,0)","v":0},0,{"$f":"IF(AND(AC1253=0,AC1254=1,SUM(INDIRECT($AC$1&ROW()-AD$4):AC1253)=0),1,0)","v":0},379.1,null,null,null,null,null,null,null,null,null,null,null,null,null,-2000,0,null,0,null,null,null,null,null,null,null,null,22.23]
["1992-01-10",{"$f":"VLOOKUP(A1259,'input BCI'!$O$3:$R$5000,4)","v":9.26},null,null,9.26,null,null,null,null,null,null,null,null,0,9.26,null,null,9.26,null,null,null,1,9.26,9.26,{"$f":"AVERAGE(INDIRECT($X$1&ROW()-$Y$4+1):X1259)","v":9.8999999999999986},0,1,{"$f":"IF(AND(AA1258=0,AA1259=1,SUM(INDIRECT($AA$1&ROW()-$AB$4):AA1258)=0),1,0)","v":0},0,{"$f":"IF(AND(AC1258=0,AC1259=1,SUM(INDIRECT($AC$1&ROW()-AD$4):AC1258)=0),1,0)","v":0},415.1,null,null,null,null,null,null,null,null,null,null,null,null,null,-2000,0,null,0,null,null,null,null,null,null,null,null,22.23]
["1992-01-24",{"$f":"VLOOKUP(A1261,'input BCI'!$O$3:$R$5000,4)","v":11.47},null,null,11.47,null,null,null,null,null,null,null,null,0,11.47,null,null,11.47,null,null,null,1,11.47,11.47,{"$f":"AVERAGE(INDIRECT($X$1&ROW()-$Y$4+1):X1261)","v":11.54},0,1,{"$f":"IF(AND(AA1260=0,AA1261=1,SUM(INDIRECT($AA$1&ROW()-$AB$4):AA1260)=0),1,0)","v":0},0,{"$f":"IF(AND(AC1260=0,AC1261=1,SUM(INDIRECT($AC$1&ROW()-AD$4):AC1260)=0),1,0)","v":0},415.48,null,null,null,null,null,null,null,null,null,null,null,null,null,-2000,0,null,0,null,null,null,null,null,null,null,null,22.23]
["1992-02-14",{"$f":"VLOOKUP(A1264,'input BCI'!$O$3:$R$5000,4)","v":11.26},null,null,11.26,null,null,null,null,null,null,null,null,0,11.26,null,null,11.26,null,null,null,1,11.26,11.26,{"$f":"AVERAGE(INDIRECT($X$1&ROW()-$Y$4+1):X1264)","v":11.155000000000001},0,0,{"$f":"IF(AND(AA1263=0,AA1264=1,SUM(INDIRECT($AA$1&ROW()-$AB$4):AA1263)=0),1,0)","v":0},1,{"$f":"IF(AND(AC1263=0,AC1264=1,SUM(INDIRECT($AC$1&ROW()-AD$4):AC1263)=0),1,0)","v":0},412.48,null,null,null,null,null,null,null,null,null,null,null,null,null,-2000,0,null,0,null,null,null,null,null,null,null,null,22.23]
["1992-03-20",{"$f":"VLOOKUP(A1269,'input BCI'!$O$3:$R$5000,4)","v":14.26},null,null,14.26,null,null,null,null,null,null,null,null,0,14.26,null,null,14.26,null,null,null,1,14.26,14.26,{"$f":"AVERAGE(INDIRECT($X$1&ROW()-$Y$4+1):X1269)","v":14.465},0,1,{"$f":"IF(AND(AA1268=0,AA1269=1,SUM(INDIRECT($AA$1&ROW()-$AB$4):AA1268)=0),1,0)","v":0},0,{"$f":"IF(AND(AC1268=0,AC1269=1,SUM(INDIRECT($AC$1&ROW()-AD$4):AC1268)=0),1,0)","v":0},411.3,null,null,null,null,null,null,null,null,null,null,null,null,null,-2000,0,null,0,null,null,null,null,null,null,null,null,22.23]
["1992-04-17",{"$f":"VLOOKUP(A1273,'input BCI'!$O$3:$R$5000,4)","v":13.15},null,null,13.15,null,null,null,null,null,null,null,null,0,13.15,null,null,13.15,null,null,null,1,13.15,13.15,{"$f":"AVERAGE(INDIRECT($X$1&ROW()-$Y$4+1):X1273)","v":12.8},0,0,{"$f":"IF(AND(AA1272=0,AA1273=1,SUM(INDIRECT($AA$1&ROW()-$AB$4):AA1272)=0),1,0)","v":0},1,{"$f":"IF(AND(AC1272=0,AC1273=1,SUM(INDIRECT($AC$1&ROW()-AD$4):AC1272)=0),1,0)","v":0},416.05,null,null,null,null,null,null,null,null,null,null,null,null,null,-2000,0,null,0,null,null,null,null,null,null,null,null,22.23]
["1992-05-22",{"$f":"VLOOKUP(A1278,'input BCI'!$O$3:$R$5000,4)","v":9.3699999999999992},null,null,9.3699999999999992,null,null,null,null,null,null,null,null,0,9.3699999999999992,null,null,9.3699999999999992,null,null,null,1,9.3699999999999992,9.3699999999999992,{"$f":"AVERAGE(INDIRECT($X$1&ROW()-$Y$4+1):X1278)","v":9.0799999999999983},0,0,{"$f":"IF(AND(AA1277=0,AA1278=1,SUM(INDIRECT($AA$1&ROW()-$AB$4):AA1277)=0),1,0)","v":0},1,{"$f":"IF(AND(AC1277=0,AC1278=1,SUM(INDIRECT($AC$1&ROW()-AD$4):AC1277)=0),1,0)","v":0},414.02,null,null,null,null,null,null,null,null,null,null,null,null,null,-2000,0,null,0,null,null,null,null,null,null,null,null,22.23]
["1992-06-12",{"$f":"VLOOKUP(A1281,'input BCI'!$O$3:$R$5000,4)","v":8.09},null,null,8.09,null,null,null,null,null,null,null,null,0,8.09,null,null,8.09,null,null,null,1,8.09,8.09,{"$f":"AVERAGE(INDIRECT($X$1&ROW()-$Y$4+1):X1281)","v":7.98},0,0,{"$f":"IF(AND(AA1280=0,AA1281=1,SUM(INDIRECT($AA$1&ROW()-$AB$4):AA1280)=0),1,0)","v":0},1,{"$f":"IF(AND(AC1280=0,AC1281=1,SUM(INDIRECT($AC$1&ROW()-AD$4):AC1280)=0),1,0)","v":0},409.76,null,null,null,null,null,null,null,null,null,null,null,null,null,-2000,0,null,0,null,null,null,null,null,null,null,null,22.23]
["1992-06-26",{"$f":"VLOOKUP(A1283,'input BCI'!$O$3:$R$5000,4)","v":7.65},null,null,7.65,null,null,null,null,null,null,null,null,0,7.65,null,null,7.65,null,null,null,1,7.65,7.65,{"$f":"AVERAGE(INDIRECT($X$1&ROW()-$Y$4+1):X1283)","v":7.5549999999999997},0,0,{"$f":"IF(AND(AA1282=0,AA1283=1,SUM(INDIRECT($AA$1&ROW()-$AB$4):AA1282)=0),1,0)","v":0},1,{"$f":"IF(AND(AC1282=0,AC1283=1,SUM(INDIRECT($AC$1&ROW()-AD$4):AC1282)=0),1,0)","v":0},403.45,null,null,null,null,null,null,null,null,null,null,null,null,null,-2000,0,null,0,null,null,null,null,null,null,null,null,22.23]
["1992-07-31",{"$f":"VLOOKUP(A1288,'input BCI'!$O$3:$R$5000,4)","v":9.17},null,null,9.17,null,null,null,null,null,null,null,null,0,9.17,null,null,9.17,null,null,null,1,9.17,9.17,{"$f":"AVERAGE(INDIRECT($X$1&ROW()-$Y$4+1):X1288)","v":9.58},0,1,{"$f":"IF(AND(AA1287=0,AA1288=1,SUM(INDIRECT($AA$1&ROW()-$AB$4):AA1287)=0),1,0)","v":0},0,{"$f":"IF(AND(AC1287=0,AC1288=1,SUM(INDIRECT($AC$1&ROW()-AD$4):AC1287)=0),1,0)","v":0},424.21,null,null,null,null,null,null,null,null,null,null,null,null,null,-2000,0,null,0,null,null,null,null,null,null,null,null,22.23]
["1992-08-14",{"$f":"VLOOKUP(A1290,'input BCI'!$O$3:$R$5000,4)","v":10.15},null,null,10.15,null,null,null,null,null,null,null,null,0,10.15,null,null,10.15,null,null,null,1,10.15,10.15,{"$f":"AVERAGE(INDIRECT($X$1&ROW()-$Y$4+1):X1290)","v":10.254999999999999},0,1,{"$f":"IF(AND(AA1289=0,AA1290=1,SUM(INDIRECT($AA$1&ROW()-$AB$4):AA1289)=0),1,0)","v":0},0,{"$f":"IF(AND(AC1289=0,AC1290=1,SUM(INDIRECT($AC$1&ROW()-AD$4):AC1289)=0),1,0)","v":0},419.91,null,null,null,null,null,null,null,null,null,null,null,null,null,{"$f":"IF(ISNUMBER(AR1290),2000,-2000)","v":-2000},0,null,0,null,null,null,null,null,null,null,null,22.23]
["1992-09-04",{"$f":"VLOOKUP(A1293,'input BCI'!$O$3:$R$5000,4)","v":10.87},null,null,10.87,null,null,null,null,null,null,null,null,0,10.87,null,null,10.87,null,null,null,1,10.87,10.87,{"$f":"AVERAGE(INDIRECT($X$1&ROW()-$Y$4+1):X1293)","v":11.285},0,{"$f":"IF(Y1293>X1293,1,0)","v":1},{"$f":"IF(AND(AA1292=0,AA1293=1,SUM(INDIRECT($AA$1&ROW()-$AB$4):AA1292)=0),1,0)","v":0},0,{"$f":"IF(AND(AC1292=0,AC1293=1,SUM(INDIRECT($AC$1&ROW()-AD$4):AC1292)=0),1,0)","v":0},417.98,null,null,null,null,null,null,null,null,null,null,null,null,null,-2000,0,null,0,null,null,null,null,null,null,null,null,22.23]
["1992-10-09",{"$f":"VLOOKUP(A1298,'input BCI'!$O$3:$R$5000,4)","v":12.59},null,null,12.59,null,null,null,null,null,null,null,null,0,12.59,null,null,12.59,null,null,null,1,12.59,12.59,{"$f":"AVERAGE(INDIRECT($X$1&ROW()-$Y$4+1):X1298)","v":12.434999999999999},0,0,{"$f":"IF(AND(AA1297=0,AA1298=1,SUM(INDIRECT($AA$1&ROW()-$AB$4):AA1297)=0),1,0)","v":0},1,{"$f":"IF(AND(AC1297=0,AC1298=1,SUM(INDIRECT($AC$1&ROW()-AD$4):AC1297)=0),1,0)","v":0},402.66,null,null,null,null,null,null,null,null,null,null,null,null,null,-2000,0,null,0,null,null,null,null,null,null,null,null,22.23]
["1992-11-06",{"$f":"VLOOKUP(A1302,'input BCI'!$O$3:$R$5000,4)","v":13.44},null,null,13.44,null,null,null,null,null,null,null,null,0,13.44,null,null,13.44,null,null,null,1,13.44,13.44,{"$f":"AVERAGE(INDIRECT($X$1&ROW()-$Y$4+1):X1302)","v":13.84},0,1,{"$f":"IF(AND(AA1301=0,AA1302=1,SUM(INDIRECT($AA$1&ROW()-$AB$4):AA1301)=0),1,0)","v":0},0,{"$f":"IF(AND(AC1301=0,AC1302=1,SUM(INDIRECT($AC$1&ROW()-AD$4):AC1301)=0),1,0)","v":0},417.58,null,null,null,null,null,null,null,null,null,null,null,null,null,-2000,0,null,0,null,null,null,null,null,null,null,null,22.23]
["1992-12-11",{"$f":"VLOOKUP(A1307,'input BCI'!$O$3:$R$5000,4)","v":15.84},null,null,15.84,null,null,null,null,null,null,null,null,0,15.84,null,null,15.84,null,null,null,1,15.84,15.84,{"$f":"AVERAGE(INDIRECT($X$1&ROW()-$Y$4+1):X1307)","v":15.9},0,1,{"$f":"IF(AND(AA1306=0,AA1307=1,SUM(INDIRECT($AA$1&ROW()-$AB$4):AA1306)=0),1,0)","v":0},0,{"$f":"IF(AND(AC1306=0,AC1307=1,SUM(INDIRECT($AC$1&ROW()-AD$4):AC1306)=0),1,0)","v":0},433.73,null,null,null,null,null,null,null,null,null,null,null,null,null,-2000,0,null,0,null,null,null,null,null,null,null,null,22.23]
["1993-01-01",{"$f":"VLOOKUP(A1310,'input BCI'!$O$3:$R$5000,4)","v":16.670000000000002},null,null,16.670000000000002,null,null,null,null,null,null,null,null,0,16.670000000000002,null,null,16.670000000000002,null,null,null,1,16.670000000000002,16.670000000000002,{"$f":"AVERAGE(INDIRECT($X$1&ROW()-$Y$4+1):X1310)","v":16.704999999999998},0,1,{"$f":"IF(AND(AA1309=0,AA1310=1,SUM(INDIRECT($AA$1&ROW()-$AB$4):AA1309)=0),1,0)","v":0},0,{"$f":"IF(AND(AC1309=0,AC1310=1,SUM(INDIRECT($AC$1&ROW()-AD$4):AC1309)=0),1,0)","v":0},435.71,null,null,null,null,null,null,null,null,null,null,null,null,null,-2000,0,null,0,null,null,null,null,null,null,null,null,22.23]
["1993-01-15",{"$f":"VLOOKUP(A1312,'input BCI'!$O$3:$R$5000,4)","v":16.920000000000002},null,null,16.920000000000002,null,null,null,null,null,null,null,null,0,16.920000000000002,null,null,16.920000000000002,null,null,null,1,16.920000000000002,16.920000000000002,{"$f":"AVERAGE(INDIRECT($X$1&ROW()-$Y$4+1):X1312)","v":16.954999999999998},0,1,{"$f":"IF(AND(AA1311=0,AA1312=1,SUM(INDIRECT($AA$1&ROW()-$AB$4):AA1311)=0),1,0)","v":0},0,{"$f":"IF(AND(AC1311=0,AC1312=1,SUM(INDIRECT($AC$1&ROW()-AD$4):AC1311)=0),1,0)","v":0},437.15,null,null,null,null,null,null,null,null,null,null,null,null,null,-2000,0,null,0,null,null,null,null,null,null,null,null,22.23]
["1993-02-19",{"$f":"VLOOKUP(A1317,'input BCI'!$O$3:$R$5000,4)","v":19.55},null,null,19.55,null,null,null,null,null,null,null,null,0,19.55,null,null,19.55,null,null,null,1,19.55,19.55,{"$f":"AVERAGE(INDIRECT($X$1&ROW()-$Y$4+1):X1317)","v":19.64},0,1,{"$f":"IF(AND(AA1316=0,AA1317=1,SUM(INDIRECT($AA$1&ROW()-$AB$4):AA1316)=0),1,0)","v":0},0,{"$f":"IF(AND(AC1316=0,AC1317=1,SUM(INDIRECT($AC$1&ROW()-AD$4):AC1316)=0),1,0)","v":0},434.22,null,null,null,null,null,null,null,null,null,null,null,null,null,-2000,0,null,0,null,null,null,null,null,null,null,null,22.23]
["1993-03-05",{"$f":"VLOOKUP(A1319,'input BCI'!$O$3:$R$5000,4)","v":19.68},null,null,19.68,null,null,null,null,null,null,null,null,0,19.68,null,null,19.68,null,null,null,1,19.68,19.68,{"$f":"AVERAGE(INDIRECT($X$1&ROW()-$Y$4+1):X1319)","v":19.504999999999999},0,0,{"$f":"IF(AND(AA1318=0,AA1319=1,SUM(INDIRECT($AA$1&ROW()-$AB$4):AA1318)=0),1,0)","v":0},1,{"$f":"IF(AND(AC1318=0,AC1319=1,SUM(INDIRECT($AC$1&ROW()-AD$4):AC1318)=0),1,0)","v":0},446.11,null,null,null,null,null,null,null,null,null,null,null,null,null,-2000,0,null,0,null,null,null,null,null,null,null,null,22.23]
["1993-03-26",{"$f":"VLOOKUP(A1322,'input BCI'!$O$3:$R$5000,4)","v":18.63},null,null,18.63,null,null,null,null,null,null,null,null,0,18.63,null,null,18.63,null,null,null,1,18.63,18.63,{"$f":"AVERAGE(INDIRECT($X$1&ROW()-$Y$4+1):X1322)","v":18.434999999999999},0,0,{"$f":"IF(AND(AA1321=0,AA1322=1,SUM(INDIRECT($AA$1&ROW()-$AB$4):AA1321)=0),1,0)","v":0},1,{"$f":"IF(AND(AC1321=0,AC1322=1,SUM(INDIRECT($AC$1&ROW()-AD$4):AC1321)=0),1,0)","v":0},447.78,null,null,null,null,null,null,null,null,null,null,null,null,null,-2000,0,null,0,null,null,null,null,null,null,null,null,22.23]
["1993-04-30",{"$f":"VLOOKUP(A1327,'input BCI'!$O$3:$R$5000,4)","v":15.04},null,null,15.04,null,null,null,null,null,null,null,null,0,15.04,null,null,15.04,null,null,null,1,15.04,15.04,{"$f":"AVERAGE(INDIRECT($X$1&ROW()-$Y$4+1):X1327)","v":14.739999999999998},0,0,{"$f":"IF(AND(AA1326=0,AA1327=1,SUM(INDIRECT($AA$1&ROW()-$AB$4):AA1326)=0),1,0)","v":0},1,{"$f":"IF(AND(AC1326=0,AC1327=1,SUM(INDIRECT($AC$1&ROW()-AD$4):AC1326)=0),1,0)","v":0},440.19,null,null,null,null,null,null,null,null,null,null,null,null,null,-2000,0,null,0,null,null,null,null,null,null,null,null,22.23]
["1993-05-28",{"$f":"VLOOKUP(A1331,'input BCI'!$O$3:$R$5000,4)","v":14.12},null,null,14.12,null,null,null,null,null,null,null,null,0,14.12,null,null,14.12,null,null,null,1,14.12,14.12,{"$f":"AVERAGE(INDIRECT($X$1&ROW()-$Y$4+1):X1331)","v":14.465},0,1,{"$f":"IF(AND(AA1330=0,AA1331=1,SUM(INDIRECT($AA$1&ROW()-$AB$4):AA1330)=0),1,0)","v":0},0,{"$f":"IF(AND(AC1330=0,AC1331=1,SUM(INDIRECT($AC$1&ROW()-AD$4):AC1330)=0),1,0)","v":0},450.19,null,null,null,null,null,null,null,null,null,null,null,null,null,-2000,0,null,0,null,null,null,null,null,null,null,null,22.23]
["1993-07-02",{"$f":"VLOOKUP(A1336,'input BCI'!$O$3:$R$5000,4)","v":16.13},null,null,16.13,null,null,null,null,null,null,null,null,0,16.13,null,null,16.13,null,null,null,1,16.13,16.13,{"$f":"AVERAGE(INDIRECT($X$1&ROW()-$Y$4+1):X1336)","v":15.73},0,0,{"$f":"IF(AND(AA1335=0,AA1336=1,SUM(INDIRECT($AA$1&ROW()-$AB$4):AA1335)=0),1,0)","v":0},1,{"$f":"IF(AND(AC1335=0,AC1336=1,SUM(INDIRECT($AC$1&ROW()-AD$4):AC1335)=0),1,0)","v":0},445.84,null,null,null,null,null,null,null,null,null,null,null,null,null,-2000,0,null,0,null,null,null,null,null,null,null,null,22.23]
["1993-07-23",{"$f":"VLOOKUP(A1339,'input BCI'!$O$3:$R$5000,4)","v":14.01},null,null,14.01,null,null,null,null,null,null,null,null,0,14.01,null,null,14.01,null,null,null,1,14.01,14.01,{"$f":"AVERAGE(INDIRECT($X$1&ROW()-$Y$4+1):X1339)","v":13.885},0,0,{"$f":"IF(AND(AA1338=0,AA1339=1,SUM(INDIRECT($AA$1&ROW()-$AB$4):AA1338)=0),1,0)","v":0},1,{"$f":"IF(AND(AC1338=0,AC1339=1,SUM(INDIRECT($AC$1&ROW()-AD$4):AC1338)=0),1,0)","v":0},447.1,null,null,null,null,null,null,null,null,null,null,null,null,null,-2000,0,null,0,null,null,null,null,null,null,null,null,22.23]
["1993-08-06",{"$f":"VLOOKUP(A1341,'input BCI'!$O$3:$R$5000,4)","v":13.62},null,null,13.62,null,null,null,null,null,null,null,null,0,13.62,null,null,13.62,null,null,null,1,13.62,13.62,{"$f":"AVERAGE(INDIRECT($X$1&ROW()-$Y$4+1):X1341)","v":13.465},0,0,{"$f":"IF(AND(AA1340=0,AA1341=1,SUM(INDIRECT($AA$1&ROW()-$AB$4):AA1340)=0),1,0)","v":0},1,{"$f":"IF(AND(AC1340=0,AC1341=1,SUM(INDIRECT($AC$1&ROW()-AD$4):AC1340)=0),1,0)","v":0},448.68,null,null,null,null,null,null,null,null,null,null,null,null,null,-2000,0,null,0,null,null,null,null,null,null,null,null,22.23]
["1993-09-10",{"$f":"VLOOKUP(A1346,'input BCI'!$O$3:$R$5000,4)","v":13.45},null,null,13.45,null,null,null,null,null,null,null,null,0,13.45,null,null,13.45,null,null,null,1,13.45,13.45,{"$f":"AVERAGE(INDIRECT($X$1&ROW()-$Y$4+1):X1346)","v":13.53},0,1,{"$f":"IF(AND(AA1345=0,AA1346=1,SUM(INDIRECT($AA$1&ROW()-$AB$4):AA1345)=0),1,0)","v":0},0,{"$f":"IF(AND(AC1345=0,AC1346=1,SUM(INDIRECT($AC$1&ROW()-AD$4):AC1345)=0),1,0)","v":0},461.72,null,null,null,null,null,null,null,null,null,null,null,null,null,-2000,0,null,0,null,null,null,null,null,null,null,null,22.23]
["1993-09-24",{"$f":"VLOOKUP(A1348,'input BCI'!$O$3:$R$5000,4)","v":13.37},null,null,13.37,null,null,null,null,null,null,null,null,0,13.37,null,null,13.37,null,null,null,1,13.37,13.37,{"$f":"AVERAGE(INDIRECT($X$1&ROW()-$Y$4+1):X1348)","v":13.215},0,0,{"$f":"IF(AND(AA1347=0,AA1348=1,SUM(INDIRECT($AA$1&ROW()-$AB$4):AA1347)=0),1,0)","v":0},1,{"$f":"IF(AND(AC1347=0,AC1348=1,SUM(INDIRECT($AC$1&ROW()-AD$4):AC1347)=0),1,0)","v":0},457.63,null,null,null,null,null,null,null,null,null,null,null,null,null,-2000,0,null,0,null,null,null,null,null,null,null,null,22.23]
["1993-10-15",{"$f":"VLOOKUP(A1351,'input BCI'!$O$3:$R$5000,4)","v":12.41},null,null,12.41,null,null,null,null,null,null,null,null,0,12.41,null,null,12.41,null,null,null,1,12.41,12.41,{"$f":"AVERAGE(INDIRECT($X$1&ROW()-$Y$4+1):X1351)","v":12.45},0,1,{"$f":"IF(AND(AA1350=0,AA1351=1,SUM(INDIRECT($AA$1&ROW()-$AB$4):AA1350)=0),1,0)","v":0},0,{"$f":"IF(AND(AC1350=0,AC1351=1,SUM(INDIRECT($AC$1&ROW()-AD$4):AC1350)=0),1,0)","v":0},469.5,null,null,null,null,null,null,null,null,null,null,null,null,null,-2000,0,null,0,null,null,null,null,null,null,null,null,22.23]
["1993-11-19",{"$f":"VLOOKUP(A1356,'input BCI'!$O$3:$R$5000,4)","v":14.55},null,null,14.55,null,null,null,null,null,null,null,null,0,14.55,null,null,14.55,null,null,null,{"$f":"V1355","v":1},14.55,14.55,{"$f":"AVERAGE(INDIRECT($X$1&ROW()-$Y$4+1):X1356)","v":14.664999999999999},0,1,{"$f":"IF(AND(AA1355=0,AA1356=1,SUM(INDIRECT($AA$1&ROW()-$AB$4):AA1355)=0),1,0)","v":0},0,{"$f":"IF(AND(AC1355=0,AC1356=1,SUM(INDIRECT($AC$1&ROW()-AD$4):AC1355)=0),1,0)","v":0},462.6,null,null,null,null,null,null,null,null,null,null,null,null,null,-2000,0,null,0,null,null,null,null,null,null,null,null,22.23]
["1993-12-17",{"$f":"VLOOKUP(A1360,'input BCI'!$O$3:$R$5000,4)","v":14.74},null,null,14.74,null,null,null,null,null,null,null,null,0,14.74,null,null,14.74,null,null,null,1,14.74,14.74,{"$f":"AVERAGE(INDIRECT($X$1&ROW()-$Y$4+1):X1360)","v":14.73},0,0,{"$f":"IF(AND(AA1359=0,AA1360=1,SUM(INDIRECT($AA$1&ROW()-$AB$4):AA1359)=0),1,0)","v":0},1,{"$f":"IF(AND(AC1359=0,AC1360=1,SUM(INDIRECT($AC$1&ROW()-AD$4):AC1359)=0),1,0)","v":0},466.38,null,null,null,null,null,null,null,null,null,null,null,null,null,-2000,0,null,0,null,null,null,null,null,null,null,null,22.23]
["1994-01-21",{"$f":"VLOOKUP(A1365,'input BCI'!$O$3:$R$5000,4)","v":17.47},null,null,17.47,null,null,null,null,null,null,null,null,0,17.47,null,null,17.47,null,null,null,1,17.47,17.47,{"$f":"AVERAGE(INDIRECT($X$1&ROW()-$Y$4+1):X1365)","v":17.939999999999998},0,1,{"$f":"IF(AND(AA1364=0,AA1365=1,SUM(INDIRECT($AA$1&ROW()-$AB$4):AA1364)=0),1,0)","v":0},0,{"$f":"IF(AND(AC1364=0,AC1365=1,SUM(INDIRECT($AC$1&ROW()-AD$4):AC1364)=0),1,0)","v":0},474.72,null,null,null,null,null,null,null,null,null,null,null,null,null,-2000,0,null,0,null,null,null,null,null,null,null,null,22.23]
["1994-02-11",{"$f":"VLOOKUP(A1368,'input BCI'!$O$3:$R$5000,4)","v":19.010000000000002},null,null,19.010000000000002,null,null,null,null,null,null,null,null,0,19.010000000000002,null,null,19.010000000000002,null,null,null,1,19.010000000000002,19.010000000000002,{"$f":"AVERAGE(INDIRECT($X$1&ROW()-$Y$4+1):X1368)","v":18.97},0,0,{"$f":"IF(AND(AA1367=0,AA1368=1,SUM(INDIRECT($AA$1&ROW()-$AB$4):AA1367)=0),1,0)","v":0},1,{"$f":"IF(AND(AC1367=0,AC1368=1,SUM(INDIRECT($AC$1&ROW()-AD$4):AC1367)=0),1,0)","v":1},470.18,null,null,null,null,null,null,null,null,null,null,null,null,null,-2000,0,null,0,null,null,null,null,null,null,null,null,22.23]
["1994-02-25",{"$f":"VLOOKUP(A1370,'input BCI'!$O$3:$R$5000,4)","v":18.239999999999998},null,null,18.239999999999998,null,null,null,null,null,null,null,null,0,18.239999999999998,null,null,18.239999999999998,null,null,null,1,18.239999999999998,18.239999999999998,{"$f":"AVERAGE(INDIRECT($X$1&ROW()-$Y$4+1):X1370)","v":17.604999999999997},0,0,{"$f":"IF(AND(AA1369=0,AA1370=1,SUM(INDIRECT($AA$1&ROW()-$AB$4):AA1369)=0),1,0)","v":0},1,{"$f":"IF(AND(AC1369=0,AC1370=1,SUM(INDIRECT($AC$1&ROW()-AD$4):AC1369)=0),1,0)","v":0},466.07,null,null,null,null,null,null,null,null,null,null,null,null,null,-2000,0,null,0,null,null,null,null,null,null,null,null,22.23]
["1994-04-01",{"$f":"VLOOKUP(A1375,'input BCI'!$O$3:$R$5000,4)","v":10.66},null,null,10.66,null,null,null,null,null,null,null,null,0,10.66,null,null,10.66,null,null,null,1,10.66,10.66,{"$f":"AVERAGE(INDIRECT($X$1&ROW()-$Y$4+1):X1375)","v":10.42},0,0,{"$f":"IF(AND(AA1374=0,AA1375=1,SUM(INDIRECT($AA$1&ROW()-$AB$4):AA1374)=0),1,0)","v":0},1,{"$f":"IF(AND(AC1374=0,AC1375=1,SUM(INDIRECT($AC$1&ROW()-AD$4):AC1374)=0),1,0)","v":0},445.77,null,null,null,null,null,null,null,null,null,null,null,null,null,-2000,0,null,0,null,null,null,null,null,null,null,null,22.23]
["1994-04-15",{"$f":"VLOOKUP(A1377,'input BCI'!$O$3:$R$5000,4)","v":10.09},null,null,10.09,null,null,null,null,null,null,null,null,0,10.09,null,null,10.09,null,null,null,1,10.09,10.09,{"$f":"AVERAGE(INDIRECT($X$1&ROW()-$Y$4+1):X1377)","v":10.055},0,0,{"$f":"IF(AND(AA1376=0,AA1377=1,SUM(INDIRECT($AA$1&ROW()-$AB$4):AA1376)=0),1,0)","v":0},1,{"$f":"IF(AND(AC1376=0,AC1377=1,SUM(INDIRECT($AC$1&ROW()-AD$4):AC1376)=0),1,0)","v":0},446.18,null,null,null,null,null,null,null,null,null,null,null,null,null,-2000,0,null,0,null,null,null,null,null,null,null,null,22.23]
["1994-05-06",{"$f":"VLOOKUP(A1380,'input BCI'!$O$3:$R$5000,4)","v":11.22},null,null,11.22,null,null,null,null,null,null,null,null,0,11.22,null,null,11.22,null,null,null,1,11.22,11.22,{"$f":"AVERAGE(INDIRECT($X$1&ROW()-$Y$4+1):X1380)","v":11.46},0,1,{"$f":"IF(AND(AA1379=0,AA1380=1,SUM(INDIRECT($AA$1&ROW()-$AB$4):AA1379)=0),1,0)","v":0},0,{"$f":"IF(AND(AC1379=0,AC1380=1,SUM(INDIRECT($AC$1&ROW()-AD$4):AC1379)=0),1,0)","v":0},447.82,null,null,null,null,null,null,null,null,null,null,null,null,null,-2000,0,null,0,null,null,null,null,null,null,null,null,22.23]
["1994-06-10",{"$f":"VLOOKUP(A1385,'input BCI'!$O$3:$R$5000,4)","v":11.87},null,null,11.87,null,null,null,null,null,null,null,null,0,11.87,null,null,11.87,null,null,null,1,11.87,11.87,{"$f":"AVERAGE(INDIRECT($X$1&ROW()-$Y$4+1):X1385)","v":11.725},0,0,{"$f":"IF(AND(AA1384=0,AA1385=1,SUM(INDIRECT($AA$1&ROW()-$AB$4):AA1384)=0),1,0)","v":0},1,{"$f":"IF(AND(AC1384=0,AC1385=1,SUM(INDIRECT($AC$1&ROW()-AD$4):AC1384)=0),1,0)","v":0},458.67,null,null,null,null,null,null,null,null,null,null,null,null,null,-2000,0,null,0,null,null,null,null,null,null,null,null,22.23]
["1994-07-08",{"$f":"VLOOKUP(A1389,'input BCI'!$O$3:$R$5000,4)","v":10.88},null,null,10.88,null,null,null,null,null,null,null,null,0,10.88,null,null,10.88,null,null,null,1,10.88,10.88,{"$f":"AVERAGE(INDIRECT($X$1&ROW()-$Y$4+1):X1389)","v":10.83},0,0,{"$f":"IF(AND(AA1388=0,AA1389=1,SUM(INDIRECT($AA$1&ROW()-$AB$4):AA1388)=0),1,0)","v":0},1,{"$f":"IF(AND(AC1388=0,AC1389=1,SUM(INDIRECT($AC$1&ROW()-AD$4):AC1388)=0),1,0)","v":0},449.55,null,null,null,null,null,null,null,null,null,null,null,null,null,-2000,0,null,0,null,null,null,null,null,null,null,null,22.23]
["1994-08-12",{"$f":"VLOOKUP(A1394,'input BCI'!$O$3:$R$5000,4)","v":11.16},null,null,11.16,null,null,null,null,null,null,null,null,0,11.16,null,null,11.16,null,null,null,1,11.16,11.16,{"$f":"AVERAGE(INDIRECT($X$1&ROW()-$Y$4+1):X1394)","v":11.1},0,0,{"$f":"IF(AND(AA1393=0,AA1394=1,SUM(INDIRECT($AA$1&ROW()-$AB$4):AA1393)=0),1,0)","v":0},1,{"$f":"IF(AND(AC1393=0,AC1394=1,SUM(INDIRECT($AC$1&ROW()-AD$4):AC1393)=0),1,0)","v":0},461.94,null,null,null,null,null,null,null,null,null,null,null,null,null,-2000,0,null,0,null,null,null,null,null,null,null,null,22.23]
["1994-09-02",{"$f":"VLOOKUP(A1397,'input BCI'!$O$3:$R$5000,4)","v":11.36},null,null,11.36,null,null,null,null,null,null,null,null,0,11.36,null,null,11.36,null,null,null,1,11.36,11.36,{"$f":"AVERAGE(INDIRECT($X$1&ROW()-$Y$4+1):X1397)","v":11.44},0,1,{"$f":"IF(AND(AA1396=0,AA1397=1,SUM(INDIRECT($AA$1&ROW()-$AB$4):AA1396)=0),1,0)","v":0},0,{"$f":"IF(AND(AC1396=0,AC1397=1,SUM(INDIRECT($AC$1&ROW()-AD$4):AC1396)=0),1,0)","v":0},473.17,null,null,null,null,null,null,null,null,null,null,null,null,null,-2000,0,null,0,null,null,null,null,null,null,null,null,22.23]
["1994-09-16",{"$f":"VLOOKUP(A1399,'input BCI'!$O$3:$R$5000,4)","v":11.58},null,null,11.58,null,null,null,null,null,null,null,null,0,11.58,null,null,11.58,null,null,null,1,11.58,11.58,{"$f":"AVERAGE(INDIRECT($X$1&ROW()-$Y$4+1):X1399)","v":11.58},0,0,{"$f":"IF(AND(AA1398=0,AA1399=1,SUM(INDIRECT($AA$1&ROW()-$AB$4):AA1398)=0),1,0)","v":0},0,{"$f":"IF(AND(AC1398=0,AC1399=1,SUM(INDIRECT($AC$1&ROW()-AD$4):AC1398)=0),1,0)","v":0},471.19,null,null,null,null,null,null,null,null,null,null,null,null,null,-2000,0,null,0,null,null,null,null,null,null,null,null,22.23]
["1994-10-21",{"$f":"VLOOKUP(A1404,'input BCI'!$O$3:$R$5000,4)","v":12.09},null,null,12.09,null,null,null,null,null,null,null,null,0,12.09,null,null,12.09,null,null,null,1,12.09,12.09,{"$f":"AVERAGE(INDIRECT($X$1&ROW()-$Y$4+1):X1404)","v":12.315},0,1,{"$f":"IF(AND(AA1403=0,AA1404=1,SUM(INDIRECT($AA$1&ROW()-$AB$4):AA1403)=0),1,0)","v":0},0,{"$f":"IF(AND(AC1403=0,AC1404=1,SUM(INDIRECT($AC$1&ROW()-AD$4):AC1403)=0),1,0)","v":0},464.89,null,null,null,null,null,null,null,null,null,null,null,null,null,-2000,0,null,0,null,null,null,null,null,null,null,null,22.23]
["1994-11-04",{"$f":"VLOOKUP(A1406,'input BCI'!$O$3:$R$5000,4)","v":13.21},null,null,13.21,null,null,null,null,null,null,null,null,0,13.21,null,null,13.21,null,null,null,1,13.21,13.21,{"$f":"AVERAGE(INDIRECT($X$1&ROW()-$Y$4+1):X1406)","v":13.52},0,1,{"$f":"IF(AND(AA1405=0,AA1406=1,SUM(INDIRECT($AA$1&ROW()-$AB$4):AA1405)=0),1,0)","v":0},0,{"$f":"IF(AND(AC1405=0,AC1406=1,SUM(INDIRECT($AC$1&ROW()-AD$4):AC1405)=0),1,0)","v":0},462.28,null,null,null,null,null,null,null,null,null,null,null,null,null,-2000,0,null,0,null,null,null,null,null,null,null,null,22.23]
["1994-11-25",{"$f":"VLOOKUP(A1409,'input BCI'!$O$3:$R$5000,4)","v":14.42},null,null,14.42,null,null,null,null,null,null,null,null,0,14.42,null,null,14.42,null,null,null,1,14.42,14.42,{"$f":"AVERAGE(INDIRECT($X$1&ROW()-$Y$4+1):X1409)","v":14.41},0,0,{"$f":"IF(AND(AA1408=0,AA1409=1,SUM(INDIRECT($AA$1&ROW()-$AB$4):AA1408)=0),1,0)","v":0},1,{"$f":"IF(AND(AC1408=0,AC1409=1,SUM(INDIRECT($AC$1&ROW()-AD$4):AC1408)=0),1,0)","v":1},452.29,null,null,null,null,null,null,null,null,null,null,null,null,null,-2000,0,null,0,null,null,null,null,null,null,null,null,22.23]
["1994-12-30",{"$f":"VLOOKUP(A1414,'input BCI'!$O$3:$R$5000,4)","v":14.54},null,null,14.54,null,null,null,null,null,null,null,null,0,14.54,null,null,14.54,null,null,null,1,14.54,14.54,{"$f":"AVERAGE(INDIRECT($X$1&ROW()-$Y$4+1):X1414)","v":14.36},0,0,{"$f":"IF(AND(AA1413=0,AA1414=1,SUM(INDIRECT($AA$1&ROW()-$AB$4):AA1413)=0),1,0)","v":0},1,{"$f":"IF(AND(AC1413=0,AC1414=1,SUM(INDIRECT($AC$1&ROW()-AD$4):AC1413)=0),1,0)","v":0},459.27,null,null,null,null,null,null,null,null,null,null,null,null,null,-2000,0,null,0,null,null,null,null,null,null,null,null,22.23]
["1995-01-27",{"$f":"VLOOKUP(A1418,'input BCI'!$O$3:$R$5000,4)","v":13.08},null,null,13.08,null,null,null,null,null,null,null,null,0,13.08,null,null,13.08,null,null,null,1,13.08,13.08,{"$f":"AVERAGE(INDIRECT($X$1&ROW()-$Y$4+1):X1418)","v":13.115},0,1,{"$f":"IF(AND(AA1417=0,AA1418=1,SUM(INDIRECT($AA$1&ROW()-$AB$4):AA1417)=0),1,0)","v":0},0,{"$f":"IF(AND(AC1417=0,AC1418=1,SUM(INDIRECT($AC$1&ROW()-AD$4):AC1417)=0),1,0)","v":0},470.39,null,null,null,null,null,null,null,null,null,null,null,null,null,{"$f":"IF(ISNUMBER(AR1418),2000,-2000)","v":-2000},0,null,0,null,null,null,null,null,null,null,null,22.23]
["1995-03-03",{"$f":"VLOOKUP(A1423,'input BCI'!$O$3:$R$5000,4)","v":13.7},null,null,13.7,null,null,null,null,null,null,null,null,0,13.7,null,null,13.7,null,null,null,1,13.7,13.7,{"$f":"AVERAGE(INDIRECT($X$1&ROW()-$Y$4+1):X1423)","v":13.625},0,0,{"$f":"IF(AND(AA1422=0,AA1423=1,SUM(INDIRECT($AA$1&ROW()-$AB$4):AA1422)=0),1,0)","v":0},1,{"$f":"IF(AND(AC1422=0,AC1423=1,SUM(INDIRECT($AC$1&ROW()-AD$4):AC1422)=0),1,0)","v":1},485.42,null,null,null,null,null,null,null,null,null,null,null,null,null,-2000,0,null,0,null,null,null,null,null,null,null,null,22.23]
["1995-03-24",{"$f":"VLOOKUP(A1426,'input BCI'!$O$3:$R$5000,4)","v":13.2},null,null,13.2,null,null,null,null,null,null,null,null,0,13.2,null,null,13.2,null,null,null,1,13.2,13.2,{"$f":"AVERAGE(INDIRECT($X$1&ROW()-$Y$4+1):X1426)","v":13.045},0,0,{"$f":"IF(AND(AA1425=0,AA1426=1,SUM(INDIRECT($AA$1&ROW()-$AB$4):AA1425)=0),1,0)","v":0},1,{"$f":"IF(AND(AC1425=0,AC1426=1,SUM(INDIRECT($AC$1&ROW()-AD$4):AC1425)=0),1,0)","v":0},500.97,null,null,null,null,null,null,null,null,null,null,null,null,null,-2000,0,null,0,null,null,null,null,null,null,null,null,22.23]
["1995-04-07",{"$f":"VLOOKUP(A1428,'input BCI'!$O$3:$R$5000,4)","v":12.48},null,null,12.48,null,null,null,null,null,null,null,null,0,12.48,null,null,12.48,null,null,null,1,12.48,12.48,{"$f":"AVERAGE(INDIRECT($X$1&ROW()-$Y$4+1):X1428)","v":12.234999999999999},0,0,{"$f":"IF(AND(AA1427=0,AA1428=1,SUM(INDIRECT($AA$1&ROW()-$AB$4):AA1427)=0),1,0)","v":0},1,{"$f":"IF(AND(AC1427=0,AC1428=1,SUM(INDIRECT($AC$1&ROW()-AD$4):AC1427)=0),1,0)","v":0},506.42,null,null,null,null,null,null,null,null,null,null,null,null,null,-2000,0,null,0,null,null,null,null,null,null,null,null,22.23]
["1995-04-28",{"$f":"VLOOKUP(A1431,'input BCI'!$O$3:$R$5000,4)","v":11.39},null,null,11.39,null,null,null,null,null,null,null,null,0,11.39,null,null,11.39,null,null,null,1,11.39,11.39,{"$f":"AVERAGE(INDIRECT($X$1&ROW()-$Y$4+1):X1431)","v":11.48},0,1,{"$f":"IF(AND(AA1430=0,AA1431=1,SUM(INDIRECT($AA$1&ROW()-$AB$4):AA1430)=0),1,0)","v":1},0,{"$f":"IF(AND(AC1430=0,AC1431=1,SUM(INDIRECT($AC$1&ROW()-AD$4):AC1430)=0),1,0)","v":0},514.71,null,null,null,null,null,null,null,null,null,null,null,null,null,-2000,0,null,0,null,null,null,null,null,null,null,null,22.23]
["1995-06-09",{"$f":"VLOOKUP(A1437,'input BCI'!$O$3:$R$5000,4)","v":12.46},null,null,12.46,null,null,null,null,null,null,null,null,0,12.46,null,null,12.46,null,null,null,1,12.46,12.46,{"$f":"AVERAGE(INDIRECT($X$1&ROW()-$Y$4+1):X1437)","v":12.305},0,0,{"$f":"IF(AND(AA1436=0,AA1437=1,SUM(INDIRECT($AA$1&ROW()-$AB$4):AA1436)=0),1,0)","v":0},1,{"$f":"IF(AND(AC1436=0,AC1437=1,SUM(INDIRECT($AC$1&ROW()-AD$4):AC1436)=0),1,0)","v":0},527.94000000000005,null,null,null,null,null,null,null,null,null,null,null,null,null,-2000,0,null,0,null,null,null,null,null,null,null,null,22.23]
["1995-06-16",{"$f":"VLOOKUP(A1438,'input BCI'!$O$3:$R$5000,4)","v":12.15},null,null,12.15,null,null,null,null,null,null,null,null,0,12.15,null,null,12.15,null,null,null,1,12.15,12.15,{"$f":"AVERAGE(INDIRECT($X$1&ROW()-$Y$4+1):X1438)","v":12.085000000000001},0,0,{"$f":"IF(AND(AA1437=0,AA1438=1,SUM(INDIRECT($AA$1&ROW()-$AB$4):AA1437)=0),1,0)","v":0},1,{"$f":"IF(AND(AC1437=0,AC1438=1,SUM(INDIRECT($AC$1&ROW()-AD$4):AC1437)=0),1,0)","v":0},539.83000000000004,null,null,null,null,null,null,null,null,null,null,null,null,null,-2000,0,null,0,null,null,null,null,null,null,null,null,22.23]
["1995-07-21",{"$f":"VLOOKUP(A1443,'input BCI'!$O$3:$R$5000,4)","v":13.68},null,null,13.68,null,null,null,null,null,null,null,null,0,13.68,null,null,13.68,null,null,null,1,13.68,13.68,{"$f":"AVERAGE(INDIRECT($X$1&ROW()-$Y$4+1):X1443)","v":13.82},0,1,{"$f":"IF(AND(AA1442=0,AA1443=1,SUM(INDIRECT($AA$1&ROW()-$AB$4):AA1442)=0),1,0)","v":0},0,{"$f":"IF(AND(AC1442=0,AC1443=1,SUM(INDIRECT($AC$1&ROW()-AD$4):AC1442)=0),1,0)","v":0},553.62,null,null,null,null,null,null,null,null,null,null,null,null,null,-2000,0,null,0,null,null,null,null,null,null,null,null,22.23]
["1995-08-18",{"$f":"VLOOKUP(A1447,'input BCI'!$O$3:$R$5000,4)","v":15.17},null,null,15.17,null,null,null,null,null,null,null,null,0,15.17,null,null,15.17,null,null,null,1,15.17,15.17,{"$f":"AVERAGE(INDIRECT($X$1&ROW()-$Y$4+1):X1447)","v":15.29},0,1,{"$f":"IF(AND(AA1446=0,AA1447=1,SUM(INDIRECT($AA$1&ROW()-$AB$4):AA1446)=0),1,0)","v":0},0,{"$f":"IF(AND(AC1446=0,AC1447=1,SUM(INDIRECT($AC$1&ROW()-AD$4):AC1446)=0),1,0)","v":0},559.21,null,null,null,null,null,null,null,null,null,null,null,null,null,-2000,0,null,0,null,null,null,null,null,null,null,null,22.23]
["1995-09-22",{"$f":"VLOOKUP(A1452,'input BCI'!$O$3:$R$5000,4)","v":15.92},null,null,15.92,null,null,null,null,null,null,null,null,0,15.92,null,null,15.92,null,null,null,1,15.92,15.92,{"$f":"AVERAGE(INDIRECT($X$1&ROW()-$Y$4+1):X1452)","v":15.875},0,0,{"$f":"IF(AND(AA1451=0,AA1452=1,SUM(INDIRECT($AA$1&ROW()-$AB$4):AA1451)=0),1,0)","v":0},1,{"$f":"IF(AND(AC1451=0,AC1452=1,SUM(INDIRECT($AC$1&ROW()-AD$4):AC1451)=0),1,0)","v":1},581.73,null,null,null,null,null,null,null,null,null,null,null,null,null,-2000,0,null,0,null,null,null,null,null,null,null,null,22.23]
["1995-10-13",{"$f":"VLOOKUP(A1455,'input BCI'!$O$3:$R$5000,4)","v":14.91},null,null,14.91,null,null,null,null,null,null,null,null,0,14.91,null,null,14.91,null,null,null,1,14.91,14.91,{"$f":"AVERAGE(INDIRECT($X$1&ROW()-$Y$4+1):X1455)","v":14.54},0,0,{"$f":"IF(AND(AA1454=0,AA1455=1,SUM(INDIRECT($AA$1&ROW()-$AB$4):AA1454)=0),1,0)","v":0},1,{"$f":"IF(AND(AC1454=0,AC1455=1,SUM(INDIRECT($AC$1&ROW()-AD$4):AC1454)=0),1,0)","v":0},584.5,null,null,null,null,null,null,null,null,null,null,null,null,null,-2000,0,null,0,null,null,null,null,null,null,null,null,22.23]
["1995-10-27",{"$f":"VLOOKUP(A1457,'input BCI'!$O$3:$R$5000,4)","v":13.53},null,null,13.53,null,null,null,null,null,null,null,null,0,13.53,null,null,13.53,null,null,null,1,13.53,13.53,{"$f":"AVERAGE(INDIRECT($X$1&ROW()-$Y$4+1):X1457)","v":13.21},0,0,{"$f":"IF(AND(AA1456=0,AA1457=1,SUM(INDIRECT($AA$1&ROW()-$AB$4):AA1456)=0),1,0)","v":0},1,{"$f":"IF(AND(AC1456=0,AC1457=1,SUM(INDIRECT($AC$1&ROW()-AD$4):AC1456)=0),1,0)","v":0},579.70000000000005,null,null,null,null,null,null,null,null,null,null,null,null,null,-2000,0,null,0,null,null,null,null,null,null,null,null,22.23]
["1995-11-17",{"$f":"VLOOKUP(A1460,'input BCI'!$O$3:$R$5000,4)","v":11.94},null,null,11.94,null,null,null,null,null,null,null,null,0,11.94,null,null,11.94,null,null,null,1,11.94,11.94,{"$f":"AVERAGE(INDIRECT($X$1&ROW()-$Y$4+1):X1460)","v":11.844999999999999},0,0,{"$f":"IF(AND(AA1459=0,AA1460=1,SUM(INDIRECT($AA$1&ROW()-$AB$4):AA1459)=0),1,0)","v":0},1,{"$f":"IF(AND(AC1459=0,AC1460=1,SUM(INDIRECT($AC$1&ROW()-AD$4):AC1459)=0),1,0)","v":0},600.07000000000005,null,null,null,null,null,null,null,null,null,null,null,null,null,-2000,0,null,0,null,null,null,null,null,null,null,null,22.23]
["1995-12-29",{"$f":"VLOOKUP(A1466,'input BCI'!$O$3:$R$5000,4)","v":12.95},null,null,12.95,null,null,null,null,null,null,null,null,0,12.95,null,null,12.95,null,null,null,1,12.95,12.95,{"$f":"AVERAGE(INDIRECT($X$1&ROW()-$Y$4+1):X1466)","v":12.994999999999999},0,1,{"$f":"IF(AND(AA1465=0,AA1466=1,SUM(INDIRECT($AA$1&ROW()-$AB$4):AA1465)=0),1,0)","v":0},0,{"$f":"IF(AND(AC1465=0,AC1466=1,SUM(INDIRECT($AC$1&ROW()-AD$4):AC1465)=0),1,0)","v":0},615.92999999999995,null,null,null,null,null,null,null,null,null,null,null,null,null,-2000,0,null,0,null,null,null,null,null,null,null,null,22.23]
["1996-01-05",{"$f":"VLOOKUP(A1467,'input BCI'!$O$3:$R$5000,4)","v":13.04},null,null,13.04,null,null,null,null,null,null,null,null,0,13.04,null,null,13.04,null,null,null,1,13.04,13.04,{"$f":"AVERAGE(INDIRECT($X$1&ROW()-$Y$4+1):X1467)","v":12.984999999999999},0,0,{"$f":"IF(AND(AA1466=0,AA1467=1,SUM(INDIRECT($AA$1&ROW()-$AB$4):AA1466)=0),1,0)","v":0},1,{"$f":"IF(AND(AC1466=0,AC1467=1,SUM(INDIRECT($AC$1&ROW()-AD$4):AC1466)=0),1,0)","v":1},616.71,null,null,null,null,null,null,null,null,null,null,null,null,null,-2000,0,null,0,null,null,null,null,null,null,null,null,22.23]
["1996-02-09",{"$f":"VLOOKUP(A1472,'input BCI'!$O$3:$R$5000,4)","v":12.92},null,null,12.92,null,null,null,null,null,null,null,null,0,12.92,null,null,12.92,null,null,null,1,12.92,12.92,{"$f":"AVERAGE(INDIRECT($X$1&ROW()-$Y$4+1):X1472)","v":13.094999999999999},0,1,{"$f":"IF(AND(AA1471=0,AA1472=1,SUM(INDIRECT($AA$1&ROW()-$AB$4):AA1471)=0),1,0)","v":0},0,{"$f":"IF(AND(AC1471=0,AC1472=1,SUM(INDIRECT($AC$1&ROW()-AD$4):AC1471)=0),1,0)","v":0},656.37,null,null,null,null,null,null,null,null,null,null,null,null,null,-2000,0,null,0,null,null,null,null,null,null,null,null,22.23]
["1996-03-08",{"$f":"VLOOKUP(A1476,'input BCI'!$O$3:$R$5000,4)","v":13.51},null,null,13.51,null,null,null,null,null,null,null,null,0,13.51,null,null,13.51,null,null,null,1,13.51,13.51,{"$f":"AVERAGE(INDIRECT($X$1&ROW()-$Y$4+1):X1476)","v":13.34},0,0,{"$f":"IF(AND(AA1475=0,AA1476=1,SUM(INDIRECT($AA$1&ROW()-$AB$4):AA1475)=0),1,0)","v":0},1,{"$f":"IF(AND(AC1475=0,AC1476=1,SUM(INDIRECT($AC$1&ROW()-AD$4):AC1475)=0),1,0)","v":0},633.5,null,null,null,null,null,null,null,null,null,null,null,null,null,-2000,0,null,0,null,null,null,null,null,null,null,null,22.23]
["1996-04-12",{"$f":"VLOOKUP(A1481,'input BCI'!$O$3:$R$5000,4)","v":13.21},null,null,13.21,null,null,null,null,null,null,null,null,0,13.21,null,null,13.21,null,null,null,1,13.21,13.21,{"$f":"AVERAGE(INDIRECT($X$1&ROW()-$Y$4+1):X1481)","v":13.2},0,0,{"$f":"IF(AND(AA1480=0,AA1481=1,SUM(INDIRECT($AA$1&ROW()-$AB$4):AA1480)=0),1,0)","v":0},1,{"$f":"IF(AND(AC1480=0,AC1481=1,SUM(INDIRECT($AC$1&ROW()-AD$4):AC1480)=0),1,0)","v":0},636.71,null,null,null,null,null,null,null,null,null,null,null,null,null,-2000,0,null,0,null,null,null,null,null,null,null,null,22.23]
["1996-05-03",{"$f":"VLOOKUP(A1484,'input BCI'!$O$3:$R$5000,4)","v":12.79},null,null,12.79,null,null,null,null,null,null,null,null,0,12.79,null,null,12.79,null,null,null,{"$f":"V1483","v":1},12.79,12.79,{"$f":"AVERAGE(INDIRECT($X$1&ROW()-$Y$4+1):X1484)","v":12.625},0,0,{"$f":"IF(AND(AA1483=0,AA1484=1,SUM(INDIRECT($AA$1&ROW()-$AB$4):AA1483)=0),1,0)","v":0},1,{"$f":"IF(AND(AC1483=0,AC1484=1,SUM(INDIRECT($AC$1&ROW()-AD$4):AC1483)=0),1,0)","v":0},641.63,null,null,null,null,null,null,null,null,null,null,null,null,null,-2000,0,null,0,null,null,null,null,null,null,null,null,22.23]
["1996-05-17",{"$f":"VLOOKUP(A1486,'input BCI'!$O$3:$R$5000,4)","v":12.33},null,null,12.33,null,null,null,null,null,null,null,null,0,12.33,null,null,12.33,null,null,null,1,12.33,12.33,{"$f":"AVERAGE(INDIRECT($X$1&ROW()-$Y$4+1):X1486)","v":12.41},0,1,{"$f":"IF(AND(AA1485=0,AA1486=1,SUM(INDIRECT($AA$1&ROW()-$AB$4):AA1485)=0),1,0)","v":0},{"$f":"IF(Y1486<X1486,1,0)","v":0},{"$f":"IF(AND(AC1485=0,AC1486=1,SUM(INDIRECT($AC$1&ROW()-AD$4):AC1485)=0),1,0)","v":0},668.91,null,null,null,null,null,null,null,null,null,null,null,null,null,-2000,0,null,0,null,null,null,null,null,null,null,null,22.23]
["1996-06-07",{"$f":"VLOOKUP(A1489,'input BCI'!$O$3:$R$5000,4)","v":13.1},null,null,13.1,null,null,null,null,null,null,null,null,0,13.1,null,null,13.1,null,null,null,1,13.1,13.1,{"$f":"AVERAGE(INDIRECT($X$1&ROW()-$Y$4+1):X1489)","v":13.25},0,1,{"$f":"IF(AND(AA1488=0,AA1489=1,SUM(INDIRECT($AA$1&ROW()-$AB$4):AA1488)=0),1,0)","v":0},0,{"$f":"IF(AND(AC1488=0,AC1489=1,SUM(INDIRECT($AC$1&ROW()-AD$4):AC1488)=0),1,0)","v":0},673.31,null,null,null,null,null,null,null,null,null,null,null,null,null,-2000,0,null,0,null,null,null,null,null,null,null,null,22.23]
["1996-07-19",{"$f":"VLOOKUP(A1495,'input BCI'!$O$3:$R$5000,4)","v":12.63},null,null,12.63,null,null,null,null,null,null,null,null,0,12.63,null,null,12.63,null,null,null,1,12.63,12.63,{"$f":"AVERAGE(INDIRECT($X$1&ROW()-$Y$4+1):X1495)","v":12.405000000000001},0,0,{"$f":"IF(AND(AA1494=0,AA1495=1,SUM(INDIRECT($AA$1&ROW()-$AB$4):AA1494)=0),1,0)","v":0},1,{"$f":"IF(AND(AC1494=0,AC1495=1,SUM(INDIRECT($AC$1&ROW()-AD$4):AC1494)=0),1,0)","v":0},638.73,null,null,null,null,null,null,null,null,null,null,null,null,null,-2000,0,null,0,null,null,null,null,null,null,null,null,22.23]
["1996-07-26",{"$f":"VLOOKUP(A1496,'input BCI'!$O$3:$R$5000,4)","v":12.18},null,null,12.18,null,null,null,null,null,null,null,null,0,12.18,null,null,12.18,null,null,null,1,12.18,12.18,{"$f":"AVERAGE(INDIRECT($X$1&ROW()-$Y$4+1):X1496)","v":11.870000000000001},0,0,{"$f":"IF(AND(AA1495=0,AA1496=1,SUM(INDIRECT($AA$1&ROW()-$AB$4):AA1495)=0),1,0)","v":0},1,{"$f":"IF(AND(AC1495=0,AC1496=1,SUM(INDIRECT($AC$1&ROW()-AD$4):AC1495)=0),1,0)","v":0},635.9,null,null,null,null,null,null,null,null,null,null,null,null,null,-2000,0,null,0,null,null,null,null,null,null,null,null,22.23]
["1996-08-30",{"$f":"VLOOKUP(A1501,'input BCI'!$O$3:$R$5000,4)","v":11.98},null,null,11.98,null,null,null,null,null,null,null,null,0,11.98,null,null,11.98,null,null,null,1,11.98,11.98,{"$f":"AVERAGE(INDIRECT($X$1&ROW()-$Y$4+1):X1501)","v":11.935},0,0,{"$f":"IF(AND(AA1500=0,AA1501=1,SUM(INDIRECT($AA$1&ROW()-$AB$4):AA1500)=0),1,0)","v":0},1,{"$f":"IF(AND(AC1500=0,AC1501=1,SUM(INDIRECT($AC$1&ROW()-AD$4):AC1500)=0),1,0)","v":0},657.4,null,null,null,null,null,null,null,null,null,null,null,null,null,-2000,0,null,0,null,null,null,null,null,null,null,null,22.23]
["1996-09-27",{"$f":"VLOOKUP(A1505,'input BCI'!$O$3:$R$5000,4)","v":12.71},null,null,12.71,null,null,null,null,null,null,null,null,0,12.71,null,null,12.71,null,null,null,1,12.71,12.71,{"$f":"AVERAGE(INDIRECT($X$1&ROW()-$Y$4+1):X1505)","v":13.05},0,1,{"$f":"IF(AND(AA1504=0,AA1505=1,SUM(INDIRECT($AA$1&ROW()-$AB$4):AA1504)=0),1,0)","v":0},0,{"$f":"IF(AND(AC1504=0,AC1505=1,SUM(INDIRECT($AC$1&ROW()-AD$4):AC1504)=0),1,0)","v":0},686.19,null,null,null,null,null,null,null,null,null,null,null,null,null,-2000,0,null,0,null,null,null,null,null,null,null,null,22.23]
["1996-10-25",{"$f":"VLOOKUP(A1509,'input BCI'!$O$3:$R$5000,4)","v":14.95},null,null,14.95,null,null,null,null,null,null,null,null,0,14.95,null,null,14.95,null,null,null,1,14.95,14.95,{"$f":"AVERAGE(INDIRECT($X$1&ROW()-$Y$4+1):X1509)","v":14.89},0,0,{"$f":"IF(AND(AA1508=0,AA1509=1,SUM(INDIRECT($AA$1&ROW()-$AB$4):AA1508)=0),1,0)","v":0},1,{"$f":"IF(AND(AC1508=0,AC1509=1,SUM(INDIRECT($AC$1&ROW()-AD$4):AC1508)=0),1,0)","v":1},700.92,null,null,null,null,null,null,null,null,null,null,null,null,null,-2000,0,null,0,null,null,null,null,null,null,null,null,22.23]
["1996-11-01",{"$f":"VLOOKUP(A1510,'input BCI'!$O$3:$R$5000,4)","v":14.83},null,null,14.83,null,null,null,null,null,null,null,null,0,14.83,null,null,14.83,null,null,null,1,14.83,14.83,{"$f":"AVERAGE(INDIRECT($X$1&ROW()-$Y$4+1):X1510)","v":14.6},0,0,{"$f":"IF(AND(AA1509=0,AA1510=1,SUM(INDIRECT($AA$1&ROW()-$AB$4):AA1509)=0),1,0)","v":0},1,{"$f":"IF(AND(AC1509=0,AC1510=1,SUM(INDIRECT($AC$1&ROW()-AD$4):AC1509)=0),1,0)","v":0},703.77,null,null,null,null,null,null,null,null,null,null,null,null,null,-2000,0,null,0,null,null,null,null,null,null,null,null,22.23]
["1996-12-06",{"$f":"VLOOKUP(A1515,'input BCI'!$O$3:$R$5000,4)","v":13.49},null,null,13.49,null,null,null,null,null,null,null,null,0,13.49,null,null,13.49,null,null,null,1,13.49,13.49,{"$f":"AVERAGE(INDIRECT($X$1&ROW()-$Y$4+1):X1515)","v":13.29},0,0,{"$f":"IF(AND(AA1514=0,AA1515=1,SUM(INDIRECT($AA$1&ROW()-$AB$4):AA1514)=0),1,0)","v":0},1,{"$f":"IF(AND(AC1514=0,AC1515=1,SUM(INDIRECT($AC$1&ROW()-AD$4):AC1514)=0),1,0)","v":0},739.6,null,null,null,null,null,null,null,null,null,null,null,null,null,-2000,0,null,0,null,null,null,null,null,null,null,null,22.23]
["1996-12-27",{"$f":"VLOOKUP(A1518,'input BCI'!$O$3:$R$5000,4)","v":11.8},null,null,11.8,null,null,null,null,null,null,null,null,0,11.8,null,null,11.8,null,null,null,1,11.8,11.8,{"$f":"AVERAGE(INDIRECT($X$1&ROW()-$Y$4+1):X1518)","v":11.530000000000001},0,0,{"$f":"IF(AND(AA1517=0,AA1518=1,SUM(INDIRECT($AA$1&ROW()-$AB$4):AA1517)=0),1,0)","v":0},1,{"$f":"IF(AND(AC1517=0,AC1518=1,SUM(INDIRECT($AC$1&ROW()-AD$4):AC1517)=0),1,0)","v":0},756.79,null,null,null,null,null,null,null,null,null,null,null,null,null,-2000,0,null,0,null,null,null,null,null,null,null,null,22.23]
["1997-02-07",{"$f":"VLOOKUP(A1524,'input BCI'!$O$3:$R$5000,4)","v":12.24},null,null,12.24,null,null,null,null,null,null,null,null,0,12.24,null,null,12.24,null,null,null,1,12.24,12.24,{"$f":"AVERAGE(INDIRECT($X$1&ROW()-$Y$4+1):X1524)","v":12.594999999999999},0,1,{"$f":"IF(AND(AA1523=0,AA1524=1,SUM(INDIRECT($AA$1&ROW()-$AB$4):AA1523)=0),1,0)","v":0},0,{"$f":"IF(AND(AC1523=0,AC1524=1,SUM(INDIRECT($AC$1&ROW()-AD$4):AC1523)=0),1,0)","v":0},789.56,null,null,null,null,null,null,null,null,null,null,null,null,null,-2000,0,null,0,null,null,null,null,null,null,null,null,22.23]
["1997-02-14",{"$f":"VLOOKUP(A1525,'input BCI'!$O$3:$R$5000,4)","v":12.95},null,null,12.95,null,null,null,null,null,null,null,null,0,12.95,null,null,12.95,null,null,null,1,12.95,12.95,{"$f":"AVERAGE(INDIRECT($X$1&ROW()-$Y$4+1):X1525)","v":13.285},0,1,{"$f":"IF(AND(AA1524=0,AA1525=1,SUM(INDIRECT($AA$1&ROW()-$AB$4):AA1524)=0),1,0)","v":0},0,{"$f":"IF(AND(AC1524=0,AC1525=1,SUM(INDIRECT($AC$1&ROW()-AD$4):AC1524)=0),1,0)","v":0},808.48,null,null,null,null,null,null,null,null,null,null,null,null,null,-2000,0,null,0,null,null,null,null,null,null,null,null,22.23]
["1997-03-21",{"$f":"VLOOKUP(A1530,'input BCI'!$O$3:$R$5000,4)","v":14.11},null,null,14.11,null,null,null,null,null,null,null,null,0,14.11,null,null,14.11,null,null,null,1,14.11,14.11,{"$f":"AVERAGE(INDIRECT($X$1&ROW()-$Y$4+1):X1530)","v":14},0,0,{"$f":"IF(AND(AA1529=0,AA1530=1,SUM(INDIRECT($AA$1&ROW()-$AB$4):AA1529)=0),1,0)","v":0},1,{"$f":"IF(AND(AC1529=0,AC1530=1,SUM(INDIRECT($AC$1&ROW()-AD$4):AC1529)=0),1,0)","v":0},784.1,null,null,null,null,null,null,null,null,null,null,null,null,null,-2000,0,null,0,null,null,null,null,null,null,null,null,22.23]
["1997-04-18",{"$f":"VLOOKUP(A1534,'input BCI'!$O$3:$R$5000,4)","v":11.6},null,null,11.6,null,null,null,null,null,null,null,null,0,11.6,null,null,11.6,null,null,null,1,11.6,11.6,{"$f":"AVERAGE(INDIRECT($X$1&ROW()-$Y$4+1):X1534)","v":11.225},0,0,{"$f":"IF(AND(AA1533=0,AA1534=1,SUM(INDIRECT($AA$1&ROW()-$AB$4):AA1533)=0),1,0)","v":0},1,{"$f":"IF(AND(AC1533=0,AC1534=1,SUM(INDIRECT($AC$1&ROW()-AD$4):AC1533)=0),1,0)","v":0},766.34,null,null,null,null,null,null,null,null,null,null,null,null,null,-2000,0,null,0,null,null,null,null,null,null,null,null,22.23]
["1997-05-16",{"$f":"VLOOKUP(A1538,'input BCI'!$O$3:$R$5000,4)","v":11.64},null,null,11.64,null,null,null,null,null,null,null,null,0,11.64,null,null,11.64,null,null,null,1,11.64,11.64,{"$f":"AVERAGE(INDIRECT($X$1&ROW()-$Y$4+1):X1538)","v":11.914999999999999},0,1,{"$f":"IF(AND(AA1537=0,AA1538=1,SUM(INDIRECT($AA$1&ROW()-$AB$4):AA1537)=0),1,0)","v":0},0,{"$f":"IF(AND(AC1537=0,AC1538=1,SUM(INDIRECT($AC$1&ROW()-AD$4):AC1537)=0),1,0)","v":0},829.75,null,null,null,null,null,null,null,null,null,null,null,null,null,-2000,0,null,0,null,null,null,null,null,null,null,null,22.23]
["1997-05-23",{"$f":"VLOOKUP(A1539,'input BCI'!$O$3:$R$5000,4)","v":12.19},null,null,12.19,null,null,null,null,null,null,null,null,0,12.19,null,null,12.19,null,null,null,1,12.19,12.19,{"$f":"AVERAGE(INDIRECT($X$1&ROW()-$Y$4+1):X1539)","v":12.34},0,1,{"$f":"IF(AND(AA1538=0,AA1539=1,SUM(INDIRECT($AA$1&ROW()-$AB$4):AA1538)=0),1,0)","v":0},0,{"$f":"IF(AND(AC1538=0,AC1539=1,SUM(INDIRECT($AC$1&ROW()-AD$4):AC1538)=0),1,0)","v":0},847.03,null,null,null,null,null,null,null,null,null,null,null,null,null,-2000,0,null,0,null,null,null,null,null,null,null,null,22.23]
["1997-06-27",{"$f":"VLOOKUP(A1544,'input BCI'!$O$3:$R$5000,4)","v":12.22},null,null,12.22,null,null,null,null,null,null,null,null,0,12.22,null,null,12.22,null,null,null,1,12.22,12.22,{"$f":"AVERAGE(INDIRECT($X$1&ROW()-$Y$4+1):X1544)","v":12.275},0,1,{"$f":"IF(AND(AA1543=0,AA1544=1,SUM(INDIRECT($AA$1&ROW()-$AB$4):AA1543)=0),1,0)","v":0},0,{"$f":"IF(AND(AC1543=0,AC1544=1,SUM(INDIRECT($AC$1&ROW()-AD$4):AC1543)=0),1,0)","v":0},887.3,null,null,null,null,null,null,null,null,null,null,null,null,null,-2000,0,null,0,null,null,null,null,null,null,null,null,22.23]
["1997-07-18",{"$f":"VLOOKUP(A1547,'input BCI'!$O$3:$R$5000,4)","v":12.58},null,null,{"$f":"B1547+$O$7","v":12.58},null,null,null,null,null,null,null,null,0,{"$f":"E1547","v":12.58},null,null,12.58,null,null,null,1,{"$f":"R1547","v":12.58},{"$f":"(W1547+$X$4)","v":12.58},{"$f":"AVERAGE(INDIRECT($X$1&ROW()-$Y$4+1):X1547)","v":12.620000000000001},{"$f":"IF(OR(X1547=$I$5,X1547>$I$5),1,0)","v":0},1,{"$f":"IF(AND(AA1546=0,AA1547=1,SUM(INDIRECT($AA$1&ROW()-$AB$4):AA1546)=0),1,0)","v":0},0,{"$f":"IF(AND(AC1546=0,AC1547=1,SUM(INDIRECT($AC$1&ROW()-AD$4):AC1546)=0),1,0)","v":0},915.3,null,null,null,null,null,null,null,null,null,null,null,null,null,-2000,0,null,0,null,null,null,null,null,null,null,null,{"$f":"$BE$2","v":22.23}]
["1997-08-29",{"$f":"VLOOKUP(A1553,'input BCI'!$O$3:$R$5000,4)","v":14.06},null,null,14.06,null,null,null,null,null,null,null,null,0,14.06,null,null,14.06,null,null,null,1,14.06,14.06,{"$f":"AVERAGE(INDIRECT($X$1&ROW()-$Y$4+1):X1553)","v":13.815000000000001},0,0,{"$f":"IF(AND(AA1552=0,AA1553=1,SUM(INDIRECT($AA$1&ROW()-$AB$4):AA1552)=0),1,0)","v":0},1,{"$f":"IF(AND(AC1552=0,AC1553=1,SUM(INDIRECT($AC$1&ROW()-AD$4):AC1552)=0),1,0)","v":0},903.67,null,null,null,null,null,null,null,null,null,null,null,null,null,-2000,0,null,0,null,null,null,null,null,null,null,null,22.23]
["1997-09-05",{"$f":"VLOOKUP(A1554,'input BCI'!$O$3:$R$5000,4)","v":13.57},null,null,13.57,null,null,null,null,null,null,null,null,0,13.57,null,null,13.57,null,null,null,1,13.57,13.57,{"$f":"AVERAGE(INDIRECT($X$1&ROW()-$Y$4+1):X1554)","v":13.39},0,0,{"$f":"IF(AND(AA1553=0,AA1554=1,SUM(INDIRECT($AA$1&ROW()-$AB$4):AA1553)=0),1,0)","v":0},1,{"$f":"IF(AND(AC1553=0,AC1554=1,SUM(INDIRECT($AC$1&ROW()-AD$4):AC1553)=0),1,0)","v":0},929.05,null,null,null,null,null,null,null,null,null,null,null,null,null,-2000,0,null,0,null,null,null,null,null,null,null,null,22.23]
["1997-10-10",{"$f":"VLOOKUP(A1559,'input BCI'!$O$3:$R$5000,4)","v":14.06},null,null,14.06,null,null,null,null,null,null,null,null,0,14.06,null,null,14.06,null,null,null,1,14.06,14.06,{"$f":"AVERAGE(INDIRECT($X$1&ROW()-$Y$4+1):X1559)","v":14.245000000000001},0,1,{"$f":"IF(AND(AA1558=0,AA1559=1,SUM(INDIRECT($AA$1&ROW()-$AB$4):AA1558)=0),1,0)","v":0},0,{"$f":"IF(AND(AC1558=0,AC1559=1,SUM(INDIRECT($AC$1&ROW()-AD$4):AC1558)=0),1,0)","v":0},966.98,null,null,null,null,null,null,null,null,null,null,null,null,null,-2000,0,null,0,null,null,null,null,null,null,null,null,22.23]
["1997-11-07",{"$f":"VLOOKUP(A1563,'input BCI'!$O$3:$R$5000,4)","v":13.98},null,null,13.98,null,null,null,null,null,null,null,null,0,13.98,null,null,13.98,null,null,null,1,13.98,13.98,{"$f":"AVERAGE(INDIRECT($X$1&ROW()-$Y$4+1):X1563)","v":13.83},0,0,{"$f":"IF(AND(AA1562=0,AA1563=1,SUM(INDIRECT($AA$1&ROW()-$AB$4):AA1562)=0),1,0)","v":0},1,{"$f":"IF(AND(AC1562=0,AC1563=1,SUM(INDIRECT($AC$1&ROW()-AD$4):AC1562)=0),1,0)","v":0},927.51,null,null,null,null,null,null,null,null,null,null,null,null,null,-2000,0,null,0,null,null,null,null,null,null,null,null,22.23]
["1997-12-05",{"$f":"VLOOKUP(A1567,'input BCI'!$O$3:$R$5000,4)","v":13.54},null,null,13.54,null,null,null,null,null,null,null,null,0,13.54,null,null,13.54,null,null,null,1,13.54,13.54,{"$f":"AVERAGE(INDIRECT($X$1&ROW()-$Y$4+1):X1567)","v":13.524999999999999},0,0,{"$f":"IF(AND(AA1566=0,AA1567=1,SUM(INDIRECT($AA$1&ROW()-$AB$4):AA1566)=0),1,0)","v":0},1,{"$f":"IF(AND(AC1566=0,AC1567=1,SUM(INDIRECT($AC$1&ROW()-AD$4):AC1566)=0),1,0)","v":0},983.79,null,null,null,null,null,null,null,null,null,null,null,null,null,-2000,0,null,0,null,null,null,null,null,null,null,null,22.23]
["1997-12-12",{"$f":"VLOOKUP(A1568,'input BCI'!$O$3:$R$5000,4)","v":13.51},null,null,13.51,null,null,null,null,null,null,null,null,0,13.51,null,null,13.51,null,null,null,1,13.51,13.51,{"$f":"AVERAGE(INDIRECT($X$1&ROW()-$Y$4+1):X1568)","v":13.35},0,0,{"$f":"IF(AND(AA1567=0,AA1568=1,SUM(INDIRECT($AA$1&ROW()-$AB$4):AA1567)=0),1,0)","v":0},1,{"$f":"IF(AND(AC1567=0,AC1568=1,SUM(INDIRECT($AC$1&ROW()-AD$4):AC1567)=0),1,0)","v":0},953.39,null,null,null,null,null,null,null,null,null,null,null,null,null,-2000,0,null,0,null,null,null,null,null,null,null,null,22.23]
["1998-01-16",{"$f":"VLOOKUP(A1573,'input BCI'!$O$3:$R$5000,4)","v":11.65},null,null,11.65,null,null,null,null,null,null,null,null,0,11.65,null,null,11.65,null,null,null,1,11.65,11.65,{"$f":"AVERAGE(INDIRECT($X$1&ROW()-$Y$4+1):X1573)","v":11.59},0,0,{"$f":"IF(AND(AA1572=0,AA1573=1,SUM(INDIRECT($AA$1&ROW()-$AB$4):AA1572)=0),1,0)","v":0},1,{"$f":"IF(AND(AC1572=0,AC1573=1,SUM(INDIRECT($AC$1&ROW()-AD$4):AC1572)=0),1,0)","v":0},961.51,null,null,null,null,null,null,null,null,null,null,null,null,null,-2000,0,null,0,null,null,null,null,null,null,null,null,22.23]
["1998-02-06",{"$f":"VLOOKUP(A1576,'input BCI'!$O$3:$R$5000,4)","v":10.77},null,null,10.77,null,null,null,null,null,null,null,null,0,10.77,null,null,10.77,null,null,null,1,10.77,10.77,{"$f":"AVERAGE(INDIRECT($X$1&ROW()-$Y$4+1):X1576)","v":10.98},0,1,{"$f":"IF(AND(AA1575=0,AA1576=1,SUM(INDIRECT($AA$1&ROW()-$AB$4):AA1575)=0),1,0)","v":1},0,{"$f":"IF(AND(AC1575=0,AC1576=1,SUM(INDIRECT($AC$1&ROW()-AD$4):AC1575)=0),1,0)","v":0},1012.46,null,null,null,null,null,null,null,null,null,null,null,null,null,-2000,0,null,0,null,null,null,null,null,null,null,null,22.23]
["1998-03-20",{"$f":"VLOOKUP(A1582,'input BCI'!$O$3:$R$5000,4)","v":14.3},null,null,14.3,null,null,null,null,null,null,null,null,0,14.3,null,null,14.3,null,null,null,1,14.3,14.3,{"$f":"AVERAGE(INDIRECT($X$1&ROW()-$Y$4+1):X1582)","v":14.600000000000001},0,1,{"$f":"IF(AND(AA1581=0,AA1582=1,SUM(INDIRECT($AA$1&ROW()-$AB$4):AA1581)=0),1,0)","v":0},0,{"$f":"IF(AND(AC1581=0,AC1582=1,SUM(INDIRECT($AC$1&ROW()-AD$4):AC1581)=0),1,0)","v":0},1099.1600000000001,null,null,null,null,null,null,null,null,null,null,null,null,null,-2000,0,null,0,null,null,null,null,null,null,null,null,22.23]
["1998-03-27",{"$f":"VLOOKUP(A1583,'input BCI'!$O$3:$R$5000,4)","v":14.9},null,null,14.9,null,null,null,null,null,null,null,null,0,14.9,null,null,14.9,null,null,null,1,14.9,14.9,{"$f":"AVERAGE(INDIRECT($X$1&ROW()-$Y$4+1):X1583)","v":15.01},0,1,{"$f":"IF(AND(AA1582=0,AA1583=1,SUM(INDIRECT($AA$1&ROW()-$AB$4):AA1582)=0),1,0)","v":0},0,{"$f":"IF(AND(AC1582=0,AC1583=1,SUM(INDIRECT($AC$1&ROW()-AD$4):AC1582)=0),1,0)","v":0},1095.44,null,null,null,null,null,null,null,null,null,null,null,null,null,-2000,0,null,0,null,null,null,null,null,null,null,null,22.23]
["1998-05-01",{"$f":"VLOOKUP(A1588,'input BCI'!$O$3:$R$5000,4)","v":14.76},null,null,14.76,null,null,null,null,null,null,null,null,0,14.76,null,null,14.76,null,null,null,1,14.76,14.76,{"$f":"AVERAGE(INDIRECT($X$1&ROW()-$Y$4+1):X1588)","v":14.615},0,0,{"$f":"IF(AND(AA1587=0,AA1588=1,SUM(INDIRECT($AA$1&ROW()-$AB$4):AA1587)=0),1,0)","v":0},1,{"$f":"IF(AND(AC1587=0,AC1588=1,SUM(INDIRECT($AC$1&ROW()-AD$4):AC1587)=0),1,0)","v":0},1121,null,null,null,null,null,null,null,null,null,null,null,null,null,-2000,0,null,0,null,null,null,null,null,null,null,null,22.23]
["1998-05-29",{"$f":"VLOOKUP(A1592,'input BCI'!$O$3:$R$5000,4)","v":14.1},null,null,14.1,null,null,null,null,null,null,null,null,0,14.1,null,null,14.1,null,null,null,1,14.1,14.1,{"$f":"AVERAGE(INDIRECT($X$1&ROW()-$Y$4+1):X1592)","v":14.094999999999999},0,0,{"$f":"IF(AND(AA1591=0,AA1592=1,SUM(INDIRECT($AA$1&ROW()-$AB$4):AA1591)=0),1,0)","v":0},1,{"$f":"IF(AND(AC1591=0,AC1592=1,SUM(INDIRECT($AC$1&ROW()-AD$4):AC1591)=0),1,0)","v":0},1090.82,null,null,null,null,null,null,null,null,null,null,null,null,null,-2000,0,null,0,null,null,null,null,null,null,null,null,22.23]
["1998-06-26",{"$f":"VLOOKUP(A1596,'input BCI'!$O$3:$R$5000,4)","v":14.16},null,null,14.16,null,null,null,null,null,null,null,null,0,14.16,null,null,14.16,null,null,null,1,14.16,14.16,{"$f":"AVERAGE(INDIRECT($X$1&ROW()-$Y$4+1):X1596)","v":14.2},0,1,{"$f":"IF(AND(AA1595=0,AA1596=1,SUM(INDIRECT($AA$1&ROW()-$AB$4):AA1595)=0),1,0)","v":0},0,{"$f":"IF(AND(AC1595=0,AC1596=1,SUM(INDIRECT($AC$1&ROW()-AD$4):AC1595)=0),1,0)","v":0},1133.2,null,null,null,null,null,null,null,null,null,null,null,null,null,-2000,0,null,0,null,null,null,null,null,null,null,null,22.23]
["1998-07-03",{"$f":"VLOOKUP(A1597,'input BCI'!$O$3:$R$5000,4)","v":14.24},null,null,14.24,null,null,null,null,null,null,null,null,0,14.24,null,null,14.24,null,null,null,1,14.24,14.24,{"$f":"AVERAGE(INDIRECT($X$1&ROW()-$Y$4+1):X1597)","v":13.965},0,0,{"$f":"IF(AND(AA1596=0,AA1597=1,SUM(INDIRECT($AA$1&ROW()-$AB$4):AA1596)=0),1,0)","v":0},1,{"$f":"IF(AND(AC1596=0,AC1597=1,SUM(INDIRECT($AC$1&ROW()-AD$4):AC1596)=0),1,0)","v":0},1150,null,null,null,null,null,null,null,null,null,null,null,null,null,-2000,0,null,0,null,null,null,null,null,null,null,null,22.23]
["1998-08-07",{"$f":"VLOOKUP(A1602,'input BCI'!$O$3:$R$5000,4)","v":11.14},null,null,11.14,null,null,null,null,null,null,null,null,0,11.14,null,null,11.14,null,null,null,1,11.14,11.14,{"$f":"AVERAGE(INDIRECT($X$1&ROW()-$Y$4+1):X1602)","v":10.705},0,0,{"$f":"IF(AND(AA1601=0,AA1602=1,SUM(INDIRECT($AA$1&ROW()-$AB$4):AA1601)=0),1,0)","v":0},1,{"$f":"IF(AND(AC1601=0,AC1602=1,SUM(INDIRECT($AC$1&ROW()-AD$4):AC1601)=0),1,0)","v":0},1089.45,null,null,null,null,null,null,null,null,null,null,null,null,null,-2000,0,null,0,null,null,null,null,null,null,null,null,22.23]
["1998-08-28",{"$f":"VLOOKUP(A1605,'input BCI'!$O$3:$R$5000,4)","v":9.4},null,null,9.4,null,null,null,null,null,null,null,null,0,9.4,null,null,9.4,null,null,null,1,9.4,9.4,{"$f":"AVERAGE(INDIRECT($X$1&ROW()-$Y$4+1):X1605)","v":9.120000000000001},0,0,{"$f":"IF(AND(AA1604=0,AA1605=1,SUM(INDIRECT($AA$1&ROW()-$AB$4):AA1604)=0),1,0)","v":0},1,{"$f":"IF(AND(AC1604=0,AC1605=1,SUM(INDIRECT($AC$1&ROW()-AD$4):AC1604)=0),1,0)","v":0},1027.1400000000001,null,null,null,null,null,null,null,null,null,null,null,null,null,-2000,0,null,0,null,null,null,null,null,null,null,null,22.23]
["1998-10-09",{"$f":"VLOOKUP(A1611,'input BCI'!$O$3:$R$5000,4)","v":7.62},null,null,{"$f":"B1611+$O$7","v":7.62},null,null,null,null,null,null,null,null,0,{"$f":"E1611","v":7.62},null,null,7.62,null,null,null,1,{"$f":"R1611","v":7.62},{"$f":"(W1611+$X$4)","v":7.62},{"$f":"AVERAGE(INDIRECT($X$1&ROW()-$Y$4+1):X1611)","v":7.3849999999999998},{"$f":"IF(OR(X1611=$I$5,X1611>$I$5),1,0)","v":0},0,{"$f":"IF(AND(AA1610=0,AA1611=1,SUM(INDIRECT($AA$1&ROW()-$AB$4):AA1610)=0),1,0)","v":0},1,{"$f":"IF(AND(AC1610=0,AC1611=1,SUM(INDIRECT($AC$1&ROW()-AD$4):AC1610)=0),1,0)","v":0},984.39,null,null,null,null,null,null,null,null,null,null,null,null,null,-2000,0,null,0,null,null,null,null,null,null,null,null,{"$f":"$BE$2","v":22.23}]
["1998-10-23",{"$f":"VLOOKUP(A1613,'input BCI'!$O$3:$R$5000,4)","v":7.1},null,null,7.1,null,null,null,null,null,null,null,null,0,7.1,null,null,7.1,null,null,null,1,7.1,7.1,{"$f":"AVERAGE(INDIRECT($X$1&ROW()-$Y$4+1):X1613)","v":7.13},0,{"$f":"IF(Y1613>X1613,1,0)","v":1},{"$f":"IF(AND(AA1612=0,AA1613=1,SUM(INDIRECT($AA$1&ROW()-$AB$4):AA1612)=0),1,0)","v":0},0,{"$f":"IF(AND(AC1612=0,AC1613=1,SUM(INDIRECT($AC$1&ROW()-AD$4):AC1612)=0),1,0)","v":0},1070.67,null,null,null,null,null,null,null,null,null,null,null,null,null,-2000,0,null,0,null,null,null,null,null,null,null,null,22.23]
["1998-11-13",{"$f":"VLOOKUP(A1616,'input BCI'!$O$3:$R$5000,4)","v":9.16},null,null,9.16,null,null,null,null,null,null,null,null,0,9.16,null,null,9.16,null,null,null,1,9.16,9.16,{"$f":"AVERAGE(INDIRECT($X$1&ROW()-$Y$4+1):X1616)","v":9.4849999999999994},0,1,{"$f":"IF(AND(AA1615=0,AA1616=1,SUM(INDIRECT($AA$1&ROW()-$AB$4):AA1615)=0),1,0)","v":0},0,{"$f":"IF(AND(AC1615=0,AC1616=1,SUM(INDIRECT($AC$1&ROW()-AD$4):AC1615)=0),1,0)","v":0},1125.72,null,null,null,null,null,null,null,null,null,null,null,null,null,-2000,0,null,0,null,null,null,null,null,null,null,null,22.23]
["1998-12-18",{"$f":"VLOOKUP(A1621,'input BCI'!$O$3:$R$5000,4)","v":11.63},null,null,11.63,null,null,null,null,null,null,null,null,0,11.63,null,null,11.63,null,null,null,1,11.63,11.63,{"$f":"AVERAGE(INDIRECT($X$1&ROW()-$Y$4+1):X1621)","v":11.635000000000002},0,1,{"$f":"IF(AND(AA1620=0,AA1621=1,SUM(INDIRECT($AA$1&ROW()-$AB$4):AA1620)=0),1,0)","v":0},0,{"$f":"IF(AND(AC1620=0,AC1621=1,SUM(INDIRECT($AC$1&ROW()-AD$4):AC1620)=0),1,0)","v":0},1188.03,null,null,null,null,null,null,null,null,null,null,null,null,null,-2000,0,null,0,null,null,null,null,null,null,null,null,22.23]
["1999-01-15",{"$f":"VLOOKUP(A1625,'input BCI'!$O$3:$R$5000,4)","v":13.72},null,null,13.72,null,null,null,null,null,null,null,null,0,13.72,null,null,{"$f":"O1625*R$7","v":13.72},null,null,null,1,13.72,13.72,{"$f":"AVERAGE(INDIRECT($X$1&ROW()-$Y$4+1):X1625)","v":13.92},0,1,{"$f":"IF(AND(AA1624=0,AA1625=1,SUM(INDIRECT($AA$1&ROW()-$AB$4):AA1624)=0),1,0)","v":0},0,{"$f":"IF(AND(AC1624=0,AC1625=1,SUM(INDIRECT($AC$1&ROW()-AD$4):AC1624)=0),1,0)","v":0},1243.26,null,null,null,null,null,null,null,null,null,null,null,null,null,-2000,0,null,0,null,null,null,null,null,null,null,null,22.23]
["1999-01-22",{"$f":"VLOOKUP(A1626,'input BCI'!$O$3:$R$5000,4)","v":14.12},null,null,14.12,null,null,null,null,null,null,null,null,0,14.12,null,null,14.12,null,null,null,1,14.12,14.12,{"$f":"AVERAGE(INDIRECT($X$1&ROW()-$Y$4+1):X1626)","v":13.92},0,0,{"$f":"IF(AND(AA1625=0,AA1626=1,SUM(INDIRECT($AA$1&ROW()-$AB$4):AA1625)=0),1,0)","v":0},1,{"$f":"IF(AND(AC1625=0,AC1626=1,SUM(INDIRECT($AC$1&ROW()-AD$4):AC1625)=0),1,0)","v":1},1225.19,null,null,null,null,null,null,null,null,null,null,null,null,null,-2000,0,null,0,null,null,null,null,null,null,null,null,22.23]
["1999-02-26",{"$f":"VLOOKUP(A1631,'input BCI'!$O$3:$R$5000,4)","v":12.41},null,null,12.41,null,null,null,null,null,null,null,null,0,12.41,null,null,12.41,null,null,null,1,12.41,12.41,{"$f":"AVERAGE(INDIRECT($X$1&ROW()-$Y$4+1):X1631)","v":11.945},0,0,{"$f":"IF(AND(AA1630=0,AA1631=1,SUM(INDIRECT($AA$1&ROW()-$AB$4):AA1630)=0),1,0)","v":0},1,{"$f":"IF(AND(AC1630=0,AC1631=1,SUM(INDIRECT($AC$1&ROW()-AD$4):AC1630)=0),1,0)","v":0},1238.33,null,null,null,null,null,null,null,null,null,null,null,null,null,-2000,0,null,0,null,null,null,null,null,null,null,null,22.23]
["1999-03-19",{"$f":"VLOOKUP(A1634,'input BCI'!$O$3:$R$5000,4)","v":10.48},null,null,10.48,null,null,null,null,null,null,null,null,0,10.48,null,null,10.48,null,null,null,1,10.48,10.48,{"$f":"AVERAGE(INDIRECT($X$1&ROW()-$Y$4+1):X1634)","v":10.345000000000001},0,0,{"$f":"IF(AND(AA1633=0,AA1634=1,SUM(INDIRECT($AA$1&ROW()-$AB$4):AA1633)=0),1,0)","v":0},1,{"$f":"IF(AND(AC1633=0,AC1634=1,SUM(INDIRECT($AC$1&ROW()-AD$4):AC1633)=0),1,0)","v":0},1299.29,null,null,null,null,null,null,null,null,null,null,null,null,null,-2000,0,null,0,null,null,null,null,null,null,null,null,22.23]
["1999-04-30",{"$f":"VLOOKUP(A1640,'input BCI'!$O$3:$R$5000,4)","v":9.51},null,null,9.51,null,null,null,null,null,null,null,null,0,9.51,null,null,9.51,null,null,null,1,9.51,9.51,{"$f":"AVERAGE(INDIRECT($X$1&ROW()-$Y$4+1):X1640)","v":9.57},0,1,{"$f":"IF(AND(AA1639=0,AA1640=1,SUM(INDIRECT($AA$1&ROW()-$AB$4):AA1639)=0),1,0)","v":0},0,{"$f":"IF(AND(AC1639=0,AC1640=1,SUM(INDIRECT($AC$1&ROW()-AD$4):AC1639)=0),1,0)","v":0},1362.8,null,null,null,null,null,null,null,null,null,null,null,null,null,-2000,0,null,0,null,null,null,null,null,null,null,null,22.23]
["1999-05-14",{"$f":"VLOOKUP(A1642,'input BCI'!$O$3:$R$5000,4)","v":9.83},null,null,9.83,null,null,null,null,null,null,null,null,0,9.83,null,null,9.83,null,null,null,1,9.83,9.83,{"$f":"AVERAGE(INDIRECT($X$1&ROW()-$Y$4+1):X1642)","v":10.059999999999999},0,1,{"$f":"IF(AND(AA1641=0,AA1642=1,SUM(INDIRECT($AA$1&ROW()-$AB$4):AA1641)=0),1,0)","v":0},0,{"$f":"IF(AND(AC1641=0,AC1642=1,SUM(INDIRECT($AC$1&ROW()-AD$4):AC1641)=0),1,0)","v":0},1337.8,null,null,null,null,null,null,null,null,null,null,null,null,null,-2000,0,null,0,null,null,null,null,null,null,null,null,22.23]
["1999-06-04",{"$f":"VLOOKUP(A1645,'input BCI'!$O$3:$R$5000,4)","v":10.38},null,null,10.38,null,null,null,null,null,null,null,null,0,10.38,null,null,10.38,null,null,null,1,10.38,10.38,{"$f":"AVERAGE(INDIRECT($X$1&ROW()-$Y$4+1):X1645)","v":10.510000000000002},0,1,{"$f":"IF(AND(AA1644=0,AA1645=1,SUM(INDIRECT($AA$1&ROW()-$AB$4):AA1644)=0),1,0)","v":0},0,{"$f":"IF(AND(AC1644=0,AC1645=1,SUM(INDIRECT($AC$1&ROW()-AD$4):AC1644)=0),1,0)","v":0},1327.75,null,null,null,null,null,null,null,null,null,null,null,null,null,-2000,0,null,0,null,null,null,null,null,null,null,null,22.23]
["1999-07-09",{"$f":"VLOOKUP(A1650,'input BCI'!$O$3:$R$5000,4)","v":12.04},null,null,12.04,null,null,null,null,null,null,null,null,0,12.04,null,null,12.04,null,null,null,1,12.04,12.04,{"$f":"AVERAGE(INDIRECT($X$1&ROW()-$Y$4+1):X1650)","v":12.234999999999999},0,1,{"$f":"IF(AND(AA1649=0,AA1650=1,SUM(INDIRECT($AA$1&ROW()-$AB$4):AA1649)=0),1,0)","v":0},0,{"$f":"IF(AND(AC1649=0,AC1650=1,SUM(INDIRECT($AC$1&ROW()-AD$4):AC1649)=0),1,0)","v":0},1403.28,null,null,null,null,null,null,null,null,null,null,null,null,null,-2000,0,null,0,null,null,null,null,null,null,null,null,22.23]
["1999-08-06",{"$f":"VLOOKUP(A1654,'input BCI'!$O$3:$R$5000,4)","v":12.34},null,null,12.34,null,null,null,null,null,null,null,null,0,12.34,null,null,12.34,null,null,null,1,12.34,12.34,{"$f":"AVERAGE(INDIRECT($X$1&ROW()-$Y$4+1):X1654)","v":12.14},0,0,{"$f":"IF(AND(AA1653=0,AA1654=1,SUM(INDIRECT($AA$1&ROW()-$AB$4):AA1653)=0),1,0)","v":0},1,{"$f":"IF(AND(AC1653=0,AC1654=1,SUM(INDIRECT($AC$1&ROW()-AD$4):AC1653)=0),1,0)","v":0},1300.29,null,null,null,null,null,null,null,null,null,null,null,null,null,-2000,0,null,0,null,null,null,null,null,null,null,null,22.23]
["1999-08-13",{"$f":"VLOOKUP(A1655,'input BCI'!$O$3:$R$5000,4)","v":11.94},null,null,11.94,null,null,null,null,null,null,null,null,0,11.94,null,null,11.94,null,null,null,1,11.94,11.94,{"$f":"AVERAGE(INDIRECT($X$1&ROW()-$Y$4+1):X1655)","v":11.785},0,0,{"$f":"IF(AND(AA1654=0,AA1655=1,SUM(INDIRECT($AA$1&ROW()-$AB$4):AA1654)=0),1,0)","v":0},1,{"$f":"IF(AND(AC1654=0,AC1655=1,SUM(INDIRECT($AC$1&ROW()-AD$4):AC1654)=0),1,0)","v":0},1327.68,null,null,null,null,null,null,null,null,null,null,null,null,null,-2000,0,null,0,null,null,null,null,null,null,null,null,22.23]
["1999-09-17",{"$f":"VLOOKUP(A1660,'input BCI'!$O$3:$R$5000,4)","v":11.48},null,null,11.48,null,null,null,null,null,null,null,null,0,11.48,null,null,11.48,null,null,null,1,11.48,11.48,{"$f":"AVERAGE(INDIRECT($X$1&ROW()-$Y$4+1):X1660)","v":11.280000000000001},0,0,{"$f":"IF(AND(AA1659=0,AA1660=1,SUM(INDIRECT($AA$1&ROW()-$AB$4):AA1659)=0),1,0)","v":0},1,{"$f":"IF(AND(AC1659=0,AC1660=1,SUM(INDIRECT($AC$1&ROW()-AD$4):AC1659)=0),1,0)","v":0},1335.42,null,null,null,null,null,null,null,null,null,null,null,null,null,-2000,0,null,0,null,null,null,null,null,null,null,null,22.23]
["1999-10-08",{"$f":"VLOOKUP(A1663,'input BCI'!$O$3:$R$5000,4)","v":9.9600000000000009},null,null,9.9600000000000009,null,null,null,null,null,null,null,null,0,9.9600000000000009,null,null,9.9600000000000009,null,null,null,1,9.9600000000000009,9.9600000000000009,{"$f":"AVERAGE(INDIRECT($X$1&ROW()-$Y$4+1):X1663)","v":9.7850000000000001},0,0,{"$f":"IF(AND(AA1662=0,AA1663=1,SUM(INDIRECT($AA$1&ROW()-$AB$4):AA1662)=0),1,0)","v":0},1,{"$f":"IF(AND(AC1662=0,AC1663=1,SUM(INDIRECT($AC$1&ROW()-AD$4):AC1662)=0),1,0)","v":0},1336.02,null,null,null,null,null,null,null,null,null,null,null,null,null,-2000,0,null,0,null,null,null,null,null,null,null,null,22.23]
["1999-11-19",{"$f":"VLOOKUP(A1669,'input BCI'!$O$3:$R$5000,4)","v":10.02},null,null,10.02,null,null,null,null,null,null,null,null,0,10.02,null,null,10.02,null,null,null,1,10.02,10.02,{"$f":"AVERAGE(INDIRECT($X$1&ROW()-$Y$4+1):X1669)","v":10.469999999999999},0,1,{"$f":"IF(AND(AA1668=0,AA1669=1,SUM(INDIRECT($AA$1&ROW()-$AB$4):AA1668)=0),1,0)","v":0},0,{"$f":"IF(AND(AC1668=0,AC1669=1,SUM(INDIRECT($AC$1&ROW()-AD$4):AC1668)=0),1,0)","v":0},1422,null,null,null,null,null,null,null,null,null,null,null,null,null,-2000,0,null,0,null,null,null,null,null,null,null,null,22.23]
["1999-12-03",{"$f":"VLOOKUP(A1671,'input BCI'!$O$3:$R$5000,4)","v":11.39},null,null,11.39,null,null,null,null,null,null,null,null,0,11.39,null,null,11.39,null,null,null,1,11.39,11.39,{"$f":"AVERAGE(INDIRECT($X$1&ROW()-$Y$4+1):X1671)","v":11.600000000000001},0,1,{"$f":"IF(AND(AA1670=0,AA1671=1,SUM(INDIRECT($AA$1&ROW()-$AB$4):AA1670)=0),1,0)","v":0},0,{"$f":"IF(AND(AC1670=0,AC1671=1,SUM(INDIRECT($AC$1&ROW()-AD$4):AC1670)=0),1,0)","v":0},1433.3,null,null,null,null,null,null,null,null,null,null,null,null,null,-2000,0,null,0,null,null,null,null,null,null,null,null,22.23]
["1999-12-24",{"$f":"VLOOKUP(A1674,'input BCI'!$O$3:$R$5000,4)","v":12.1},null,null,12.1,null,null,null,null,null,null,null,null,0,12.1,null,null,12.1,null,null,null,1,12.1,12.1,{"$f":"AVERAGE(INDIRECT($X$1&ROW()-$Y$4+1):X1674)","v":12.18},0,1,{"$f":"IF(AND(AA1673=0,AA1674=1,SUM(INDIRECT($AA$1&ROW()-$AB$4):AA1673)=0),1,0)","v":0},0,{"$f":"IF(AND(AC1673=0,AC1674=1,SUM(INDIRECT($AC$1&ROW()-AD$4):AC1673)=0),1,0)","v":0},1430,null,null,null,null,null,null,null,null,null,null,null,null,null,{"$f":"IF(ISNUMBER(AR1674),2000,-2000)","v":-2000},0,null,0,null,null,null,null,null,null,null,null,22.23]
["2000-01-28",{"$f":"VLOOKUP(A1679,'input BCI'!$O$3:$R$5000,4)","v":11.88},null,null,11.88,null,null,null,null,null,null,null,null,0,11.88,null,null,11.88,null,null,null,1,11.88,11.88,{"$f":"AVERAGE(INDIRECT($X$1&ROW()-$Y$4+1):X1679)","v":11.815000000000001},0,0,{"$f":"IF(AND(AA1678=0,AA1679=1,SUM(INDIRECT($AA$1&ROW()-$AB$4):AA1678)=0),1,0)","v":0},1,{"$f":"IF(AND(AC1678=0,AC1679=1,SUM(INDIRECT($AC$1&ROW()-AD$4):AC1678)=0),1,0)","v":0},1360.16,null,null,null,null,null,null,null,null,null,null,null,null,null,-2000,0,null,0,null,null,null,null,null,null,null,null,22.23]
["2000-02-25",{"$f":"VLOOKUP(A1683,'input BCI'!$O$3:$R$5000,4)","v":10.55},null,null,10.55,null,null,null,null,null,null,null,null,0,10.55,null,null,10.55,null,null,null,1,10.55,10.55,{"$f":"AVERAGE(INDIRECT($X$1&ROW()-$Y$4+1):X1683)","v":10.225000000000001},0,0,{"$f":"IF(AND(AA1682=0,AA1683=1,SUM(INDIRECT($AA$1&ROW()-$AB$4):AA1682)=0),1,0)","v":0},1,{"$f":"IF(AND(AC1682=0,AC1683=1,SUM(INDIRECT($AC$1&ROW()-AD$4):AC1682)=0),1,0)","v":0},1333.36,null,null,null,null,null,null,null,null,null,null,null,null,null,-2000,0,null,0,null,null,null,null,null,null,null,null,22.23]
["2000-03-03",{"$f":"VLOOKUP(A1684,'input BCI'!$O$3:$R$5000,4)","v":9.9},null,null,9.9,null,null,null,null,null,null,null,null,0,9.9,null,null,9.9,null,null,null,1,9.9,9.9,{"$f":"AVERAGE(INDIRECT($X$1&ROW()-$Y$4+1):X1684)","v":9.61},0,0,{"$f":"IF(AND(AA1683=0,AA1684=1,SUM(INDIRECT($AA$1&ROW()-$AB$4):AA1683)=0),1,0)","v":0},1,{"$f":"IF(AND(AC1683=0,AC1684=1,SUM(INDIRECT($AC$1&ROW()-AD$4):AC1683)=0),1,0)","v":0},1409.17,null,null,null,null,null,null,null,null,null,null,null,null,null,-2000,0,null,0,null,null,null,null,null,null,null,null,22.23]
["2000-03-31",{"$f":"VLOOKUP(A1688,'input BCI'!$O$3:$R$5000,4)","v":10.46},null,null,10.46,null,null,null,null,null,null,null,null,0,10.46,null,null,10.46,null,null,null,1,10.46,10.46,{"$f":"AVERAGE(INDIRECT($X$1&ROW()-$Y$4+1):X1688)","v":10.79},0,1,{"$f":"IF(AND(AA1687=0,AA1688=1,SUM(INDIRECT($AA$1&ROW()-$AB$4):AA1687)=0),1,0)","v":0},0,{"$f":"IF(AND(AC1687=0,AC1688=1,SUM(INDIRECT($AC$1&ROW()-AD$4):AC1687)=0),1,0)","v":0},1507.73,null,null,null,null,null,null,null,null,null,null,null,null,null,-2000,0,null,0,null,null,null,null,null,null,null,null,22.23]
["2000-05-05",{"$f":"VLOOKUP(A1693,'input BCI'!$O$3:$R$5000,4)","v":11.43},null,null,11.43,null,null,null,null,null,null,null,null,0,11.43,null,null,11.43,null,null,null,1,11.43,11.43,{"$f":"AVERAGE(INDIRECT($X$1&ROW()-$Y$4+1):X1693)","v":11.33},0,0,{"$f":"IF(AND(AA1692=0,AA1693=1,SUM(INDIRECT($AA$1&ROW()-$AB$4):AA1692)=0),1,0)","v":0},1,{"$f":"IF(AND(AC1692=0,AC1693=1,SUM(INDIRECT($AC$1&ROW()-AD$4):AC1692)=0),1,0)","v":0},1432.63,null,null,null,null,null,null,null,null,null,null,null,null,null,-2000,0,null,0,null,null,null,null,null,null,null,null,22.23]
["2000-06-09",{"$f":"VLOOKUP(A1698,'input BCI'!$O$3:$R$5000,4)","v":10.72},null,null,10.72,null,null,null,null,null,null,null,null,0,10.72,null,null,10.72,null,null,null,1,10.72,10.72,{"$f":"AVERAGE(INDIRECT($X$1&ROW()-$Y$4+1):X1698)","v":10.39},0,0,{"$f":"IF(AND(AA1697=0,AA1698=1,SUM(INDIRECT($AA$1&ROW()-$AB$4):AA1697)=0),1,0)","v":0},1,{"$f":"IF(AND(AC1697=0,AC1698=1,SUM(INDIRECT($AC$1&ROW()-AD$4):AC1697)=0),1,0)","v":0},1456.95,null,null,null,null,null,null,null,null,null,null,null,null,null,-2000,0,null,0,null,null,null,null,null,null,null,null,22.23]
["2000-06-23",{"$f":"VLOOKUP(A1700,'input BCI'!$O$3:$R$5000,4)","v":9.4499999999999993},null,null,9.4499999999999993,null,null,null,null,null,null,null,null,0,9.4499999999999993,null,null,9.4499999999999993,null,null,null,1,9.4499999999999993,9.4499999999999993,{"$f":"AVERAGE(INDIRECT($X$1&ROW()-$Y$4+1):X1700)","v":9.25},0,0,{"$f":"IF(AND(AA1699=0,AA1700=1,SUM(INDIRECT($AA$1&ROW()-$AB$4):AA1699)=0),1,0)","v":0},1,{"$f":"IF(AND(AC1699=0,AC1700=1,SUM(INDIRECT($AC$1&ROW()-AD$4):AC1699)=0),1,0)","v":0},1441.48,null,null,null,null,null,null,null,null,null,null,null,null,null,-2000,0,null,0,null,null,null,null,null,null,null,null,22.23]
["2000-07-14",{"$f":"VLOOKUP(A1703,'input BCI'!$O$3:$R$5000,4)","v":8.2200000000000006},null,null,8.2200000000000006,null,null,null,null,null,null,null,null,0,8.2200000000000006,null,null,8.2200000000000006,null,null,null,1,8.2200000000000006,8.2200000000000006,{"$f":"AVERAGE(INDIRECT($X$1&ROW()-$Y$4+1):X1703)","v":8.09},0,0,{"$f":"IF(AND(AA1702=0,AA1703=1,SUM(INDIRECT($AA$1&ROW()-$AB$4):AA1702)=0),1,0)","v":0},1,{"$f":"IF(AND(AC1702=0,AC1703=1,SUM(INDIRECT($AC$1&ROW()-AD$4):AC1702)=0),1,0)","v":0},1509.98,null,null,null,null,null,null,null,null,null,null,null,null,null,-2000,0,null,0,null,null,null,null,null,null,null,null,22.23]
["2000-08-18",{"$f":"VLOOKUP(A1708,'input BCI'!$O$3:$R$5000,4)","v":5.4},null,null,5.4,null,null,null,null,null,null,null,null,0,5.4,null,null,5.4,null,null,null,1,5.4,5.4,{"$f":"AVERAGE(INDIRECT($X$1&ROW()-$Y$4+1):X1708)","v":5.2949999999999999},0,0,{"$f":"IF(AND(AA1707=0,AA1708=1,SUM(INDIRECT($AA$1&ROW()-$AB$4):AA1707)=0),1,0)","v":0},1,{"$f":"IF(AND(AC1707=0,AC1708=1,SUM(INDIRECT($AC$1&ROW()-AD$4):AC1707)=0),1,0)","v":0},1491.72,null,null,null,null,null,null,null,null,null,null,null,null,null,-2000,0,null,0,null,null,null,null,null,null,null,null,22.23]
["2000-09-15",{"$f":"VLOOKUP(A1712,'input BCI'!$O$3:$R$5000,4)","v":5.7},null,null,5.7,null,null,null,null,null,null,null,null,0,5.7,null,null,5.7,null,null,null,1,5.7,5.7,{"$f":"AVERAGE(INDIRECT($X$1&ROW()-$Y$4+1):X1712)","v":5.6850000000000005},0,0,{"$f":"IF(AND(AA1711=0,AA1712=1,SUM(INDIRECT($AA$1&ROW()-$AB$4):AA1711)=0),1,0)","v":0},1,{"$f":"IF(AND(AC1711=0,AC1712=1,SUM(INDIRECT($AC$1&ROW()-AD$4):AC1711)=0),1,0)","v":0},1465.81,null,null,null,null,null,null,null,null,null,null,null,null,null,-2000,0,null,0,null,null,null,null,null,null,null,null,22.23]
["2000-09-22",{"$f":"VLOOKUP(A1713,'input BCI'!$O$3:$R$5000,4)","v":5.67},null,null,5.67,null,null,null,null,null,null,null,null,0,5.67,null,null,5.67,null,null,null,1,5.67,5.67,{"$f":"AVERAGE(INDIRECT($X$1&ROW()-$Y$4+1):X1713)","v":5.4950000000000001},0,0,{"$f":"IF(AND(AA1712=0,AA1713=1,SUM(INDIRECT($AA$1&ROW()-$AB$4):AA1712)=0),1,0)","v":0},1,{"$f":"IF(AND(AC1712=0,AC1713=1,SUM(INDIRECT($AC$1&ROW()-AD$4):AC1712)=0),1,0)","v":0},1448.72,null,null,null,null,null,null,null,null,null,null,null,null,null,-2000,0,null,0,null,null,null,null,null,null,null,null,22.23]
["2000-10-20",{"$f":"VLOOKUP(A1717,'input BCI'!$O$3:$R$5000,4)","v":3.73},null,null,3.73,null,null,null,null,null,null,null,null,0,3.73,null,null,3.73,null,null,null,1,3.73,3.73,{"$f":"AVERAGE(INDIRECT($X$1&ROW()-$Y$4+1):X1717)","v":3.6100000000000003},0,0,{"$f":"IF(AND(AA1716=0,AA1717=1,SUM(INDIRECT($AA$1&ROW()-$AB$4):AA1716)=0),1,0)","v":0},1,{"$f":"IF(AND(AC1716=0,AC1717=1,SUM(INDIRECT($AC$1&ROW()-AD$4):AC1716)=0),1,0)","v":0},1396.93,null,null,null,null,null,null,null,null,null,null,null,null,null,-2000,0,null,0,null,null,null,null,null,null,null,null,22.23]
["2000-11-24",{"$f":"VLOOKUP(A1722,'input BCI'!$O$3:$R$5000,4)","v":3.95},null,null,3.95,null,null,null,null,null,null,null,null,0,3.95,null,null,3.95,null,null,null,1,3.95,3.95,{"$f":"AVERAGE(INDIRECT($X$1&ROW()-$Y$4+1):X1722)","v":3.5700000000000003},0,0,{"$f":"IF(AND(AA1721=0,AA1722=1,SUM(INDIRECT($AA$1&ROW()-$AB$4):AA1721)=0),1,0)","v":0},1,{"$f":"IF(AND(AC1721=0,AC1722=1,SUM(INDIRECT($AC$1&ROW()-AD$4):AC1721)=0),1,0)","v":0},1345,null,null,null,null,null,null,null,null,null,null,null,null,null,-2000,0,null,0,null,null,null,null,null,null,null,null,22.23]
["2000-12-29",{"$f":"VLOOKUP(A1727,'input BCI'!$O$3:$R$5000,4)","v":0.57999999999999996},null,null,0.57999999999999996,null,null,null,null,null,null,null,null,0,0.57999999999999996,null,null,0.57999999999999996,null,null,null,1,0.57999999999999996,0.57999999999999996,{"$f":"AVERAGE(INDIRECT($X$1&ROW()-$Y$4+1):X1727)","v":0.36499999999999999},0,0,{"$f":"IF(AND(AA1726=0,AA1727=1,SUM(INDIRECT($AA$1&ROW()-$AB$4):AA1726)=0),1,0)","v":0},1,{"$f":"IF(AND(AC1726=0,AC1727=1,SUM(INDIRECT($AC$1&ROW()-AD$4):AC1726)=0),1,0)","v":0},1334.22,null,null,null,null,null,null,null,null,null,null,null,null,null,-2000,0,null,0,null,null,null,null,null,null,null,null,22.23]
["2001-01-12",{"$f":"VLOOKUP(A1729,'input BCI'!$O$3:$R$5000,4)","v":-0.75},null,null,-0.75,null,null,null,null,null,null,null,null,0,-0.75,null,null,-0.75,null,null,null,1,-0.75,-0.75,{"$f":"AVERAGE(INDIRECT($X$1&ROW()-$Y$4+1):X1729)","v":-1.0249999999999999},0,0,{"$f":"IF(AND(AA1728=0,AA1729=1,SUM(INDIRECT($AA$1&ROW()-$AB$4):AA1728)=0),1,0)","v":0},1,{"$f":"IF(AND(AC1728=0,AC1729=1,SUM(INDIRECT($AC$1&ROW()-AD$4):AC1728)=0),1,0)","v":0},1326.82,null,null,null,null,null,null,null,null,null,null,null,null,null,-2000,0,null,0,null,null,null,null,null,null,null,null,22.23]
["2001-02-02",{"$f":"VLOOKUP(A1732,'input BCI'!$O$3:$R$5000,4)","v":-0.89},null,null,-0.89,null,null,null,null,null,null,null,null,0,-0.89,null,null,-0.89,null,null,null,1,-0.89,-0.89,{"$f":"AVERAGE(INDIRECT($X$1&ROW()-$Y$4+1):X1732)","v":-0.67},0,1,{"$f":"IF(AND(AA1731=0,AA1732=1,SUM(INDIRECT($AA$1&ROW()-$AB$4):AA1731)=0),1,0)","v":0},0,{"$f":"IF(AND(AC1731=0,AC1732=1,SUM(INDIRECT($AC$1&ROW()-AD$4):AC1731)=0),1,0)","v":0},1349.47,null,null,null,null,null,null,null,null,null,null,null,null,null,-2000,0,null,0,null,null,null,null,null,null,null,null,22.23]
["2001-03-09",{"$f":"VLOOKUP(A1737,'input BCI'!$O$3:$R$5000,4)","v":-2.57},null,null,-2.57,null,null,null,null,null,null,null,null,0,-2.57,null,null,-2.57,null,null,null,1,-2.57,-2.57,{"$f":"AVERAGE(INDIRECT($X$1&ROW()-$Y$4+1):X1737)","v":-3.1150000000000002},0,0,{"$f":"IF(AND(AA1736=0,AA1737=1,SUM(INDIRECT($AA$1&ROW()-$AB$4):AA1736)=0),1,0)","v":0},1,{"$f":"IF(AND(AC1736=0,AC1737=1,SUM(INDIRECT($AC$1&ROW()-AD$4):AC1736)=0),1,0)","v":0},1233.42,null,null,null,null,null,null,null,null,null,null,null,null,null,-2000,0,null,0,null,null,null,null,null,null,null,null,22.23]
["2001-04-06",{"$f":"VLOOKUP(A1741,'input BCI'!$O$3:$R$5000,4)","v":-6.92},null,null,-6.92,null,null,null,null,null,null,null,null,1,-6.92,null,null,-6.92,null,null,null,1,-6.92,-6.92,{"$f":"AVERAGE(INDIRECT($X$1&ROW()-$Y$4+1):X1741)","v":-7.15},0,{"$f":"IF(Y1741>X1741,1,0)","v":0},{"$f":"IF(AND(AA1740=0,AA1741=1,SUM(INDIRECT($AA$1&ROW()-$AB$4):AA1740)=0),1,0)","v":0},1,{"$f":"IF(AND(AC1740=0,AC1741=1,SUM(INDIRECT($AC$1&ROW()-AD$4):AC1740)=0),1,0)","v":0},1128.43,null,null,null,null,null,null,null,null,null,null,null,null,"2001-04-06",2000,1,null,0,null,null,null,null,null,null,null,null,22.23,null,null,null,{"$f":"MAX(BH1608:BH1609)","v":"00:00:00"},{"$f":"(BG1741-BI1741)/7","v":0}]
["2001-04-13",{"$f":"VLOOKUP(A1742,'input BCI'!$O$3:$R$5000,4)","v":-7.38},null,null,-7.38,null,null,null,null,null,null,null,null,1,-7.38,null,null,-7.38,null,null,null,1,-7.38,-7.38,{"$f":"AVERAGE(INDIRECT($X$1&ROW()-$Y$4+1):X1742)","v":-7.24},0,1,{"$f":"IF(AND(AA1741=0,AA1742=1,SUM(INDIRECT($AA$1&ROW()-$AB$4):AA1741)=0),1,0)","v":1},{"$f":"IF(Y1742<X1742,1,0)","v":0},{"$f":"IF(AND(AC1741=0,AC1742=1,SUM(INDIRECT($AC$1&ROW()-AD$4):AC1741)=0),1,0)","v":0},1183.5,null,null,null,null,null,null,null,null,null,null,null,null,"2001-04-13",2000,1,null,0,null,null,null,null,null,null,null,null,22.23]
["2001-05-11",{"$f":"VLOOKUP(A1746,'input BCI'!$O$3:$R$5000,4)","v":-6.15},null,null,-6.15,null,null,null,null,null,null,null,null,1,-6.15,null,null,-6.15,null,null,null,1,-6.15,-6.15,{"$f":"AVERAGE(INDIRECT($X$1&ROW()-$Y$4+1):X1746)","v":-6.1850000000000005},0,0,{"$f":"IF(AND(AA1745=0,AA1746=1,SUM(INDIRECT($AA$1&ROW()-$AB$4):AA1745)=0),1,0)","v":0},1,{"$f":"IF(AND(AC1745=0,AC1746=1,SUM(INDIRECT($AC$1&ROW()-AD$4):AC1745)=0),1,0)","v":0},1245.67,null,null,null,null,null,null,null,null,null,null,null,null,"2001-05-11",2000,1,null,0,null,null,null,null,null,null,null,null,22.23]
["2001-06-15",{"$f":"VLOOKUP(A1751,'input BCI'!$O$3:$R$5000,4)","v":-6.74},null,null,-6.74,null,null,null,null,null,null,null,null,1,-6.74,null,null,-6.74,null,null,null,1,-6.74,-6.74,{"$f":"AVERAGE(INDIRECT($X$1&ROW()-$Y$4+1):X1751)","v":-7.1150000000000002},0,0,{"$f":"IF(AND(AA1750=0,AA1751=1,SUM(INDIRECT($AA$1&ROW()-$AB$4):AA1750)=0),1,0)","v":0},1,{"$f":"IF(AND(AC1750=0,AC1751=1,SUM(INDIRECT($AC$1&ROW()-AD$4):AC1750)=0),1,0)","v":0},1214.3599999999999,null,null,null,null,null,null,null,null,null,null,null,null,"2001-06-15",2000,1,null,0,null,null,null,null,null,null,null,null,22.23]
["2001-07-20",{"$f":"VLOOKUP(A1756,'input BCI'!$O$3:$R$5000,4)","v":-8.58},null,null,-8.58,null,null,null,null,null,null,null,null,1,-8.58,null,null,-8.58,null,null,null,1,-8.58,-8.58,{"$f":"AVERAGE(INDIRECT($X$1&ROW()-$Y$4+1):X1756)","v":-8.6},0,0,{"$f":"IF(AND(AA1755=0,AA1756=1,SUM(INDIRECT($AA$1&ROW()-$AB$4):AA1755)=0),1,0)","v":0},1,{"$f":"IF(AND(AC1755=0,AC1756=1,SUM(INDIRECT($AC$1&ROW()-AD$4):AC1755)=0),1,0)","v":0},1210.8499999999999,null,null,null,null,null,null,null,null,null,null,null,null,"2001-07-20",2000,1,null,0,null,null,null,null,null,null,null,null,22.23]
["2001-08-03",{"$f":"VLOOKUP(A1758,'input BCI'!$O$3:$R$5000,4)","v":-8.4600000000000009},null,null,-8.4600000000000009,null,null,null,null,null,null,null,null,1,-8.4600000000000009,null,null,-8.4600000000000009,null,null,null,1,-8.4600000000000009,-8.4600000000000009,{"$f":"AVERAGE(INDIRECT($X$1&ROW()-$Y$4+1):X1758)","v":-8.3150000000000013},0,1,{"$f":"IF(AND(AA1757=0,AA1758=1,SUM(INDIRECT($AA$1&ROW()-$AB$4):AA1757)=0),1,0)","v":0},0,{"$f":"IF(AND(AC1757=0,AC1758=1,SUM(INDIRECT($AC$1&ROW()-AD$4):AC1757)=0),1,0)","v":0},1214.3499999999999,null,null,null,null,null,null,null,null,null,null,null,null,"2001-08-03",2000,1,null,0,null,null,null,null,null,null,null,null,22.23]
["2001-08-24",{"$f":"VLOOKUP(A1761,'input BCI'!$O$3:$R$5000,4)","v":-7.87},null,null,-7.87,null,null,null,null,null,null,null,null,1,-7.87,null,null,-7.87,null,null,null,1,-7.87,-7.87,{"$f":"AVERAGE(INDIRECT($X$1&ROW()-$Y$4+1):X1761)","v":-7.93},0,0,{"$f":"IF(AND(AA1760=0,AA1761=1,SUM(INDIRECT($AA$1&ROW()-$AB$4):AA1760)=0),1,0)","v":0},1,{"$f":"IF(AND(AC1760=0,AC1761=1,SUM(INDIRECT($AC$1&ROW()-AD$4):AC1760)=0),1,0)","v":0},1184.93,null,null,null,null,null,null,null,null,null,null,null,null,"2001-08-24",2000,1,null,0,null,null,null,null,null,null,null,null,22.23]
["2001-09-28",{"$f":"VLOOKUP(A1766,'input BCI'!$O$3:$R$5000,4)","v":-10.119999999999999},null,null,-10.119999999999999,null,null,null,null,null,null,null,null,1,-10.119999999999999,null,null,-10.119999999999999,null,null,null,1,-10.119999999999999,-10.119999999999999,{"$f":"AVERAGE(INDIRECT($X$1&ROW()-$Y$4+1):X1766)","v":-10.364999999999998},0,0,{"$f":"IF(AND(AA1765=0,AA1766=1,SUM(INDIRECT($AA$1&ROW()-$AB$4):AA1765)=0),1,0)","v":0},1,{"$f":"IF(AND(AC1765=0,AC1766=1,SUM(INDIRECT($AC$1&ROW()-AD$4):AC1765)=0),1,0)","v":0},1040.94,null,null,null,null,null,null,null,null,null,null,null,null,"2001-09-28",2000,1,null,0,null,null,null,null,null,null,null,null,22.23]
["2001-10-26",{"$f":"VLOOKUP(A1770,'input BCI'!$O$3:$R$5000,4)","v":-10.38},null,null,-10.38,null,null,null,null,null,null,null,null,1,-10.38,null,null,-10.38,null,null,null,1,-10.38,-10.38,{"$f":"AVERAGE(INDIRECT($X$1&ROW()-$Y$4+1):X1770)","v":-10.38},0,0,{"$f":"IF(AND(AA1769=0,AA1770=1,SUM(INDIRECT($AA$1&ROW()-$AB$4):AA1769)=0),1,0)","v":0},0,{"$f":"IF(AND(AC1769=0,AC1770=1,SUM(INDIRECT($AC$1&ROW()-AD$4):AC1769)=0),1,0)","v":0},1104.6099999999999,null,null,null,null,null,null,null,null,null,null,null,null,"2001-10-26",2000,1,null,0,null,null,null,null,null,null,null,null,22.23]
["2001-11-02",{"$f":"VLOOKUP(A1771,'input BCI'!$O$3:$R$5000,4)","v":-10.38},null,null,-10.38,null,null,null,null,null,null,null,null,1,-10.38,null,null,-10.38,null,null,null,1,-10.38,-10.38,{"$f":"AVERAGE(INDIRECT($X$1&ROW()-$Y$4+1):X1771)","v":-10.385000000000002},0,0,{"$f":"IF(AND(AA1770=0,AA1771=1,SUM(INDIRECT($AA$1&ROW()-$AB$4):AA1770)=0),1,0)","v":0},1,{"$f":"IF(AND(AC1770=0,AC1771=1,SUM(INDIRECT($AC$1&ROW()-AD$4):AC1770)=0),1,0)","v":0},1087.2,null,null,null,null,null,null,null,null,null,null,null,null,"2001-11-02",2000,1,null,0,null,null,null,null,null,null,null,null,22.23]
["2001-11-30",{"$f":"VLOOKUP(A1775,'input BCI'!$O$3:$R$5000,4)","v":-9.5299999999999994},null,null,-9.5299999999999994,null,null,null,null,null,null,null,null,1,-9.5299999999999994,null,null,-9.5299999999999994,null,null,null,1,-9.5299999999999994,-9.5299999999999994,{"$f":"AVERAGE(INDIRECT($X$1&ROW()-$Y$4+1):X1775)","v":-9.19},0,1,{"$f":"IF(AND(AA1774=0,AA1775=1,SUM(INDIRECT($AA$1&ROW()-$AB$4):AA1774)=0),1,0)","v":0},0,{"$f":"IF(AND(AC1774=0,AC1775=1,SUM(INDIRECT($AC$1&ROW()-AD$4):AC1774)=0),1,0)","v":0},1139.45,null,null,null,null,null,null,null,null,null,null,null,null,"2001-11-30",2000,1,null,0,null,null,null,null,null,null,null,null,22.23]
["2002-01-04",{"$f":"VLOOKUP(A1780,'input BCI'!$O$3:$R$5000,4)","v":-5.81},null,null,-5.81,null,null,null,null,null,null,null,null,0,-5.81,null,null,-5.81,null,null,null,1,-5.81,-5.81,{"$f":"AVERAGE(INDIRECT($X$1&ROW()-$Y$4+1):X1780)","v":-5.2349999999999994},0,1,{"$f":"IF(AND(AA1779=0,AA1780=1,SUM(INDIRECT($AA$1&ROW()-$AB$4):AA1779)=0),1,0)","v":0},0,{"$f":"IF(AND(AC1779=0,AC1780=1,SUM(INDIRECT($AC$1&ROW()-AD$4):AC1779)=0),1,0)","v":0},1172.51,null,null,null,null,null,null,null,null,null,null,null,null,null,-2000,0,null,0,null,null,null,null,null,null,null,null,22.23]
["2002-02-08",{"$f":"VLOOKUP(A1785,'input BCI'!$O$3:$R$5000,4)","v":-1.73},null,null,-1.73,null,null,null,null,null,null,null,null,0,-1.73,null,null,-1.73,null,null,null,1,-1.73,-1.73,{"$f":"AVERAGE(INDIRECT($X$1&ROW()-$Y$4+1):X1785)","v":-1.45},0,1,{"$f":"IF(AND(AA1784=0,AA1785=1,SUM(INDIRECT($AA$1&ROW()-$AB$4):AA1784)=0),1,0)","v":0},0,{"$f":"IF(AND(AC1784=0,AC1785=1,SUM(INDIRECT($AC$1&ROW()-AD$4):AC1784)=0),1,0)","v":0},1096.22,null,null,null,null,null,null,null,null,null,null,null,null,null,-2000,0,null,0,null,null,null,null,null,null,null,null,22.23]
["2002-02-22",{"$f":"VLOOKUP(A1787,'input BCI'!$O$3:$R$5000,4)","v":-0.64},null,null,-0.64,null,null,null,null,null,null,null,null,0,-0.64,null,null,-0.64,null,null,null,1,-0.64,-0.64,{"$f":"AVERAGE(INDIRECT($X$1&ROW()-$Y$4+1):X1787)","v":-0.55000000000000004},0,1,{"$f":"IF(AND(AA1786=0,AA1787=1,SUM(INDIRECT($AA$1&ROW()-$AB$4):AA1786)=0),1,0)","v":0},0,{"$f":"IF(AND(AC1786=0,AC1787=1,SUM(INDIRECT($AC$1&ROW()-AD$4):AC1786)=0),1,0)","v":0},1089.8399999999999,null,null,null,null,null,null,null,null,null,null,null,null,null,-2000,0,null,0,null,null,null,null,null,null,null,null,22.23]
["2002-03-15",{"$f":"VLOOKUP(A1790,'input BCI'!$O$3:$R$5000,4)","v":0.26},null,null,0.26,null,null,null,null,null,null,null,null,0,0.26,null,null,0.26,null,null,null,1,0.26,0.26,{"$f":"AVERAGE(INDIRECT($X$1&ROW()-$Y$4+1):X1790)","v":0.4},0,1,{"$f":"IF(AND(AA1789=0,AA1790=1,SUM(INDIRECT($AA$1&ROW()-$AB$4):AA1789)=0),1,0)","v":0},0,{"$f":"IF(AND(AC1789=0,AC1790=1,SUM(INDIRECT($AC$1&ROW()-AD$4):AC1789)=0),1,0)","v":0},1166.1400000000001,null,null,null,null,null,null,null,null,null,null,null,null,null,-2000,0,null,0,null,null,null,null,null,null,null,null,22.23]
["2002-04-19",{"$f":"VLOOKUP(A1795,'input BCI'!$O$3:$R$5000,4)","v":1.4},null,null,1.4,null,null,null,null,null,null,null,null,0,1.4,null,null,1.4,null,null,null,1,1.4,1.4,{"$f":"AVERAGE(INDIRECT($X$1&ROW()-$Y$4+1):X1795)","v":1.3599999999999999},0,0,{"$f":"IF(AND(AA1794=0,AA1795=1,SUM(INDIRECT($AA$1&ROW()-$AB$4):AA1794)=0),1,0)","v":0},1,{"$f":"IF(AND(AC1794=0,AC1795=1,SUM(INDIRECT($AC$1&ROW()-AD$4):AC1794)=0),1,0)","v":0},1125.17,null,null,null,null,null,null,null,null,null,null,null,null,null,-2000,0,null,0,null,null,null,null,null,null,null,null,22.23]
["2002-05-17",{"$f":"VLOOKUP(A1799,'input BCI'!$O$3:$R$5000,4)","v":0.69},null,null,0.69,null,null,null,null,null,null,null,null,0,0.69,null,null,0.69,null,null,null,1,0.69,0.69,{"$f":"AVERAGE(INDIRECT($X$1&ROW()-$Y$4+1):X1799)","v":0.7},0,1,{"$f":"IF(AND(AA1798=0,AA1799=1,SUM(INDIRECT($AA$1&ROW()-$AB$4):AA1798)=0),1,0)","v":0},0,{"$f":"IF(AND(AC1798=0,AC1799=1,SUM(INDIRECT($AC$1&ROW()-AD$4):AC1798)=0),1,0)","v":0},1106.5899999999999,null,null,null,null,null,null,null,null,null,null,null,null,null,-2000,0,null,0,null,null,null,null,null,null,null,null,22.23]
["2002-05-24",{"$f":"VLOOKUP(A1800,'input BCI'!$O$3:$R$5000,4)","v":0.71},null,null,0.71,null,null,null,null,null,null,null,null,0,0.71,null,null,0.71,null,null,null,1,0.71,0.71,{"$f":"AVERAGE(INDIRECT($X$1&ROW()-$Y$4+1):X1800)","v":0.9},0,1,{"$f":"IF(AND(AA1799=0,AA1800=1,SUM(INDIRECT($AA$1&ROW()-$AB$4):AA1799)=0),1,0)","v":0},0,{"$f":"IF(AND(AC1799=0,AC1800=1,SUM(INDIRECT($AC$1&ROW()-AD$4):AC1799)=0),1,0)","v":0},1083.82,null,null,null,null,null,null,null,null,null,null,null,null,null,-2000,0,null,0,null,null,null,null,null,null,null,null,22.23]
["2002-06-21",{"$f":"VLOOKUP(A1804,'input BCI'!$O$3:$R$5000,4)","v":2.02},null,null,2.02,null,null,null,null,null,null,null,null,0,2.02,null,null,2.02,null,null,null,{"$f":"V1803","v":1},2.02,2.02,{"$f":"AVERAGE(INDIRECT($X$1&ROW()-$Y$4+1):X1804)","v":2.1},0,1,{"$f":"IF(AND(AA1803=0,AA1804=1,SUM(INDIRECT($AA$1&ROW()-$AB$4):AA1803)=0),1,0)","v":0},0,{"$f":"IF(AND(AC1803=0,AC1804=1,SUM(INDIRECT($AC$1&ROW()-AD$4):AC1803)=0),1,0)","v":0},989.14,null,null,null,null,null,null,null,null,null,null,null,null,null,-2000,0,null,0,null,null,null,null,null,null,null,null,22.23]
["2002-07-26",{"$f":"VLOOKUP(A1809,'input BCI'!$O$3:$R$5000,4)","v":2.5},null,null,2.5,null,null,null,null,null,null,null,null,0,2.5,null,null,2.5,null,null,null,1,2.5,2.5,{"$f":"AVERAGE(INDIRECT($X$1&ROW()-$Y$4+1):X1809)","v":2.4750000000000001},0,0,{"$f":"IF(AND(AA1808=0,AA1809=1,SUM(INDIRECT($AA$1&ROW()-$AB$4):AA1808)=0),1,0)","v":0},1,{"$f":"IF(AND(AC1808=0,AC1809=1,SUM(INDIRECT($AC$1&ROW()-AD$4):AC1808)=0),1,0)","v":0},852.84,null,null,null,null,null,null,null,null,null,null,null,null,null,-2000,0,null,0,null,null,null,null,null,null,null,null,22.23]
["2002-08-30",{"$f":"VLOOKUP(A1814,'input BCI'!$O$3:$R$5000,4)","v":4.46},null,null,4.46,null,null,null,null,null,null,null,null,0,4.46,null,null,4.46,null,null,null,1,4.46,4.46,{"$f":"AVERAGE(INDIRECT($X$1&ROW()-$Y$4+1):X1814)","v":4.7549999999999999},0,1,{"$f":"IF(AND(AA1813=0,AA1814=1,SUM(INDIRECT($AA$1&ROW()-$AB$4):AA1813)=0),1,0)","v":0},0,{"$f":"IF(AND(AC1813=0,AC1814=1,SUM(INDIRECT($AC$1&ROW()-AD$4):AC1813)=0),1,0)","v":0},917.8,null,null,null,null,null,null,null,null,null,null,null,null,null,-2000,0,null,0,null,null,null,null,null,null,null,null,22.23]
["2002-09-13",{"$f":"VLOOKUP(A1816,'input BCI'!$O$3:$R$5000,4)","v":5.19},null,null,5.19,null,null,null,null,null,null,null,null,0,5.19,null,null,5.19,null,null,null,1,5.19,5.19,{"$f":"AVERAGE(INDIRECT($X$1&ROW()-$Y$4+1):X1816)","v":5.0050000000000008},0,0,{"$f":"IF(AND(AA1815=0,AA1816=1,SUM(INDIRECT($AA$1&ROW()-$AB$4):AA1815)=0),1,0)","v":0},1,{"$f":"IF(AND(AC1815=0,AC1816=1,SUM(INDIRECT($AC$1&ROW()-AD$4):AC1815)=0),1,0)","v":1},889.81,null,null,null,null,null,null,null,null,null,null,null,null,null,-2000,0,null,0,null,null,null,null,null,null,null,null,22.23]
["2002-10-04",{"$f":"VLOOKUP(A1819,'input BCI'!$O$3:$R$5000,4)","v":3.72},null,null,3.72,null,null,null,null,null,null,null,null,0,3.72,null,null,3.72,null,null,null,1,3.72,3.72,{"$f":"AVERAGE(INDIRECT($X$1&ROW()-$Y$4+1):X1819)","v":3.415},0,0,{"$f":"IF(AND(AA1818=0,AA1819=1,SUM(INDIRECT($AA$1&ROW()-$AB$4):AA1818)=0),1,0)","v":0},1,{"$f":"IF(AND(AC1818=0,AC1819=1,SUM(INDIRECT($AC$1&ROW()-AD$4):AC1818)=0),1,0)","v":0},800.58,null,null,null,null,null,null,null,null,null,null,null,null,null,-2000,0,null,0,null,null,null,null,null,null,null,null,22.23]
["2002-11-08",{"$f":"VLOOKUP(A1824,'input BCI'!$O$3:$R$5000,4)","v":5.94},null,null,5.94,null,null,null,null,null,null,null,null,0,5.94,null,null,5.94,null,null,null,1,5.94,5.94,{"$f":"AVERAGE(INDIRECT($X$1&ROW()-$Y$4+1):X1824)","v":6.37},0,1,{"$f":"IF(AND(AA1823=0,AA1824=1,SUM(INDIRECT($AA$1&ROW()-$AB$4):AA1823)=0),1,0)","v":0},0,{"$f":"IF(AND(AC1823=0,AC1824=1,SUM(INDIRECT($AC$1&ROW()-AD$4):AC1823)=0),1,0)","v":0},894.74,null,null,null,null,null,null,null,null,null,null,null,null,null,-2000,0,null,0,null,null,null,null,null,null,null,null,22.23]
["2002-12-06",{"$f":"VLOOKUP(A1828,'input BCI'!$O$3:$R$5000,4)","v":8.43},null,null,8.43,null,null,null,null,null,null,null,null,0,8.43,null,null,8.43,null,null,null,1,8.43,8.43,{"$f":"AVERAGE(INDIRECT($X$1&ROW()-$Y$4+1):X1828)","v":8.6950000000000003},0,1,{"$f":"IF(AND(AA1827=0,AA1828=1,SUM(INDIRECT($AA$1&ROW()-$AB$4):AA1827)=0),1,0)","v":0},0,{"$f":"IF(AND(AC1827=0,AC1828=1,SUM(INDIRECT($AC$1&ROW()-AD$4):AC1827)=0),1,0)","v":0},912.23,null,null,null,null,null,null,null,null,null,null,null,null,null,-2000,0,null,0,null,null,null,null,null,null,null,null,22.23]
["2002-12-13",{"$f":"VLOOKUP(A1829,'input BCI'!$O$3:$R$5000,4)","v":8.9600000000000009},null,null,8.9600000000000009,null,null,null,null,null,null,null,null,0,8.9600000000000009,null,null,8.9600000000000009,null,null,null,1,8.9600000000000009,8.9600000000000009,{"$f":"AVERAGE(INDIRECT($X$1&ROW()-$Y$4+1):X1829)","v":9.02},0,1,{"$f":"IF(AND(AA1828=0,AA1829=1,SUM(INDIRECT($AA$1&ROW()-$AB$4):AA1828)=0),1,0)","v":0},0,{"$f":"IF(AND(AC1828=0,AC1829=1,SUM(INDIRECT($AC$1&ROW()-AD$4):AC1828)=0),1,0)","v":0},889.48,null,null,null,null,null,null,null,null,null,null,null,null,null,-2000,0,null,0,null,null,null,null,null,null,null,null,22.23]
["2003-01-10",{"$f":"VLOOKUP(A1833,'input BCI'!$O$3:$R$5000,4)","v":8.51},null,null,8.51,null,null,null,null,null,null,null,null,0,8.51,null,null,8.51,null,null,null,1,8.51,8.51,{"$f":"AVERAGE(INDIRECT($X$1&ROW()-$Y$4+1):X1833)","v":8.745000000000001},0,1,{"$f":"IF(AND(AA1832=0,AA1833=1,SUM(INDIRECT($AA$1&ROW()-$AB$4):AA1832)=0),1,0)","v":0},0,{"$f":"IF(AND(AC1832=0,AC1833=1,SUM(INDIRECT($AC$1&ROW()-AD$4):AC1832)=0),1,0)","v":0},927.57,null,null,null,null,null,null,null,null,null,null,null,null,null,-2000,0,null,0,null,null,null,null,null,null,null,null,22.23]
["2003-02-14",{"$f":"VLOOKUP(A1838,'input BCI'!$O$3:$R$5000,4)","v":8.68},null,null,8.68,null,null,null,null,null,null,null,null,0,8.68,null,null,8.68,null,null,null,1,8.68,8.68,{"$f":"AVERAGE(INDIRECT($X$1&ROW()-$Y$4+1):X1838)","v":8.4649999999999999},0,0,{"$f":"IF(AND(AA1837=0,AA1838=1,SUM(INDIRECT($AA$1&ROW()-$AB$4):AA1837)=0),1,0)","v":0},1,{"$f":"IF(AND(AC1837=0,AC1838=1,SUM(INDIRECT($AC$1&ROW()-AD$4):AC1837)=0),1,0)","v":0},834.89,null,null,null,null,null,null,null,null,null,null,null,null,null,-2000,0,null,0,null,null,null,null,null,null,null,null,22.23]
["2003-03-21",{"$f":"VLOOKUP(A1843,'input BCI'!$O$3:$R$5000,4)","v":6.61},null,null,6.61,null,null,null,null,null,null,null,null,0,6.61,null,null,6.61,null,null,null,1,6.61,6.61,{"$f":"AVERAGE(INDIRECT($X$1&ROW()-$Y$4+1):X1843)","v":6.59},0,0,{"$f":"IF(AND(AA1842=0,AA1843=1,SUM(INDIRECT($AA$1&ROW()-$AB$4):AA1842)=0),1,0)","v":0},1,{"$f":"IF(AND(AC1842=0,AC1843=1,SUM(INDIRECT($AC$1&ROW()-AD$4):AC1842)=0),1,0)","v":0},895.79,null,null,null,null,null,null,null,null,null,null,null,null,null,-2000,0,null,0,null,null,null,null,null,null,null,null,22.23]
["2003-04-04",{"$f":"VLOOKUP(A1845,'input BCI'!$O$3:$R$5000,4)","v":6.31},null,null,6.31,null,null,null,null,null,null,null,null,0,6.31,null,null,6.31,null,null,null,1,6.31,6.31,{"$f":"AVERAGE(INDIRECT($X$1&ROW()-$Y$4+1):X1845)","v":6.3049999999999997},0,0,{"$f":"IF(AND(AA1844=0,AA1845=1,SUM(INDIRECT($AA$1&ROW()-$AB$4):AA1844)=0),1,0)","v":0},1,{"$f":"IF(AND(AC1844=0,AC1845=1,SUM(INDIRECT($AC$1&ROW()-AD$4):AC1844)=0),1,0)","v":0},878.85,null,null,null,null,null,null,null,null,null,null,null,null,null,-2000,0,null,0,null,null,null,null,null,null,null,null,22.23]
["2003-04-25",{"$f":"VLOOKUP(A1848,'input BCI'!$O$3:$R$5000,4)","v":5.53},null,null,5.53,null,null,null,null,null,null,null,null,0,5.53,null,null,5.53,null,null,null,1,5.53,5.53,{"$f":"AVERAGE(INDIRECT($X$1&ROW()-$Y$4+1):X1848)","v":5.5449999999999999},0,1,{"$f":"IF(AND(AA1847=0,AA1848=1,SUM(INDIRECT($AA$1&ROW()-$AB$4):AA1847)=0),1,0)","v":1},0,{"$f":"IF(AND(AC1847=0,AC1848=1,SUM(INDIRECT($AC$1&ROW()-AD$4):AC1847)=0),1,0)","v":0},898.81,null,null,null,null,null,null,null,null,null,null,null,null,null,-2000,0,null,0,null,null,null,null,null,null,null,null,22.23]
["2003-05-30",{"$f":"VLOOKUP(A1853,'input BCI'!$O$3:$R$5000,4)","v":6.33},null,null,6.33,null,null,null,null,null,null,null,null,0,6.33,null,null,6.33,null,null,null,1,6.33,6.33,{"$f":"AVERAGE(INDIRECT($X$1&ROW()-$Y$4+1):X1853)","v":6.5649999999999995},0,1,{"$f":"IF(AND(AA1852=0,AA1853=1,SUM(INDIRECT($AA$1&ROW()-$AB$4):AA1852)=0),1,0)","v":0},0,{"$f":"IF(AND(AC1852=0,AC1853=1,SUM(INDIRECT($AC$1&ROW()-AD$4):AC1852)=0),1,0)","v":0},963.59,null,null,null,null,null,null,null,null,null,null,null,null,null,-2000,0,null,0,null,null,null,null,null,null,null,null,22.23]
["2003-06-27",{"$f":"VLOOKUP(A1857,'input BCI'!$O$3:$R$5000,4)","v":9.02},null,null,9.02,null,null,null,null,null,null,null,null,0,9.02,null,null,9.02,null,null,null,1,9.02,9.02,{"$f":"AVERAGE(INDIRECT($X$1&ROW()-$Y$4+1):X1857)","v":9.2850000000000001},0,1,{"$f":"IF(AND(AA1856=0,AA1857=1,SUM(INDIRECT($AA$1&ROW()-$AB$4):AA1856)=0),1,0)","v":0},0,{"$f":"IF(AND(AC1856=0,AC1857=1,SUM(INDIRECT($AC$1&ROW()-AD$4):AC1856)=0),1,0)","v":0},976.23,null,null,null,null,null,null,null,null,null,null,null,null,null,-2000,0,null,0,null,null,null,null,null,null,null,null,22.23]
["2003-07-04",{"$f":"VLOOKUP(A1858,'input BCI'!$O$3:$R$5000,4)","v":9.5500000000000007},null,null,9.5500000000000007,null,null,null,null,null,null,null,null,0,9.5500000000000007,null,null,9.5500000000000007,null,null,null,1,9.5500000000000007,9.5500000000000007,{"$f":"AVERAGE(INDIRECT($X$1&ROW()-$Y$4+1):X1858)","v":9.8249999999999993},0,1,{"$f":"IF(AND(AA1857=0,AA1858=1,SUM(INDIRECT($AA$1&ROW()-$AB$4):AA1857)=0),1,0)","v":0},0,{"$f":"IF(AND(AC1857=0,AC1858=1,SUM(INDIRECT($AC$1&ROW()-AD$4):AC1857)=0),1,0)","v":0},990,null,null,null,null,null,null,null,null,null,null,null,null,null,-2000,0,null,0,null,null,null,null,null,null,null,null,22.23]
["2003-08-01",{"$f":"VLOOKUP(A1862,'input BCI'!$O$3:$R$5000,4)","v":11.73},null,null,11.73,null,null,null,null,null,null,null,null,0,11.73,null,null,11.73,null,null,null,1,11.73,11.73,{"$f":"AVERAGE(INDIRECT($X$1&ROW()-$Y$4+1):X1862)","v":12.045},0,1,{"$f":"IF(AND(AA1861=0,AA1862=1,SUM(INDIRECT($AA$1&ROW()-$AB$4):AA1861)=0),1,0)","v":0},0,{"$f":"IF(AND(AC1861=0,AC1862=1,SUM(INDIRECT($AC$1&ROW()-AD$4):AC1861)=0),1,0)","v":0},980.15,null,null,null,null,null,null,null,null,null,null,null,null,null,-2000,0,null,0,null,null,null,null,null,null,null,null,22.23]
["2003-09-05",{"$f":"VLOOKUP(A1867,'input BCI'!$O$3:$R$5000,4)","v":14.49},null,null,{"$f":"B1867+$O$7","v":14.49},null,null,null,null,null,null,null,null,0,{"$f":"E1867","v":14.49},null,null,14.49,null,null,null,1,{"$f":"R1867","v":14.49},{"$f":"(W1867+$X$4)","v":14.49},{"$f":"AVERAGE(INDIRECT($X$1&ROW()-$Y$4+1):X1867)","v":14.65},{"$f":"IF(OR(X1867=$I$5,X1867>$I$5),1,0)","v":0},1,{"$f":"IF(AND(AA1866=0,AA1867=1,SUM(INDIRECT($AA$1&ROW()-$AB$4):AA1866)=0),1,0)","v":0},0,{"$f":"IF(AND(AC1866=0,AC1867=1,SUM(INDIRECT($AC$1&ROW()-AD$4):AC1866)=0),1,0)","v":0},1021.39,null,null,null,null,null,null,null,null,null,null,null,null,null,-2000,0,null,0,null,null,null,null,null,null,null,null,{"$f":"$BE$2","v":22.23}]
["2003-09-26",{"$f":"VLOOKUP(A1870,'input BCI'!$O$3:$R$5000,4)","v":15.15},null,null,15.15,null,null,null,null,null,null,null,null,0,15.15,null,null,15.15,null,null,null,1,15.15,15.15,{"$f":"AVERAGE(INDIRECT($X$1&ROW()-$Y$4+1):X1870)","v":15.115},0,0,{"$f":"IF(AND(AA1869=0,AA1870=1,SUM(INDIRECT($AA$1&ROW()-$AB$4):AA1869)=0),1,0)","v":0},{"$f":"IF(Y1870<X1870,1,0)","v":1},{"$f":"IF(AND(AC1869=0,AC1870=1,SUM(INDIRECT($AC$1&ROW()-AD$4):AC1869)=0),1,0)","v":1},996.85,null,null,null,null,null,null,null,null,null,null,null,null,null,-2000,0,null,0,null,null,null,null,null,null,null,null,22.23]
["2003-10-10",{"$f":"VLOOKUP(A1872,'input BCI'!$O$3:$R$5000,4)","v":15.23},null,null,15.23,null,null,null,null,null,null,null,null,0,15.23,null,null,15.23,null,null,null,1,15.23,15.23,{"$f":"AVERAGE(INDIRECT($X$1&ROW()-$Y$4+1):X1872)","v":15.379999999999999},0,1,{"$f":"IF(AND(AA1871=0,AA1872=1,SUM(INDIRECT($AA$1&ROW()-$AB$4):AA1871)=0),1,0)","v":0},0,{"$f":"IF(AND(AC1871=0,AC1872=1,SUM(INDIRECT($AC$1&ROW()-AD$4):AC1871)=0),1,0)","v":0},1038.06,null,null,null,null,null,null,null,null,null,null,null,null,null,-2000,0,null,0,null,null,null,null,null,null,null,null,22.23]
["2003-11-14",{"$f":"VLOOKUP(A1877,'input BCI'!$O$3:$R$5000,4)","v":16.420000000000002},null,null,16.420000000000002,null,null,null,null,null,null,null,null,0,16.420000000000002,null,null,16.420000000000002,null,null,null,1,16.420000000000002,16.420000000000002,{"$f":"AVERAGE(INDIRECT($X$1&ROW()-$Y$4+1):X1877)","v":16.355},0,0,{"$f":"IF(AND(AA1876=0,AA1877=1,SUM(INDIRECT($AA$1&ROW()-$AB$4):AA1876)=0),1,0)","v":0},1,{"$f":"IF(AND(AC1876=0,AC1877=1,SUM(INDIRECT($AC$1&ROW()-AD$4):AC1876)=0),1,0)","v":1},1050.3499999999999,null,null,null,null,null,null,null,null,null,null,null,null,null,-2000,0,null,0,null,null,null,null,null,null,null,null,22.23]
["2003-12-19",{"$f":"VLOOKUP(A1882,'input BCI'!$O$3:$R$5000,4)","v":18.55},null,null,18.55,null,null,null,null,null,null,null,null,0,18.55,null,null,18.55,null,null,null,1,18.55,18.55,{"$f":"AVERAGE(INDIRECT($X$1&ROW()-$Y$4+1):X1882)","v":18.920000000000002},0,1,{"$f":"IF(AND(AA1881=0,AA1882=1,SUM(INDIRECT($AA$1&ROW()-$AB$4):AA1881)=0),1,0)","v":0},0,{"$f":"IF(AND(AC1881=0,AC1882=1,SUM(INDIRECT($AC$1&ROW()-AD$4):AC1881)=0),1,0)","v":0},1088.67,null,null,null,null,null,null,null,null,null,null,null,null,null,-2000,0,null,0,null,null,null,null,null,null,null,null,22.23]
["2004-01-16",{"$f":"VLOOKUP(A1886,'input BCI'!$O$3:$R$5000,4)","v":20.399999999999999},null,null,20.399999999999999,null,null,null,null,null,null,null,null,0,20.399999999999999,null,null,20.399999999999999,null,null,null,1,20.399999999999999,20.399999999999999,{"$f":"AVERAGE(INDIRECT($X$1&ROW()-$Y$4+1):X1886)","v":20.509999999999998},0,1,{"$f":"IF(AND(AA1885=0,AA1886=1,SUM(INDIRECT($AA$1&ROW()-$AB$4):AA1885)=0),1,0)","v":0},0,{"$f":"IF(AND(AC1885=0,AC1886=1,SUM(INDIRECT($AC$1&ROW()-AD$4):AC1885)=0),1,0)","v":0},1139.83,null,null,null,null,null,null,null,null,null,null,null,null,null,-2000,0,null,0,null,null,null,null,null,null,null,null,22.23]
["2004-01-23",{"$f":"VLOOKUP(A1887,'input BCI'!$O$3:$R$5000,4)","v":20.62},null,null,20.62,null,null,null,null,null,null,null,null,0,20.62,null,null,20.62,null,null,null,1,20.62,20.62,{"$f":"AVERAGE(INDIRECT($X$1&ROW()-$Y$4+1):X1887)","v":20.865000000000002},0,1,{"$f":"IF(AND(AA1886=0,AA1887=1,SUM(INDIRECT($AA$1&ROW()-$AB$4):AA1886)=0),1,0)","v":0},0,{"$f":"IF(AND(AC1886=0,AC1887=1,SUM(INDIRECT($AC$1&ROW()-AD$4):AC1886)=0),1,0)","v":0},1141.55,null,null,null,null,null,null,null,null,null,null,null,null,null,-2000,0,null,0,null,null,null,null,null,null,null,null,22.23]
["2004-02-20",{"$f":"VLOOKUP(A1891,'input BCI'!$O$3:$R$5000,4)","v":22.34},null,null,22.34,null,null,null,null,null,null,null,null,0,22.34,null,null,22.34,null,null,null,1,22.34,22.34,{"$f":"AVERAGE(INDIRECT($X$1&ROW()-$Y$4+1):X1891)","v":22.365000000000002},1,1,{"$f":"IF(AND(AA1890=0,AA1891=1,SUM(INDIRECT($AA$1&ROW()-$AB$4):AA1890)=0),1,0)","v":0},0,{"$f":"IF(AND(AC1890=0,AC1891=1,SUM(INDIRECT($AC$1&ROW()-AD$4):AC1890)=0),1,0)","v":0},1144.1099999999999,null,null,null,null,null,null,null,null,null,null,null,null,null,-2000,0,null,0,null,null,null,null,null,null,null,null,22.23]
["2004-03-26",{"$f":"VLOOKUP(A1896,'input BCI'!$O$3:$R$5000,4)","v":22.16},null,null,22.16,null,null,null,null,null,null,null,null,0,22.16,null,null,22.16,null,null,null,1,22.16,22.16,{"$f":"AVERAGE(INDIRECT($X$1&ROW()-$Y$4+1):X1896)","v":21.89},0,0,{"$f":"IF(AND(AA1895=0,AA1896=1,SUM(INDIRECT($AA$1&ROW()-$AB$4):AA1895)=0),1,0)","v":0},1,{"$f":"IF(AND(AC1895=0,AC1896=1,SUM(INDIRECT($AC$1&ROW()-AD$4):AC1895)=0),1,0)","v":0},1108.06,null,null,null,null,null,null,null,null,null,null,null,null,null,-2000,0,null,0,null,null,null,null,null,null,null,null,22.23]
["2004-04-16",{"$f":"VLOOKUP(A1899,'input BCI'!$O$3:$R$5000,4)","v":21.09},null,null,21.09,null,null,null,null,null,null,null,null,0,21.09,null,null,21.09,null,null,null,1,21.09,21.09,{"$f":"AVERAGE(INDIRECT($X$1&ROW()-$Y$4+1):X1899)","v":20.97},0,0,{"$f":"IF(AND(AA1898=0,AA1899=1,SUM(INDIRECT($AA$1&ROW()-$AB$4):AA1898)=0),1,0)","v":0},1,{"$f":"IF(AND(AC1898=0,AC1899=1,SUM(INDIRECT($AC$1&ROW()-AD$4):AC1898)=0),1,0)","v":0},1134.6099999999999,null,null,null,null,null,null,null,null,null,null,null,null,null,-2000,0,null,0,null,null,null,null,null,null,null,null,22.23]
["2004-04-30",{"$f":"VLOOKUP(A1901,'input BCI'!$O$3:$R$5000,4)","v":21.01},null,null,21.01,null,null,null,null,null,null,null,null,0,21.01,null,null,21.01,null,null,null,1,21.01,21.01,{"$f":"AVERAGE(INDIRECT($X$1&ROW()-$Y$4+1):X1901)","v":21.045000000000002},0,1,{"$f":"IF(AND(AA1900=0,AA1901=1,SUM(INDIRECT($AA$1&ROW()-$AB$4):AA1900)=0),1,0)","v":0},0,{"$f":"IF(AND(AC1900=0,AC1901=1,SUM(INDIRECT($AC$1&ROW()-AD$4):AC1900)=0),1,0)","v":0},1107.3,null,null,null,null,null,null,null,null,null,null,null,null,null,-2000,0,null,0,null,null,null,null,null,null,null,null,22.23]
["2004-06-04",{"$f":"VLOOKUP(A1906,'input BCI'!$O$3:$R$5000,4)","v":20.52},null,null,20.52,null,null,null,null,null,null,null,null,0,20.52,null,null,20.52,null,null,null,1,20.52,20.52,{"$f":"AVERAGE(INDIRECT($X$1&ROW()-$Y$4+1):X1906)","v":20.414999999999999},0,0,{"$f":"IF(AND(AA1905=0,AA1906=1,SUM(INDIRECT($AA$1&ROW()-$AB$4):AA1905)=0),1,0)","v":0},1,{"$f":"IF(AND(AC1905=0,AC1906=1,SUM(INDIRECT($AC$1&ROW()-AD$4):AC1905)=0),1,0)","v":0},1122.5,null,null,null,null,null,null,null,null,null,null,null,null,null,-2000,0,null,0,null,null,null,null,null,null,null,null,22.23]
["2004-07-09",{"$f":"VLOOKUP(A1911,'input BCI'!$O$3:$R$5000,4)","v":19.420000000000002},null,null,19.420000000000002,null,null,null,null,null,null,null,null,0,19.420000000000002,null,null,19.420000000000002,null,null,null,1,19.420000000000002,19.420000000000002,{"$f":"AVERAGE(INDIRECT($X$1&ROW()-$Y$4+1):X1911)","v":19.195},0,0,{"$f":"IF(AND(AA1910=0,AA1911=1,SUM(INDIRECT($AA$1&ROW()-$AB$4):AA1910)=0),1,0)","v":0},1,{"$f":"IF(AND(AC1910=0,AC1911=1,SUM(INDIRECT($AC$1&ROW()-AD$4):AC1910)=0),1,0)","v":0},1112.81,null,null,null,null,null,null,null,null,null,null,null,null,null,-2000,0,null,0,null,null,null,null,null,null,null,null,22.23]
["2004-08-06",{"$f":"VLOOKUP(A1915,'input BCI'!$O$3:$R$5000,4)","v":17.45},null,null,17.45,null,null,null,null,null,null,null,null,0,17.45,null,null,17.45,null,null,null,1,17.45,17.45,{"$f":"AVERAGE(INDIRECT($X$1&ROW()-$Y$4+1):X1915)","v":17.064999999999998},0,0,{"$f":"IF(AND(AA1914=0,AA1915=1,SUM(INDIRECT($AA$1&ROW()-$AB$4):AA1914)=0),1,0)","v":0},1,{"$f":"IF(AND(AC1914=0,AC1915=1,SUM(INDIRECT($AC$1&ROW()-AD$4):AC1914)=0),1,0)","v":0},1063.97,null,null,null,null,null,null,null,null,null,null,null,null,null,-2000,0,null,0,null,null,null,null,null,null,null,null,22.23]
["2004-08-13",{"$f":"VLOOKUP(A1916,'input BCI'!$O$3:$R$5000,4)","v":16.68},null,null,16.68,null,null,null,null,null,null,null,null,0,16.68,null,null,16.68,null,null,null,1,16.68,16.68,{"$f":"AVERAGE(INDIRECT($X$1&ROW()-$Y$4+1):X1916)","v":16.22},0,0,{"$f":"IF(AND(AA1915=0,AA1916=1,SUM(INDIRECT($AA$1&ROW()-$AB$4):AA1915)=0),1,0)","v":0},1,{"$f":"IF(AND(AC1915=0,AC1916=1,SUM(INDIRECT($AC$1&ROW()-AD$4):AC1915)=0),1,0)","v":0},1064.8,null,null,null,null,null,null,null,null,null,null,null,null,null,-2000,0,null,0,null,null,null,null,null,null,null,null,22.23]
["2004-09-10",{"$f":"VLOOKUP(A1920,'input BCI'!$O$3:$R$5000,4)","v":14.48},null,null,14.48,null,null,null,null,null,null,null,null,0,14.48,null,null,14.48,null,null,null,1,14.48,14.48,{"$f":"AVERAGE(INDIRECT($X$1&ROW()-$Y$4+1):X1920)","v":14.4},0,0,{"$f":"IF(AND(AA1919=0,AA1920=1,SUM(INDIRECT($AA$1&ROW()-$AB$4):AA1919)=0),1,0)","v":0},1,{"$f":"IF(AND(AC1919=0,AC1920=1,SUM(INDIRECT($AC$1&ROW()-AD$4):AC1919)=0),1,0)","v":0},1123.92,null,null,null,null,null,null,null,null,null,null,null,null,null,-2000,0,null,0,null,null,null,null,null,null,null,null,22.23]
["2004-10-15",{"$f":"VLOOKUP(A1925,'input BCI'!$O$3:$R$5000,4)","v":14.7},null,null,14.7,null,null,null,null,null,null,null,null,0,14.7,null,null,14.7,null,null,null,1,14.7,14.7,{"$f":"AVERAGE(INDIRECT($X$1&ROW()-$Y$4+1):X1925)","v":14.925000000000001},0,1,{"$f":"IF(AND(AA1924=0,AA1925=1,SUM(INDIRECT($AA$1&ROW()-$AB$4):AA1924)=0),1,0)","v":0},0,{"$f":"IF(AND(AC1924=0,AC1925=1,SUM(INDIRECT($AC$1&ROW()-AD$4):AC1924)=0),1,0)","v":0},1108.2,null,null,null,null,null,null,null,null,null,null,null,null,null,-2000,0,null,0,null,null,null,null,null,null,null,null,22.23]
["2004-11-05",{"$f":"VLOOKUP(A1928,'input BCI'!$O$3:$R$5000,4)","v":16.07},null,null,16.07,null,null,null,null,null,null,null,null,0,16.07,null,null,16.07,null,null,null,1,16.07,16.07,{"$f":"AVERAGE(INDIRECT($X$1&ROW()-$Y$4+1):X1928)","v":16.395},0,1,{"$f":"IF(AND(AA1927=0,AA1928=1,SUM(INDIRECT($AA$1&ROW()-$AB$4):AA1927)=0),1,0)","v":0},0,{"$f":"IF(AND(AC1927=0,AC1928=1,SUM(INDIRECT($AC$1&ROW()-AD$4):AC1927)=0),1,0)","v":0},1166.17,null,null,null,null,null,null,null,null,null,null,null,null,null,-2000,0,null,0,null,null,null,null,null,null,null,null,22.23]
["2004-11-19",{"$f":"VLOOKUP(A1930,'input BCI'!$O$3:$R$5000,4)","v":17.510000000000002},null,null,17.510000000000002,null,null,null,null,null,null,null,null,0,17.510000000000002,null,null,17.510000000000002,null,null,null,1,17.510000000000002,17.510000000000002,{"$f":"AVERAGE(INDIRECT($X$1&ROW()-$Y$4+1):X1930)","v":17.98},0,1,{"$f":"IF(AND(AA1929=0,AA1930=1,SUM(INDIRECT($AA$1&ROW()-$AB$4):AA1929)=0),1,0)","v":0},0,{"$f":"IF(AND(AC1929=0,AC1930=1,SUM(INDIRECT($AC$1&ROW()-AD$4):AC1929)=0),1,0)","v":0},1170.3399999999999,null,null,null,null,null,null,null,null,null,null,null,null,null,{"$f":"IF(ISNUMBER(AR1930),2000,-2000)","v":-2000},0,null,0,null,null,null,null,null,null,null,null,22.23]
["2004-12-24",{"$f":"VLOOKUP(A1935,'input BCI'!$O$3:$R$5000,4)","v":20.309999999999999},null,null,20.309999999999999,null,null,null,null,null,null,null,null,0,20.309999999999999,null,null,20.309999999999999,null,null,null,1,20.309999999999999,20.309999999999999,{"$f":"AVERAGE(INDIRECT($X$1&ROW()-$Y$4+1):X1935)","v":20.204999999999998},0,0,{"$f":"IF(AND(AA1934=0,AA1935=1,SUM(INDIRECT($AA$1&ROW()-$AB$4):AA1934)=0),1,0)","v":0},1,{"$f":"IF(AND(AC1934=0,AC1935=1,SUM(INDIRECT($AC$1&ROW()-AD$4):AC1934)=0),1,0)","v":1},1212,null,null,null,null,null,null,null,null,null,null,null,null,null,-2000,0,null,0,null,null,null,null,null,null,null,null,22.23]
["2005-01-28",{"$f":"VLOOKUP(A1940,'input BCI'!$O$3:$R$5000,4)","v":16.66},null,null,16.66,null,null,null,null,null,null,null,null,0,16.66,null,null,16.66,null,null,null,1,16.66,16.66,{"$f":"AVERAGE(INDIRECT($X$1&ROW()-$Y$4+1):X1940)","v":16.5},0,0,{"$f":"IF(AND(AA1939=0,AA1940=1,SUM(INDIRECT($AA$1&ROW()-$AB$4):AA1939)=0),1,0)","v":0},1,{"$f":"IF(AND(AC1939=0,AC1940=1,SUM(INDIRECT($AC$1&ROW()-AD$4):AC1939)=0),1,0)","v":0},1171.3599999999999,null,null,null,null,null,null,null,null,null,null,null,null,null,-2000,0,null,0,null,null,null,null,null,null,null,null,22.23]
["2005-02-25",{"$f":"VLOOKUP(A1944,'input BCI'!$O$3:$R$5000,4)","v":16.739999999999998},null,null,16.739999999999998,null,null,null,null,null,null,null,null,0,16.739999999999998,null,null,16.739999999999998,null,null,null,1,16.739999999999998,16.739999999999998,{"$f":"AVERAGE(INDIRECT($X$1&ROW()-$Y$4+1):X1944)","v":16.824999999999999},0,1,{"$f":"IF(AND(AA1943=0,AA1944=1,SUM(INDIRECT($AA$1&ROW()-$AB$4):AA1943)=0),1,0)","v":0},0,{"$f":"IF(AND(AC1943=0,AC1944=1,SUM(INDIRECT($AC$1&ROW()-AD$4):AC1943)=0),1,0)","v":0},1211.3699999999999,null,null,null,null,null,null,null,null,null,null,null,null,null,-2000,0,null,0,null,null,null,null,null,null,null,null,22.23]
["2005-03-04",{"$f":"VLOOKUP(A1945,'input BCI'!$O$3:$R$5000,4)","v":16.91},null,null,16.91,null,null,null,null,null,null,null,null,0,16.91,null,null,{"$f":"O1945*R$7","v":16.91},null,null,null,1,16.91,16.91,{"$f":"AVERAGE(INDIRECT($X$1&ROW()-$Y$4+1):X1945)","v":16.905000000000001},0,0,{"$f":"IF(AND(AA1944=0,AA1945=1,SUM(INDIRECT($AA$1&ROW()-$AB$4):AA1944)=0),1,0)","v":0},1,{"$f":"IF(AND(AC1944=0,AC1945=1,SUM(INDIRECT($AC$1&ROW()-AD$4):AC1944)=0),1,0)","v":0},1222.1199999999999,null,null,null,null,null,null,null,null,null,null,null,null,null,-2000,0,null,0,null,null,null,null,null,null,null,null,22.23]
["2005-04-01",{"$f":"VLOOKUP(A1949,'input BCI'!$O$3:$R$5000,4)","v":16.21},null,null,16.21,null,null,null,null,null,null,null,null,0,16.21,null,null,16.21,null,null,null,1,16.21,16.21,{"$f":"AVERAGE(INDIRECT($X$1&ROW()-$Y$4+1):X1949)","v":16.195},0,0,{"$f":"IF(AND(AA1948=0,AA1949=1,SUM(INDIRECT($AA$1&ROW()-$AB$4):AA1948)=0),1,0)","v":0},1,{"$f":"IF(AND(AC1948=0,AC1949=1,SUM(INDIRECT($AC$1&ROW()-AD$4):AC1948)=0),1,0)","v":0},1172.92,null,null,null,null,null,null,null,null,null,null,null,null,null,-2000,0,null,0,null,null,null,null,null,null,null,null,22.23]
["2005-05-06",{"$f":"VLOOKUP(A1954,'input BCI'!$O$3:$R$5000,4)","v":16.68},null,null,16.68,null,null,null,null,null,null,null,null,0,16.68,null,null,16.68,null,null,null,1,16.68,16.68,{"$f":"AVERAGE(INDIRECT($X$1&ROW()-$Y$4+1):X1954)","v":16.715},0,1,{"$f":"IF(AND(AA1953=0,AA1954=1,SUM(INDIRECT($AA$1&ROW()-$AB$4):AA1953)=0),1,0)","v":0},0,{"$f":"IF(AND(AC1953=0,AC1954=1,SUM(INDIRECT($AC$1&ROW()-AD$4):AC1953)=0),1,0)","v":0},1171.3499999999999,null,null,null,null,null,null,null,null,null,null,null,null,null,-2000,0,null,0,null,null,null,null,null,null,null,null,22.23]
["2005-05-27",{"$f":"VLOOKUP(A1957,'input BCI'!$O$3:$R$5000,4)","v":16.89},null,null,16.89,null,null,null,null,null,null,null,null,0,16.89,null,null,16.89,null,null,null,1,16.89,16.89,{"$f":"AVERAGE(INDIRECT($X$1&ROW()-$Y$4+1):X1957)","v":16.8},0,0,{"$f":"IF(AND(AA1956=0,AA1957=1,SUM(INDIRECT($AA$1&ROW()-$AB$4):AA1956)=0),1,0)","v":0},1,{"$f":"IF(AND(AC1956=0,AC1957=1,SUM(INDIRECT($AC$1&ROW()-AD$4):AC1956)=0),1,0)","v":0},1198.78,null,null,null,null,null,null,null,null,null,null,null,null,null,-2000,0,null,0,null,null,null,null,null,null,null,null,22.23]
["2005-06-10",{"$f":"VLOOKUP(A1959,'input BCI'!$O$3:$R$5000,4)","v":16.36},null,null,16.36,null,null,null,null,null,null,null,null,0,16.36,null,null,16.36,null,null,null,1,16.36,16.36,{"$f":"AVERAGE(INDIRECT($X$1&ROW()-$Y$4+1):X1959)","v":16.14},0,0,{"$f":"IF(AND(AA1958=0,AA1959=1,SUM(INDIRECT($AA$1&ROW()-$AB$4):AA1958)=0),1,0)","v":0},1,{"$f":"IF(AND(AC1958=0,AC1959=1,SUM(INDIRECT($AC$1&ROW()-AD$4):AC1958)=0),1,0)","v":0},1198.1099999999999,null,null,null,null,null,null,null,null,null,null,null,null,null,-2000,0,null,0,null,null,null,null,null,null,null,null,22.23]
["2005-07-15",{"$f":"VLOOKUP(A1964,'input BCI'!$O$3:$R$5000,4)","v":14.8},null,null,14.8,null,null,null,null,null,null,null,null,0,14.8,null,null,14.8,null,null,null,1,14.8,14.8,{"$f":"AVERAGE(INDIRECT($X$1&ROW()-$Y$4+1):X1964)","v":14.83},0,1,{"$f":"IF(AND(AA1963=0,AA1964=1,SUM(INDIRECT($AA$1&ROW()-$AB$4):AA1963)=0),1,0)","v":1},0,{"$f":"IF(AND(AC1963=0,AC1964=1,SUM(INDIRECT($AC$1&ROW()-AD$4):AC1963)=0),1,0)","v":0},1227.92,null,null,null,null,null,null,null,null,null,null,null,null,null,-2000,0,null,0,null,null,null,null,null,null,null,null,22.23]
["2005-08-19",{"$f":"VLOOKUP(A1969,'input BCI'!$O$3:$R$5000,4)","v":14.87},null,null,14.87,null,null,null,null,null,null,null,null,0,14.87,null,null,14.87,null,null,null,1,14.87,14.87,{"$f":"AVERAGE(INDIRECT($X$1&ROW()-$Y$4+1):X1969)","v":14.89},0,1,{"$f":"IF(AND(AA1968=0,AA1969=1,SUM(INDIRECT($AA$1&ROW()-$AB$4):AA1968)=0),1,0)","v":0},0,{"$f":"IF(AND(AC1968=0,AC1969=1,SUM(INDIRECT($AC$1&ROW()-AD$4):AC1968)=0),1,0)","v":0},1219.71,null,null,null,null,null,null,null,null,null,null,null,null,null,-2000,0,null,0,null,null,null,null,null,null,null,null,22.23]
["2005-09-16",{"$f":"VLOOKUP(A1973,'input BCI'!$O$3:$R$5000,4)","v":15.36},null,null,15.36,null,null,null,null,null,null,null,null,0,15.36,null,null,15.36,null,null,null,1,15.36,15.36,{"$f":"AVERAGE(INDIRECT($X$1&ROW()-$Y$4+1):X1973)","v":15.285},0,0,{"$f":"IF(AND(AA1972=0,AA1973=1,SUM(INDIRECT($AA$1&ROW()-$AB$4):AA1972)=0),1,0)","v":0},1,{"$f":"IF(AND(AC1972=0,AC1973=1,SUM(INDIRECT($AC$1&ROW()-AD$4):AC1972)=0),1,0)","v":0},1237.9100000000001,null,null,null,null,null,null,null,null,null,null,null,null,null,-2000,0,null,0,null,null,null,null,null,null,null,null,22.23]
["2005-09-23",{"$f":"VLOOKUP(A1974,'input BCI'!$O$3:$R$5000,4)","v":15.21},null,null,15.21,null,null,null,null,null,null,null,null,0,15.21,null,null,15.21,null,null,null,1,15.21,15.21,{"$f":"AVERAGE(INDIRECT($X$1&ROW()-$Y$4+1):X1974)","v":14.815000000000001},0,0,{"$f":"IF(AND(AA1973=0,AA1974=1,SUM(INDIRECT($AA$1&ROW()-$AB$4):AA1973)=0),1,0)","v":0},1,{"$f":"IF(AND(AC1973=0,AC1974=1,SUM(INDIRECT($AC$1&ROW()-AD$4):AC1973)=0),1,0)","v":0},1215.29,null,null,null,null,null,null,null,null,null,null,null,null,null,-2000,0,null,0,null,null,null,null,null,null,null,null,22.23]
["2005-10-21",{"$f":"VLOOKUP(A1978,'input BCI'!$O$3:$R$5000,4)","v":9.25},null,null,9.25,null,null,null,null,null,null,null,null,0,9.25,null,null,9.25,null,null,null,1,9.25,9.25,{"$f":"AVERAGE(INDIRECT($X$1&ROW()-$Y$4+1):X1978)","v":8.68},0,0,{"$f":"IF(AND(AA1977=0,AA1978=1,SUM(INDIRECT($AA$1&ROW()-$AB$4):AA1977)=0),1,0)","v":0},1,{"$f":"IF(AND(AC1977=0,AC1978=1,SUM(INDIRECT($AC$1&ROW()-AD$4):AC1977)=0),1,0)","v":0},1179.5899999999999,null,null,null,null,null,null,null,null,null,null,null,null,null,-2000,0,null,0,null,null,null,null,null,null,null,null,22.23]
["2005-11-25",{"$f":"VLOOKUP(A1983,'input BCI'!$O$3:$R$5000,4)","v":8.68},null,null,8.68,null,null,null,null,null,null,null,null,0,8.68,null,null,8.68,null,null,null,1,8.68,8.68,{"$f":"AVERAGE(INDIRECT($X$1&ROW()-$Y$4+1):X1983)","v":9.0300000000000011},0,1,{"$f":"IF(AND(AA1982=0,AA1983=1,SUM(INDIRECT($AA$1&ROW()-$AB$4):AA1982)=0),1,0)","v":0},0,{"$f":"IF(AND(AC1982=0,AC1983=1,SUM(INDIRECT($AC$1&ROW()-AD$4):AC1982)=0),1,0)","v":0},1268.25,null,null,null,null,null,null,null,null,null,null,null,null,null,-2000,0,null,0,null,null,null,null,null,null,null,null,22.23]
["2005-12-16",{"$f":"VLOOKUP(A1986,'input BCI'!$O$3:$R$5000,4)","v":11.38},null,null,11.38,null,null,null,null,null,null,null,null,0,11.38,null,null,11.38,null,null,null,1,11.38,11.38,{"$f":"AVERAGE(INDIRECT($X$1&ROW()-$Y$4+1):X1986)","v":11.875},0,1,{"$f":"IF(AND(AA1985=0,AA1986=1,SUM(INDIRECT($AA$1&ROW()-$AB$4):AA1985)=0),1,0)","v":0},0,{"$f":"IF(AND(AC1985=0,AC1986=1,SUM(INDIRECT($AC$1&ROW()-AD$4):AC1985)=0),1,0)","v":0},1267.32,null,null,null,null,null,null,null,null,null,null,null,null,null,-2000,0,null,0,null,null,null,null,null,null,null,null,22.23]
["2005-12-30",{"$f":"VLOOKUP(A1988,'input BCI'!$O$3:$R$5000,4)","v":12.75},null,null,12.75,null,null,null,null,null,null,null,null,0,12.75,null,null,12.75,null,null,null,1,12.75,12.75,{"$f":"AVERAGE(INDIRECT($X$1&ROW()-$Y$4+1):X1988)","v":12.605},0,0,{"$f":"IF(AND(AA1987=0,AA1988=1,SUM(INDIRECT($AA$1&ROW()-$AB$4):AA1987)=0),1,0)","v":0},1,{"$f":"IF(AND(AC1987=0,AC1988=1,SUM(INDIRECT($AC$1&ROW()-AD$4):AC1987)=0),1,0)","v":1},1248.29,null,null,null,null,null,null,null,null,null,null,null,null,null,-2000,0,null,0,null,null,null,null,null,null,null,null,22.23]
["2006-02-03",{"$f":"VLOOKUP(A1993,'input BCI'!$O$3:$R$5000,4)","v":11.88},null,null,11.88,null,null,null,null,null,null,null,null,0,11.88,null,null,11.88,null,null,null,1,11.88,11.88,{"$f":"AVERAGE(INDIRECT($X$1&ROW()-$Y$4+1):X1993)","v":11.975000000000001},0,1,{"$f":"IF(AND(AA1992=0,AA1993=1,SUM(INDIRECT($AA$1&ROW()-$AB$4):AA1992)=0),1,0)","v":0},0,{"$f":"IF(AND(AC1992=0,AC1993=1,SUM(INDIRECT($AC$1&ROW()-AD$4):AC1992)=0),1,0)","v":0},1264.03,null,null,null,null,null,null,null,null,null,null,null,null,null,-2000,0,null,0,null,null,null,null,null,null,null,null,22.23]
["2006-03-10",{"$f":"VLOOKUP(A1998,'input BCI'!$O$3:$R$5000,4)","v":12.53},null,null,12.53,null,null,null,null,null,null,null,null,0,12.53,null,null,12.53,null,null,null,1,12.53,12.53,{"$f":"AVERAGE(INDIRECT($X$1&ROW()-$Y$4+1):X1998)","v":12.524999999999999},0,0,{"$f":"IF(AND(AA1997=0,AA1998=1,SUM(INDIRECT($AA$1&ROW()-$AB$4):AA1997)=0),1,0)","v":0},{"$f":"IF(Y1998<X1998,1,0)","v":1},{"$f":"IF(AND(AC1997=0,AC1998=1,SUM(INDIRECT($AC$1&ROW()-AD$4):AC1997)=0),1,0)","v":0},1281.42,null,null,null,null,null,null,null,null,null,null,null,null,null,-2000,0,null,0,null,null,null,null,null,null,null,null,22.23]
["2006-04-07",{"$f":"VLOOKUP(A2002,'input BCI'!$O$3:$R$5000,4)","v":11.82},null,null,11.82,null,null,null,null,null,null,null,null,0,11.82,null,null,11.82,null,null,null,1,11.82,11.82,{"$f":"AVERAGE(INDIRECT($X$1&ROW()-$Y$4+1):X2002)","v":11.600000000000001},0,0,{"$f":"IF(AND(AA2001=0,AA2002=1,SUM(INDIRECT($AA$1&ROW()-$AB$4):AA2001)=0),1,0)","v":0},1,{"$f":"IF(AND(AC2001=0,AC2002=1,SUM(INDIRECT($AC$1&ROW()-AD$4):AC2001)=0),1,0)","v":0},1295.5,null,null,null,null,null,null,null,null,null,null,null,null,null,-2000,0,null,0,null,null,null,null,null,null,null,null,22.23]
["2006-04-14",{"$f":"VLOOKUP(A2003,'input BCI'!$O$3:$R$5000,4)","v":11.38},null,null,11.38,null,null,null,null,null,null,null,null,0,11.38,null,null,11.38,null,null,null,1,11.38,11.38,{"$f":"AVERAGE(INDIRECT($X$1&ROW()-$Y$4+1):X2003)","v":11.115},0,0,{"$f":"IF(AND(AA2002=0,AA2003=1,SUM(INDIRECT($AA$1&ROW()-$AB$4):AA2002)=0),1,0)","v":0},1,{"$f":"IF(AND(AC2002=0,AC2003=1,SUM(INDIRECT($AC$1&ROW()-AD$4):AC2002)=0),1,0)","v":0},1289.1199999999999,null,null,null,null,null,null,null,null,null,null,null,null,null,-2000,0,null,0,null,null,null,null,null,null,null,null,22.23]
["2006-05-12",{"$f":"VLOOKUP(A2007,'input BCI'!$O$3:$R$5000,4)","v":11.59},null,null,11.59,null,null,null,null,null,null,null,null,0,11.59,null,null,11.59,null,null,null,1,11.59,11.59,{"$f":"AVERAGE(INDIRECT($X$1&ROW()-$Y$4+1):X2007)","v":11.805},0,1,{"$f":"IF(AND(AA2006=0,AA2007=1,SUM(INDIRECT($AA$1&ROW()-$AB$4):AA2006)=0),1,0)","v":0},0,{"$f":"IF(AND(AC2006=0,AC2007=1,SUM(INDIRECT($AC$1&ROW()-AD$4):AC2006)=0),1,0)","v":0},1291.24,null,null,null,null,null,null,null,null,null,null,null,null,null,-2000,0,null,0,null,null,null,null,null,null,null,null,22.23]
["2006-06-16",{"$f":"VLOOKUP(A2012,'input BCI'!$O$3:$R$5000,4)","v":11.05},null,null,11.05,null,null,null,null,null,null,null,null,0,11.05,null,null,11.05,null,null,null,1,11.05,11.05,{"$f":"AVERAGE(INDIRECT($X$1&ROW()-$Y$4+1):X2012)","v":10.905000000000001},0,0,{"$f":"IF(AND(AA2011=0,AA2012=1,SUM(INDIRECT($AA$1&ROW()-$AB$4):AA2011)=0),1,0)","v":0},1,{"$f":"IF(AND(AC2011=0,AC2012=1,SUM(INDIRECT($AC$1&ROW()-AD$4):AC2011)=0),1,0)","v":0},1251.54,null,null,null,null,null,null,null,null,null,null,null,null,null,-2000,0,null,0,null,null,null,null,null,null,null,null,22.23]
["2006-07-07",{"$f":"VLOOKUP(A2015,'input BCI'!$O$3:$R$5000,4)","v":9.93},null,null,9.93,null,null,null,null,null,null,null,null,0,9.93,null,null,9.93,null,null,null,1,9.93,9.93,{"$f":"AVERAGE(INDIRECT($X$1&ROW()-$Y$4+1):X2015)","v":9.8350000000000009},0,0,{"$f":"IF(AND(AA2014=0,AA2015=1,SUM(INDIRECT($AA$1&ROW()-$AB$4):AA2014)=0),1,0)","v":0},1,{"$f":"IF(AND(AC2014=0,AC2015=1,SUM(INDIRECT($AC$1&ROW()-AD$4):AC2014)=0),1,0)","v":0},1265.48,null,null,null,null,null,null,null,null,null,null,null,null,null,-2000,0,null,0,null,null,null,null,null,null,null,null,22.23]
["2006-07-21",{"$f":"VLOOKUP(A2017,'input BCI'!$O$3:$R$5000,4)","v":9.17},null,null,9.17,null,null,null,null,null,null,null,null,0,9.17,null,null,9.17,null,null,null,1,9.17,9.17,{"$f":"AVERAGE(INDIRECT($X$1&ROW()-$Y$4+1):X2017)","v":8.9250000000000007},0,0,{"$f":"IF(AND(AA2016=0,AA2017=1,SUM(INDIRECT($AA$1&ROW()-$AB$4):AA2016)=0),1,0)","v":0},1,{"$f":"IF(AND(AC2016=0,AC2017=1,SUM(INDIRECT($AC$1&ROW()-AD$4):AC2016)=0),1,0)","v":0},1240.29,null,null,null,null,null,null,null,null,null,null,null,null,null,-2000,0,null,0,null,null,null,null,null,null,null,null,22.23]
["2006-08-25",{"$f":"VLOOKUP(A2022,'input BCI'!$O$3:$R$5000,4)","v":8.0299999999999994},null,null,8.0299999999999994,null,null,null,null,null,null,null,null,0,8.0299999999999994,null,null,8.0299999999999994,null,null,null,1,8.0299999999999994,8.0299999999999994,{"$f":"AVERAGE(INDIRECT($X$1&ROW()-$Y$4+1):X2022)","v":7.85},0,0,{"$f":"IF(AND(AA2021=0,AA2022=1,SUM(INDIRECT($AA$1&ROW()-$AB$4):AA2021)=0),1,0)","v":0},1,{"$f":"IF(AND(AC2021=0,AC2022=1,SUM(INDIRECT($AC$1&ROW()-AD$4):AC2021)=0),1,0)","v":0},1295.0899999999999,null,null,null,null,null,null,null,null,null,null,null,null,null,-2000,0,null,0,null,null,null,null,null,null,null,null,22.23]
["2006-09-29",{"$f":"VLOOKUP(A2027,'input BCI'!$O$3:$R$5000,4)","v":6.07},null,null,6.07,null,null,null,null,null,null,null,null,0,6.07,null,null,6.07,null,null,null,1,6.07,6.07,{"$f":"AVERAGE(INDIRECT($X$1&ROW()-$Y$4+1):X2027)","v":6.21},0,1,{"$f":"IF(AND(AA2026=0,AA2027=1,SUM(INDIRECT($AA$1&ROW()-$AB$4):AA2026)=0),1,0)","v":0},0,{"$f":"IF(AND(AC2026=0,AC2027=1,SUM(INDIRECT($AC$1&ROW()-AD$4):AC2026)=0),1,0)","v":0},1335.85,null,null,null,null,null,null,null,null,null,null,null,null,null,-2000,0,null,0,null,null,null,null,null,null,null,null,22.23]
["2006-10-27",{"$f":"VLOOKUP(A2031,'input BCI'!$O$3:$R$5000,4)","v":7.63},null,null,7.63,null,null,null,null,null,null,null,null,0,7.63,null,null,7.63,null,null,null,1,7.63,7.63,{"$f":"AVERAGE(INDIRECT($X$1&ROW()-$Y$4+1):X2031)","v":7.6400000000000006},0,1,{"$f":"IF(AND(AA2030=0,AA2031=1,SUM(INDIRECT($AA$1&ROW()-$AB$4):AA2030)=0),1,0)","v":0},0,{"$f":"IF(AND(AC2030=0,AC2031=1,SUM(INDIRECT($AC$1&ROW()-AD$4):AC2030)=0),1,0)","v":0},1377.34,null,null,null,null,null,null,null,null,null,null,null,null,null,-2000,0,null,0,null,null,null,null,null,null,null,null,22.23]
["2006-11-03",{"$f":"VLOOKUP(A2032,'input BCI'!$O$3:$R$5000,4)","v":7.65},null,null,7.65,null,null,null,null,null,null,null,null,0,7.65,null,null,7.65,null,null,null,1,7.65,7.65,{"$f":"AVERAGE(INDIRECT($X$1&ROW()-$Y$4+1):X2032)","v":7.54},0,0,{"$f":"IF(AND(AA2031=0,AA2032=1,SUM(INDIRECT($AA$1&ROW()-$AB$4):AA2031)=0),1,0)","v":0},1,{"$f":"IF(AND(AC2031=0,AC2032=1,SUM(INDIRECT($AC$1&ROW()-AD$4):AC2031)=0),1,0)","v":1},1364.3,null,null,null,null,null,null,null,null,null,null,null,null,null,-2000,0,null,0,null,null,null,null,null,null,null,null,22.23]
["2006-12-01",{"$f":"VLOOKUP(A2036,'input BCI'!$O$3:$R$5000,4)","v":6.52},null,null,6.52,null,null,null,null,null,null,null,null,0,6.52,null,null,6.52,null,null,null,1,6.52,6.52,{"$f":"AVERAGE(INDIRECT($X$1&ROW()-$Y$4+1):X2036)","v":6.1899999999999995},0,0,{"$f":"IF(AND(AA2035=0,AA2036=1,SUM(INDIRECT($AA$1&ROW()-$AB$4):AA2035)=0),1,0)","v":0},1,{"$f":"IF(AND(AC2035=0,AC2036=1,SUM(INDIRECT($AC$1&ROW()-AD$4):AC2035)=0),1,0)","v":0},1396.71,null,null,null,null,null,null,null,null,null,null,null,null,null,-2000,0,null,0,null,null,null,null,null,null,null,null,22.23]
["2007-01-05",{"$f":"VLOOKUP(A2041,'input BCI'!$O$3:$R$5000,4)","v":4.3899999999999997},null,null,4.3899999999999997,null,null,null,null,null,null,null,null,0,4.3899999999999997,null,null,4.3899999999999997,null,null,null,1,4.3899999999999997,4.3899999999999997,{"$f":"AVERAGE(INDIRECT($X$1&ROW()-$Y$4+1):X2041)","v":4.49},0,1,{"$f":"IF(AND(AA2040=0,AA2041=1,SUM(INDIRECT($AA$1&ROW()-$AB$4):AA2040)=0),1,0)","v":0},0,{"$f":"IF(AND(AC2040=0,AC2041=1,SUM(INDIRECT($AC$1&ROW()-AD$4):AC2040)=0),1,0)","v":0},1409.71,null,null,null,null,null,null,null,null,null,null,null,null,null,-2000,0,null,0,null,null,null,null,null,null,null,null,22.23]
["2007-01-26",{"$f":"VLOOKUP(A2044,'input BCI'!$O$3:$R$5000,4)","v":4.93},null,null,4.93,null,null,null,null,null,null,null,null,0,4.93,null,null,4.93,null,null,null,1,4.93,4.93,{"$f":"AVERAGE(INDIRECT($X$1&ROW()-$Y$4+1):X2044)","v":4.8},0,0,{"$f":"IF(AND(AA2043=0,AA2044=1,SUM(INDIRECT($AA$1&ROW()-$AB$4):AA2043)=0),1,0)","v":0},1,{"$f":"IF(AND(AC2043=0,AC2044=1,SUM(INDIRECT($AC$1&ROW()-AD$4):AC2043)=0),1,0)","v":0},1422.18,null,null,null,null,null,null,null,null,null,null,null,null,null,-2000,0,null,0,null,null,null,null,null,null,null,null,22.23]
["2007-02-09",{"$f":"VLOOKUP(A2046,'input BCI'!$O$3:$R$5000,4)","v":4.4800000000000004},null,null,4.4800000000000004,null,null,null,null,null,null,null,null,0,4.4800000000000004,null,null,4.4800000000000004,null,null,null,1,4.4800000000000004,4.4800000000000004,{"$f":"AVERAGE(INDIRECT($X$1&ROW()-$Y$4+1):X2046)","v":4.33},0,0,{"$f":"IF(AND(AA2045=0,AA2046=1,SUM(INDIRECT($AA$1&ROW()-$AB$4):AA2045)=0),1,0)","v":0},1,{"$f":"IF(AND(AC2045=0,AC2046=1,SUM(INDIRECT($AC$1&ROW()-AD$4):AC2045)=0),1,0)","v":0},1438.06,null,null,null,null,null,null,null,null,null,null,null,null,null,-2000,0,null,0,null,null,null,null,null,null,null,null,22.23]
["2007-03-23",{"$f":"VLOOKUP(A2052,'input BCI'!$O$3:$R$5000,4)","v":1.1399999999999999},null,null,1.1399999999999999,null,null,null,null,null,null,null,null,0,1.1399999999999999,null,null,1.1399999999999999,null,null,null,1,1.1399999999999999,1.1399999999999999,{"$f":"AVERAGE(INDIRECT($X$1&ROW()-$Y$4+1):X2052)","v":0.97},0,0,{"$f":"IF(AND(AA2051=0,AA2052=1,SUM(INDIRECT($AA$1&ROW()-$AB$4):AA2051)=0),1,0)","v":0},1,{"$f":"IF(AND(AC2051=0,AC2052=1,SUM(INDIRECT($AC$1&ROW()-AD$4):AC2051)=0),1,0)","v":0},1436.11,null,null,null,null,null,null,null,null,null,null,null,null,null,-2000,0,null,0,null,null,null,null,null,null,null,null,22.23]
["2007-04-13",{"$f":"VLOOKUP(A2055,'input BCI'!$O$3:$R$5000,4)","v":0.85},null,null,0.85,null,null,null,null,null,null,null,null,0,0.85,null,null,0.85,null,null,null,1,0.85,0.85,{"$f":"AVERAGE(INDIRECT($X$1&ROW()-$Y$4+1):X2055)","v":0.88},0,1,{"$f":"IF(AND(AA2054=0,AA2055=1,SUM(INDIRECT($AA$1&ROW()-$AB$4):AA2054)=0),1,0)","v":0},0,{"$f":"IF(AND(AC2054=0,AC2055=1,SUM(INDIRECT($AC$1&ROW()-AD$4):AC2054)=0),1,0)","v":0},1452.85,null,null,null,null,null,null,null,null,null,null,null,null,null,-2000,0,null,0,null,null,null,null,null,null,null,null,22.23]
["2007-05-18",{"$f":"VLOOKUP(A2060,'input BCI'!$O$3:$R$5000,4)","v":2.21},null,null,2.21,null,null,null,null,null,null,null,null,0,2.21,null,null,2.21,null,null,null,{"$f":"V2059","v":1},2.21,2.21,{"$f":"AVERAGE(INDIRECT($X$1&ROW()-$Y$4+1):X2060)","v":2.4750000000000001},0,1,{"$f":"IF(AND(AA2059=0,AA2060=1,SUM(INDIRECT($AA$1&ROW()-$AB$4):AA2059)=0),1,0)","v":0},0,{"$f":"IF(AND(AC2059=0,AC2060=1,SUM(INDIRECT($AC$1&ROW()-AD$4):AC2059)=0),1,0)","v":0},1522.75,null,null,null,null,null,null,null,null,null,null,null,null,null,-2000,0,null,0,null,null,null,null,null,null,null,null,22.23]
["2007-05-25",{"$f":"VLOOKUP(A2061,'input BCI'!$O$3:$R$5000,4)","v":2.74},null,null,2.74,null,null,null,null,null,null,null,null,0,2.74,null,null,2.74,null,null,null,1,2.74,2.74,{"$f":"AVERAGE(INDIRECT($X$1&ROW()-$Y$4+1):X2061)","v":3.05},0,{"$f":"IF(Y2061>X2061,1,0)","v":1},{"$f":"IF(AND(AA2060=0,AA2061=1,SUM(INDIRECT($AA$1&ROW()-$AB$4):AA2060)=0),1,0)","v":0},0,{"$f":"IF(AND(AC2060=0,AC2061=1,SUM(INDIRECT($AC$1&ROW()-AD$4):AC2060)=0),1,0)","v":0},1515.73,null,null,null,null,null,null,null,null,null,null,null,null,null,-2000,0,null,0,null,null,null,null,null,null,null,null,22.23]
["2007-06-22",{"$f":"VLOOKUP(A2065,'input BCI'!$O$3:$R$5000,4)","v":4.82},null,null,4.82,null,null,null,null,null,null,null,null,0,4.82,null,null,4.82,null,null,null,1,4.82,4.82,{"$f":"AVERAGE(INDIRECT($X$1&ROW()-$Y$4+1):X2065)","v":4.8250000000000002},0,1,{"$f":"IF(AND(AA2064=0,AA2065=1,SUM(INDIRECT($AA$1&ROW()-$AB$4):AA2064)=0),1,0)","v":0},0,{"$f":"IF(AND(AC2064=0,AC2065=1,SUM(INDIRECT($AC$1&ROW()-AD$4):AC2064)=0),1,0)","v":0},1502.56,null,null,null,null,null,null,null,null,null,null,null,null,null,-2000,0,null,0,null,null,null,null,null,null,null,null,22.23]
["2007-07-27",{"$f":"VLOOKUP(A2070,'input BCI'!$O$3:$R$5000,4)","v":3.58},null,null,3.58,null,null,null,null,null,null,null,null,0,3.58,null,null,3.58,null,null,null,1,3.58,3.58,{"$f":"AVERAGE(INDIRECT($X$1&ROW()-$Y$4+1):X2070)","v":3.2450000000000001},0,0,{"$f":"IF(AND(AA2069=0,AA2070=1,SUM(INDIRECT($AA$1&ROW()-$AB$4):AA2069)=0),1,0)","v":0},1,{"$f":"IF(AND(AC2069=0,AC2070=1,SUM(INDIRECT($AC$1&ROW()-AD$4):AC2069)=0),1,0)","v":0},1458.95,null,null,null,null,null,null,null,null,null,null,null,null,null,-2000,0,null,0,null,null,null,null,null,null,null,null,22.23]
["2007-08-17",{"$f":"VLOOKUP(A2073,'input BCI'!$O$3:$R$5000,4)","v":1.29},null,null,1.29,null,null,null,null,null,null,null,null,0,1.29,null,null,{"$f":"O2073*R$7","v":1.29},null,null,null,1,1.29,1.29,{"$f":"AVERAGE(INDIRECT($X$1&ROW()-$Y$4+1):X2073)","v":0.9850000000000001},0,0,{"$f":"IF(AND(AA2072=0,AA2073=1,SUM(INDIRECT($AA$1&ROW()-$AB$4):AA2072)=0),1,0)","v":0},1,{"$f":"IF(AND(AC2072=0,AC2073=1,SUM(INDIRECT($AC$1&ROW()-AD$4):AC2072)=0),1,0)","v":0},1445.94,null,null,null,null,null,null,null,null,null,null,null,null,null,-2000,0,null,0,null,null,null,null,null,null,null,null,22.23]
["2007-08-31",{"$f":"VLOOKUP(A2075,'input BCI'!$O$3:$R$5000,4)","v":0.41},null,null,0.41,null,null,null,null,null,null,null,null,0,0.41,null,null,0.41,null,null,null,1,0.41,0.41,{"$f":"AVERAGE(INDIRECT($X$1&ROW()-$Y$4+1):X2075)","v":0.315},0,0,{"$f":"IF(AND(AA2074=0,AA2075=1,SUM(INDIRECT($AA$1&ROW()-$AB$4):AA2074)=0),1,0)","v":0},1,{"$f":"IF(AND(AC2074=0,AC2075=1,SUM(INDIRECT($AC$1&ROW()-AD$4):AC2074)=0),1,0)","v":0},1473.99,null,null,null,null,null,null,null,null,null,null,null,null,null,-2000,0,null,0,null,null,null,null,null,null,null,null,22.23]
["2007-10-12",{"$f":"VLOOKUP(A2081,'input BCI'!$O$3:$R$5000,4)","v":0.46},null,null,0.46,null,null,null,null,null,null,null,null,0,0.46,null,null,0.46,null,null,null,1,0.46,0.46,{"$f":"AVERAGE(INDIRECT($X$1&ROW()-$Y$4+1):X2081)","v":0.4},0,0,{"$f":"IF(AND(AA2080=0,AA2081=1,SUM(INDIRECT($AA$1&ROW()-$AB$4):AA2080)=0),1,0)","v":0},1,{"$f":"IF(AND(AC2080=0,AC2081=1,SUM(INDIRECT($AC$1&ROW()-AD$4):AC2080)=0),1,0)","v":0},1561.8,null,null,null,null,null,null,null,null,null,null,null,null,null,-2000,0,null,0,null,null,null,null,null,null,null,null,22.23]
["2007-11-02",{"$f":"VLOOKUP(A2084,'input BCI'!$O$3:$R$5000,4)","v":-0.14000000000000001},null,null,-0.14000000000000001,null,null,null,null,null,null,null,null,0,-0.14000000000000001,null,null,-0.14000000000000001,null,null,null,1,-0.14000000000000001,-0.14000000000000001,{"$f":"AVERAGE(INDIRECT($X$1&ROW()-$Y$4+1):X2084)","v":-0.41499999999999998},0,0,{"$f":"IF(AND(AA2083=0,AA2084=1,SUM(INDIRECT($AA$1&ROW()-$AB$4):AA2083)=0),1,0)","v":0},1,{"$f":"IF(AND(AC2083=0,AC2084=1,SUM(INDIRECT($AC$1&ROW()-AD$4):AC2083)=0),1,0)","v":0},1509.65,null,null,null,null,null,null,null,null,null,null,null,null,null,-2000,0,null,0,null,null,null,null,null,null,null,null,22.23]
["2007-12-07",{"$f":"VLOOKUP(A2089,'input BCI'!$O$3:$R$5000,4)","v":-2.65},null,null,-2.65,null,null,null,null,null,null,null,null,0,-2.65,null,null,-2.65,null,null,null,1,-2.65,-2.65,{"$f":"AVERAGE(INDIRECT($X$1&ROW()-$Y$4+1):X2089)","v":-2.4450000000000003},0,1,{"$f":"IF(AND(AA2088=0,AA2089=1,SUM(INDIRECT($AA$1&ROW()-$AB$4):AA2088)=0),1,0)","v":1},0,{"$f":"IF(AND(AC2088=0,AC2089=1,SUM(INDIRECT($AC$1&ROW()-AD$4):AC2088)=0),1,0)","v":0},1504.66,null,null,null,null,null,null,null,null,null,null,null,null,null,-2000,0,null,0,null,null,null,null,null,null,null,null,22.23]
["2007-12-14",{"$f":"VLOOKUP(A2090,'input BCI'!$O$3:$R$5000,4)","v":-2.2400000000000002},null,null,-2.2400000000000002,null,null,null,null,null,null,null,null,0,-2.2400000000000002,null,null,-2.2400000000000002,null,null,null,1,-2.2400000000000002,-2.2400000000000002,{"$f":"AVERAGE(INDIRECT($X$1&ROW()-$Y$4+1):X2090)","v":-2.0550000000000002},0,1,{"$f":"IF(AND(AA2089=0,AA2090=1,SUM(INDIRECT($AA$1&ROW()-$AB$4):AA2089)=0),1,0)","v":0},0,{"$f":"IF(AND(AC2089=0,AC2090=1,SUM(INDIRECT($AC$1&ROW()-AD$4):AC2089)=0),1,0)","v":0},1467.95,null,null,null,null,null,null,null,null,null,null,null,null,null,-2000,0,null,0,null,null,null,null,null,null,null,null,22.23]
["2008-01-11",{"$f":"VLOOKUP(A2094,'input BCI'!$O$3:$R$5000,4)","v":-3.86},null,null,-3.86,null,null,null,null,null,null,null,null,1,-3.86,null,null,-3.86,null,null,null,1,-3.86,-3.86,{"$f":"AVERAGE(INDIRECT($X$1&ROW()-$Y$4+1):X2094)","v":-4.5149999999999997},0,0,{"$f":"IF(AND(AA2093=0,AA2094=1,SUM(INDIRECT($AA$1&ROW()-$AB$4):AA2093)=0),1,0)","v":0},1,{"$f":"IF(AND(AC2093=0,AC2094=1,SUM(INDIRECT($AC$1&ROW()-AD$4):AC2093)=0),1,0)","v":0},1401.02,null,null,null,null,null,null,null,null,null,null,null,null,"2008-01-11",2000,1,null,0,null,null,null,null,null,null,null,null,22.23]
["2008-02-15",{"$f":"VLOOKUP(A2099,'input BCI'!$O$3:$R$5000,4)","v":-8.15},null,null,-8.15,null,null,null,null,null,null,null,null,1,-8.15,null,null,-8.15,null,null,null,1,-8.15,-8.15,{"$f":"AVERAGE(INDIRECT($X$1&ROW()-$Y$4+1):X2099)","v":-8.2050000000000001},0,0,{"$f":"IF(AND(AA2098=0,AA2099=1,SUM(INDIRECT($AA$1&ROW()-$AB$4):AA2098)=0),1,0)","v":0},1,{"$f":"IF(AND(AC2098=0,AC2099=1,SUM(INDIRECT($AC$1&ROW()-AD$4):AC2098)=0),1,0)","v":0},1349.99,null,null,null,null,null,null,null,null,null,null,null,null,"2008-02-15",2000,1,null,0,null,null,null,null,null,null,null,null,22.23]
["2008-03-07",{"$f":"VLOOKUP(A2102,'input BCI'!$O$3:$R$5000,4)","v":-8.3000000000000007},null,null,-8.3000000000000007,null,null,null,null,null,null,null,null,1,-8.3000000000000007,null,null,-8.3000000000000007,null,null,null,1,-8.3000000000000007,-8.3000000000000007,{"$f":"AVERAGE(INDIRECT($X$1&ROW()-$Y$4+1):X2102)","v":-8.370000000000001},0,0,{"$f":"IF(AND(AA2101=0,AA2102=1,SUM(INDIRECT($AA$1&ROW()-$AB$4):AA2101)=0),1,0)","v":0},1,{"$f":"IF(AND(AC2101=0,AC2102=1,SUM(INDIRECT($AC$1&ROW()-AD$4):AC2101)=0),1,0)","v":0},1293.3699999999999,null,null,null,null,null,null,null,null,null,null,null,null,"2008-03-07",2000,1,null,0,null,null,null,null,null,null,null,null,22.23]
["2008-03-21",{"$f":"VLOOKUP(A2104,'input BCI'!$O$3:$R$5000,4)","v":-8.57},null,null,-8.57,null,null,null,null,null,null,null,null,1,-8.57,null,null,-8.57,null,null,null,1,-8.57,-8.57,{"$f":"AVERAGE(INDIRECT($X$1&ROW()-$Y$4+1):X2104)","v":-8.6750000000000007},0,0,{"$f":"IF(AND(AA2103=0,AA2104=1,SUM(INDIRECT($AA$1&ROW()-$AB$4):AA2103)=0),1,0)","v":0},1,{"$f":"IF(AND(AC2103=0,AC2104=1,SUM(INDIRECT($AC$1&ROW()-AD$4):AC2103)=0),1,0)","v":0},1329.51,null,null,null,null,null,null,null,null,null,null,null,null,"2008-03-21",2000,1,null,0,null,null,null,null,null,null,null,null,22.23]
["2008-05-02",{"$f":"VLOOKUP(A2110,'input BCI'!$O$3:$R$5000,4)","v":-8.85},null,null,-8.85,null,null,null,null,null,null,null,null,1,-8.85,null,null,-8.85,null,null,null,1,-8.85,-8.85,{"$f":"AVERAGE(INDIRECT($X$1&ROW()-$Y$4+1):X2110)","v":-8.870000000000001},0,0,{"$f":"IF(AND(AA2109=0,AA2110=1,SUM(INDIRECT($AA$1&ROW()-$AB$4):AA2109)=0),1,0)","v":0},1,{"$f":"IF(AND(AC2109=0,AC2110=1,SUM(INDIRECT($AC$1&ROW()-AD$4):AC2109)=0),1,0)","v":0},1413.9,null,null,null,null,null,null,null,null,null,null,null,null,"2008-05-02",2000,1,null,0,null,null,null,null,null,null,null,null,22.23]
["2008-05-23",{"$f":"VLOOKUP(A2113,'input BCI'!$O$3:$R$5000,4)","v":-9.16},null,null,-9.16,null,null,null,null,null,null,null,null,1,-9.16,null,null,-9.16,null,null,null,1,-9.16,-9.16,{"$f":"AVERAGE(INDIRECT($X$1&ROW()-$Y$4+1):X2113)","v":-9.254999999999999},0,0,{"$f":"IF(AND(AA2112=0,AA2113=1,SUM(INDIRECT($AA$1&ROW()-$AB$4):AA2112)=0),1,0)","v":0},1,{"$f":"IF(AND(AC2112=0,AC2113=1,SUM(INDIRECT($AC$1&ROW()-AD$4):AC2112)=0),1,0)","v":0},1375.93,null,null,null,null,null,null,null,null,null,null,null,null,"2008-05-23",2000,1,null,0,null,null,null,null,null,null,null,null,22.23]
["2008-06-27",{"$f":"VLOOKUP(A2118,'input BCI'!$O$3:$R$5000,4)","v":-9.83},null,null,-9.83,null,null,null,null,null,null,null,null,1,-9.83,null,null,-9.83,null,null,null,1,-9.83,-9.83,{"$f":"AVERAGE(INDIRECT($X$1&ROW()-$Y$4+1):X2118)","v":-10.085000000000001},0,0,{"$f":"IF(AND(AA2117=0,AA2118=1,SUM(INDIRECT($AA$1&ROW()-$AB$4):AA2117)=0),1,0)","v":0},1,{"$f":"IF(AND(AC2117=0,AC2118=1,SUM(INDIRECT($AC$1&ROW()-AD$4):AC2117)=0),1,0)","v":0},1278.3800000000001,null,null,null,null,null,null,null,null,null,null,null,null,"2008-06-27",2000,1,null,0,null,null,null,null,null,null,null,null,22.23]
["2008-07-04",{"$f":"VLOOKUP(A2119,'input BCI'!$O$3:$R$5000,4)","v":-10.34},null,null,-10.34,null,null,null,null,null,null,null,null,1,-10.34,null,null,-10.34,null,null,null,1,-10.34,-10.34,{"$f":"AVERAGE(INDIRECT($X$1&ROW()-$Y$4+1):X2119)","v":-10.625},0,0,{"$f":"IF(AND(AA2118=0,AA2119=1,SUM(INDIRECT($AA$1&ROW()-$AB$4):AA2118)=0),1,0)","v":0},1,{"$f":"IF(AND(AC2118=0,AC2119=1,SUM(INDIRECT($AC$1&ROW()-AD$4):AC2118)=0),1,0)","v":0},1262.9000000000001,null,null,null,null,null,null,null,null,null,null,null,null,"2008-07-04",2000,1,null,0,null,null,null,null,null,null,null,null,22.23]
["2008-08-01",{"$f":"VLOOKUP(A2123,'input BCI'!$O$3:$R$5000,4)","v":-12.07},null,null,{"$f":"B2123+$O$7","v":-12.07},null,null,null,null,null,null,null,null,1,{"$f":"E2123","v":-12.07},null,null,-12.07,null,null,null,1,{"$f":"R2123","v":-12.07},{"$f":"(W2123+$X$4)","v":-12.07},{"$f":"AVERAGE(INDIRECT($X$1&ROW()-$Y$4+1):X2123)","v":-12.14},{"$f":"IF(OR(X2123=$I$5,X2123>$I$5),1,0)","v":0},0,{"$f":"IF(AND(AA2122=0,AA2123=1,SUM(INDIRECT($AA$1&ROW()-$AB$4):AA2122)=0),1,0)","v":0},1,{"$f":"IF(AND(AC2122=0,AC2123=1,SUM(INDIRECT($AC$1&ROW()-AD$4):AC2122)=0),1,0)","v":0},1260.31,null,null,null,null,null,null,null,null,null,null,null,null,"2008-08-01",2000,1,null,0,null,null,null,null,null,null,null,null,{"$f":"$BE$2","v":22.23}]
["2008-09-05",{"$f":"VLOOKUP(A2128,'input BCI'!$O$3:$R$5000,4)","v":-13.03},null,null,-13.03,null,null,null,null,null,null,null,null,1,-13.03,null,null,-13.03,null,null,null,1,-13.03,-13.03,{"$f":"AVERAGE(INDIRECT($X$1&ROW()-$Y$4+1):X2128)","v":-13.23},0,0,{"$f":"IF(AND(AA2127=0,AA2128=1,SUM(INDIRECT($AA$1&ROW()-$AB$4):AA2127)=0),1,0)","v":0},1,{"$f":"IF(AND(AC2127=0,AC2128=1,SUM(INDIRECT($AC$1&ROW()-AD$4):AC2127)=0),1,0)","v":0},1242.31,null,null,null,null,null,null,null,null,null,null,null,null,"2008-09-05",2000,1,null,0,null,null,null,null,null,null,null,null,22.23]
["2008-09-26",{"$f":"VLOOKUP(A2131,'input BCI'!$O$3:$R$5000,4)","v":-14.41},null,null,-14.41,null,null,null,null,null,null,null,null,1,-14.41,null,null,-14.41,null,null,null,1,-14.41,-14.41,{"$f":"AVERAGE(INDIRECT($X$1&ROW()-$Y$4+1):X2131)","v":-14.844999999999999},0,0,{"$f":"IF(AND(AA2130=0,AA2131=1,SUM(INDIRECT($AA$1&ROW()-$AB$4):AA2130)=0),1,0)","v":0},1,{"$f":"IF(AND(AC2130=0,AC2131=1,SUM(INDIRECT($AC$1&ROW()-AD$4):AC2130)=0),1,0)","v":0},1213.27,null,null,null,null,null,null,null,null,null,null,null,null,"2008-09-26",2000,1,null,0,null,null,null,null,null,null,null,null,22.23]
["2008-10-10",{"$f":"VLOOKUP(A2133,'input BCI'!$O$3:$R$5000,4)","v":-16.22},null,null,-16.22,null,null,null,null,null,null,null,null,1,-16.22,null,null,-16.22,null,null,null,1,-16.22,-16.22,{"$f":"AVERAGE(INDIRECT($X$1&ROW()-$Y$4+1):X2133)","v":-16.884999999999998},0,0,{"$f":"IF(AND(AA2132=0,AA2133=1,SUM(INDIRECT($AA$1&ROW()-$AB$4):AA2132)=0),1,0)","v":0},1,{"$f":"IF(AND(AC2132=0,AC2133=1,SUM(INDIRECT($AC$1&ROW()-AD$4):AC2132)=0),1,0)","v":0},899.22,null,null,null,null,null,null,null,null,null,null,null,null,"2008-10-10",2000,1,null,0,null,null,null,null,null,null,null,null,22.23]
["2008-11-21",{"$f":"VLOOKUP(A2139,'input BCI'!$O$3:$R$5000,4)","v":-21.12},null,null,-21.12,null,null,null,null,null,null,null,null,1,-21.12,null,null,-21.12,null,null,null,1,-21.12,-21.12,{"$f":"AVERAGE(INDIRECT($X$1&ROW()-$Y$4+1):X2139)","v":-21.53},0,0,{"$f":"IF(AND(AA2138=0,AA2139=1,SUM(INDIRECT($AA$1&ROW()-$AB$4):AA2138)=0),1,0)","v":0},1,{"$f":"IF(AND(AC2138=0,AC2139=1,SUM(INDIRECT($AC$1&ROW()-AD$4):AC2138)=0),1,0)","v":0},800.03,null,null,null,null,null,null,null,null,null,null,null,null,"2008-11-21",2000,1,null,0,null,null,null,null,null,null,null,null,22.23]
["2008-12-12",{"$f":"VLOOKUP(A2142,'input BCI'!$O$3:$R$5000,4)","v":-23.92},null,null,-23.92,null,null,null,null,null,null,null,null,1,-23.92,null,null,-23.92,null,null,null,1,-23.92,-23.92,{"$f":"AVERAGE(INDIRECT($X$1&ROW()-$Y$4+1):X2142)","v":-24.204999999999998},0,0,{"$f":"IF(AND(AA2141=0,AA2142=1,SUM(INDIRECT($AA$1&ROW()-$AB$4):AA2141)=0),1,0)","v":0},1,{"$f":"IF(AND(AC2141=0,AC2142=1,SUM(INDIRECT($AC$1&ROW()-AD$4):AC2141)=0),1,0)","v":0},879.73,null,null,null,null,null,null,null,null,null,null,null,null,"2008-12-12",2000,1,null,0,null,null,null,null,null,null,null,null,22.23]
["2009-01-16",{"$f":"VLOOKUP(A2147,'input BCI'!$O$3:$R$5000,4)","v":-25.19},null,null,-25.19,null,null,null,null,null,null,null,null,1,-25.19,null,null,-25.19,null,null,null,1,-25.19,-25.19,{"$f":"AVERAGE(INDIRECT($X$1&ROW()-$Y$4+1):X2147)","v":-25.37},0,0,{"$f":"IF(AND(AA2146=0,AA2147=1,SUM(INDIRECT($AA$1&ROW()-$AB$4):AA2146)=0),1,0)","v":0},1,{"$f":"IF(AND(AC2146=0,AC2147=1,SUM(INDIRECT($AC$1&ROW()-AD$4):AC2146)=0),1,0)","v":0},850.12,null,null,null,null,null,null,null,null,null,null,null,null,"2009-01-16",2000,1,null,0,null,null,null,null,null,null,null,null,22.23]
["2009-01-23",{"$f":"VLOOKUP(A2148,'input BCI'!$O$3:$R$5000,4)","v":-25.55},null,null,-25.55,null,null,null,null,null,null,null,null,1,-25.55,null,null,-25.55,null,null,null,1,-25.55,-25.55,{"$f":"AVERAGE(INDIRECT($X$1&ROW()-$Y$4+1):X2148)","v":-25.765000000000001},0,0,{"$f":"IF(AND(AA2147=0,AA2148=1,SUM(INDIRECT($AA$1&ROW()-$AB$4):AA2147)=0),1,0)","v":0},1,{"$f":"IF(AND(AC2147=0,AC2148=1,SUM(INDIRECT($AC$1&ROW()-AD$4):AC2147)=0),1,0)","v":0},831.95,null,null,null,null,null,null,null,null,null,null,null,null,"2009-01-23",2000,1,null,0,null,null,null,null,null,null,null,null,22.23]
["2009-02-20",{"$f":"VLOOKUP(A2152,'input BCI'!$O$3:$R$5000,4)","v":-27.44},null,null,-27.44,null,null,null,null,null,null,null,null,1,-27.44,null,null,-27.44,null,null,null,1,-27.44,-27.44,{"$f":"AVERAGE(INDIRECT($X$1&ROW()-$Y$4+1):X2152)","v":-27.83},0,0,{"$f":"IF(AND(AA2151=0,AA2152=1,SUM(INDIRECT($AA$1&ROW()-$AB$4):AA2151)=0),1,0)","v":0},1,{"$f":"IF(AND(AC2151=0,AC2152=1,SUM(INDIRECT($AC$1&ROW()-AD$4):AC2151)=0),1,0)","v":0},770.05,null,null,null,null,null,null,null,null,null,null,null,null,"2009-02-20",2000,1,null,0,null,null,null,null,null,null,null,null,22.23]
["2009-03-20",{"$f":"VLOOKUP(A2156,'input BCI'!$O$3:$R$5000,4)","v":-31.49},null,null,-31.49,null,null,null,null,null,null,null,null,1,-31.49,null,null,-31.49,null,null,null,1,-31.49,-31.49,{"$f":"AVERAGE(INDIRECT($X$1&ROW()-$Y$4+1):X2156)","v":-31.504999999999999},0,0,{"$f":"IF(AND(AA2155=0,AA2156=1,SUM(INDIRECT($AA$1&ROW()-$AB$4):AA2155)=0),1,0)","v":0},1,{"$f":"IF(AND(AC2155=0,AC2156=1,SUM(INDIRECT($AC$1&ROW()-AD$4):AC2155)=0),1,0)","v":0},768.54,null,null,null,null,null,null,null,null,null,null,null,null,"2009-03-20",2000,1,null,0,null,null,null,null,null,null,null,null,22.23]
["2009-04-24",{"$f":"VLOOKUP(A2161,'input BCI'!$O$3:$R$5000,4)","v":-28.16},null,null,-28.16,null,null,null,null,null,null,null,null,1,-28.16,null,null,-28.16,null,null,null,1,-28.16,-28.16,{"$f":"AVERAGE(INDIRECT($X$1&ROW()-$Y$4+1):X2161)","v":-27.95},0,1,{"$f":"IF(AND(AA2160=0,AA2161=1,SUM(INDIRECT($AA$1&ROW()-$AB$4):AA2160)=0),1,0)","v":0},0,{"$f":"IF(AND(AC2160=0,AC2161=1,SUM(INDIRECT($AC$1&ROW()-AD$4):AC2160)=0),1,0)","v":0},866.23,null,null,null,null,null,null,null,null,null,null,null,null,"2009-04-24",2000,1,null,0,null,null,null,null,null,null,null,null,22.23]
["2009-05-01",{"$f":"VLOOKUP(A2162,'input BCI'!$O$3:$R$5000,4)","v":-27.74},null,null,-27.74,null,null,null,null,null,null,null,null,1,-27.74,null,null,-27.74,null,null,null,1,-27.74,-27.74,{"$f":"AVERAGE(INDIRECT($X$1&ROW()-$Y$4+1):X2162)","v":-27.515000000000001},0,1,{"$f":"IF(AND(AA2161=0,AA2162=1,SUM(INDIRECT($AA$1&ROW()-$AB$4):AA2161)=0),1,0)","v":0},0,{"$f":"IF(AND(AC2161=0,AC2162=1,SUM(INDIRECT($AC$1&ROW()-AD$4):AC2161)=0),1,0)","v":0},877.52,null,null,null,null,null,null,null,null,null,null,null,null,"2009-05-01",2000,1,null,0,null,null,null,null,null,null,null,null,22.23]
["2009-06-12",{"$f":"VLOOKUP(A2168,'input BCI'!$O$3:$R$5000,4)","v":-25.7},null,null,-25.7,null,null,null,null,null,null,null,null,1,-25.7,null,null,-25.7,null,null,null,1,-25.7,-25.7,{"$f":"AVERAGE(INDIRECT($X$1&ROW()-$Y$4+1):X2168)","v":-25.335000000000001},0,1,{"$f":"IF(AND(AA2167=0,AA2168=1,SUM(INDIRECT($AA$1&ROW()-$AB$4):AA2167)=0),1,0)","v":0},0,{"$f":"IF(AND(AC2167=0,AC2168=1,SUM(INDIRECT($AC$1&ROW()-AD$4):AC2167)=0),1,0)","v":0},946.21,null,null,null,null,null,null,null,null,null,null,null,null,"2009-06-12",2000,1,null,0,null,null,null,null,null,null,null,null,22.23]
["2009-07-03",{"$f":"VLOOKUP(A2171,'input BCI'!$O$3:$R$5000,4)","v":-22.88},null,null,-22.88,null,null,null,null,null,null,null,null,0,-22.88,null,null,-22.88,null,null,null,1,-22.88,-22.88,{"$f":"AVERAGE(INDIRECT($X$1&ROW()-$Y$4+1):X2171)","v":-22.42},0,1,{"$f":"IF(AND(AA2170=0,AA2171=1,SUM(INDIRECT($AA$1&ROW()-$AB$4):AA2170)=0),1,0)","v":0},0,{"$f":"IF(AND(AC2170=0,AC2171=1,SUM(INDIRECT($AC$1&ROW()-AD$4):AC2170)=0),1,0)","v":0},896.42,null,null,null,null,null,null,null,null,null,null,null,null,null,-2000,0,null,0,null,null,null,null,null,null,null,null,22.23]
["2009-08-07",{"$f":"VLOOKUP(A2176,'input BCI'!$O$3:$R$5000,4)","v":-14.68},null,null,-14.68,null,null,null,null,null,null,null,null,0,-14.68,null,null,-14.68,null,null,null,1,-14.68,-14.68,{"$f":"AVERAGE(INDIRECT($X$1&ROW()-$Y$4+1):X2176)","v":-13.61},0,1,{"$f":"IF(AND(AA2175=0,AA2176=1,SUM(INDIRECT($AA$1&ROW()-$AB$4):AA2175)=0),1,0)","v":0},0,{"$f":"IF(AND(AC2175=0,AC2176=1,SUM(INDIRECT($AC$1&ROW()-AD$4):AC2175)=0),1,0)","v":0},1010.48,null,null,null,null,null,null,null,null,null,null,null,null,null,-2000,0,null,0,null,null,null,null,null,null,null,null,22.23]
["2009-08-14",{"$f":"VLOOKUP(A2177,'input BCI'!$O$3:$R$5000,4)","v":-12.54},null,null,-12.54,null,null,null,null,null,null,null,null,0,-12.54,null,null,-12.54,null,null,null,1,-12.54,-12.54,{"$f":"AVERAGE(INDIRECT($X$1&ROW()-$Y$4+1):X2177)","v":-11.715},0,1,{"$f":"IF(AND(AA2176=0,AA2177=1,SUM(INDIRECT($AA$1&ROW()-$AB$4):AA2176)=0),1,0)","v":0},0,{"$f":"IF(AND(AC2176=0,AC2177=1,SUM(INDIRECT($AC$1&ROW()-AD$4):AC2176)=0),1,0)","v":0},1004.09,null,null,null,null,null,null,null,null,null,null,null,null,null,-2000,0,null,0,null,null,null,null,null,null,null,null,22.23]
["2009-09-11",{"$f":"VLOOKUP(A2181,'input BCI'!$O$3:$R$5000,4)","v":-6.65},null,null,-6.65,null,null,null,null,null,null,null,null,0,-6.65,null,null,-6.65,null,null,null,1,-6.65,-6.65,{"$f":"AVERAGE(INDIRECT($X$1&ROW()-$Y$4+1):X2181)","v":-5.9050000000000002},0,1,{"$f":"IF(AND(AA2180=0,AA2181=1,SUM(INDIRECT($AA$1&ROW()-$AB$4):AA2180)=0),1,0)","v":0},0,{"$f":"IF(AND(AC2180=0,AC2181=1,SUM(INDIRECT($AC$1&ROW()-AD$4):AC2180)=0),1,0)","v":0},1042.73,null,null,null,null,null,null,null,null,null,null,null,null,null,-2000,0,null,0,null,null,null,null,null,null,null,null,22.23]
["2009-10-09",{"$f":"VLOOKUP(A2185,'input BCI'!$O$3:$R$5000,4)","v":-1.35},null,null,-1.35,null,null,null,null,null,null,null,null,0,-1.35,null,null,-1.35,null,null,null,1,-1.35,-1.35,{"$f":"AVERAGE(INDIRECT($X$1&ROW()-$Y$4+1):X2185)","v":-0.755},0,1,{"$f":"IF(AND(AA2184=0,AA2185=1,SUM(INDIRECT($AA$1&ROW()-$AB$4):AA2184)=0),1,0)","v":0},0,{"$f":"IF(AND(AC2184=0,AC2185=1,SUM(INDIRECT($AC$1&ROW()-AD$4):AC2184)=0),1,0)","v":0},1071.49,null,null,null,null,null,null,null,null,null,null,null,null,null,-2000,0,null,0,null,null,null,null,null,null,null,null,22.23]
["2009-11-13",{"$f":"VLOOKUP(A2190,'input BCI'!$O$3:$R$5000,4)","v":3.04},null,null,3.04,null,null,null,null,null,null,null,null,0,3.04,null,null,3.04,null,null,null,1,3.04,3.04,{"$f":"AVERAGE(INDIRECT($X$1&ROW()-$Y$4+1):X2190)","v":3.2949999999999999},0,1,{"$f":"IF(AND(AA2189=0,AA2190=1,SUM(INDIRECT($AA$1&ROW()-$AB$4):AA2189)=0),1,0)","v":0},{"$f":"IF(Y2190<X2190,1,0)","v":0},{"$f":"IF(AND(AC2189=0,AC2190=1,SUM(INDIRECT($AC$1&ROW()-AD$4):AC2189)=0),1,0)","v":0},1093.48,null,null,null,null,null,null,null,null,null,null,null,null,null,-2000,0,null,0,null,null,null,null,null,null,null,null,22.23]
["2009-11-20",{"$f":"VLOOKUP(A2191,'input BCI'!$O$3:$R$5000,4)","v":3.55},null,null,3.55,null,null,null,null,null,null,null,null,0,3.55,null,null,3.55,null,null,null,1,3.55,3.55,{"$f":"AVERAGE(INDIRECT($X$1&ROW()-$Y$4+1):X2191)","v":4},0,1,{"$f":"IF(AND(AA2190=0,AA2191=1,SUM(INDIRECT($AA$1&ROW()-$AB$4):AA2190)=0),1,0)","v":0},0,{"$f":"IF(AND(AC2190=0,AC2191=1,SUM(INDIRECT($AC$1&ROW()-AD$4):AC2190)=0),1,0)","v":0},1091.3800000000001,null,null,null,null,null,null,null,null,null,null,null,null,null,-2000,0,null,0,null,null,null,null,null,null,null,null,22.23]
["2010-01-01",{"$f":"VLOOKUP(A2197,'input BCI'!$O$3:$R$5000,4)","v":9.57},null,null,9.57,null,null,null,null,null,null,null,null,0,9.57,null,null,9.57,null,null,null,1,9.57,9.57,{"$f":"AVERAGE(INDIRECT($X$1&ROW()-$Y$4+1):X2197)","v":10.030000000000001},0,1,{"$f":"IF(AND(AA2196=0,AA2197=1,SUM(INDIRECT($AA$1&ROW()-$AB$4):AA2196)=0),1,0)","v":0},0,{"$f":"IF(AND(AC2196=0,AC2197=1,SUM(INDIRECT($AC$1&ROW()-AD$4):AC2196)=0),1,0)","v":0},1115.0999999999999,null,null,null,null,null,null,null,null,null,null,null,null,null,-2000,0,null,0,null,null,null,null,null,null,null,null,22.23]
["2010-01-22",{"$f":"VLOOKUP(A2200,'input BCI'!$O$3:$R$5000,4)","v":12.17},null,null,12.17,null,null,null,null,null,null,null,null,0,12.17,null,null,12.17,null,null,null,1,12.17,12.17,{"$f":"AVERAGE(INDIRECT($X$1&ROW()-$Y$4+1):X2200)","v":12.285},0,1,{"$f":"IF(AND(AA2199=0,AA2200=1,SUM(INDIRECT($AA$1&ROW()-$AB$4):AA2199)=0),1,0)","v":0},0,{"$f":"IF(AND(AC2199=0,AC2200=1,SUM(INDIRECT($AC$1&ROW()-AD$4):AC2199)=0),1,0)","v":0},1091.76,null,null,null,null,null,null,null,null,null,null,null,null,null,-2000,0,null,0,null,null,null,null,null,null,null,null,22.23]
["2010-02-26",{"$f":"VLOOKUP(A2205,'input BCI'!$O$3:$R$5000,4)","v":10.98},null,null,10.98,null,null,null,null,null,null,null,null,0,10.98,null,null,10.98,null,null,null,1,10.98,10.98,{"$f":"AVERAGE(INDIRECT($X$1&ROW()-$Y$4+1):X2205)","v":11.06},0,1,{"$f":"IF(AND(AA2204=0,AA2205=1,SUM(INDIRECT($AA$1&ROW()-$AB$4):AA2204)=0),1,0)","v":0},0,{"$f":"IF(AND(AC2204=0,AC2205=1,SUM(INDIRECT($AC$1&ROW()-AD$4):AC2204)=0),1,0)","v":0},1104.49,null,null,null,null,null,null,null,null,null,null,null,null,null,-2000,0,null,0,null,null,null,null,null,null,null,null,22.23]
["2010-03-05",{"$f":"VLOOKUP(A2206,'input BCI'!$O$3:$R$5000,4)","v":11.14},null,null,11.14,null,null,null,null,null,null,null,null,0,11.14,null,null,11.14,null,null,null,1,11.14,11.14,{"$f":"AVERAGE(INDIRECT($X$1&ROW()-$Y$4+1):X2206)","v":11.39},0,1,{"$f":"IF(AND(AA2205=0,AA2206=1,SUM(INDIRECT($AA$1&ROW()-$AB$4):AA2205)=0),1,0)","v":0},0,{"$f":"IF(AND(AC2205=0,AC2206=1,SUM(INDIRECT($AC$1&ROW()-AD$4):AC2205)=0),1,0)","v":0},1138.7,null,null,null,null,null,null,null,null,null,null,null,null,null,-2000,0,null,0,null,null,null,null,null,null,null,null,22.23]
["2010-04-02",{"$f":"VLOOKUP(A2210,'input BCI'!$O$3:$R$5000,4)","v":12.84},null,null,12.84,null,null,null,null,null,null,null,null,0,12.84,null,null,12.84,null,null,null,1,12.84,12.84,{"$f":"AVERAGE(INDIRECT($X$1&ROW()-$Y$4+1):X2210)","v":12.955},0,1,{"$f":"IF(AND(AA2209=0,AA2210=1,SUM(INDIRECT($AA$1&ROW()-$AB$4):AA2209)=0),1,0)","v":0},0,{"$f":"IF(AND(AC2209=0,AC2210=1,SUM(INDIRECT($AC$1&ROW()-AD$4):AC2209)=0),1,0)","v":0},1178.0999999999999,null,null,null,null,null,null,null,null,null,null,null,null,null,-2000,0,null,0,null,null,null,null,null,null,null,null,22.23]
["2010-04-30",{"$f":"VLOOKUP(A2214,'input BCI'!$O$3:$R$5000,4)","v":13.67},null,null,13.67,null,null,null,null,null,null,null,null,0,13.67,null,null,13.67,null,null,null,1,13.67,13.67,{"$f":"AVERAGE(INDIRECT($X$1&ROW()-$Y$4+1):X2214)","v":13.885},0,1,{"$f":"IF(AND(AA2213=0,AA2214=1,SUM(INDIRECT($AA$1&ROW()-$AB$4):AA2213)=0),1,0)","v":0},0,{"$f":"IF(AND(AC2213=0,AC2214=1,SUM(INDIRECT($AC$1&ROW()-AD$4):AC2213)=0),1,0)","v":0},1186.69,null,null,null,null,null,null,null,null,null,null,null,null,null,-2000,0,null,0,null,null,null,null,null,null,null,null,22.23]
["2010-06-04",{"$f":"VLOOKUP(A2219,'input BCI'!$O$3:$R$5000,4)","v":13.7},null,null,13.7,null,null,null,null,null,null,null,null,0,13.7,null,null,13.7,null,null,null,1,13.7,13.7,{"$f":"AVERAGE(INDIRECT($X$1&ROW()-$Y$4+1):X2219)","v":13.594999999999999},0,0,{"$f":"IF(AND(AA2218=0,AA2219=1,SUM(INDIRECT($AA$1&ROW()-$AB$4):AA2218)=0),1,0)","v":0},1,{"$f":"IF(AND(AC2218=0,AC2219=1,SUM(INDIRECT($AC$1&ROW()-AD$4):AC2218)=0),1,0)","v":0},1064.8800000000001,null,null,null,null,null,null,null,null,null,null,null,null,null,-2000,0,null,0,null,null,null,null,null,null,null,null,22.23]
["2010-06-11",{"$f":"VLOOKUP(A2220,'input BCI'!$O$3:$R$5000,4)","v":13.49},null,null,13.49,null,null,null,null,null,null,null,null,0,13.49,null,null,13.49,null,null,null,1,13.49,13.49,{"$f":"AVERAGE(INDIRECT($X$1&ROW()-$Y$4+1):X2220)","v":13.54},0,1,{"$f":"IF(AND(AA2219=0,AA2220=1,SUM(INDIRECT($AA$1&ROW()-$AB$4):AA2219)=0),1,0)","v":0},0,{"$f":"IF(AND(AC2219=0,AC2220=1,SUM(INDIRECT($AC$1&ROW()-AD$4):AC2219)=0),1,0)","v":0},1091.5999999999999,null,null,null,null,null,null,null,null,null,null,null,null,null,-2000,0,null,0,null,null,null,null,null,null,null,null,22.23]
["2010-07-23",{"$f":"VLOOKUP(A2226,'input BCI'!$O$3:$R$5000,4)","v":8.1},null,null,8.1,null,null,null,null,null,null,null,null,0,8.1,null,null,8.1,null,null,null,1,8.1,8.1,{"$f":"AVERAGE(INDIRECT($X$1&ROW()-$Y$4+1):X2226)","v":7.58},0,0,{"$f":"IF(AND(AA2225=0,AA2226=1,SUM(INDIRECT($AA$1&ROW()-$AB$4):AA2225)=0),1,0)","v":0},1,{"$f":"IF(AND(AC2225=0,AC2226=1,SUM(INDIRECT($AC$1&ROW()-AD$4):AC2225)=0),1,0)","v":0},1102.6600000000001,null,null,null,null,null,null,null,null,null,null,null,null,null,-2000,0,null,0,null,null,null,null,null,null,null,null,22.23]
["2010-08-13",{"$f":"VLOOKUP(A2229,'input BCI'!$O$3:$R$5000,4)","v":7.12},null,null,7.12,null,null,null,null,null,null,null,null,0,7.12,null,null,7.12,null,null,null,1,7.12,7.12,{"$f":"AVERAGE(INDIRECT($X$1&ROW()-$Y$4+1):X2229)","v":7.2149999999999999},0,1,{"$f":"IF(AND(AA2228=0,AA2229=1,SUM(INDIRECT($AA$1&ROW()-$AB$4):AA2228)=0),1,0)","v":0},0,{"$f":"IF(AND(AC2228=0,AC2229=1,SUM(INDIRECT($AC$1&ROW()-AD$4):AC2228)=0),1,0)","v":0},1079.25,null,null,null,null,null,null,null,null,null,null,null,null,null,-2000,0,null,0,null,null,null,null,null,null,null,null,22.23]
["2010-08-27",{"$f":"VLOOKUP(A2231,'input BCI'!$O$3:$R$5000,4)","v":6.95},null,null,6.95,null,null,null,null,null,null,null,null,0,6.95,null,null,6.95,null,null,null,1,6.95,6.95,{"$f":"AVERAGE(INDIRECT($X$1&ROW()-$Y$4+1):X2231)","v":6.63},0,0,{"$f":"IF(AND(AA2230=0,AA2231=1,SUM(INDIRECT($AA$1&ROW()-$AB$4):AA2230)=0),1,0)","v":0},1,{"$f":"IF(AND(AC2230=0,AC2231=1,SUM(INDIRECT($AC$1&ROW()-AD$4):AC2230)=0),1,0)","v":0},1064.5899999999999,null,null,null,null,null,null,null,null,null,null,null,null,null,-2000,0,null,0,null,null,null,null,null,null,null,null,22.23]
["2010-09-17",{"$f":"VLOOKUP(A2234,'input BCI'!$O$3:$R$5000,4)","v":5.32},null,null,5.32,null,null,null,null,null,null,null,null,0,5.32,null,null,5.32,null,null,null,1,5.32,5.32,{"$f":"AVERAGE(INDIRECT($X$1&ROW()-$Y$4+1):X2234)","v":5.3650000000000002},0,1,{"$f":"IF(AND(AA2233=0,AA2234=1,SUM(INDIRECT($AA$1&ROW()-$AB$4):AA2233)=0),1,0)","v":0},0,{"$f":"IF(AND(AC2233=0,AC2234=1,SUM(INDIRECT($AC$1&ROW()-AD$4):AC2233)=0),1,0)","v":0},1125.5899999999999,null,null,null,null,null,null,null,null,null,null,null,null,null,-2000,0,null,0,null,null,null,null,null,null,null,null,22.23]
["2010-10-22",{"$f":"VLOOKUP(A2239,'input BCI'!$O$3:$R$5000,4)","v":6.83},null,null,6.83,null,null,null,null,null,null,null,null,0,6.83,null,null,6.83,null,null,null,1,6.83,6.83,{"$f":"AVERAGE(INDIRECT($X$1&ROW()-$Y$4+1):X2239)","v":7.2},0,1,{"$f":"IF(AND(AA2238=0,AA2239=1,SUM(INDIRECT($AA$1&ROW()-$AB$4):AA2238)=0),1,0)","v":0},0,{"$f":"IF(AND(AC2238=0,AC2239=1,SUM(INDIRECT($AC$1&ROW()-AD$4):AC2238)=0),1,0)","v":0},1183.08,null,null,null,null,null,null,null,null,null,null,null,null,null,-2000,0,null,0,null,null,null,null,null,null,null,null,22.23]
["2010-11-19",{"$f":"VLOOKUP(A2243,'input BCI'!$O$3:$R$5000,4)","v":10.55},null,null,10.55,null,null,null,null,null,null,null,null,0,10.55,null,null,10.55,null,null,null,1,10.55,10.55,{"$f":"AVERAGE(INDIRECT($X$1&ROW()-$Y$4+1):X2243)","v":10.755000000000001},0,1,{"$f":"IF(AND(AA2242=0,AA2243=1,SUM(INDIRECT($AA$1&ROW()-$AB$4):AA2242)=0),1,0)","v":0},0,{"$f":"IF(AND(AC2242=0,AC2243=1,SUM(INDIRECT($AC$1&ROW()-AD$4):AC2242)=0),1,0)","v":0},1199.73,null,null,null,null,null,null,null,null,null,null,null,null,null,-2000,0,null,0,null,null,null,null,null,null,null,null,22.23]
["2010-12-24",{"$f":"VLOOKUP(A2248,'input BCI'!$O$3:$R$5000,4)","v":10.9},null,null,10.9,null,null,null,null,null,null,null,null,0,10.9,null,null,10.9,null,null,null,1,10.9,10.9,{"$f":"AVERAGE(INDIRECT($X$1&ROW()-$Y$4+1):X2248)","v":11.105},0,1,{"$f":"IF(AND(AA2247=0,AA2248=1,SUM(INDIRECT($AA$1&ROW()-$AB$4):AA2247)=0),1,0)","v":0},0,{"$f":"IF(AND(AC2247=0,AC2248=1,SUM(INDIRECT($AC$1&ROW()-AD$4):AC2247)=0),1,0)","v":0},1256.77,null,null,null,null,null,null,null,null,null,null,null,null,null,-2000,0,null,0,null,null,null,null,null,null,null,null,22.23]
["2010-12-31",{"$f":"VLOOKUP(A2249,'input BCI'!$O$3:$R$5000,4)","v":11.31},null,null,11.31,null,null,null,null,null,null,null,null,0,11.31,null,null,11.31,null,null,null,1,11.31,11.31,{"$f":"AVERAGE(INDIRECT($X$1&ROW()-$Y$4+1):X2249)","v":11.375},0,1,{"$f":"IF(AND(AA2248=0,AA2249=1,SUM(INDIRECT($AA$1&ROW()-$AB$4):AA2248)=0),1,0)","v":0},0,{"$f":"IF(AND(AC2248=0,AC2249=1,SUM(INDIRECT($AC$1&ROW()-AD$4):AC2248)=0),1,0)","v":0},1257.6400000000001,null,null,null,null,null,null,null,null,null,null,null,null,null,-2000,0,null,0,null,null,null,null,null,null,null,null,22.23]
["2011-02-11",{"$f":"VLOOKUP(A2255,'input BCI'!$O$3:$R$5000,4)","v":14.69},null,null,14.69,null,null,null,null,null,null,null,null,0,14.69,null,null,14.69,null,null,null,1,14.69,14.69,{"$f":"AVERAGE(INDIRECT($X$1&ROW()-$Y$4+1):X2255)","v":15.094999999999999},0,1,{"$f":"IF(AND(AA2254=0,AA2255=1,SUM(INDIRECT($AA$1&ROW()-$AB$4):AA2254)=0),1,0)","v":0},0,{"$f":"IF(AND(AC2254=0,AC2255=1,SUM(INDIRECT($AC$1&ROW()-AD$4):AC2254)=0),1,0)","v":0},1329.15,null,null,null,null,null,null,null,null,null,null,null,null,null,-2000,0,null,0,null,null,null,null,null,null,null,null,22.23]
["2011-03-04",{"$f":"VLOOKUP(A2258,'input BCI'!$O$3:$R$5000,4)","v":16.36},null,null,16.36,null,null,null,null,null,null,null,null,0,16.36,null,null,16.36,null,null,null,1,16.36,16.36,{"$f":"AVERAGE(INDIRECT($X$1&ROW()-$Y$4+1):X2258)","v":16.27},0,0,{"$f":"IF(AND(AA2257=0,AA2258=1,SUM(INDIRECT($AA$1&ROW()-$AB$4):AA2257)=0),1,0)","v":0},1,{"$f":"IF(AND(AC2257=0,AC2258=1,SUM(INDIRECT($AC$1&ROW()-AD$4):AC2257)=0),1,0)","v":1},1321.15,null,null,null,null,null,null,null,null,null,null,null,null,null,-2000,0,null,0,null,null,null,null,null,null,null,null,22.23]
["2011-03-18",{"$f":"VLOOKUP(A2260,'input BCI'!$O$3:$R$5000,4)","v":15.72},null,null,15.72,null,null,null,null,null,null,null,null,0,15.72,null,null,15.72,null,null,null,1,15.72,15.72,{"$f":"AVERAGE(INDIRECT($X$1&ROW()-$Y$4+1):X2260)","v":15.414999999999999},0,0,{"$f":"IF(AND(AA2259=0,AA2260=1,SUM(INDIRECT($AA$1&ROW()-$AB$4):AA2259)=0),1,0)","v":0},1,{"$f":"IF(AND(AC2259=0,AC2260=1,SUM(INDIRECT($AC$1&ROW()-AD$4):AC2259)=0),1,0)","v":0},1279.2,null,null,null,null,null,null,null,null,null,null,null,null,null,-2000,0,null,0,null,null,null,null,null,null,null,null,22.23]
["2011-04-08",{"$f":"VLOOKUP(A2263,'input BCI'!$O$3:$R$5000,4)","v":13.85},null,null,13.85,null,null,null,null,null,null,null,null,0,13.85,null,null,13.85,null,null,null,1,13.85,13.85,{"$f":"AVERAGE(INDIRECT($X$1&ROW()-$Y$4+1):X2263)","v":13.530000000000001},0,0,{"$f":"IF(AND(AA2262=0,AA2263=1,SUM(INDIRECT($AA$1&ROW()-$AB$4):AA2262)=0),1,0)","v":0},1,{"$f":"IF(AND(AC2262=0,AC2263=1,SUM(INDIRECT($AC$1&ROW()-AD$4):AC2262)=0),1,0)","v":0},1328.17,null,null,null,null,null,null,null,null,null,null,null,null,null,-2000,0,null,0,null,null,null,null,null,null,null,null,22.23]
["2011-05-13",{"$f":"VLOOKUP(A2268,'input BCI'!$O$3:$R$5000,4)","v":13.01},null,null,13.01,null,null,null,null,null,null,null,null,0,13.01,null,null,13.01,null,null,null,1,13.01,13.01,{"$f":"AVERAGE(INDIRECT($X$1&ROW()-$Y$4+1):X2268)","v":13.254999999999999},0,1,{"$f":"IF(AND(AA2267=0,AA2268=1,SUM(INDIRECT($AA$1&ROW()-$AB$4):AA2267)=0),1,0)","v":0},0,{"$f":"IF(AND(AC2267=0,AC2268=1,SUM(INDIRECT($AC$1&ROW()-AD$4):AC2267)=0),1,0)","v":0},1337.77,null,null,null,null,null,null,null,null,null,null,null,null,null,-2000,0,null,0,null,null,null,null,null,null,null,null,22.23]
["2011-06-10",{"$f":"VLOOKUP(A2272,'input BCI'!$O$3:$R$5000,4)","v":13.21},null,null,13.21,null,null,null,null,null,null,null,null,0,13.21,null,null,13.21,null,null,null,1,13.21,13.21,{"$f":"AVERAGE(INDIRECT($X$1&ROW()-$Y$4+1):X2272)","v":13.055},0,0,{"$f":"IF(AND(AA2271=0,AA2272=1,SUM(INDIRECT($AA$1&ROW()-$AB$4):AA2271)=0),1,0)","v":0},1,{"$f":"IF(AND(AC2271=0,AC2272=1,SUM(INDIRECT($AC$1&ROW()-AD$4):AC2271)=0),1,0)","v":0},1270.98,null,null,null,null,null,null,null,null,null,null,null,null,null,-2000,0,null,0,null,null,null,null,null,null,null,null,22.23]
["2011-07-15",{"$f":"VLOOKUP(A2277,'input BCI'!$O$3:$R$5000,4)","v":12.36},null,null,12.36,null,null,null,null,null,null,null,null,0,12.36,null,null,12.36,null,null,null,1,12.36,12.36,{"$f":"AVERAGE(INDIRECT($X$1&ROW()-$Y$4+1):X2277)","v":12.33},0,0,{"$f":"IF(AND(AA2276=0,AA2277=1,SUM(INDIRECT($AA$1&ROW()-$AB$4):AA2276)=0),1,0)","v":0},1,{"$f":"IF(AND(AC2276=0,AC2277=1,SUM(INDIRECT($AC$1&ROW()-AD$4):AC2276)=0),1,0)","v":0},1316.14,null,null,null,null,null,null,null,null,null,null,null,null,null,-2000,0,null,0,null,null,null,null,null,null,null,null,22.23]
["2011-07-22",{"$f":"VLOOKUP(A2278,'input BCI'!$O$3:$R$5000,4)","v":12.3},null,null,12.3,null,null,null,null,null,null,null,null,0,12.3,null,null,12.3,null,null,null,1,12.3,12.3,{"$f":"AVERAGE(INDIRECT($X$1&ROW()-$Y$4+1):X2278)","v":12.29},0,0,{"$f":"IF(AND(AA2277=0,AA2278=1,SUM(INDIRECT($AA$1&ROW()-$AB$4):AA2277)=0),1,0)","v":0},1,{"$f":"IF(AND(AC2277=0,AC2278=1,SUM(INDIRECT($AC$1&ROW()-AD$4):AC2277)=0),1,0)","v":0},1345.02,null,null,null,null,null,null,null,null,null,null,null,null,null,-2000,0,null,0,null,null,null,null,null,null,null,null,22.23]
["2011-09-02",{"$f":"VLOOKUP(A2284,'input BCI'!$O$3:$R$5000,4)","v":6.87},null,null,6.87,null,null,null,null,null,null,null,null,0,6.87,null,null,6.87,null,null,null,1,6.87,6.87,{"$f":"AVERAGE(INDIRECT($X$1&ROW()-$Y$4+1):X2284)","v":6.74},0,0,{"$f":"IF(AND(AA2283=0,AA2284=1,SUM(INDIRECT($AA$1&ROW()-$AB$4):AA2283)=0),1,0)","v":0},1,{"$f":"IF(AND(AC2283=0,AC2284=1,SUM(INDIRECT($AC$1&ROW()-AD$4):AC2283)=0),1,0)","v":0},1173.97,null,null,null,null,null,null,null,null,null,null,null,null,null,-2000,0,null,0,null,null,null,null,null,null,null,null,22.23]
["2011-09-23",{"$f":"VLOOKUP(A2287,'input BCI'!$O$3:$R$5000,4)","v":6.11},null,null,6.11,null,null,null,null,null,null,null,null,0,6.11,null,null,6.11,null,null,null,1,6.11,6.11,{"$f":"AVERAGE(INDIRECT($X$1&ROW()-$Y$4+1):X2287)","v":5.8550000000000004},0,0,{"$f":"IF(AND(AA2286=0,AA2287=1,SUM(INDIRECT($AA$1&ROW()-$AB$4):AA2286)=0),1,0)","v":0},1,{"$f":"IF(AND(AC2286=0,AC2287=1,SUM(INDIRECT($AC$1&ROW()-AD$4):AC2286)=0),1,0)","v":0},1136.43,null,null,null,null,null,null,null,null,null,null,null,null,null,-2000,0,null,0,null,null,null,null,null,null,null,null,22.23]
["2011-10-07",{"$f":"VLOOKUP(A2289,'input BCI'!$O$3:$R$5000,4)","v":5.0999999999999996},null,null,5.0999999999999996,null,null,null,null,null,null,null,null,0,5.0999999999999996,null,null,5.0999999999999996,null,null,null,1,5.0999999999999996,5.0999999999999996,{"$f":"AVERAGE(INDIRECT($X$1&ROW()-$Y$4+1):X2289)","v":5.13},0,1,{"$f":"IF(AND(AA2288=0,AA2289=1,SUM(INDIRECT($AA$1&ROW()-$AB$4):AA2288)=0),1,0)","v":1},0,{"$f":"IF(AND(AC2288=0,AC2289=1,SUM(INDIRECT($AC$1&ROW()-AD$4):AC2288)=0),1,0)","v":0},1155.46,null,null,null,null,null,null,null,null,null,null,null,null,null,-2000,0,null,0,null,null,null,null,null,null,null,null,22.23]
["2011-10-28",{"$f":"VLOOKUP(A2292,'input BCI'!$O$3:$R$5000,4)","v":5.92},null,null,5.92,null,null,null,null,null,null,null,null,0,5.92,null,null,5.92,null,null,null,1,5.92,5.92,{"$f":"AVERAGE(INDIRECT($X$1&ROW()-$Y$4+1):X2292)","v":6.3650000000000002},0,1,{"$f":"IF(AND(AA2291=0,AA2292=1,SUM(INDIRECT($AA$1&ROW()-$AB$4):AA2291)=0),1,0)","v":0},0,{"$f":"IF(AND(AC2291=0,AC2292=1,SUM(INDIRECT($AC$1&ROW()-AD$4):AC2291)=0),1,0)","v":0},1285.0899999999999,null,null,null,null,null,null,null,null,null,null,null,null,null,-2000,0,null,0,null,null,null,null,null,null,null,null,22.23]
["2011-12-02",{"$f":"VLOOKUP(A2297,'input BCI'!$O$3:$R$5000,4)","v":7.38},null,null,7.38,null,null,null,null,null,null,null,null,0,7.38,null,null,7.38,null,null,null,1,7.38,7.38,{"$f":"AVERAGE(INDIRECT($X$1&ROW()-$Y$4+1):X2297)","v":7.3949999999999996},0,1,{"$f":"IF(AND(AA2296=0,AA2297=1,SUM(INDIRECT($AA$1&ROW()-$AB$4):AA2296)=0),1,0)","v":0},0,{"$f":"IF(AND(AC2296=0,AC2297=1,SUM(INDIRECT($AC$1&ROW()-AD$4):AC2296)=0),1,0)","v":0},1244.28,null,null,null,null,null,null,null,null,null,null,null,null,null,-2000,0,null,0,null,null,null,null,null,null,null,null,22.23]
["2011-12-30",{"$f":"VLOOKUP(A2301,'input BCI'!$O$3:$R$5000,4)","v":8.49},null,null,8.49,null,null,null,null,null,null,null,null,0,8.49,null,null,8.49,null,null,null,1,8.49,8.49,{"$f":"AVERAGE(INDIRECT($X$1&ROW()-$Y$4+1):X2301)","v":8.6649999999999991},0,1,{"$f":"IF(AND(AA2300=0,AA2301=1,SUM(INDIRECT($AA$1&ROW()-$AB$4):AA2300)=0),1,0)","v":0},0,{"$f":"IF(AND(AC2300=0,AC2301=1,SUM(INDIRECT($AC$1&ROW()-AD$4):AC2300)=0),1,0)","v":0},1257.5999999999999,null,null,null,null,null,null,null,null,null,null,null,null,null,-2000,0,null,0,null,null,null,null,null,null,null,null,22.23]
["2012-02-03",{"$f":"VLOOKUP(A2306,'input BCI'!$O$3:$R$5000,4)","v":11.4},null,null,11.4,null,null,null,null,null,null,null,null,0,11.4,null,null,11.4,null,null,null,1,11.4,11.4,{"$f":"AVERAGE(INDIRECT($X$1&ROW()-$Y$4+1):X2306)","v":11.765000000000001},0,1,{"$f":"IF(AND(AA2305=0,AA2306=1,SUM(INDIRECT($AA$1&ROW()-$AB$4):AA2305)=0),1,0)","v":0},0,{"$f":"IF(AND(AC2305=0,AC2306=1,SUM(INDIRECT($AC$1&ROW()-AD$4):AC2305)=0),1,0)","v":0},1344.9,null,null,null,null,null,null,null,null,null,null,null,null,null,-2000,0,null,0,null,null,null,null,null,null,null,null,22.23]
["2012-02-10",{"$f":"VLOOKUP(A2307,'input BCI'!$O$3:$R$5000,4)","v":12.13},null,null,12.13,null,null,null,null,null,null,null,null,0,12.13,null,null,12.13,null,null,null,1,12.13,12.13,{"$f":"AVERAGE(INDIRECT($X$1&ROW()-$Y$4+1):X2307)","v":12.414999999999999},0,1,{"$f":"IF(AND(AA2306=0,AA2307=1,SUM(INDIRECT($AA$1&ROW()-$AB$4):AA2306)=0),1,0)","v":0},0,{"$f":"IF(AND(AC2306=0,AC2307=1,SUM(INDIRECT($AC$1&ROW()-AD$4):AC2306)=0),1,0)","v":0},1342.64,null,null,null,null,null,null,null,null,null,null,null,null,null,-2000,0,null,0,null,null,null,null,null,null,null,null,22.23]
["2012-03-09",{"$f":"VLOOKUP(A2311,'input BCI'!$O$3:$R$5000,4)","v":13.86},null,null,13.86,null,null,null,null,null,null,null,null,0,13.86,null,null,{"$f":"O2311*R$7","v":13.86},null,null,null,1,13.86,13.86,{"$f":"AVERAGE(INDIRECT($X$1&ROW()-$Y$4+1):X2311)","v":13.899999999999999},0,1,{"$f":"IF(AND(AA2310=0,AA2311=1,SUM(INDIRECT($AA$1&ROW()-$AB$4):AA2310)=0),1,0)","v":0},0,{"$f":"IF(AND(AC2310=0,AC2311=1,SUM(INDIRECT($AC$1&ROW()-AD$4):AC2310)=0),1,0)","v":0},1370.87,null,null,null,null,null,null,null,null,null,null,null,null,null,-2000,0,null,0,null,null,null,null,null,null,null,null,22.23]
["2012-03-16",{"$f":"VLOOKUP(A2312,'input BCI'!$O$3:$R$5000,4)","v":13.94},null,null,13.94,null,null,null,null,null,null,null,null,0,13.94,null,null,13.94,null,null,null,1,13.94,13.94,{"$f":"AVERAGE(INDIRECT($X$1&ROW()-$Y$4+1):X2312)","v":13.995000000000001},0,1,{"$f":"IF(AND(AA2311=0,AA2312=1,SUM(INDIRECT($AA$1&ROW()-$AB$4):AA2311)=0),1,0)","v":0},0,{"$f":"IF(AND(AC2311=0,AC2312=1,SUM(INDIRECT($AC$1&ROW()-AD$4):AC2311)=0),1,0)","v":0},1404.17,null,null,null,null,null,null,null,null,null,null,null,null,null,-2000,0,null,0,null,null,null,null,null,null,null,null,22.23]
["2012-03-23",{"$f":"VLOOKUP(A2313,'input BCI'!$O$3:$R$5000,4)","v":14.05},null,null,14.05,null,null,null,null,null,null,null,null,0,14.05,null,null,14.05,null,null,null,1,14.05,14.05,{"$f":"AVERAGE(INDIRECT($X$1&ROW()-$Y$4+1):X2313)","v":14.265000000000001},0,1,{"$f":"IF(AND(AA2312=0,AA2313=1,SUM(INDIRECT($AA$1&ROW()-$AB$4):AA2312)=0),1,0)","v":0},0,{"$f":"IF(AND(AC2312=0,AC2313=1,SUM(INDIRECT($AC$1&ROW()-AD$4):AC2312)=0),1,0)","v":0},1397.11,null,null,null,null,null,null,null,null,null,null,null,null,null,-2000,0,null,0,null,null,null,null,null,null,null,null,22.23]
["2012-03-30",{"$f":"VLOOKUP(A2314,'input BCI'!$O$3:$R$5000,4)","v":14.48},null,null,14.48,null,null,null,null,null,null,null,null,0,14.48,null,null,{"$f":"O2314*R$7","v":14.48},null,null,null,1,14.48,14.48,{"$f":"AVERAGE(INDIRECT($X$1&ROW()-$Y$4+1):X2314)","v":14.84},0,1,{"$f":"IF(AND(AA2313=0,AA2314=1,SUM(INDIRECT($AA$1&ROW()-$AB$4):AA2313)=0),1,0)","v":0},0,{"$f":"IF(AND(AC2313=0,AC2314=1,SUM(INDIRECT($AC$1&ROW()-AD$4):AC2313)=0),1,0)","v":0},1408.47,null,null,null,null,null,null,null,null,null,null,null,null,null,{"$f":"IF(ISNUMBER(AR2314),2000,-2000)","v":-2000},0,null,0,null,null,null,null,null,null,null,null,22.23]
["2012-04-06",{"$f":"VLOOKUP(A2315,'input BCI'!$O$3:$R$5000,4)","v":15.2},null,null,{"$f":"B2315+$O$7","v":15.2},null,null,null,null,null,null,null,null,0,{"$f":"E2315","v":15.2},null,null,15.2,null,null,null,1,{"$f":"R2315","v":15.2},{"$f":"(W2315+$X$4)","v":15.2},{"$f":"AVERAGE(INDIRECT($X$1&ROW()-$Y$4+1):X2315)","v":15.53},{"$f":"IF(OR(X2315=$I$5,X2315>$I$5),1,0)","v":0},1,{"$f":"IF(AND(AA2314=0,AA2315=1,SUM(INDIRECT($AA$1&ROW()-$AB$4):AA2314)=0),1,0)","v":0},0,{"$f":"IF(AND(AC2314=0,AC2315=1,SUM(INDIRECT($AC$1&ROW()-AD$4):AC2314)=0),1,0)","v":0},1398.08,null,null,null,null,null,null,null,null,null,null,null,null,null,{"$f":"IF(ISNUMBER(AR2315),2000,-2000)","v":-2000},0,null,0,null,null,null,null,null,null,null,null,{"$f":"$BE$2","v":22.23}]
["2012-04-13",{"$f":"VLOOKUP(A2316,'input BCI'!$O$3:$R$5000,4)","v":15.86},null,null,15.86,null,null,null,null,null,null,null,null,0,15.86,null,null,{"$f":"O2316*R$7","v":15.86},null,null,null,{"$f":"V2315","v":1},15.86,15.86,{"$f":"AVERAGE(INDIRECT($X$1&ROW()-$Y$4+1):X2316)","v":16.100000000000001},0,1,{"$f":"IF(AND(AA2315=0,AA2316=1,SUM(INDIRECT($AA$1&ROW()-$AB$4):AA2315)=0),1,0)","v":0},0,{"$f":"IF(AND(AC2315=0,AC2316=1,SUM(INDIRECT($AC$1&ROW()-AD$4):AC2315)=0),1,0)","v":0},1370.26,null,null,null,null,null,null,null,null,null,null,null,null,null,{"$f":"IF(ISNUMBER(AR2316),2000,-2000)","v":-2000},0,null,0,null,null,null,null,null,null,null,null,22.23]
[{"$f":"A2316+7","v":"2012-04-20"},{"$f":"VLOOKUP(A2317,'input BCI'!$O$3:$R$5000,4)","v":16.34},null,null,16.34,null,null,null,null,null,null,null,null,0,16.34,null,null,16.34,null,null,null,1,16.34,16.34,{"$f":"AVERAGE(INDIRECT($X$1&ROW()-$Y$4+1):X2317)","v":16.324999999999999},0,{"$f":"IF(Y2317>X2317,1,0)","v":0},{"$f":"IF(AND(AA2316=0,AA2317=1,SUM(INDIRECT($AA$1&ROW()-$AB$4):AA2316)=0),1,0)","v":0},1,{"$f":"IF(AND(AC2316=0,AC2317=1,SUM(INDIRECT($AC$1&ROW()-AD$4):AC2316)=0),1,0)","v":1},1378.53,null,null,null,null,null,null,null,null,null,null,null,null,null,{"$f":"IF(ISNUMBER(AR2317),2000,-2000)","v":-2000},0,null,0,null,null,null,null,null,null,null,null,22.23]
["2012-04-27",{"$f":"VLOOKUP(A2318,'input BCI'!$O$3:$R$5000,4)","v":16.309999999999999},null,null,16.309999999999999,null,null,null,null,null,null,null,null,0,16.309999999999999,null,null,{"$f":"O2318*R$7","v":16.309999999999999},null,null,null,1,16.309999999999999,16.309999999999999,{"$f":"AVERAGE(INDIRECT($X$1&ROW()-$Y$4+1):X2318)","v":16.244999999999997},0,0,{"$f":"IF(AND(AA2317=0,AA2318=1,SUM(INDIRECT($AA$1&ROW()-$AB$4):AA2317)=0),1,0)","v":0},{"$f":"IF(Y2318<X2318,1,0)","v":1},{"$f":"IF(AND(AC2317=0,AC2318=1,SUM(INDIRECT($AC$1&ROW()-AD$4):AC2317)=0),1,0)","v":0},1403.36,null,null,null,null,null,null,null,null,null,null,null,null,null,null,null,null,0,null,null,null,null,null,null,null,null,22.23]
["2012-05-04",{"$f":"VLOOKUP(A2319,'input BCI'!$O$3:$R$5000,4)","v":16.18},null,null,16.18,null,null,null,null,null,null,null,null,0,16.18,null,null,16.18,null,null,null,1,16.18,16.18,{"$f":"AVERAGE(INDIRECT($X$1&ROW()-$Y$4+1):X2319)","v":16.009999999999998},0,0,{"$f":"IF(AND(AA2318=0,AA2319=1,SUM(INDIRECT($AA$1&ROW()-$AB$4):AA2318)=0),1,0)","v":0},1,{"$f":"IF(AND(AC2318=0,AC2319=1,SUM(INDIRECT($AC$1&ROW()-AD$4):AC2318)=0),1,0)","v":0},1369.1,null,null,null,null,null,null,null,null,null,null,null,null,null,null,null,null,0,null,null,null,null,null,null,null,null,22.23]
["2012-05-11",{"$f":"VLOOKUP(A2320,'input BCI'!$O$3:$R$5000,4)","v":15.84},null,null,15.84,null,null,null,null,null,null,null,null,0,15.84,null,null,{"$f":"O2320*R$7","v":15.84},null,null,null,1,15.84,15.84,{"$f":"AVERAGE(INDIRECT($X$1&ROW()-$Y$4+1):X2320)","v":15.535},0,0,{"$f":"IF(AND(AA2319=0,AA2320=1,SUM(INDIRECT($AA$1&ROW()-$AB$4):AA2319)=0),1,0)","v":0},1,{"$f":"IF(AND(AC2319=0,AC2320=1,SUM(INDIRECT($AC$1&ROW()-AD$4):AC2319)=0),1,0)","v":0},1353.39,null,null,null,null,null,null,null,null,null,null,null,null,null,null,null,null,0,null,null,null,null,null,null,null,null,22.23]
["2012-05-18",{"$f":"VLOOKUP(A2321,'input BCI'!$O$3:$R$5000,4)","v":15.23},null,null,15.23,null,null,null,null,null,null,null,null,0,15.23,null,null,15.23,null,null,null,1,15.23,15.23,{"$f":"AVERAGE(INDIRECT($X$1&ROW()-$Y$4+1):X2321)","v":14.905000000000001},0,0,{"$f":"IF(AND(AA2320=0,AA2321=1,SUM(INDIRECT($AA$1&ROW()-$AB$4):AA2320)=0),1,0)","v":0},1,{"$f":"IF(AND(AC2320=0,AC2321=1,SUM(INDIRECT($AC$1&ROW()-AD$4):AC2320)=0),1,0)","v":0},1353.39,null,null,null,null,null,null,null,null,null,null,null,null,null,null,null,null,0,null,null,null,null,null,null,null,null,22.23]
["2012-05-25",{"$f":"VLOOKUP(A2322,'input BCI'!$O$3:$R$5000,4)","v":14.58},null,null,14.58,null,null,null,null,null,null,null,null,0,14.58,null,null,{"$f":"O2322*R$7","v":14.58},null,null,null,1,14.58,14.58,{"$f":"AVERAGE(INDIRECT($X$1&ROW()-$Y$4+1):X2322)","v":14.24},0,0,{"$f":"IF(AND(AA2321=0,AA2322=1,SUM(INDIRECT($AA$1&ROW()-$AB$4):AA2321)=0),1,0)","v":0},1,{"$f":"IF(AND(AC2321=0,AC2322=1,SUM(INDIRECT($AC$1&ROW()-AD$4):AC2321)=0),1,0)","v":0},1353.39,null,null,null,null,null,null,null,null,null,null,null,null,null,null,null,null,0,null,null,null,null,null,null,null,null,22.23]
[{"$f":"A2322+7","v":"2012-06-01"},{"$f":"VLOOKUP(A2323,'input BCI'!$O$3:$R$5000,4)","v":13.9},null,null,13.9,null,null,null,null,null,null,null,null,0,13.9,null,null,13.9,null,null,null,1,13.9,13.9,{"$f":"AVERAGE(INDIRECT($X$1&ROW()-$Y$4+1):X2323)","v":13.495000000000001},0,{"$f":"IF(Y2323>X2323,1,0)","v":0},{"$f":"IF(AND(AA2322=0,AA2323=1,SUM(INDIRECT($AA$1&ROW()-$AB$4):AA2322)=0),1,0)","v":0},1,{"$f":"IF(AND(AC2322=0,AC2323=1,SUM(INDIRECT($AC$1&ROW()-AD$4):AC2322)=0),1,0)","v":0},1353.39,null,null,null,null,null,null,null,null,null,null,null,null,null,null,null,null,0,null,null,null,null,null,null,null,null,22.23]
["2012-06-08",{"$f":"VLOOKUP(A2324,'input BCI'!$O$3:$R$5000,4)","v":13.09},null,null,13.09,null,null,null,null,null,null,null,null,0,13.09,null,null,{"$f":"O2324*R$7","v":13.09},null,null,null,1,13.09,13.09,{"$f":"AVERAGE(INDIRECT($X$1&ROW()-$Y$4+1):X2324)","v":12.875},0,null,null,null,null,null,null,null,null,null,null,null,null,null,null,null,null,null,null,null,null,null,0,null,null,null,null,null,null,null,null,22.23]
["2012-06-15",{"$f":"VLOOKUP(A2325,'input BCI'!$O$3:$R$5000,4)","v":12.66},null,null,12.66,null,null,null,null,null,null,null,null,0,12.66,null,null,12.66,null,null,null,1,12.66,12.66,{"$f":"AVERAGE(INDIRECT($X$1&ROW()-$Y$4+1):X2325)","v":12.645},0,null,null,null,null,null,null,null,null,null,null,null,null,null,null,null,null,null,null,null,null,null,0,null,null,null,null,null,null,null,null,22.23]
["2012-06-22",{"$f":"VLOOKUP(A2326,'input BCI'!$O$3:$R$5000,4)","v":12.63},null,null,12.63,null,null,null,null,null,null,null,null,0,12.63,null,null,{"$f":"O2326*R$7","v":12.63},null,null,null,1,12.63,12.63,{"$f":"AVERAGE(INDIRECT($X$1&ROW()-$Y$4+1):X2326)","v":12.615},0,null,null,null,null,null,null,null,null,null,null,null,null,null,null,null,null,null,null,null,null,null,0,null,null,null,null,null,null,null,null,22.23]
["2012-06-29",{"$f":"VLOOKUP(A2327,'input BCI'!$O$3:$R$5000,4)","v":12.6},null,null,12.6,null,null,null,null,null,null,null,null,0,12.6,null,null,12.6,null,null,null,1,12.6,12.6,{"$f":"AVERAGE(INDIRECT($X$1&ROW()-$Y$4+1):X2327)","v":12.83},0,null,null,null,null,null,null,null,null,null,null,null,null,null,null,null,null,null,null,null,null,null,0,null,null,null,null,null,null,null,null,22.23]
["2012-07-06",{"$f":"VLOOKUP(A2328,'input BCI'!$O$3:$R$5000,4)","v":13.06},null,null,13.06,null,null,null,null,null,null,null,null,0,13.06,null,null,{"$f":"O2328*R$7","v":13.06},null,null,null,1,13.06,13.06,{"$f":"AVERAGE(INDIRECT($X$1&ROW()-$Y$4+1):X2328)","v":13.254999999999999},0,null,null,null,null,null,null,null,null,null,null,null,null,null,null,null,null,null,null,null,null,null,0,null,null,null,null,null,null,null,null,22.23]
[{"$f":"A2328+7","v":"2012-07-13"},{"$f":"VLOOKUP(A2329,'input BCI'!$O$3:$R$5000,4)","v":13.45},null,null,13.45,null,null,null,null,null,null,null,null,0,13.45,null,null,13.45,null,null,null,1,13.45,13.45,{"$f":"AVERAGE(INDIRECT($X$1&ROW()-$Y$4+1):X2329)","v":13.61},0,null,null,null,null,null,null,null,null,null,null,null,null,null,null,null,null,null,null,null,null,null,0,null,null,null,null,null,null,null,null,22.23]
["2012-07-20",{"$f":"VLOOKUP(A2330,'input BCI'!$O$3:$R$5000,4)","v":13.77},null,null,13.77,null,null,null,null,null,null,null,null,0,13.77,null,null,{"$f":"O2330*R$7","v":13.77},null,null,null,1,13.77,13.77,{"$f":"AVERAGE(INDIRECT($X$1&ROW()-$Y$4+1):X2330)","v":13.870000000000001},0,null,null,null,null,null,null,null,null,null,null,null,null,null,null,null,null,null,null,null,null,null,0,null,null,null,null,null,null,null,null,22.23]
["2012-07-27",{"$f":"VLOOKUP(A2331,'input BCI'!$O$3:$R$5000,4)","v":13.97},null,null,13.97,null,null,null,null,null,null,null,null,0,13.97,null,null,13.97,null,null,null,1,13.97,13.97,{"$f":"AVERAGE(INDIRECT($X$1&ROW()-$Y$4+1):X2331)","v":13.995000000000001},0,null,null,null,null,null,null,null,null,null,null,null,null,null,null,null,null,null,null,null,null,null,0,null,null,null,null,null,null,null,null,22.23]
["2012-08-03",{"$f":"VLOOKUP(A2332,'input BCI'!$O$3:$R$5000,4)","v":14.02},null,null,14.02,null,null,null,null,null,null,null,null,0,14.02,null,null,{"$f":"O2332*R$7","v":14.02},null,null,null,1,14.02,14.02,{"$f":"AVERAGE(INDIRECT($X$1&ROW()-$Y$4+1):X2332)","v":14.035},0,null,null,null,null,null,null,null,null,null,null,null,null,null,null,null,null,null,null,null,null,null,0,null,null,null,null,null,null,null,null,22.23]
["2012-08-10",{"$f":"VLOOKUP(A2333,'input BCI'!$O$3:$R$5000,4)","v":14.05},null,null,14.05,null,null,null,null,null,null,null,null,0,14.05,null,null,14.05,null,null,null,1,14.05,14.05,{"$f":"AVERAGE(INDIRECT($X$1&ROW()-$Y$4+1):X2333)","v":14.035},0,null,null,null,null,null,null,null,null,null,null,null,null,null,null,null,null,null,null,null,null,null,0,null,null,null,null,null,null,null,null,22.23]
["2012-08-17",{"$f":"VLOOKUP(A2334,'input BCI'!$O$3:$R$5000,4)","v":14.02},null,null,14.02,null,null,null,null,null,null,null,null,0,14.02,null,null,{"$f":"O2334*R$7","v":14.02},null,null,null,1,14.02,14.02,{"$f":"AVERAGE(INDIRECT($X$1&ROW()-$Y$4+1):X2334)","v":14.07},0,null,null,null,null,null,null,null,null,null,null,null,null,null,null,null,null,null,null,null,null,null,0,null,null,null,null,null,null,null,null,22.23]
[{"$f":"A2334+7","v":"2012-08-24"},{"$f":"VLOOKUP(A2335,'input BCI'!$O$3:$R$5000,4)","v":14.12},null,null,14.12,null,null,null,null,null,null,null,null,0,14.12,null,null,14.12,null,null,null,1,14.12,14.12,{"$f":"AVERAGE(INDIRECT($X$1&ROW()-$Y$4+1):X2335)","v":14.065},0,null,null,null,null,null,null,null,null,null,null,null,null,null,null,null,null,null,null,null,null,null,0,null,null,null,null,null,null,null,null,22.23]
["2012-08-31",{"$f":"VLOOKUP(A2336,'input BCI'!$O$3:$R$5000,4)","v":14.01},null,null,14.01,null,null,null,null,null,null,null,null,0,14.01,null,null,{"$f":"O2336*R$7","v":14.01},null,null,null,1,14.01,14.01,{"$f":"AVERAGE(INDIRECT($X$1&ROW()-$Y$4+1):X2336)","v":13.895},0,null,null,null,null,null,null,null,null,null,null,null,null,null,null,null,null,null,null,null,null,null,0,null,null,null,null,null,null,null,null,22.23]
["2012-09-07",{"$f":"VLOOKUP(A2337,'input BCI'!$O$3:$R$5000,4)","v":13.78},null,null,13.78,null,null,null,null,null,null,null,null,0,13.78,null,null,13.78,null,null,null,1,13.78,13.78,{"$f":"AVERAGE(INDIRECT($X$1&ROW()-$Y$4+1):X2337)","v":13.7},0,null,null,null,null,null,null,null,null,null,null,null,null,null,null,null,null,null,null,null,null,null,0,null,null,null,null,null,null,null,null,22.23]
["2012-09-14",{"$f":"VLOOKUP(A2338,'input BCI'!$O$3:$R$5000,4)","v":13.62},null,null,13.62,null,null,null,null,null,null,null,null,0,13.62,null,null,{"$f":"O2338*R$7","v":13.62},null,null,null,1,13.62,13.62,{"$f":"AVERAGE(INDIRECT($X$1&ROW()-$Y$4+1):X2338)","v":13.594999999999999},0,null,null,null,null,null,null,null,null,null,null,null,null,null,null,null,null,null,null,null,null,null,0,null,null,null,null,null,null,null,null,22.23]
["2012-09-21",{"$f":"VLOOKUP(A2339,'input BCI'!$O$3:$R$5000,4)","v":13.57},null,null,13.57,null,null,null,null,null,null,null,null,0,13.57,null,null,13.57,null,null,null,1,13.57,13.57,{"$f":"AVERAGE(INDIRECT($X$1&ROW()-$Y$4+1):X2339)","v":13.615},0,null,null,null,null,null,null,null,null,null,null,null,null,null,null,null,null,null,null,null,null,null,0,null,null,null,null,null,null,null,null,22.23]
["2012-09-28",{"$f":"VLOOKUP(A2340,'input BCI'!$O$3:$R$5000,4)","v":13.66},null,null,13.66,null,null,null,null,null,null,null,null,0,13.66,null,null,{"$f":"O2340*R$7","v":13.66},null,null,null,1,13.66,13.66,{"$f":"AVERAGE(INDIRECT($X$1&ROW()-$Y$4+1):X2340)","v":13.765000000000001},0,null,null,null,null,null,null,null,null,null,null,null,null,null,null,null,null,null,null,null,null,null,0,null,null,null,null,null,null,null,null,22.23]
[{"$f":"A2340+7","v":"2012-10-05"},{"$f":"VLOOKUP(A2341,'input BCI'!$O$3:$R$5000,4)","v":13.87},null,null,13.87,null,null,null,null,null,null,null,null,0,13.87,null,null,13.87,null,null,null,1,13.87,13.87,{"$f":"AVERAGE(INDIRECT($X$1&ROW()-$Y$4+1):X2341)","v":13.945},0,null,null,null,null,null,null,null,null,null,null,null,null,null,null,null,null,null,null,null,null,null,0,null,null,null,null,null,null,null,null,22.23]
["2012-10-12",{"$f":"VLOOKUP(A2342,'input BCI'!$O$3:$R$5000,4)","v":14.02},null,null,14.02,null,null,null,null,null,null,null,null,0,14.02,null,null,{"$f":"O2342*R$7","v":14.02},null,null,null,1,14.02,14.02,{"$f":"AVERAGE(INDIRECT($X$1&ROW()-$Y$4+1):X2342)","v":14.004999999999999},0,null,null,null,null,null,null,null,null,null,null,null,null,null,null,null,null,null,null,null,null,null,0,null,null,null,null,null,null,null,null,22.23]
["2012-10-19",{"$f":"VLOOKUP(A2343,'input BCI'!$O$3:$R$5000,4)","v":13.99},null,null,13.99,null,null,null,null,null,null,null,null,0,13.99,null,null,13.99,null,null,null,1,13.99,13.99,{"$f":"AVERAGE(INDIRECT($X$1&ROW()-$Y$4+1):X2343)","v":13.905000000000001},0,null,null,null,null,null,null,null,null,null,null,null,null,null,null,null,null,null,null,null,null,null,0,null,null,null,null,null,null,null,null,22.23]
["2012-10-26",{"$f":"VLOOKUP(A2344,'input BCI'!$O$3:$R$5000,4)","v":13.82},null,null,13.82,null,null,null,null,null,null,null,null,0,13.82,null,null,{"$f":"O2344*R$7","v":13.82},null,null,null,1,13.82,13.82,{"$f":"AVERAGE(INDIRECT($X$1&ROW()-$Y$4+1):X2344)","v":13.715},0,null,null,null,null,null,null,null,null,null,null,null,null,null,null,null,null,null,null,null,null,null,0,null,null,null,null,null,null,null,null,22.23]
["2012-11-02",{"$f":"VLOOKUP(A2345,'input BCI'!$O$3:$R$5000,4)","v":13.61},null,null,13.61,null,null,null,null,null,null,null,null,0,13.61,null,null,13.61,null,null,null,1,13.61,13.61,{"$f":"AVERAGE(INDIRECT($X$1&ROW()-$Y$4+1):X2345)","v":13.58},0,null,null,null,null,null,null,null,null,null,null,null,null,null,null,null,null,null,null,null,null,null,0,null,null,null,null,null,null,null,null,22.23]
["2012-11-09",{"$f":"VLOOKUP(A2346,'input BCI'!$O$3:$R$5000,4)","v":13.55},null,null,13.55,null,null,null,null,null,null,null,null,0,13.55,null,null,{"$f":"O2346*R$7","v":13.55},null,null,null,1,13.55,13.55,{"$f":"AVERAGE(INDIRECT($X$1&ROW()-$Y$4+1):X2346)","v":13.31},0,null,null,null,null,null,null,null,null,null,null,null,null,null,null,null,null,null,null,null,null,null,0,null,null,null,null,null,null,null,null,22.23]
[{"$f":"A2346+7","v":"2012-11-16"},{"$f":"VLOOKUP(A2347,'input BCI'!$O$3:$R$5000,4)","v":13.07},null,null,13.07,null,null,null,null,null,null,null,null,0,13.07,null,null,13.07,null,null,null,1,13.07,13.07,{"$f":"AVERAGE(INDIRECT($X$1&ROW()-$Y$4+1):X2347)","v":12.835000000000001},0,null,null,null,null,null,null,null,null,null,null,null,null,null,null,null,null,null,null,null,null,null,0,null,null,null,null,null,null,null,null,22.23]
["2012-11-23",{"$f":"VLOOKUP(A2348,'input BCI'!$O$3:$R$5000,4)","v":12.6},null,null,12.6,null,null,null,null,null,null,null,null,0,12.6,null,null,{"$f":"O2348*R$7","v":12.6},null,null,null,1,12.6,12.6,{"$f":"AVERAGE(INDIRECT($X$1&ROW()-$Y$4+1):X2348)","v":12.36},0,null,null,null,null,null,null,null,null,null,null,null,null,null,null,null,null,null,null,null,null,null,0,null,null,null,null,null,null,null,null,22.23]
["2012-11-30",{"$f":"VLOOKUP(A2349,'input BCI'!$O$3:$R$5000,4)","v":12.12},null,null,12.12,null,null,null,null,null,null,null,null,0,12.12,null,null,12.12,null,null,null,1,12.12,12.12,{"$f":"AVERAGE(INDIRECT($X$1&ROW()-$Y$4+1):X2349)","v":11.805},0,null,null,null,null,null,null,null,null,null,null,null,null,null,null,null,null,null,null,null,null,null,0,null,null,null,null,null,null,null,null,22.23]
["2012-12-07",{"$f":"VLOOKUP(A2350,'input BCI'!$O$3:$R$5000,4)","v":11.49},null,null,11.49,null,null,null,null,null,null,null,null,0,11.49,null,null,{"$f":"O2350*R$7","v":11.49},null,null,null,1,11.49,11.49,{"$f":"AVERAGE(INDIRECT($X$1&ROW()-$Y$4+1):X2350)","v":11.440000000000001},0,null,null,null,null,null,null,null,null,null,null,null,null,null,null,null,null,null,null,null,null,null,0,null,null,null,null,null,null,null,null,22.23]
["2012-12-14",{"$f":"VLOOKUP(A2351,'input BCI'!$O$3:$R$5000,4)","v":11.39},null,null,11.39,null,null,null,null,null,null,null,null,0,11.39,null,null,11.39,null,null,null,1,11.39,11.39,{"$f":"AVERAGE(INDIRECT($X$1&ROW()-$Y$4+1):X2351)","v":11.41},0,null,null,null,null,null,null,null,null,null,null,null,null,null,null,null,null,null,null,null,null,null,0,null,null,null,null,null,null,null,null,22.23]
["2012-12-21",{"$f":"VLOOKUP(A2352,'input BCI'!$O$3:$R$5000,4)","v":11.43},null,null,11.43,null,null,null,null,null,null,null,null,0,11.43,null,null,{"$f":"O2352*R$7","v":11.43},null,null,null,1,11.43,11.43,{"$f":"AVERAGE(INDIRECT($X$1&ROW()-$Y$4+1):X2352)","v":11.629999999999999},0,null,null,null,null,null,null,null,null,null,null,null,null,null,null,null,null,null,null,null,null,null,0,null,null,null,null,null,null,null,null,22.23]
[{"$f":"A2352+7","v":"2012-12-28"},{"$f":"VLOOKUP(A2353,'input BCI'!$O$3:$R$5000,4)","v":11.83},null,null,11.83,null,null,null,null,null,null,null,null,0,11.83,null,null,11.83,null,null,null,1,11.83,11.83,{"$f":"AVERAGE(INDIRECT($X$1&ROW()-$Y$4+1):X2353)","v":12.045},0,null,null,null,null,null,null,null,null,null,null,null,null,null,null,null,null,null,null,null,null,null,0,null,null,null,null,null,null,null,null,22.23]
["2013-01-04",{"$f":"VLOOKUP(A2354,'input BCI'!$O$3:$R$5000,4)","v":12.26},null,null,12.26,null,null,null,null,null,null,null,{"$f":"A2354","v":"2013-01-04"},0,12.26,null,null,{"$f":"O2354*R$7","v":12.26},null,null,null,1,12.26,12.26,{"$f":"AVERAGE(INDIRECT($X$1&ROW()-$Y$4+1):X2354)","v":12.61},0,null,null,null,null,null,null,null,null,null,null,null,null,null,null,null,null,null,null,null,null,null,0,null,null,null,null,null,null,null,null,22.23]
["2013-01-11",{"$f":"VLOOKUP(A2355,'input BCI'!$O$3:$R$5000,4)","v":12.96},null,null,12.96,null,null,null,null,null,null,null,"2013-01-11",0,12.96,null,null,12.96,null,null,null,1,12.96,12.96,{"$f":"AVERAGE(INDIRECT($X$1&ROW()-$Y$4+1):X2355)","v":13.355},0,null,null,null,null,null,null,null,null,null,null,null,null,null,null,null,null,null,null,null,null,null,0,null,null,null,null,null,null,null,null,22.23]
["2013-01-18",{"$f":"VLOOKUP(A2356,'input BCI'!$O$3:$R$5000,4)","v":13.75},null,null,13.75,null,null,null,null,null,null,null,"2013-01-18",0,13.75,null,null,{"$f":"O2356*R$7","v":13.75},null,null,null,1,13.75,13.75,{"$f":"AVERAGE(INDIRECT($X$1&ROW()-$Y$4+1):X2356)","v":14.07},0,null,null,null,null,null,null,null,null,null,null,null,null,null,null,null,null,null,null,null,null,null,0,null,null,null,null,null,null,null,null,22.23]
["2013-01-25",{"$f":"VLOOKUP(A2357,'input BCI'!$O$3:$R$5000,4)","v":14.39},null,null,14.39,null,null,null,null,null,null,null,"2013-01-25",0,14.39,null,null,14.39,null,null,null,1,14.39,14.39,{"$f":"AVERAGE(INDIRECT($X$1&ROW()-$Y$4+1):X2357)","v":14.7},0,null,null,null,null,null,null,null,null,null,null,null,null,null,null,null,null,null,null,null,null,null,0,null,null,null,null,null,null,null,null,22.23]
["2013-02-01",{"$f":"VLOOKUP(A2358,'input BCI'!$O$3:$R$5000,4)","v":15.01},null,null,15.01,null,null,null,null,null,null,null,"2013-02-01",0,15.01,null,null,{"$f":"O2358*R$7","v":15.01},null,null,null,1,15.01,15.01,{"$f":"AVERAGE(INDIRECT($X$1&ROW()-$Y$4+1):X2358)","v":15.125},0,null,null,null,null,null,null,null,null,null,null,null,null,null,null,null,null,null,null,null,null,null,0,null,null,null,null,null,null,null,null,22.23]
[{"$f":"A2358+7","v":"2013-02-08"},{"$f":"VLOOKUP(A2359,'input BCI'!$O$3:$R$5000,4)","v":15.24},null,null,15.24,null,null,null,null,null,null,null,"2013-02-08",0,15.24,null,null,15.24,null,null,null,1,15.24,15.24,{"$f":"AVERAGE(INDIRECT($X$1&ROW()-$Y$4+1):X2359)","v":15.379999999999999},0,null,null,null,null,null,null,null,null,null,null,null,null,null,null,null,null,null,null,null,null,null,0,null,null,null,null,null,null,null,null,22.23]
["2013-02-15",{"$f":"VLOOKUP(A2360,'input BCI'!$O$3:$R$5000,4)","v":15.52},null,null,15.52,null,null,null,null,null,null,null,"2013-02-15",0,15.52,null,null,15.52,null,null,null,1,15.52,15.52,{"$f":"AVERAGE(INDIRECT($X$1&ROW()-$Y$4+1):X2360)","v":15.57},0,null,null,null,null,null,null,null,null,null,null,null,null,null,null,null,null,null,null,null,null,null,0,null,null,null,null,null,null,null,null,22.23]
["2013-02-22",{"$f":"VLOOKUP(A2361,'input BCI'!$O$3:$R$5000,4)","v":15.62},null,null,15.62,null,null,null,null,null,null,null,"2013-02-22",0,15.62,null,null,15.62,null,null,null,1,15.62,15.62,{"$f":"AVERAGE(INDIRECT($X$1&ROW()-$Y$4+1):X2361)","v":15.849999999999998},0,null,null,null,null,null,null,null,null,null,null,null,null,null,null,null,null,null,null,null,null,null,0,null,null,null,null,null,null,null,null,22.23]
["2013-03-01",{"$f":"VLOOKUP(A2362,'input BCI'!$O$3:$R$5000,4)","v":16.079999999999998},null,null,16.079999999999998,null,null,null,null,null,null,null,"2013-03-01",0,16.079999999999998,null,null,16.079999999999998,null,null,null,1,16.079999999999998,16.079999999999998,{"$f":"AVERAGE(INDIRECT($X$1&ROW()-$Y$4+1):X2362)","v":16.5},0,null,null,null,null,null,null,null,null,null,null,null,null,null,null,null,null,null,null,null,null,null,0,null,null,null,null,null,null,null,null,22.23]
["2013-03-08",{"$f":"VLOOKUP(A2363,'input BCI'!$O$3:$R$5000,4)","v":16.920000000000002},null,null,16.920000000000002,null,null,null,null,null,null,null,"2013-03-08",0,16.920000000000002,null,null,16.920000000000002,null,null,null,1,16.920000000000002,16.920000000000002,{"$f":"AVERAGE(INDIRECT($X$1&ROW()-$Y$4+1):X2363)","v":17.435000000000002},0,null,null,null,null,null,null,null,null,null,null,null,null,null,null,null,null,null,null,null,null,null,0,null,null,null,null,null,null,null,null,22.23]
["2013-03-15",{"$f":"VLOOKUP(A2364,'input BCI'!$O$3:$R$5000,4)","v":17.95},null,null,17.95,null,null,null,null,null,null,null,"2013-03-15",0,17.95,null,null,17.95,null,null,null,1,17.95,17.95,{"$f":"AVERAGE(INDIRECT($X$1&ROW()-$Y$4+1):X2364)","v":18.504999999999999},0,null,null,null,null,null,null,null,null,null,null,null,null,null,null,null,null,null,null,null,null,null,0,null,null,null,null,null,null,null,null,22.23]
["2013-03-22",{"$f":"VLOOKUP(A2365,'input BCI'!$O$3:$R$5000,4)","v":19.059999999999999},null,null,19.059999999999999,null,null,null,null,null,null,null,"2013-03-22",0,19.059999999999999,null,null,19.059999999999999,null,null,null,1,19.059999999999999,19.059999999999999,{"$f":"AVERAGE(INDIRECT($X$1&ROW()-$Y$4+1):X2365)","v":19.424999999999997},0,null,null,null,null,null,null,null,null,null,null,null,null,null,null,null,null,null,null,null,null,null,0,null,null,null,null,null,null,null,null,22.23]
["2013-03-29",{"$f":"VLOOKUP(A2366,'input BCI'!$O$3:$R$5000,4)","v":19.79},null,null,19.79,null,null,null,null,null,null,null,{"$f":"A2366","v":"2013-03-29"},0,19.79,null,null,{"$f":"O2366*R$7","v":19.79},null,null,null,1,19.79,19.79,{"$f":"AVERAGE(INDIRECT($X$1&ROW()-$Y$4+1):X2366)","v":19.97},0,null,null,null,null,null,null,null,null,null,null,null,null,null,null,null,null,null,null,null,null,null,0,null,null,null,null,null,null,null,null,22.23]
["2013-04-05",{"$f":"VLOOKUP(A2367,'input BCI'!$O$3:$R$5000,4)","v":20.149999999999999},null,null,20.149999999999999,null,null,null,null,null,null,null,"2013-04-05",0,20.149999999999999,null,null,20.149999999999999,null,null,null,1,20.149999999999999,20.149999999999999,{"$f":"AVERAGE(INDIRECT($X$1&ROW()-$Y$4+1):X2367)","v":20.134999999999998},0,null,null,null,null,null,null,null,null,null,null,null,null,null,null,null,null,null,null,null,null,null,0,null,null,null,null,null,null,null,null,22.23]
["2013-04-12",{"$f":"VLOOKUP(A2368,'input BCI'!$O$3:$R$5000,4)","v":20.12},null,null,20.12,null,null,null,null,null,null,null,"2013-04-12",0,20.12,null,null,20.12,null,null,null,1,20.12,20.12,{"$f":"AVERAGE(INDIRECT($X$1&ROW()-$Y$4+1):X2368)","v":20.05},0,null,null,null,null,null,null,null,null,null,null,null,null,null,null,null,null,null,null,null,null,null,0,null,null,null,null,null,null,null,null,22.23]
["2013-04-19",{"$f":"VLOOKUP(A2369,'input BCI'!$O$3:$R$5000,4)","v":19.98},null,null,19.98,null,null,null,null,null,null,null,"2013-04-19",0,19.98,null,null,19.98,null,null,null,1,19.98,19.98,{"$f":"AVERAGE(INDIRECT($X$1&ROW()-$Y$4+1):X2369)","v":19.920000000000002},0,null,null,null,null,null,null,null,null,null,null,null,null,null,null,null,null,null,null,null,null,null,0,null,null,null,null,null,null,null,null,22.23]
["2013-04-26",{"$f":"VLOOKUP(A2370,'input BCI'!$O$3:$R$5000,4)","v":19.86},null,null,19.86,null,null,null,null,null,null,null,"2013-04-26",0,19.86,null,null,19.86,null,null,null,1,19.86,19.86,{"$f":"AVERAGE(INDIRECT($X$1&ROW()-$Y$4+1):X2370)","v":19.844999999999999},0,null,null,null,null,null,null,null,null,null,null,null,null,null,null,null,null,null,null,null,null,null,0,null,null,null,null,null,null,null,null,22.23]
["2013-05-03",{"$f":"VLOOKUP(A2371,'input BCI'!$O$3:$R$5000,4)","v":19.829999999999998},null,null,19.829999999999998,null,null,null,null,null,null,null,"2013-05-03",0,19.829999999999998,null,null,19.829999999999998,null,null,null,1,19.829999999999998,19.829999999999998,{"$f":"AVERAGE(INDIRECT($X$1&ROW()-$Y$4+1):X2371)","v":19.924999999999997},0,null,null,null,null,null,null,null,null,null,null,null,null,null,null,null,null,null,null,null,null,null,0,null,null,null,null,null,null,null,null,22.23]
["2013-05-10",{"$f":"VLOOKUP(A2372,'input BCI'!$O$3:$R$5000,4)","v":20.02},null,null,20.02,null,null,null,null,null,null,null,"2013-05-10",0,20.02,null,null,20.02,null,null,null,1,20.02,20.02,{"$f":"AVERAGE(INDIRECT($X$1&ROW()-$Y$4+1):X2372)","v":20.145},0,null,null,null,null,null,null,null,null,null,null,null,null,null,null,null,null,null,null,null,null,null,0,null,null,null,null,null,null,null,null,22.23]
["2013-05-17",{"$f":"VLOOKUP(A2373,'input BCI'!$O$3:$R$5000,4)","v":20.27},null,null,20.27,null,null,null,null,null,null,null,"2013-05-17",0,20.27,null,null,20.27,null,null,null,1,20.27,20.27,{"$f":"AVERAGE(INDIRECT($X$1&ROW()-$Y$4+1):X2373)","v":20.490000000000002},0,null,null,null,null,null,null,null,null,null,null,null,null,null,null,null,null,null,null,null,null,null,0,null,null,null,null,null,null,null,null,22.23]
["2013-05-24",{"$f":"VLOOKUP(A2374,'input BCI'!$O$3:$R$5000,4)","v":20.71},null,null,{"$f":"B2374+$O$7","v":20.71},null,null,null,null,null,null,null,{"$f":"A2374","v":"2013-05-24"},0,{"$f":"E2374","v":20.71},null,null,{"$f":"O2374*R$7","v":20.71},null,null,null,1,{"$f":"R2374","v":20.71},{"$f":"(W2374+$X$4)","v":20.71},{"$f":"AVERAGE(INDIRECT($X$1&ROW()-$Y$4+1):X2374)","v":20.914999999999999},0,null,null,null,null,null,null,null,null,null,null,null,null,null,null,null,null,null,null,null,null,null,0,null,null,null,null,null,null,null,null,22.23]
["2013-05-31",{"$f":"VLOOKUP(A2375,'input BCI'!$O$3:$R$5000,4)","v":21.12},null,null,21.12,null,null,null,null,null,null,null,"2013-05-31",0,21.12,null,null,21.12,null,null,null,1,21.12,21.12,{"$f":"AVERAGE(INDIRECT($X$1&ROW()-$Y$4+1):X2375)","v":21.23},0,null,null,null,null,null,null,null,null,null,null,null,null,null,null,null,null,null,null,null,null,null,0,null,null,null,null,null,null,null,null,22.23]
["2013-06-07",{"$f":"VLOOKUP(A2376,'input BCI'!$O$3:$R$5000,4)","v":21.34},null,null,21.34,null,null,null,null,null,null,null,"2013-06-07",0,21.34,null,null,{"$f":"O2376*R$7","v":21.34},null,null,null,1,21.34,21.34,{"$f":"AVERAGE(INDIRECT($X$1&ROW()-$Y$4+1):X2376)","v":21.41},0,null,null,null,null,null,null,null,null,null,null,null,null,null,null,null,null,null,null,null,null,null,0,null,null,null,null,null,null,null,null,22.23]
["2013-06-14",{"$f":"VLOOKUP(A2377,'input BCI'!$O$3:$R$5000,4)","v":21.48},null,null,21.48,null,null,null,null,null,null,null,"2013-06-14",0,21.48,null,null,{"$f":"O2377*R$7","v":21.48},null,null,null,1,21.48,21.48,{"$f":"AVERAGE(INDIRECT($X$1&ROW()-$Y$4+1):X2377)","v":21.454999999999998},0,null,null,null,null,null,null,null,null,null,null,null,null,null,null,null,null,null,null,null,null,null,0,null,null,null,null,null,null,null,null,22.23]
["2013-06-21",{"$f":"VLOOKUP(A2378,'input BCI'!$O$3:$R$5000,4)","v":21.43},null,null,21.43,null,null,null,null,null,null,null,"2013-06-21",0,21.43,null,null,{"$f":"O2378*R$7","v":21.43},null,null,null,1,21.43,21.43,{"$f":"AVERAGE(INDIRECT($X$1&ROW()-$Y$4+1):X2378)","v":21.17},0,null,null,null,null,null,null,null,null,null,null,null,null,null,null,null,null,null,null,null,null,null,0,null,null,null,null,null,null,null,null,22.23]
["2013-06-28",{"$f":"VLOOKUP(A2379,'input BCI'!$O$3:$R$5000,4)","v":20.91},null,null,20.91,null,null,null,null,null,null,null,"2013-06-28",0,20.91,null,null,{"$f":"O2379*R$7","v":20.91},null,null,null,1,20.91,20.91,{"$f":"AVERAGE(INDIRECT($X$1&ROW()-$Y$4+1):X2379)","v":20.68},{"$f":"IF(OR(X2379=$I$5,X2379>$I$5),1,0)","v":0},null,null,null,null,null,null,null,null,null,null,null,null,null,null,null,null,null,null,null,null,null,0,null,null,null,null,null,null,null,null,22.23]
["2013-07-05",{"$f":"VLOOKUP(A2380,'input BCI'!$O$3:$R$5000,4)","v":20.45},null,null,{"$f":"B2380+$O$7","v":20.45},null,null,null,null,null,null,null,{"$f":"A2380","v":"2013-07-05"},0,{"$f":"E2380","v":20.45},null,null,{"$f":"O2380*R$7","v":20.45},null,null,null,1,{"$f":"R2380","v":20.45},20.45,{"$f":"AVERAGE(INDIRECT($X$1&ROW()-$Y$4+1):X2380)","v":20.215},0,null,null,null,null,null,null,null,null,null,null,null,null,null,null,null,null,null,null,null,null,null,0,null,null,null,null,null,null,null,null,22.23]
["2013-07-12",{"$f":"VLOOKUP(A2381,'input BCI'!$O$3:$R$5000,4)","v":19.98},null,null,{"$f":"B2381+$O$7","v":19.98},null,null,null,null,null,null,null,{"$f":"A2381","v":"2013-07-12"},0,{"$f":"E2381","v":19.98},null,null,{"$f":"O2381*R$7","v":19.98},null,null,null,1,{"$f":"R2381","v":19.98},{"$f":"(W2381+$X$4)","v":19.98},{"$f":"AVERAGE(INDIRECT($X$1&ROW()-$Y$4+1):X2381)","v":19.700000000000003},0,null,null,null,null,null,null,null,null,null,null,null,null,null,null,null,null,null,null,null,null,null,0,null,null,null,null,null,null,null,null,22.23]
["2013-07-19",{"$f":"VLOOKUP(A2382,'input BCI'!$O$3:$R$5000,4)","v":19.420000000000002},null,null,{"$f":"B2382+$O$7","v":19.420000000000002},null,null,null,null,null,null,null,{"$f":"A2382","v":"2013-07-19"},0,{"$f":"E2382","v":19.420000000000002},null,null,{"$f":"O2382*R$7","v":19.420000000000002},null,null,null,1,{"$f":"R2382","v":19.420000000000002},{"$f":"(W2382+$X$4)","v":19.420000000000002},{"$f":"AVERAGE(INDIRECT($X$1&ROW()-$Y$4+1):X2382)","v":19.37},0,null,null,null,null,null,null,null,null,null,null,null,null,null,null,null,null,null,null,null,null,null,0,null,null,null,null,null,null,null,null,22.23]
["2013-07-26",{"$f":"VLOOKUP(A2383,'input BCI'!$O$3:$R$5000,4)","v":19.32},null,null,{"$f":"B2383+$O$7","v":19.32},null,null,null,null,null,null,null,{"$f":"A2383","v":"2013-07-26"},0,{"$f":"E2383","v":19.32},null,null,{"$f":"O2383*R$7","v":19.32},null,null,null,1,{"$f":"R2383","v":19.32},{"$f":"(W2383+$X$4)","v":19.32},{"$f":"AVERAGE(INDIRECT($X$1&ROW()-$Y$4+1):X2383)","v":19.375},0,null,null,null,null,null,null,null,null,null,null,null,null,null,null,null,null,null,null,null,null,null,0,null,null,null,null,null,null,null,null,22.23]
["2013-08-02",{"$f":"VLOOKUP(A2384,'input BCI'!$O$3:$R$5000,4)","v":19.43},null,null,{"$f":"B2384+$O$7","v":19.43},null,null,null,null,null,null,null,{"$f":"A2384","v":"2013-08-02"},0,{"$f":"E2384","v":19.43},null,null,{"$f":"O2384*R$7","v":19.43},null,null,null,1,{"$f":"R2384","v":19.43},{"$f":"(W2384+$X$4)","v":19.43},{"$f":"AVERAGE(INDIRECT($X$1&ROW()-$Y$4+1):X2384)","v":19.524999999999999},0,null,null,null,null,null,null,null,null,null,null,null,null,null,null,null,null,null,null,null,null,null,0,null,null,null,null,null,null,null,null,22.23]
["2013-08-09",{"$f":"VLOOKUP(A2385,'input BCI'!$O$3:$R$5000,4)","v":19.62},null,null,{"$f":"B2385+$O$7","v":19.62},null,null,null,null,null,null,null,{"$f":"A2385","v":"2013-08-09"},0,{"$f":"E2385","v":19.62},null,null,{"$f":"O2385*R$7","v":19.62},null,null,null,1,{"$f":"R2385","v":19.62},{"$f":"(W2385+$X$4)","v":19.62},{"$f":"AVERAGE(INDIRECT($X$1&ROW()-$Y$4+1):X2385)","v":19.755000000000003},0,null,null,null,null,null,null,null,null,null,null,null,null,null,null,null,null,null,null,null,null,null,0,null,null,null,null,null,null,null,null,22.23]
["2013-08-16",{"$f":"VLOOKUP(A2386,'input BCI'!$O$3:$R$5000,4)","v":19.89},null,null,{"$f":"B2386+$O$7","v":19.89},null,null,null,null,null,null,null,{"$f":"A2386","v":"2013-08-16"},0,{"$f":"E2386","v":19.89},null,null,{"$f":"O2386*R$7","v":19.89},null,null,null,1,{"$f":"R2386","v":19.89},{"$f":"(W2386+$X$4)","v":19.89},{"$f":"AVERAGE(INDIRECT($X$1&ROW()-$Y$4+1):X2386)","v":19.645},0,null,null,null,null,null,null,null,null,null,null,null,null,null,null,null,null,null,null,null,null,null,0,null,null,null,null,null,null,null,null,22.23]
["2013-08-23",{"$f":"VLOOKUP(A2387,'input BCI'!$O$3:$R$5000,4)","v":19.399999999999999},null,null,{"$f":"B2387+$O$7","v":19.399999999999999},null,null,null,null,null,null,null,{"$f":"A2387","v":"2013-08-23"},0,{"$f":"E2387","v":19.399999999999999},null,null,{"$f":"O2387*R$7","v":19.399999999999999},null,null,null,1,{"$f":"R2387","v":19.399999999999999},{"$f":"(W2387+$X$4)","v":19.399999999999999},{"$f":"AVERAGE(INDIRECT($X$1&ROW()-$Y$4+1):X2387)","v":18.864999999999998},0,null,null,null,null,null,null,null,null,null,null,null,null,null,null,null,null,null,null,null,null,null,0,null,null,null,null,null,null,null,null,22.23]
["2013-08-30",{"$f":"VLOOKUP(A2388,'input BCI'!$O$3:$R$5000,4)","v":18.329999999999998},null,null,{"$f":"B2388+$O$7","v":18.329999999999998},null,null,null,null,null,null,null,{"$f":"A2388","v":"2013-08-30"},0,{"$f":"E2388","v":18.329999999999998},null,null,{"$f":"O2388*R$7","v":18.329999999999998},null,null,null,1,{"$f":"R2388","v":18.329999999999998},{"$f":"(W2388+$X$4)","v":18.329999999999998},{"$f":"AVERAGE(INDIRECT($X$1&ROW()-$Y$4+1):X2388)","v":17.674999999999997},0,null,null,null,null,null,null,null,null,null,null,null,null,null,null,null,null,null,null,null,null,null,0,null,null,null,null,null,null,null,null,22.23]
["2013-09-06",{"$f":"VLOOKUP(A2389,'input BCI'!$O$3:$R$5000,4)","v":17.02},null,null,{"$f":"B2389+$O$7","v":17.02},null,null,null,null,null,null,null,{"$f":"A2389","v":"2013-09-06"},0,{"$f":"E2389","v":17.02},null,null,{"$f":"O2389*R$7","v":17.02},null,null,null,1,{"$f":"R2389","v":17.02},{"$f":"(W2389+$X$4)","v":17.02},{"$f":"AVERAGE(INDIRECT($X$1&ROW()-$Y$4+1):X2389)","v":16.48},0,null,null,null,null,null,null,null,null,null,null,null,null,null,null,null,null,null,null,null,null,null,0,null,null,null,null,null,null,null,null,22.23]
["2013-09-13",{"$f":"VLOOKUP(A2390,'input BCI'!$O$3:$R$5000,4)","v":15.94},null,null,{"$f":"B2390+$O$7","v":15.94},null,null,null,null,null,null,null,{"$f":"A2390","v":"2013-09-13"},0,{"$f":"E2390","v":15.94},null,null,{"$f":"O2390*R$7","v":15.94},null,null,null,1,{"$f":"R2390","v":15.94},{"$f":"(W2390+$X$4)","v":15.94},{"$f":"AVERAGE(INDIRECT($X$1&ROW()-$Y$4+1):X2390)","v":15.835000000000001},0,null,null,null,null,null,null,null,null,null,null,null,null,null,null,null,null,null,null,null,null,null,0,null,null,null,null,null,null,null,null,22.23]
["2013-09-20",{"$f":"VLOOKUP(A2391,'input BCI'!$O$3:$R$5000,4)","v":15.73},null,null,{"$f":"B2391+$O$7","v":15.73},null,null,null,null,null,null,null,{"$f":"A2391","v":"2013-09-20"},0,{"$f":"E2391","v":15.73},null,null,{"$f":"O2391*R$7","v":15.73},null,null,null,1,{"$f":"R2391","v":15.73},{"$f":"(W2391+$X$4)","v":15.73},{"$f":"AVERAGE(INDIRECT($X$1&ROW()-$Y$4+1):X2391)","v":15.875},0,null,null,null,null,null,null,null,null,null,null,null,null,null,null,null,null,null,null,null,null,null,0,null,null,null,null,null,null,null,null,22.23]
["2013-09-27",{"$f":"VLOOKUP(A2392,'input BCI'!$O$3:$R$5000,4)","v":16.02},null,null,{"$f":"B2392+$O$7","v":16.02},null,null,null,null,null,null,null,{"$f":"A2392","v":"2013-09-27"},0,{"$f":"E2392","v":16.02},null,null,{"$f":"O2392*R$7","v":16.02},null,null,null,1,{"$f":"R2392","v":16.02},{"$f":"(W2392+$X$4)","v":16.02},{"$f":"AVERAGE(INDIRECT($X$1&ROW()-$Y$4+1):X2392)","v":16.16},0,null,null,null,null,null,null,null,null,null,null,null,null,null,null,null,null,null,null,null,null,null,0,null,null,null,null,null,null,null,null,22.23]
["2013-10-04",{"$f":"VLOOKUP(A2393,'input BCI'!$O$3:$R$5000,4)","v":16.3},null,null,{"$f":"B2393+$O$7","v":16.3},null,null,null,null,null,null,null,{"$f":"A2393","v":"2013-10-04"},0,{"$f":"E2393","v":16.3},null,null,{"$f":"O2393*R$7","v":16.3},null,null,null,1,{"$f":"R2393","v":16.3},{"$f":"(W2393+$X$4)","v":16.3},{"$f":"AVERAGE(INDIRECT($X$1&ROW()-$Y$4+1):X2393)","v":16.259999999999998},0,null,null,null,null,null,null,null,null,null,null,null,null,null,null,null,null,null,null,null,null,null,0,null,null,null,null,null,null,null,null,22.23]
["2013-10-11",{"$f":"VLOOKUP(A2394,'input BCI'!$O$3:$R$5000,4)","v":16.22},null,null,{"$f":"B2394+$O$7","v":16.22},null,null,null,null,null,null,null,{"$f":"A2394","v":"2013-10-11"},0,{"$f":"E2394","v":16.22},null,null,{"$f":"O2394*R$7","v":16.22},null,null,null,1,{"$f":"R2394","v":16.22},{"$f":"(W2394+$X$4)","v":16.22},{"$f":"AVERAGE(INDIRECT($X$1&ROW()-$Y$4+1):X2394)","v":16.14},0,null,null,null,null,null,null,null,null,null,null,null,null,null,null,null,null,null,null,null,null,null,0,null,null,null,null,null,null,null,null,22.23]
["2013-10-18",{"$f":"VLOOKUP(A2395,'input BCI'!$O$3:$R$5000,4)","v":16.059999999999999},null,null,{"$f":"B2395+$O$7","v":16.059999999999999},null,null,null,null,null,null,null,{"$f":"A2395","v":"2013-10-18"},0,{"$f":"E2395","v":16.059999999999999},null,null,{"$f":"O2395*R$7","v":16.059999999999999},null,null,null,1,{"$f":"R2395","v":16.059999999999999},{"$f":"(W2395+$X$4)","v":16.059999999999999},{"$f":"AVERAGE(INDIRECT($X$1&ROW()-$Y$4+1):X2395)","v":15.994999999999999},0,null,null,null,null,null,null,null,null,null,null,null,null,null,null,null,null,null,null,null,null,null,0,null,null,null,null,null,null,null,null,22.23]
["2013-10-25",{"$f":"VLOOKUP(A2396,'input BCI'!$O$3:$R$5000,4)","v":15.93},null,null,{"$f":"B2396+$O$7","v":15.93},null,null,null,null,null,null,null,{"$f":"A2396","v":"2013-10-25"},0,{"$f":"E2396","v":15.93},null,null,{"$f":"O2396*R$7","v":15.93},null,null,null,1,{"$f":"R2396","v":15.93},{"$f":"(W2396+$X$4)","v":15.93},{"$f":"AVERAGE(INDIRECT($X$1&ROW()-$Y$4+1):X2396)","v":16.11},0,null,null,null,null,null,null,null,null,null,null,null,null,null,null,null,null,null,null,null,null,null,0,null,null,null,null,null,null,null,null,22.23]
["2013-11-01",{"$f":"VLOOKUP(A2397,'input BCI'!$O$3:$R$5000,4)","v":16.29},null,null,{"$f":"B2397+$O$7","v":16.29},null,null,null,null,null,null,null,{"$f":"A2397","v":"2013-11-01"},0,{"$f":"E2397","v":16.29},null,null,{"$f":"O2397*R$7","v":16.29},null,null,null,1,{"$f":"R2397","v":16.29},{"$f":"(W2397+$X$4)","v":16.29},{"$f":"AVERAGE(INDIRECT($X$1&ROW()-$Y$4+1):X2397)","v":16.605},0,null,null,null,null,null,null,null,null,null,null,null,null,null,null,null,null,null,null,null,null,null,0,null,null,null,null,null,null,null,null,22.23]
["2013-11-08",{"$f":"VLOOKUP(A2398,'input BCI'!$O$3:$R$5000,4)","v":16.920000000000002},null,null,{"$f":"B2398+$O$7","v":16.920000000000002},null,null,null,null,null,null,null,{"$f":"A2398","v":"2013-11-08"},0,{"$f":"E2398","v":16.920000000000002},null,null,{"$f":"O2398*R$7","v":16.920000000000002},null,null,null,1,{"$f":"R2398","v":16.920000000000002},{"$f":"(W2398+$X$4)","v":16.920000000000002},{"$f":"AVERAGE(INDIRECT($X$1&ROW()-$Y$4+1):X2398)","v":17.265000000000001},0,null,null,null,null,null,null,null,null,null,null,null,null,null,null,null,null,null,null,null,null,null,0,null,null,null,null,null,null,null,null,22.23]
["2013-11-15",{"$f":"VLOOKUP(A2399,'input BCI'!$O$3:$R$5000,4)","v":17.61},null,null,{"$f":"B2399+$O$7","v":17.61},null,null,null,null,null,null,null,{"$f":"A2399","v":"2013-11-15"},0,{"$f":"E2399","v":17.61},null,null,{"$f":"O2399*R$7","v":17.61},null,null,null,1,{"$f":"R2399","v":17.61},{"$f":"(W2399+$X$4)","v":17.61},{"$f":"AVERAGE(INDIRECT($X$1&ROW()-$Y$4+1):X2399)","v":17.884999999999998},0,null,null,null,null,null,null,null,null,null,null,null,null,null,null,null,null,null,null,null,null,null,0,null,null,null,null,null,null,null,null,22.23]
["2013-11-22",{"$f":"VLOOKUP(A2400,'input BCI'!$O$3:$R$5000,4)","v":18.16},null,null,18.16,null,null,null,null,null,null,null,"2013-11-22",0,18.16,null,null,18.16,null,null,null,1,18.16,{"$f":"(W2400+$X$4)","v":18.16},{"$f":"AVERAGE(INDIRECT($X$1&ROW()-$Y$4+1):X2400)","v":18.55},{"$f":"IF(OR(X2400=$I$5,X2400>$I$5),1,0)","v":0},null,null,null,null,null,null,null,null,null,null,null,null,null,null,null,null,null,null,null,null,null,0,null,null,null,null,null,null,null,null,22.23]
["2013-11-29",{"$f":"VLOOKUP(A2401,'input BCI'!$O$3:$R$5000,4)","v":18.940000000000001},null,null,{"$f":"B2401+$O$7","v":18.940000000000001},null,null,null,null,null,null,null,{"$f":"A2401","v":"2013-11-29"},0,{"$f":"E2401","v":18.940000000000001},null,null,{"$f":"O2401*R$7","v":18.940000000000001},null,null,null,1,{"$f":"R2401","v":18.940000000000001},{"$f":"(W2401+$X$4)","v":18.940000000000001},{"$f":"AVERAGE(INDIRECT($X$1&ROW()-$Y$4+1):X2401)","v":19.399999999999999},0,null,null,null,null,null,null,null,null,null,null,null,null,null,null,null,null,null,null,null,null,null,0,null,null,null,null,null,null,null,null,22.23]
["2013-12-06",{"$f":"VLOOKUP(A2402,'input BCI'!$O$3:$R$5000,4)","v":19.86},null,null,19.86,null,null,null,null,null,null,null,"2013-12-06",0,19.86,null,null,19.86,null,null,null,1,19.86,19.86,{"$f":"AVERAGE(INDIRECT($X$1&ROW()-$Y$4+1):X2402)","v":20.244999999999997},0,null,null,null,null,null,null,null,null,null,null,null,null,null,null,null,null,null,null,null,null,null,{"$f":"AV2401","v":0},null,null,null,null,null,null,null,null,22.23]
["2013-12-13",{"$f":"VLOOKUP(A2403,'input BCI'!$O$3:$R$5000,4)","v":20.63},null,null,20.63,null,null,null,null,null,null,null,"2013-12-13",0,20.63,null,null,20.63,null,null,null,1,20.63,20.63,{"$f":"AVERAGE(INDIRECT($X$1&ROW()-$Y$4+1):X2403)","v":20.905000000000001},0,null,null,null,null,null,null,null,null,null,null,null,null,null,null,null,null,null,null,null,null,null,{"$f":"AV2402","v":0},null,null,null,null,null,null,null,null,22.23]
["2013-12-20",{"$f":"VLOOKUP(A2404,'input BCI'!$O$3:$R$5000,4)","v":21.18},null,null,{"$f":"B2404+$O$7","v":21.18},null,null,null,null,null,null,null,{"$f":"A2404","v":"2013-12-20"},1,{"$f":"E2404","v":21.18},null,null,{"$f":"O2404*R$7","v":21.18},null,null,null,1,{"$f":"R2404","v":21.18},21.18,{"$f":"AVERAGE(INDIRECT($X$1&ROW()-$Y$4+1):X2404)","v":21.13},{"$f":"IF(OR(X2404=$I$5,X2404>$I$5),1,0)","v":0},null,null,null,null,null,null,null,null,null,null,null,null,null,null,null,null,null,null,null,null,null,0,null,null,null,null,null,null,null,null,22.23]
["2013-12-27",{"$f":"VLOOKUP(A2405,'input BCI'!$O$3:$R$5000,4)","v":21.08},null,null,21.08,null,null,null,null,null,null,null,"2013-12-27",2,21.08,null,null,21.08,null,null,null,1,21.08,21.08,{"$f":"AVERAGE(INDIRECT($X$1&ROW()-$Y$4+1):X2405)","v":20.954999999999998},0,null,null,null,null,null,null,null,null,null,null,null,null,null,null,null,null,null,null,null,null,null,0,null,null,null,null,null,null,null,null,22.23]
["2014-01-03",{"$f":"VLOOKUP(A2406,'input BCI'!$O$3:$R$5000,4)","v":20.83},null,null,20.83,null,null,null,null,null,null,null,"2014-01-03",3,20.83,null,null,20.83,null,null,null,1,20.83,20.83,{"$f":"AVERAGE(INDIRECT($X$1&ROW()-$Y$4+1):X2406)","v":20.619999999999997},0,null,null,null,null,null,null,null,null,null,null,null,null,null,null,null,null,null,null,null,null,null,0,null,null,null,null,null,null,null,null,22.23]
["2014-01-10",{"$f":"VLOOKUP(A2407,'input BCI'!$O$3:$R$5000,4)","v":20.41},null,null,{"$f":"B2407+$O$7","v":20.41},null,null,null,null,null,null,null,{"$f":"A2407","v":"2014-01-10"},4,{"$f":"E2407","v":20.41},null,null,{"$f":"O2407*R$7","v":20.41},null,null,null,1,{"$f":"R2407","v":20.41},{"$f":"(W2407+$X$4)","v":20.41},{"$f":"AVERAGE(INDIRECT($X$1&ROW()-$Y$4+1):X2407)","v":20.155000000000001},{"$f":"IF(OR(X2407=$I$5,X2407>$I$5),1,0)","v":0},null,null,null,null,null,null,null,null,null,null,null,null,null,null,null,null,null,null,null,null,null,0,null,null,null,null,null,null,null,null,22.23]
["2014-01-17",{"$f":"VLOOKUP(A2408,'input BCI'!$O$3:$R$5000,4)","v":19.899999999999999},null,null,{"$f":"B2408+$O$7","v":19.899999999999999},null,null,null,null,null,null,null,{"$f":"A2408","v":"2014-01-17"},5,{"$f":"E2408","v":19.899999999999999},null,null,{"$f":"O2408*R$7","v":19.899999999999999},null,null,null,1,{"$f":"R2408","v":19.899999999999999},{"$f":"(W2408+$X$4)","v":19.899999999999999},{"$f":"AVERAGE(INDIRECT($X$1&ROW()-$Y$4+1):X2408)","v":19.614999999999998},{"$f":"IF(OR(X2408=$I$5,X2408>$I$5),1,0)","v":0},null,null,null,null,null,null,null,null,null,null,null,null,null,null,null,null,null,null,null,null,null,0,null,null,null,null,null,null,null,null,22.23]
["2014-01-24",{"$f":"VLOOKUP(A2409,'input BCI'!$O$3:$R$5000,4)","v":19.329999999999998},null,null,19.329999999999998,null,null,null,null,null,null,null,"2014-01-24",6,19.329999999999998,null,null,19.329999999999998,null,null,null,1,19.329999999999998,19.329999999999998,{"$f":"AVERAGE(INDIRECT($X$1&ROW()-$Y$4+1):X2409)","v":18.864999999999998},0,null,null,null,null,null,null,null,null,null,null,null,null,null,null,null,null,null,null,null,null,null,0,null,null,null,null,null,null,null,null,22.23]
["2014-01-31",{"$f":"VLOOKUP(A2410,'input BCI'!$O$3:$R$5000,4)","v":18.399999999999999},null,null,18.399999999999999,null,null,null,null,null,null,null,"2014-01-31",7,18.399999999999999,null,null,18.399999999999999,null,null,null,1,18.399999999999999,18.399999999999999,{"$f":"AVERAGE(INDIRECT($X$1&ROW()-$Y$4+1):X2410)","v":17.895},0,null,null,null,null,null,null,null,null,null,null,null,null,null,null,null,null,null,null,null,null,null,0,null,null,null,null,null,null,null,null,22.23]
["2014-02-07",{"$f":"VLOOKUP(A2411,'input BCI'!$O$3:$R$5000,4)","v":17.39},null,null,17.39,null,null,null,null,null,null,null,"2014-02-07",8,17.39,null,null,17.39,null,null,null,1,17.39,17.39,{"$f":"AVERAGE(INDIRECT($X$1&ROW()-$Y$4+1):X2411)","v":17.055},0,null,null,null,null,null,null,null,null,null,null,null,null,null,null,null,null,null,null,null,null,null,0,null,null,null,null,null,null,null,null,22.23]
["2014-02-14",{"$f":"VLOOKUP(A2412,'input BCI'!$O$3:$R$5000,4)","v":16.72},null,null,16.72,null,null,null,null,null,null,null,"2014-02-14",9,16.72,null,null,16.72,null,null,null,1,16.72,16.72,{"$f":"AVERAGE(INDIRECT($X$1&ROW()-$Y$4+1):X2412)","v":16.490000000000002},0,null,null,null,null,null,null,null,null,null,null,null,null,null,null,null,null,null,null,null,null,null,0,null,null,null,null,null,null,null,null,22.23]
["2014-02-21",{"$f":"VLOOKUP(A2413,'input BCI'!$O$2462:$R$2479,4)","v":16.260000000000002},null,null,{"$f":"B2413+$O$7","v":16.260000000000002},null,null,null,null,null,null,null,{"$f":"A2413","v":"2014-02-21"},10,{"$f":"E2413","v":16.260000000000002},null,null,{"$f":"O2413*R$7","v":16.260000000000002},null,null,null,{"$f":"V2412","v":1},{"$f":"R2413","v":16.260000000000002},{"$f":"(W2413+$X$4)","v":16.260000000000002},{"$f":"AVERAGE(INDIRECT($X$1&ROW()-$Y$4+1):X2413)","v":16.195},{"$f":"IF(OR(X2413=$I$5,X2413>$I$5),1,0)","v":0},null,null,null,null,null,null,null,null,null,null,null,null,null,null,null,null,null,null,null,null,null,0,null,null,null,null,null,null,null,null,{"$f":"$BE$2","v":22.23}]
["2014-02-28",{"$f":"VLOOKUP(A2414,'input BCI'!$O$2462:$R$2479,4)","v":16.13},null,null,16.13,null,null,null,null,null,null,null,"2014-02-28",11,16.13,null,null,16.13,null,null,null,1,16.13,16.13,{"$f":"AVERAGE(INDIRECT($X$1&ROW()-$Y$4+1):X2414)","v":16.27},0,null,null,null,null,null,null,null,null,null,null,null,null,null,null,null,null,null,null,null,null,null,0,null,null,null,null,null,null,null,null,22.23]
["2014-03-07",{"$f":"VLOOKUP(A2415,'input BCI'!$O$2462:$R$2479,4)","v":16.41},null,null,16.41,null,null,null,null,null,null,null,"2014-03-07",12,16.41,null,null,16.41,null,null,null,1,16.41,16.41,{"$f":"AVERAGE(INDIRECT($X$1&ROW()-$Y$4+1):X2415)","v":16.605},0,null,null,null,null,null,null,null,null,null,null,null,null,null,null,null,null,null,null,null,null,null,0,null,null,null,null,null,null,null,null,22.23]
["2014-03-14",{"$f":"VLOOKUP(A2416,'input BCI'!$O$2462:$R$2479,4)","v":16.8},null,null,{"$f":"B2416+$O$7","v":16.8},null,null,null,null,null,null,null,{"$f":"A2416","v":"2014-03-14"},13,{"$f":"E2416","v":16.8},null,null,{"$f":"O2416*R$7","v":16.8},null,null,null,1,{"$f":"R2416","v":16.8},{"$f":"(W2416+$X$4)","v":16.8},{"$f":"AVERAGE(INDIRECT($X$1&ROW()-$Y$4+1):X2416)","v":16.939999999999998},{"$f":"IF(OR(X2416=$I$5,X2416>$I$5),1,0)","v":0},null,null,null,null,null,null,null,null,null,null,null,null,null,null,null,null,null,null,null,null,null,0,null,null,null,null,null,null,null,null,22.23]
["2014-03-21",{"$f":"VLOOKUP(A2417,'input BCI'!$O$2462:$R$2479,4)","v":17.079999999999998},null,null,17.079999999999998,null,null,null,null,null,null,null,"2014-03-21",14,17.079999999999998,null,null,17.079999999999998,null,null,null,1,17.079999999999998,17.079999999999998,{"$f":"AVERAGE(INDIRECT($X$1&ROW()-$Y$4+1):X2417)","v":17.234999999999999},0,null,null,null,null,null,null,null,null,null,null,null,null,null,null,null,null,null,null,null,null,null,0,null,null,null,null,null,null,null,null,22.23]
["2014-03-28",{"$f":"VLOOKUP(A2418,'input BCI'!$O$2462:$R$2479,4)","v":17.39},null,null,17.39,null,null,null,null,null,null,null,"2014-03-28",15,17.39,null,null,17.39,null,null,null,{"$f":"V2417","v":1},17.39,17.39,{"$f":"AVERAGE(INDIRECT($X$1&ROW()-$Y$4+1):X2418)","v":17.344999999999999},0,null,null,null,null,null,null,null,null,null,null,null,null,null,null,null,null,null,null,null,null,null,0,null,null,null,null,null,null,null,null,{"$f":"$BE$2","v":22.23}]
["2014-04-04",{"$f":"VLOOKUP(A2419,'input BCI'!$O$2462:$R$2479,4)","v":17.3},null,null,{"$f":"B2419+$O$7","v":17.3},null,null,null,null,null,null,null,{"$f":"A2419","v":"2014-04-04"},16,{"$f":"E2419","v":17.3},null,null,{"$f":"O2419*R$7","v":17.3},null,null,null,1,{"$f":"R2419","v":17.3},{"$f":"(W2419+$X$4)","v":17.3},{"$f":"AVERAGE(INDIRECT($X$1&ROW()-$Y$4+1):X2419)","v":17.16},{"$f":"IF(OR(X2419=$I$5,X2419>$I$5),1,0)","v":0},null,null,null,null,null,null,null,null,null,null,null,null,null,null,null,null,null,null,null,null,null,0,null,null,null,null,null,null,null,null,22.23]
["2014-04-11",{"$f":"VLOOKUP(A2420,'input BCI'!$O$2462:$R$2479,4)","v":17.02},null,null,17.02,null,null,null,null,null,null,null,"2014-04-11",17,17.02,null,null,17.02,null,null,null,1,17.02,17.02,{"$f":"AVERAGE(INDIRECT($X$1&ROW()-$Y$4+1):X2420)","v":16.850000000000001},0,null,null,null,null,null,null,null,null,null,null,null,null,null,null,null,null,null,null,null,null,null,0,null,null,null,null,null,null,null,null,22.23]
["2014-04-18",{"$f":"VLOOKUP(A2421,'input BCI'!$O$2462:$R$2479,4)","v":16.68},null,null,{"$f":"B2421+$O$7","v":16.68},null,null,null,null,null,null,null,{"$f":"A2421","v":"2014-04-18"},18,{"$f":"E2421","v":16.68},null,null,{"$f":"O2421*R$7","v":16.68},null,null,null,1,{"$f":"R2421","v":16.68},{"$f":"(W2421+$X$4)","v":16.68},{"$f":"AVERAGE(INDIRECT($X$1&ROW()-$Y$4+1):X2421)","v":16.524999999999999},{"$f":"IF(OR(X2421=$I$5,X2421>$I$5),1,0)","v":0},null,null,null,null,null,null,null,null,null,null,null,null,null,null,null,null,null,null,null,null,null,0,null,null,null,null,null,null,null,null,22.23]
["2014-04-25",{"$f":"VLOOKUP(A2422,'input BCI'!$O$2462:$R$2479,4)","v":16.37},null,null,16.37,null,null,null,null,null,null,null,"2014-04-25",19,16.37,null,null,16.37,null,null,null,1,16.37,16.37,{"$f":"AVERAGE(INDIRECT($X$1&ROW()-$Y$4+1):X2422)","v":16.215},0,null,null,null,null,null,null,null,null,null,null,null,null,null,null,null,null,null,null,null,null,null,0,null,null,null,null,null,null,null,null,22.23]
["2014-05-02",{"$f":"VLOOKUP(A2423,'input BCI'!$O$2462:$R$2479,4)","v":16.059999999999999},null,null,16.059999999999999,null,null,null,null,null,null,null,"2014-05-02",20,16.059999999999999,null,null,16.059999999999999,null,null,null,1,16.059999999999999,16.059999999999999,{"$f":"AVERAGE(INDIRECT($X$1&ROW()-$Y$4+1):X2423)","v":15.924999999999999},0,null,null,null,null,null,null,null,null,null,null,null,null,null,null,null,null,null,null,null,null,null,0,null,null,null,null,null,null,null,null,22.23]
["2014-05-09",{"$f":"VLOOKUP(A2424,'input BCI'!$O$2462:$R$2479,4)","v":15.79},null,null,{"$f":"B2424+$O$7","v":15.79},null,null,null,null,null,null,null,{"$f":"A2424","v":"2014-05-09"},21,{"$f":"E2424","v":15.79},null,null,{"$f":"O2424*R$7","v":15.79},null,null,null,1,{"$f":"R2424","v":15.79},{"$f":"(W2424+$X$4)","v":15.79},{"$f":"AVERAGE(INDIRECT($X$1&ROW()-$Y$4+1):X2424)","v":15.754999999999999},{"$f":"IF(OR(X2424=$I$5,X2424>$I$5),1,0)","v":0},null,null,null,null,null,null,null,null,null,null,null,null,null,null,null,null,null,null,null,null,null,0,null,null,null,null,null,null,null,null,22.23]
["2014-05-16",{"$f":"VLOOKUP(A2425,'input BCI'!$O$2462:$R$2479,4)","v":15.72},null,null,15.72,null,null,null,null,null,null,null,"2014-05-16",22,15.72,null,null,15.72,null,null,null,1,15.72,15.72,{"$f":"AVERAGE(INDIRECT($X$1&ROW()-$Y$4+1):X2425)","v":15.675000000000001},0,null,null,null,null,null,null,null,null,null,null,null,null,null,null,null,null,null,null,null,null,null,0,null,null,null,null,null,null,null,null,22.23]
["2014-05-23",{"$f":"VLOOKUP(A2426,'input BCI'!$O$2462:$R$2479,4)","v":15.63},null,null,{"$f":"B2426+$O$7","v":15.63},null,null,null,null,null,null,null,{"$f":"A2426","v":"2014-05-23"},23,{"$f":"E2426","v":15.63},null,null,{"$f":"O2426*R$7","v":15.63},null,null,null,1,{"$f":"R2426","v":15.63},{"$f":"(W2426+$X$4)","v":15.63},{"$f":"AVERAGE(INDIRECT($X$1&ROW()-$Y$4+1):X2426)","v":15.79},{"$f":"IF(OR(X2426=$I$5,X2426>$I$5),1,0)","v":0},null,null,null,null,null,null,null,null,null,null,null,null,null,null,null,null,null,null,null,null,null,0,null,null,null,null,null,null,null,null,22.23]
[{"$f":"A2426+7","v":"2014-05-30"},{"$f":"VLOOKUP(A2427,'input BCI'!$O$2462:$R$2479,4)","v":15.95},null,null,15.95,null,null,null,null,null,null,null,"2014-05-30",24,15.95,null,null,15.95,null,null,null,1,15.95,15.95,{"$f":"AVERAGE(INDIRECT($X$1&ROW()-$Y$4+1):X2427)","v":16.164999999999999},0,null,null,null,null,null,null,null,null,null,null,null,null,null,null,null,null,null,null,null,null,null,0,null,null,null,null,null,null,null,null,22.23]
["2014-06-06",{"$f":"VLOOKUP(A2428,'input BCI'!$O$2462:$R$3000,4)","v":16.38},null,null,16.38,null,null,null,null,null,null,null,"2014-06-06",25,16.38,null,null,16.38,null,null,null,1,16.38,16.38,{"$f":"AVERAGE(INDIRECT($X$1&ROW()-$Y$4+1):X2428)","v":16.61},0,null,null,null,null,null,null,null,null,null,null,null,null,null,null,null,null,null,null,null,null,null,0,null,null,null,null,null,null,null,null,22.23]
["2014-06-13",{"$f":"VLOOKUP(A2429,'input BCI'!$O$2462:$R$3000,4)","v":16.84},null,null,{"$f":"B2429+$O$7","v":16.84},null,null,null,null,null,null,null,{"$f":"A2429","v":"2014-06-13"},26,{"$f":"E2429","v":16.84},null,null,{"$f":"O2429*R$7","v":16.84},null,null,null,1,{"$f":"R2429","v":16.84},{"$f":"(W2429+$X$4)","v":16.84},{"$f":"AVERAGE(INDIRECT($X$1&ROW()-$Y$4+1):X2429)","v":17.055},{"$f":"IF(OR(X2429=$I$5,X2429>$I$5),1,0)","v":0},null,null,null,null,null,null,null,null,null,null,null,null,null,null,null,null,null,null,null,null,null,0,null,null,null,null,null,null,null,null,22.23]
["2014-06-20",{"$f":"VLOOKUP(A2430,'input BCI'!$O$2462:$R$3000,4)","v":17.27},null,null,17.27,null,null,null,null,null,null,null,"2014-06-20",27,17.27,null,null,17.27,null,null,null,1,17.27,17.27,{"$f":"AVERAGE(INDIRECT($X$1&ROW()-$Y$4+1):X2430)","v":17.72},0,null,null,null,null,null,null,null,null,null,null,null,null,null,null,null,null,null,null,null,null,null,0,null,null,null,null,null,null,null,null,22.23]
["2014-06-27",{"$f":"VLOOKUP(A2431,'input BCI'!$O$2462:$R$3000,4)","v":18.170000000000002},null,null,{"$f":"B2431+$O$7","v":18.170000000000002},null,null,null,null,null,null,null,"2014-06-27",28,18.170000000000002,null,null,18.170000000000002,null,null,null,1,18.170000000000002,18.170000000000002,{"$f":"AVERAGE(INDIRECT($X$1&ROW()-$Y$4+1):X2431)","v":18.690000000000001},0,null,null,null,null,null,null,null,null,null,null,null,null,null,null,null,null,null,null,null,null,null,0,null,null,null,null,null,null,null,null,22.23]
["2014-07-04",{"$f":"VLOOKUP(A2432,'input BCI'!$O$2462:$R$3000,4)","v":19.21},null,null,{"$f":"B2432+$O$7","v":19.21},null,null,null,null,null,null,null,{"$f":"A2432","v":"2014-07-04"},29,{"$f":"E2432","v":19.21},null,null,{"$f":"O2432*R$7","v":19.21},null,null,null,1,{"$f":"R2432","v":19.21},{"$f":"(W2432+$X$4)","v":19.21},{"$f":"AVERAGE(INDIRECT($X$1&ROW()-$Y$4+1):X2432)","v":19.759999999999998},{"$f":"IF(OR(X2432=$I$5,X2432>$I$5),1,0)","v":0},null,null,null,null,null,null,null,null,null,null,null,null,null,null,null,null,null,null,null,null,null,0,null,null,null,null,null,null,null,null,22.23]
["2014-07-11",{"$f":"VLOOKUP(A2433,'input BCI'!$O$2462:$R$3000,4)","v":20.309999999999999},null,null,{"$f":"B2433+$O$7","v":20.309999999999999},null,null,null,null,null,null,null,{"$f":"A2433","v":"2014-07-11"},30,{"$f":"E2433","v":20.309999999999999},null,null,{"$f":"O2433*R$7","v":20.309999999999999},null,null,null,1,{"$f":"R2433","v":20.309999999999999},{"$f":"(W2433+$X$4)","v":20.309999999999999},{"$f":"AVERAGE(INDIRECT($X$1&ROW()-$Y$4+1):X2433)","v":20.939999999999998},{"$f":"IF(OR(X2433=$I$5,X2433>$I$5),1,0)","v":0},null,null,null,null,null,null,null,null,null,null,null,null,null,null,null,null,null,null,null,null,null,0,null,null,null,null,null,null,null,null,22.23]
[{"$f":"A2433+7","v":"2014-07-18"},{"$f":"VLOOKUP(A2434,'input BCI'!$O$2462:$R$3000,4)","v":21.57},null,null,21.57,null,null,null,null,null,null,null,"2014-07-18",31,21.57,null,null,21.57,null,null,null,1,21.57,21.57,{"$f":"AVERAGE(INDIRECT($X$1&ROW()-$Y$4+1):X2434)","v":21.9},0,null,null,null,null,null,null,null,null,null,null,null,null,null,null,null,null,null,null,null,null,null,0,null,null,null,null,null,null,null,null,22.23]
["2014-07-25",{"$f":"VLOOKUP(A2435,'input BCI'!$O$2462:$R$3000,4)","v":22.23},null,null,22.23,null,null,null,null,null,null,null,"2014-07-25",32,22.23,null,null,22.23,null,null,null,1,22.23,22.23,{"$f":"AVERAGE(INDIRECT($X$1&ROW()-$Y$4+1):X2435)","v":22.23},1,null,null,null,null,null,null,null,null,null,null,null,null,null,null,null,null,null,null,null,null,null,0,null,null,null,null,null,null,null,null,22.23]